{"text_format":"1","workbook":"xlsx","n_sheets":12,"sheets":["Instructions for use","Setup","FLData","Aircraft Hours","Instructor Hours","Activity - Students","Activity - Instructors","Activity - Aircrafts","Activity - Dep Airports","Activity - Arr Airports","Activity - Aircraft Types","Activity - Programs"],"not_rendered":{"charts":0,"images":0,"macros":1,"external_links":0,"defined_names":32,"comments":0,"pivot_tables":0},"unopened":[],"bounds":{"document_bytes":16777216,"sheet_cells":100000,"rows_first":2000,"rows_last":500,"rows_between":2000,"halvings":0,"cell_chars":16384,"cell_head_chars":4096},"cells_cut":0,"cells_raw":0,"read":"whole","date_system":"1900"}

{"sheet":"Instructions for use","index":0,"n_rows":15,"n_cols":3,"rows_kept":15,"cut":false,"hidden":false,"merged":[]}
[]
[]
[null,null,"INSTRUCTIONS FOR USING THIS SAMPLE SHEET"]
[null,null,"Thank you for downloading this sample template by FlightLogger. "]
[null,null,"To use it, you need to first export the report called 'Raw data - flight report' from the FlightLogger platform. Simply select the desired date range and click 'Find report'. When the report is ready, select 'Export as' and then choose CSV."]
[null,null,"Now, import the exported file into a clean Microsoft Excel spreadsheet. When importing, choose Unicode (UTF-8) as the file format and Comma as the delimiter. In Advanced set the decimal separator to \".\" and the thousands separator to \",\" and then click Import."]
[null,null,"When the file is imported, copy all the data. Now, in this Excel sheet, open the tab called Setup, and click the button that says 'Clear FLData!'. Then paste the data you exported from FlightLogger by choosing cell A1 and then 'Insert special' and then 'Values'. It is important that you do it this way to avoid creating any errors."]
[null,null,"Then open the sheet called 'Setup' and manually insert all the aircraft types and callsigns used on your FlightLogger account."]
[null,null,"Note that in the two tabs called 'Aircraft Hours' and 'Instructor Hours', you need to define the date range to show data for where it says SELECT DATE RANGE. Note that the period must be within the first entry and last entry dates shown on top of the reports."]
[]
[null,null,"Important note - In some cases you need to click the 'Calculate' button at the bottom of the screen in order for excel to update your reports. This is then nesessary every time you change any data or dates in the sheet."]
[]
[null,null,"For a full video explaining the process of using this sheet, visit this URL: https://youtu.be/xFysNtAxE0I"]
[]
[null,null,"Note - most cells in this spreadsheet have been locked in order to make sure you only make changes to the cells that do not contain any formulas. If you want to unlock all cells you can do it by clicking 'Review' and then 'Unprotect sheet'. Then type the code: FL2020"]

{"sheet":"Setup","index":1,"n_rows":72,"n_cols":9,"rows_kept":72,"cut":false,"hidden":false,"merged":[]}
[]
[null,null,"Setup",null,"FlightLogger spreadsheet version:",null,null,null,"V009"]
[]
[null,null,"FLData",null,"First data entry:",null,{"$f":"MIN(FLData!$C$2:$C9999)","v":"00:00:00"}]
[null,null,null,null,"Last date entry:",null,{"$f":"MAX(FLData!$C$2:$C13999)","v":"00:00:00"}]
[]
[null,null,"Single Engine Types:",null,null,null,"Aircraft list:"]
[]
[]
[]
[]
[]
[]
[]
[]
[]
[]
[]
[]
[]
[]
[]
[]
[]
[]
[]
[]
[]
[]
[]
[]
[]
[]
[]
[]
[]
[]
[]
[]
[]
[null,null,"Multi Engine Types:",null,null,null,"Aircraft list:"]
[]
[]
[]
[]
[]
[]
[]
[]
[]
[]
[]
[]
[]
[]
[]
[]
[]
[]
[]
[null,null,"Sim1 Types:",null,null,null,"Aircraft list:"]
[]
[]
[]
[]
[]
[]
[]
[]
[]
[]
[null,null,"Sim2 Types:",null,null,null,"Aircraft list:"]

{"sheet":"FLData","index":2,"n_rows":0,"n_cols":0,"rows_kept":0,"cut":false,"hidden":false,"merged":[]}

{"sheet":"Aircraft Hours","index":3,"n_rows":63,"n_cols":10,"rows_kept":63,"cut":false,"hidden":false,"merged":[[9,3,9,5]]}
[]
[]
[null,null,"Aircraft hours"]
[null,null,{"$f":"FLVersion","v":"V009"}]
[null,null,null,"PERIOD","from: ","2021-11-20","to: ","2022-03-09","<-","SELECT DATE RANGE"]
[null,null,null,null,"first entry:",{"$f":"fedate","v":"00:00:00"},"last entry:",{"$f":"ledate","v":"00:00:00"}]
[]
[null,null,"PRODUCTION TOTALS"]
[]
[null,null,null,"REVENUE"]
[null,null,"Single Engine","SOLO","DUAL","RENTAL","OPERATIONS","TOTALS"]
[null,null,{"$f":"IF( OR(ISERROR(INDEX(AircraftSingles,ROW($C12)-ROW($C$12)+1 )), LEN(INDEX(AircraftSingles,ROW($C12)-ROW($C$12)+1))<=0),\"\",  INDEX(AircraftSingles,ROW($C12)-ROW($C$12)+1))","v":""},{"$f":"SUMIFS(FLData!$AH$2:$AH$13999, FLData!$C$2:$C$13999, \">=\"&fromDate, FLData!$C$2:$C$13999, \"<=\" &toDate,FLData!$D$2:$D$13999, \"=\" &$C12, FLData!$F$2:$F$13999,\"Lesson\", FLData!$AP$2:$AP$13999, \"Solo\")*24","v":0},{"$f":"SUMPRODUCT( SUMIFS(FLData!$AH$2:$AH$13999, FLData!$C$2:$C$13999, \">=\"&fromDate, FLData!$C$2:$C$13999, \"<=\" &toDate,FLData!$D$2:$D$13999, \"=\" &$C12, FLData!$F$2:$F$13999,\"Lesson\", FLData!$AP$2:$AP$13999,{\"SPIC\",\"Dual\"} ))*24","v":0},{"$f":"SUMIFS(FLData!$AH$2:$AH$13999, FLData!$C$2:$C$13999, \">=\"&fromDate, FLData!$C$2:$C$13999, \"<=\" &toDate,FLData!$D$2:$D$13999, \"=\" &$C12, FLData!$F$2:$F$13999,\"RENTAL\")*24","v":0},{"$f":"SUMIFS(FLData!$AH$2:$AH$13999, FLData!$C$2:$C$13999, \">=\"&fromDate, FLData!$C$2:$C$13999, \"<=\" &toDate,FLData!$D$2:$D$13999, \"=\" &$C12, FLData!$F$2:$F$13999, \"Operation\" )*24","v":0},{"$f":"SUM(D12:G12)","v":0}]
[null,null,"",{"$f":"SUMIFS(FLData!$AH$2:$AH$13999, FLData!$C$2:$C$13999, \">=\"&fromDate, FLData!$C$2:$C$13999, \"<=\" &toDate,FLData!$D$2:$D$13999, \"=\" &$C13, FLData!$F$2:$F$13999,\"Lesson\", FLData!$AP$2:$AP$13999, \"Solo\")*24","v":0},{"$f":"SUMPRODUCT( SUMIFS(FLData!$AH$2:$AH$13999, FLData!$C$2:$C$13999, \">=\"&fromDate, FLData!$C$2:$C$13999, \"<=\" &toDate,FLData!$D$2:$D$13999, \"=\" &$C13, FLData!$F$2:$F$13999,\"Lesson\", FLData!$AP$2:$AP$13999,{\"SPIC\",\"Dual\"} ))*24","v":0},{"$f":"SUMIFS(FLData!$AH$2:$AH$13999, FLData!$C$2:$C$13999, \">=\"&fromDate, FLData!$C$2:$C$13999, \"<=\" &toDate,FLData!$D$2:$D$13999, \"=\" &$C13, FLData!$F$2:$F$13999,\"RENTAL\")*24","v":0},{"$f":"SUMIFS(FLData!$AH$2:$AH$13999, FLData!$C$2:$C$13999, \">=\"&fromDate, FLData!$C$2:$C$13999, \"<=\" &toDate,FLData!$D$2:$D$13999, \"=\" &$C13, FLData!$F$2:$F$13999, \"Operation\" )*24","v":0},0]
[null,null,"",{"$f":"SUMIFS(FLData!$AH$2:$AH$13999, FLData!$C$2:$C$13999, \">=\"&fromDate, FLData!$C$2:$C$13999, \"<=\" &toDate,FLData!$D$2:$D$13999, \"=\" &$C14, FLData!$F$2:$F$13999,\"Lesson\", FLData!$AP$2:$AP$13999, \"Solo\")*24","v":0},{"$f":"SUMPRODUCT( SUMIFS(FLData!$AH$2:$AH$13999, FLData!$C$2:$C$13999, \">=\"&fromDate, FLData!$C$2:$C$13999, \"<=\" &toDate,FLData!$D$2:$D$13999, \"=\" &$C14, FLData!$F$2:$F$13999,\"Lesson\", FLData!$AP$2:$AP$13999,{\"SPIC\",\"Dual\"} ))*24","v":0},{"$f":"SUMIFS(FLData!$AH$2:$AH$13999, FLData!$C$2:$C$13999, \">=\"&fromDate, FLData!$C$2:$C$13999, \"<=\" &toDate,FLData!$D$2:$D$13999, \"=\" &$C14, FLData!$F$2:$F$13999,\"RENTAL\")*24","v":0},{"$f":"SUMIFS(FLData!$AH$2:$AH$13999, FLData!$C$2:$C$13999, \">=\"&fromDate, FLData!$C$2:$C$13999, \"<=\" &toDate,FLData!$D$2:$D$13999, \"=\" &$C14, FLData!$F$2:$F$13999, \"Operation\" )*24","v":0},0]
[null,null,"",{"$f":"SUMIFS(FLData!$AH$2:$AH$13999, FLData!$C$2:$C$13999, \">=\"&fromDate, FLData!$C$2:$C$13999, \"<=\" &toDate,FLData!$D$2:$D$13999, \"=\" &$C15, FLData!$F$2:$F$13999,\"Lesson\", FLData!$AP$2:$AP$13999, \"Solo\")*24","v":0},{"$f":"SUMPRODUCT( SUMIFS(FLData!$AH$2:$AH$13999, FLData!$C$2:$C$13999, \">=\"&fromDate, FLData!$C$2:$C$13999, \"<=\" &toDate,FLData!$D$2:$D$13999, \"=\" &$C15, FLData!$F$2:$F$13999,\"Lesson\", FLData!$AP$2:$AP$13999,{\"SPIC\",\"Dual\"} ))*24","v":0},{"$f":"SUMIFS(FLData!$AH$2:$AH$13999, FLData!$C$2:$C$13999, \">=\"&fromDate, FLData!$C$2:$C$13999, \"<=\" &toDate,FLData!$D$2:$D$13999, \"=\" &$C15, FLData!$F$2:$F$13999,\"RENTAL\")*24","v":0},{"$f":"SUMIFS(FLData!$AH$2:$AH$13999, FLData!$C$2:$C$13999, \">=\"&fromDate, FLData!$C$2:$C$13999, \"<=\" &toDate,FLData!$D$2:$D$13999, \"=\" &$C15, FLData!$F$2:$F$13999, \"Operation\" )*24","v":0},0]
[null,null,"",{"$f":"SUMIFS(FLData!$AH$2:$AH$13999, FLData!$C$2:$C$13999, \">=\"&fromDate, FLData!$C$2:$C$13999, \"<=\" &toDate,FLData!$D$2:$D$13999, \"=\" &$C16, FLData!$F$2:$F$13999,\"Lesson\", FLData!$AP$2:$AP$13999, \"Solo\")*24","v":0},{"$f":"SUMPRODUCT( SUMIFS(FLData!$AH$2:$AH$13999, FLData!$C$2:$C$13999, \">=\"&fromDate, FLData!$C$2:$C$13999, \"<=\" &toDate,FLData!$D$2:$D$13999, \"=\" &$C16, FLData!$F$2:$F$13999,\"Lesson\", FLData!$AP$2:$AP$13999,{\"SPIC\",\"Dual\"} ))*24","v":0},{"$f":"SUMIFS(FLData!$AH$2:$AH$13999, FLData!$C$2:$C$13999, \">=\"&fromDate, FLData!$C$2:$C$13999, \"<=\" &toDate,FLData!$D$2:$D$13999, \"=\" &$C16, FLData!$F$2:$F$13999,\"RENTAL\")*24","v":0},{"$f":"SUMIFS(FLData!$AH$2:$AH$13999, FLData!$C$2:$C$13999, \">=\"&fromDate, FLData!$C$2:$C$13999, \"<=\" &toDate,FLData!$D$2:$D$13999, \"=\" &$C16, FLData!$F$2:$F$13999, \"Operation\" )*24","v":0},0]
[null,null,"",{"$f":"SUMIFS(FLData!$AH$2:$AH$13999, FLData!$C$2:$C$13999, \">=\"&fromDate, FLData!$C$2:$C$13999, \"<=\" &toDate,FLData!$D$2:$D$13999, \"=\" &$C17, FLData!$F$2:$F$13999,\"Lesson\", FLData!$AP$2:$AP$13999, \"Solo\")*24","v":0},{"$f":"SUMPRODUCT( SUMIFS(FLData!$AH$2:$AH$13999, FLData!$C$2:$C$13999, \">=\"&fromDate, FLData!$C$2:$C$13999, \"<=\" &toDate,FLData!$D$2:$D$13999, \"=\" &$C17, FLData!$F$2:$F$13999,\"Lesson\", FLData!$AP$2:$AP$13999,{\"SPIC\",\"Dual\"} ))*24","v":0},{"$f":"SUMIFS(FLData!$AH$2:$AH$13999, FLData!$C$2:$C$13999, \">=\"&fromDate, FLData!$C$2:$C$13999, \"<=\" &toDate,FLData!$D$2:$D$13999, \"=\" &$C17, FLData!$F$2:$F$13999,\"RENTAL\")*24","v":0},{"$f":"SUMIFS(FLData!$AH$2:$AH$13999, FLData!$C$2:$C$13999, \">=\"&fromDate, FLData!$C$2:$C$13999, \"<=\" &toDate,FLData!$D$2:$D$13999, \"=\" &$C17, FLData!$F$2:$F$13999, \"Operation\" )*24","v":0},0]
[null,null,"",{"$f":"SUMIFS(FLData!$AH$2:$AH$13999, FLData!$C$2:$C$13999, \">=\"&fromDate, FLData!$C$2:$C$13999, \"<=\" &toDate,FLData!$D$2:$D$13999, \"=\" &$C18, FLData!$F$2:$F$13999,\"Lesson\", FLData!$AP$2:$AP$13999, \"Solo\")*24","v":0},{"$f":"SUMPRODUCT( SUMIFS(FLData!$AH$2:$AH$13999, FLData!$C$2:$C$13999, \">=\"&fromDate, FLData!$C$2:$C$13999, \"<=\" &toDate,FLData!$D$2:$D$13999, \"=\" &$C18, FLData!$F$2:$F$13999,\"Lesson\", FLData!$AP$2:$AP$13999,{\"SPIC\",\"Dual\"} ))*24","v":0},{"$f":"SUMIFS(FLData!$AH$2:$AH$13999, FLData!$C$2:$C$13999, \">=\"&fromDate, FLData!$C$2:$C$13999, \"<=\" &toDate,FLData!$D$2:$D$13999, \"=\" &$C18, FLData!$F$2:$F$13999,\"RENTAL\")*24","v":0},{"$f":"SUMIFS(FLData!$AH$2:$AH$13999, FLData!$C$2:$C$13999, \">=\"&fromDate, FLData!$C$2:$C$13999, \"<=\" &toDate,FLData!$D$2:$D$13999, \"=\" &$C18, FLData!$F$2:$F$13999, \"Operation\" )*24","v":0},0]
[null,null,"",{"$f":"SUMIFS(FLData!$AH$2:$AH$13999, FLData!$C$2:$C$13999, \">=\"&fromDate, FLData!$C$2:$C$13999, \"<=\" &toDate,FLData!$D$2:$D$13999, \"=\" &$C19, FLData!$F$2:$F$13999,\"Lesson\", FLData!$AP$2:$AP$13999, \"Solo\")*24","v":0},{"$f":"SUMPRODUCT( SUMIFS(FLData!$AH$2:$AH$13999, FLData!$C$2:$C$13999, \">=\"&fromDate, FLData!$C$2:$C$13999, \"<=\" &toDate,FLData!$D$2:$D$13999, \"=\" &$C19, FLData!$F$2:$F$13999,\"Lesson\", FLData!$AP$2:$AP$13999,{\"SPIC\",\"Dual\"} ))*24","v":0},{"$f":"SUMIFS(FLData!$AH$2:$AH$13999, FLData!$C$2:$C$13999, \">=\"&fromDate, FLData!$C$2:$C$13999, \"<=\" &toDate,FLData!$D$2:$D$13999, \"=\" &$C19, FLData!$F$2:$F$13999,\"RENTAL\")*24","v":0},{"$f":"SUMIFS(FLData!$AH$2:$AH$13999, FLData!$C$2:$C$13999, \">=\"&fromDate, FLData!$C$2:$C$13999, \"<=\" &toDate,FLData!$D$2:$D$13999, \"=\" &$C19, FLData!$F$2:$F$13999, \"Operation\" )*24","v":0},0]
[null,null,"",{"$f":"SUMIFS(FLData!$AH$2:$AH$13999, FLData!$C$2:$C$13999, \">=\"&fromDate, FLData!$C$2:$C$13999, \"<=\" &toDate,FLData!$D$2:$D$13999, \"=\" &$C20, FLData!$F$2:$F$13999,\"Lesson\", FLData!$AP$2:$AP$13999, \"Solo\")*24","v":0},{"$f":"SUMPRODUCT( SUMIFS(FLData!$AH$2:$AH$13999, FLData!$C$2:$C$13999, \">=\"&fromDate, FLData!$C$2:$C$13999, \"<=\" &toDate,FLData!$D$2:$D$13999, \"=\" &$C20, FLData!$F$2:$F$13999,\"Lesson\", FLData!$AP$2:$AP$13999,{\"SPIC\",\"Dual\"} ))*24","v":0},{"$f":"SUMIFS(FLData!$AH$2:$AH$13999, FLData!$C$2:$C$13999, \">=\"&fromDate, FLData!$C$2:$C$13999, \"<=\" &toDate,FLData!$D$2:$D$13999, \"=\" &$C20, FLData!$F$2:$F$13999,\"RENTAL\")*24","v":0},{"$f":"SUMIFS(FLData!$AH$2:$AH$13999, FLData!$C$2:$C$13999, \">=\"&fromDate, FLData!$C$2:$C$13999, \"<=\" &toDate,FLData!$D$2:$D$13999, \"=\" &$C20, FLData!$F$2:$F$13999, \"Operation\" )*24","v":0},0]
[null,null,"",{"$f":"SUMIFS(FLData!$AH$2:$AH$13999, FLData!$C$2:$C$13999, \">=\"&fromDate, FLData!$C$2:$C$13999, \"<=\" &toDate,FLData!$D$2:$D$13999, \"=\" &$C21, FLData!$F$2:$F$13999,\"Lesson\", FLData!$AP$2:$AP$13999, \"Solo\")*24","v":0},{"$f":"SUMPRODUCT( SUMIFS(FLData!$AH$2:$AH$13999, FLData!$C$2:$C$13999, \">=\"&fromDate, FLData!$C$2:$C$13999, \"<=\" &toDate,FLData!$D$2:$D$13999, \"=\" &$C21, FLData!$F$2:$F$13999,\"Lesson\", FLData!$AP$2:$AP$13999,{\"SPIC\",\"Dual\"} ))*24","v":0},{"$f":"SUMIFS(FLData!$AH$2:$AH$13999, FLData!$C$2:$C$13999, \">=\"&fromDate, FLData!$C$2:$C$13999, \"<=\" &toDate,FLData!$D$2:$D$13999, \"=\" &$C21, FLData!$F$2:$F$13999,\"RENTAL\")*24","v":0},{"$f":"SUMIFS(FLData!$AH$2:$AH$13999, FLData!$C$2:$C$13999, \">=\"&fromDate, FLData!$C$2:$C$13999, \"<=\" &toDate,FLData!$D$2:$D$13999, \"=\" &$C21, FLData!$F$2:$F$13999, \"Operation\" )*24","v":0},{"$f":"SUM(D21:G21)","v":0}]
[null,null,"",{"$f":"SUMIFS(FLData!$AH$2:$AH$13999, FLData!$C$2:$C$13999, \">=\"&fromDate, FLData!$C$2:$C$13999, \"<=\" &toDate,FLData!$D$2:$D$13999, \"=\" &$C22, FLData!$F$2:$F$13999,\"Lesson\", FLData!$AP$2:$AP$13999, \"Solo\")*24","v":0},{"$f":"SUMPRODUCT( SUMIFS(FLData!$AH$2:$AH$13999, FLData!$C$2:$C$13999, \">=\"&fromDate, FLData!$C$2:$C$13999, \"<=\" &toDate,FLData!$D$2:$D$13999, \"=\" &$C22, FLData!$F$2:$F$13999,\"Lesson\", FLData!$AP$2:$AP$13999,{\"SPIC\",\"Dual\"} ))*24","v":0},{"$f":"SUMIFS(FLData!$AH$2:$AH$13999, FLData!$C$2:$C$13999, \">=\"&fromDate, FLData!$C$2:$C$13999, \"<=\" &toDate,FLData!$D$2:$D$13999, \"=\" &$C22, FLData!$F$2:$F$13999,\"RENTAL\")*24","v":0},{"$f":"SUMIFS(FLData!$AH$2:$AH$13999, FLData!$C$2:$C$13999, \">=\"&fromDate, FLData!$C$2:$C$13999, \"<=\" &toDate,FLData!$D$2:$D$13999, \"=\" &$C22, FLData!$F$2:$F$13999, \"Operation\" )*24","v":0},0]
[null,null,"",{"$f":"SUMIFS(FLData!$AH$2:$AH$13999, FLData!$C$2:$C$13999, \">=\"&fromDate, FLData!$C$2:$C$13999, \"<=\" &toDate,FLData!$D$2:$D$13999, \"=\" &$C23, FLData!$F$2:$F$13999,\"Lesson\", FLData!$AP$2:$AP$13999, \"Solo\")*24","v":0},{"$f":"SUMPRODUCT( SUMIFS(FLData!$AH$2:$AH$13999, FLData!$C$2:$C$13999, \">=\"&fromDate, FLData!$C$2:$C$13999, \"<=\" &toDate,FLData!$D$2:$D$13999, \"=\" &$C23, FLData!$F$2:$F$13999,\"Lesson\", FLData!$AP$2:$AP$13999,{\"SPIC\",\"Dual\"} ))*24","v":0},{"$f":"SUMIFS(FLData!$AH$2:$AH$13999, FLData!$C$2:$C$13999, \">=\"&fromDate, FLData!$C$2:$C$13999, \"<=\" &toDate,FLData!$D$2:$D$13999, \"=\" &$C23, FLData!$F$2:$F$13999,\"RENTAL\")*24","v":0},{"$f":"SUMIFS(FLData!$AH$2:$AH$13999, FLData!$C$2:$C$13999, \">=\"&fromDate, FLData!$C$2:$C$13999, \"<=\" &toDate,FLData!$D$2:$D$13999, \"=\" &$C23, FLData!$F$2:$F$13999, \"Operation\" )*24","v":0},0]
[null,null,"",{"$f":"SUMIFS(FLData!$AH$2:$AH$13999, FLData!$C$2:$C$13999, \">=\"&fromDate, FLData!$C$2:$C$13999, \"<=\" &toDate,FLData!$D$2:$D$13999, \"=\" &$C24, FLData!$F$2:$F$13999,\"Lesson\", FLData!$AP$2:$AP$13999, \"Solo\")*24","v":0},{"$f":"SUMPRODUCT( SUMIFS(FLData!$AH$2:$AH$13999, FLData!$C$2:$C$13999, \">=\"&fromDate, FLData!$C$2:$C$13999, \"<=\" &toDate,FLData!$D$2:$D$13999, \"=\" &$C24, FLData!$F$2:$F$13999,\"Lesson\", FLData!$AP$2:$AP$13999,{\"SPIC\",\"Dual\"} ))*24","v":0},{"$f":"SUMIFS(FLData!$AH$2:$AH$13999, FLData!$C$2:$C$13999, \">=\"&fromDate, FLData!$C$2:$C$13999, \"<=\" &toDate,FLData!$D$2:$D$13999, \"=\" &$C24, FLData!$F$2:$F$13999,\"RENTAL\")*24","v":0},{"$f":"SUMIFS(FLData!$AH$2:$AH$13999, FLData!$C$2:$C$13999, \">=\"&fromDate, FLData!$C$2:$C$13999, \"<=\" &toDate,FLData!$D$2:$D$13999, \"=\" &$C24, FLData!$F$2:$F$13999, \"Operation\" )*24","v":0},0]
[null,null,"",{"$f":"SUMIFS(FLData!$AH$2:$AH$13999, FLData!$C$2:$C$13999, \">=\"&fromDate, FLData!$C$2:$C$13999, \"<=\" &toDate,FLData!$D$2:$D$13999, \"=\" &$C25, FLData!$F$2:$F$13999,\"Lesson\", FLData!$AP$2:$AP$13999, \"Solo\")*24","v":0},{"$f":"SUMPRODUCT( SUMIFS(FLData!$AH$2:$AH$13999, FLData!$C$2:$C$13999, \">=\"&fromDate, FLData!$C$2:$C$13999, \"<=\" &toDate,FLData!$D$2:$D$13999, \"=\" &$C25, FLData!$F$2:$F$13999,\"Lesson\", FLData!$AP$2:$AP$13999,{\"SPIC\",\"Dual\"} ))*24","v":0},{"$f":"SUMIFS(FLData!$AH$2:$AH$13999, FLData!$C$2:$C$13999, \">=\"&fromDate, FLData!$C$2:$C$13999, \"<=\" &toDate,FLData!$D$2:$D$13999, \"=\" &$C25, FLData!$F$2:$F$13999,\"RENTAL\")*24","v":0},{"$f":"SUMIFS(FLData!$AH$2:$AH$13999, FLData!$C$2:$C$13999, \">=\"&fromDate, FLData!$C$2:$C$13999, \"<=\" &toDate,FLData!$D$2:$D$13999, \"=\" &$C25, FLData!$F$2:$F$13999, \"Operation\" )*24","v":0},0]
[null,null,"",{"$f":"SUMIFS(FLData!$AH$2:$AH$13999, FLData!$C$2:$C$13999, \">=\"&fromDate, FLData!$C$2:$C$13999, \"<=\" &toDate,FLData!$D$2:$D$13999, \"=\" &$C26, FLData!$F$2:$F$13999,\"Lesson\", FLData!$AP$2:$AP$13999, \"Solo\")*24","v":0},{"$f":"SUMPRODUCT( SUMIFS(FLData!$AH$2:$AH$13999, FLData!$C$2:$C$13999, \">=\"&fromDate, FLData!$C$2:$C$13999, \"<=\" &toDate,FLData!$D$2:$D$13999, \"=\" &$C26, FLData!$F$2:$F$13999,\"Lesson\", FLData!$AP$2:$AP$13999,{\"SPIC\",\"Dual\"} ))*24","v":0},{"$f":"SUMIFS(FLData!$AH$2:$AH$13999, FLData!$C$2:$C$13999, \">=\"&fromDate, FLData!$C$2:$C$13999, \"<=\" &toDate,FLData!$D$2:$D$13999, \"=\" &$C26, FLData!$F$2:$F$13999,\"RENTAL\")*24","v":0},{"$f":"SUMIFS(FLData!$AH$2:$AH$13999, FLData!$C$2:$C$13999, \">=\"&fromDate, FLData!$C$2:$C$13999, \"<=\" &toDate,FLData!$D$2:$D$13999, \"=\" &$C26, FLData!$F$2:$F$13999, \"Operation\" )*24","v":0},0]
[null,null,"",{"$f":"SUMIFS(FLData!$AH$2:$AH$13999, FLData!$C$2:$C$13999, \">=\"&fromDate, FLData!$C$2:$C$13999, \"<=\" &toDate,FLData!$D$2:$D$13999, \"=\" &$C27, FLData!$F$2:$F$13999,\"Lesson\", FLData!$AP$2:$AP$13999, \"Solo\")*24","v":0},{"$f":"SUMPRODUCT( SUMIFS(FLData!$AH$2:$AH$13999, FLData!$C$2:$C$13999, \">=\"&fromDate, FLData!$C$2:$C$13999, \"<=\" &toDate,FLData!$D$2:$D$13999, \"=\" &$C27, FLData!$F$2:$F$13999,\"Lesson\", FLData!$AP$2:$AP$13999,{\"SPIC\",\"Dual\"} ))*24","v":0},{"$f":"SUMIFS(FLData!$AH$2:$AH$13999, FLData!$C$2:$C$13999, \">=\"&fromDate, FLData!$C$2:$C$13999, \"<=\" &toDate,FLData!$D$2:$D$13999, \"=\" &$C27, FLData!$F$2:$F$13999,\"RENTAL\")*24","v":0},{"$f":"SUMIFS(FLData!$AH$2:$AH$13999, FLData!$C$2:$C$13999, \">=\"&fromDate, FLData!$C$2:$C$13999, \"<=\" &toDate,FLData!$D$2:$D$13999, \"=\" &$C27, FLData!$F$2:$F$13999, \"Operation\" )*24","v":0},0]
[null,null,"",{"$f":"SUMIFS(FLData!$AH$2:$AH$13999, FLData!$C$2:$C$13999, \">=\"&fromDate, FLData!$C$2:$C$13999, \"<=\" &toDate,FLData!$D$2:$D$13999, \"=\" &$C28, FLData!$F$2:$F$13999,\"Lesson\", FLData!$AP$2:$AP$13999, \"Solo\")*24","v":0},{"$f":"SUMPRODUCT( SUMIFS(FLData!$AH$2:$AH$13999, FLData!$C$2:$C$13999, \">=\"&fromDate, FLData!$C$2:$C$13999, \"<=\" &toDate,FLData!$D$2:$D$13999, \"=\" &$C28, FLData!$F$2:$F$13999,\"Lesson\", FLData!$AP$2:$AP$13999,{\"SPIC\",\"Dual\"} ))*24","v":0},{"$f":"SUMIFS(FLData!$AH$2:$AH$13999, FLData!$C$2:$C$13999, \">=\"&fromDate, FLData!$C$2:$C$13999, \"<=\" &toDate,FLData!$D$2:$D$13999, \"=\" &$C28, FLData!$F$2:$F$13999,\"RENTAL\")*24","v":0},{"$f":"SUMIFS(FLData!$AH$2:$AH$13999, FLData!$C$2:$C$13999, \">=\"&fromDate, FLData!$C$2:$C$13999, \"<=\" &toDate,FLData!$D$2:$D$13999, \"=\" &$C28, FLData!$F$2:$F$13999, \"Operation\" )*24","v":0},0]
[null,null,"",{"$f":"SUMIFS(FLData!$AH$2:$AH$13999, FLData!$C$2:$C$13999, \">=\"&fromDate, FLData!$C$2:$C$13999, \"<=\" &toDate,FLData!$D$2:$D$13999, \"=\" &$C29, FLData!$F$2:$F$13999,\"Lesson\", FLData!$AP$2:$AP$13999, \"Solo\")*24","v":0},{"$f":"SUMPRODUCT( SUMIFS(FLData!$AH$2:$AH$13999, FLData!$C$2:$C$13999, \">=\"&fromDate, FLData!$C$2:$C$13999, \"<=\" &toDate,FLData!$D$2:$D$13999, \"=\" &$C29, FLData!$F$2:$F$13999,\"Lesson\", FLData!$AP$2:$AP$13999,{\"SPIC\",\"Dual\"} ))*24","v":0},{"$f":"SUMIFS(FLData!$AH$2:$AH$13999, FLData!$C$2:$C$13999, \">=\"&fromDate, FLData!$C$2:$C$13999, \"<=\" &toDate,FLData!$D$2:$D$13999, \"=\" &$C29, FLData!$F$2:$F$13999,\"RENTAL\")*24","v":0},{"$f":"SUMIFS(FLData!$AH$2:$AH$13999, FLData!$C$2:$C$13999, \">=\"&fromDate, FLData!$C$2:$C$13999, \"<=\" &toDate,FLData!$D$2:$D$13999, \"=\" &$C29, FLData!$F$2:$F$13999, \"Operation\" )*24","v":0},{"$f":"SUM(D29:G29)","v":0}]
[null,null,"",{"$f":"SUMIFS(FLData!$AH$2:$AH$13999, FLData!$C$2:$C$13999, \">=\"&fromDate, FLData!$C$2:$C$13999, \"<=\" &toDate,FLData!$D$2:$D$13999, \"=\" &$C30, FLData!$F$2:$F$13999,\"Lesson\", FLData!$AP$2:$AP$13999, \"Solo\")*24","v":0},{"$f":"SUMPRODUCT( SUMIFS(FLData!$AH$2:$AH$13999, FLData!$C$2:$C$13999, \">=\"&fromDate, FLData!$C$2:$C$13999, \"<=\" &toDate,FLData!$D$2:$D$13999, \"=\" &$C30, FLData!$F$2:$F$13999,\"Lesson\", FLData!$AP$2:$AP$13999,{\"SPIC\",\"Dual\"} ))*24","v":0},{"$f":"SUMIFS(FLData!$AH$2:$AH$13999, FLData!$C$2:$C$13999, \">=\"&fromDate, FLData!$C$2:$C$13999, \"<=\" &toDate,FLData!$D$2:$D$13999, \"=\" &$C30, FLData!$F$2:$F$13999,\"RENTAL\")*24","v":0},{"$f":"SUMIFS(FLData!$AH$2:$AH$13999, FLData!$C$2:$C$13999, \">=\"&fromDate, FLData!$C$2:$C$13999, \"<=\" &toDate,FLData!$D$2:$D$13999, \"=\" &$C30, FLData!$F$2:$F$13999, \"Operation\" )*24","v":0},0]
[null,null,"",{"$f":"SUMIFS(FLData!$AH$2:$AH$13999, FLData!$C$2:$C$13999, \">=\"&fromDate, FLData!$C$2:$C$13999, \"<=\" &toDate,FLData!$D$2:$D$13999, \"=\" &$C31, FLData!$F$2:$F$13999,\"Lesson\", FLData!$AP$2:$AP$13999, \"Solo\")*24","v":0},{"$f":"SUMPRODUCT( SUMIFS(FLData!$AH$2:$AH$13999, FLData!$C$2:$C$13999, \">=\"&fromDate, FLData!$C$2:$C$13999, \"<=\" &toDate,FLData!$D$2:$D$13999, \"=\" &$C31, FLData!$F$2:$F$13999,\"Lesson\", FLData!$AP$2:$AP$13999,{\"SPIC\",\"Dual\"} ))*24","v":0},{"$f":"SUMIFS(FLData!$AH$2:$AH$13999, FLData!$C$2:$C$13999, \">=\"&fromDate, FLData!$C$2:$C$13999, \"<=\" &toDate,FLData!$D$2:$D$13999, \"=\" &$C31, FLData!$F$2:$F$13999,\"RENTAL\")*24","v":0},{"$f":"SUMIFS(FLData!$AH$2:$AH$13999, FLData!$C$2:$C$13999, \">=\"&fromDate, FLData!$C$2:$C$13999, \"<=\" &toDate,FLData!$D$2:$D$13999, \"=\" &$C31, FLData!$F$2:$F$13999, \"Operation\" )*24","v":0},{"$f":"SUM(D31:G31)","v":0}]
[]
[null,null,"TOTAL",{"$f":"SUM(D12:D32)","v":0},{"$f":"SUM(E12:E32)","v":0},0,0,0]
[]
[null,null,"Multi Engine",null,"DUAL","RENTAL","OPERATIONS","TOTALS"]
[null,null,{"$f":"IF( OR(ISERROR(INDEX(AircraftMulti,ROW($C36)-ROW($C$36)+1 )), LEN(INDEX(AircraftMulti,ROW($C36)-ROW($C$36)+1))<=0),\"\",  INDEX(AircraftMulti,ROW($C36)-ROW($C$36)+1))","v":""},null,{"$f":"SUMPRODUCT( SUMIFS(FLData!$AH$2:$AH$13999, FLData!$C$2:$C$13999, \">=\"&fromDate, FLData!$C$2:$C$13999, \"<=\" &toDate,FLData!$D$2:$D$13999, \"=\" &$C36, FLData!$F$2:$F$13999,\"Lesson\", FLData!$AP$2:$AP$13999,{\"SPIC\",\"Dual\"} ))*24","v":0},{"$f":"SUMIFS(FLData!$AH$2:$AH$13999, FLData!$C$2:$C$13999, \">=\"&fromDate, FLData!$C$2:$C$13999, \"<=\" &toDate,FLData!$D$2:$D$13999, \"=\" &$C36, FLData!$F$2:$F$13999,\"RENTAL\")*24","v":0},{"$f":"SUMIFS(FLData!$AH$2:$AH$13999, FLData!$C$2:$C$13999, \">=\"&fromDate, FLData!$C$2:$C$13999, \"<=\" &toDate,FLData!$D$2:$D$13999, \"=\" &$C36, FLData!$F$2:$F$13999, \"Operation\" )*24","v":0},{"$f":"SUM(D36:G36)","v":0}]
[null,null,{"$f":"IF( OR(ISERROR(INDEX(AircraftMulti,ROW($C37)-ROW($C$36)+1 )), LEN(INDEX(AircraftMulti,ROW($C37)-ROW($C$36)+1))<=0),\"\",  INDEX(AircraftMulti,ROW($C37)-ROW($C$36)+1))","v":""},null,{"$f":"SUMPRODUCT( SUMIFS(FLData!$AH$2:$AH$13999, FLData!$C$2:$C$13999, \">=\"&fromDate, FLData!$C$2:$C$13999, \"<=\" &toDate,FLData!$D$2:$D$13999, \"=\" &$C37, FLData!$F$2:$F$13999,\"Lesson\", FLData!$AP$2:$AP$13999,{\"SPIC\",\"Dual\"} ))*24","v":0},{"$f":"SUMIFS(FLData!$AH$2:$AH$13999, FLData!$C$2:$C$13999, \">=\"&fromDate, FLData!$C$2:$C$13999, \"<=\" &toDate,FLData!$D$2:$D$13999, \"=\" &$C37, FLData!$F$2:$F$13999,\"RENTAL\")*24","v":0},{"$f":"SUMIFS(FLData!$AH$2:$AH$13999, FLData!$C$2:$C$13999, \">=\"&fromDate, FLData!$C$2:$C$13999, \"<=\" &toDate,FLData!$D$2:$D$13999, \"=\" &$C37, FLData!$F$2:$F$13999, \"Operation\" )*24","v":0},{"$f":"SUM(D37:G37)","v":0}]
[null,null,{"$f":"IF( OR(ISERROR(INDEX(AircraftMulti,ROW($C38)-ROW($C$36)+1 )), LEN(INDEX(AircraftMulti,ROW($C38)-ROW($C$36)+1))<=0),\"\",  INDEX(AircraftMulti,ROW($C38)-ROW($C$36)+1))","v":""},null,{"$f":"SUMPRODUCT( SUMIFS(FLData!$AH$2:$AH$13999, FLData!$C$2:$C$13999, \">=\"&fromDate, FLData!$C$2:$C$13999, \"<=\" &toDate,FLData!$D$2:$D$13999, \"=\" &$C38, FLData!$F$2:$F$13999,\"Lesson\", FLData!$AP$2:$AP$13999,{\"SPIC\",\"Dual\"} ))*24","v":0},{"$f":"SUMIFS(FLData!$AH$2:$AH$13999, FLData!$C$2:$C$13999, \">=\"&fromDate, FLData!$C$2:$C$13999, \"<=\" &toDate,FLData!$D$2:$D$13999, \"=\" &$C38, FLData!$F$2:$F$13999,\"RENTAL\")*24","v":0},{"$f":"SUMIFS(FLData!$AH$2:$AH$13999, FLData!$C$2:$C$13999, \">=\"&fromDate, FLData!$C$2:$C$13999, \"<=\" &toDate,FLData!$D$2:$D$13999, \"=\" &$C38, FLData!$F$2:$F$13999, \"Operation\" )*24","v":0},{"$f":"SUM(D38:G38)","v":0}]
[null,null,{"$f":"IF( OR(ISERROR(INDEX(AircraftMulti,ROW($C39)-ROW($C$36)+1 )), LEN(INDEX(AircraftMulti,ROW($C39)-ROW($C$36)+1))<=0),\"\",  INDEX(AircraftMulti,ROW($C39)-ROW($C$36)+1))","v":""},null,{"$f":"SUMPRODUCT( SUMIFS(FLData!$AH$2:$AH$13999, FLData!$C$2:$C$13999, \">=\"&fromDate, FLData!$C$2:$C$13999, \"<=\" &toDate,FLData!$D$2:$D$13999, \"=\" &$C39, FLData!$F$2:$F$13999,\"Lesson\", FLData!$AP$2:$AP$13999,{\"SPIC\",\"Dual\"} ))*24","v":0},{"$f":"SUMIFS(FLData!$AH$2:$AH$13999, FLData!$C$2:$C$13999, \">=\"&fromDate, FLData!$C$2:$C$13999, \"<=\" &toDate,FLData!$D$2:$D$13999, \"=\" &$C39, FLData!$F$2:$F$13999,\"RENTAL\")*24","v":0},{"$f":"SUMIFS(FLData!$AH$2:$AH$13999, FLData!$C$2:$C$13999, \">=\"&fromDate, FLData!$C$2:$C$13999, \"<=\" &toDate,FLData!$D$2:$D$13999, \"=\" &$C39, FLData!$F$2:$F$13999, \"Operation\" )*24","v":0},{"$f":"SUM(D39:G39)","v":0}]
[null,null,{"$f":"IF( OR(ISERROR(INDEX(AircraftMulti,ROW($C40)-ROW($C$36)+1 )), LEN(INDEX(AircraftMulti,ROW($C40)-ROW($C$36)+1))<=0),\"\",  INDEX(AircraftMulti,ROW($C40)-ROW($C$36)+1))","v":""},null,{"$f":"SUMPRODUCT( SUMIFS(FLData!$AH$2:$AH$13999, FLData!$C$2:$C$13999, \">=\"&fromDate, FLData!$C$2:$C$13999, \"<=\" &toDate,FLData!$D$2:$D$13999, \"=\" &$C40, FLData!$F$2:$F$13999,\"Lesson\", FLData!$AP$2:$AP$13999,{\"SPIC\",\"Dual\"} ))*24","v":0},{"$f":"SUMIFS(FLData!$AH$2:$AH$13999, FLData!$C$2:$C$13999, \">=\"&fromDate, FLData!$C$2:$C$13999, \"<=\" &toDate,FLData!$D$2:$D$13999, \"=\" &$C40, FLData!$F$2:$F$13999,\"RENTAL\")*24","v":0},{"$f":"SUMIFS(FLData!$AH$2:$AH$13999, FLData!$C$2:$C$13999, \">=\"&fromDate, FLData!$C$2:$C$13999, \"<=\" &toDate,FLData!$D$2:$D$13999, \"=\" &$C40, FLData!$F$2:$F$13999, \"Operation\" )*24","v":0},{"$f":"SUM(D40:G40)","v":0}]
[]
[null,null,"TOTAL",null,{"$f":"SUM(E36:E41)","v":0},{"$f":"SUM(F36:F41)","v":0},{"$f":"SUM(G36:G41)","v":0},{"$f":"SUM(E42:G42)","v":0}]
[]
[null,null,"Sim Type 1",null,"DUAL","RENTAL","OPERATIONS","TOTALS"]
[null,null,{"$f":"IF( OR(ISERROR(INDEX(AircraftSim1,ROW($C45)-ROW($C$45)+1 )), LEN(INDEX(AircraftSim1,ROW($C45)-ROW($C$45)+1))<=0),\"\",  INDEX(AircraftSim1,ROW($C45)-ROW($C$45)+1))","v":""},null,{"$f":"SUMIFS(FLData!$AH$2:$AH$13999, FLData!$C$2:$C$13999, \">=\"&fromDate, FLData!$C$2:$C$13999, \"<=\" &toDate,FLData!$D$2:$D$13999, \"=\" &$C45, FLData!$F$2:$F$13999,\"Lesson\", FLData!$AP$2:$AP$13999, \"Sim\")*24","v":0},{"$f":"SUMIFS(FLData!$AH$2:$AH$13999, FLData!$C$2:$C$13999, \">=\"&fromDate, FLData!$C$2:$C$13999, \"<=\" &toDate,FLData!$D$2:$D$13999, \"=\" &$C45, FLData!$F$2:$F$13999,\"RENTAL\")*24","v":0},{"$f":"SUMIFS(FLData!$AH$2:$AH$13999, FLData!$C$2:$C$13999, \">=\"&fromDate, FLData!$C$2:$C$13999, \"<=\" &toDate,FLData!$D$2:$D$13999, \"=\" &$C45, FLData!$F$2:$F$13999, \"Operation\" )*24","v":0},{"$f":"SUM(D45:G45)","v":0}]
[null,null,"",null,{"$f":"SUMIFS(FLData!$AH$2:$AH$13999, FLData!$C$2:$C$13999, \">=\"&fromDate, FLData!$C$2:$C$13999, \"<=\" &toDate,FLData!$D$2:$D$13999, \"=\" &$C46, FLData!$F$2:$F$13999,\"Lesson\", FLData!$AP$2:$AP$13999, \"Sim\")*24","v":0},{"$f":"SUMIFS(FLData!$AH$2:$AH$13999, FLData!$C$2:$C$13999, \">=\"&fromDate, FLData!$C$2:$C$13999, \"<=\" &toDate,FLData!$D$2:$D$13999, \"=\" &$C46, FLData!$F$2:$F$13999,\"RENTAL\")*24","v":0},{"$f":"SUMIFS(FLData!$AH$2:$AH$13999, FLData!$C$2:$C$13999, \">=\"&fromDate, FLData!$C$2:$C$13999, \"<=\" &toDate,FLData!$D$2:$D$13999, \"=\" &$C46, FLData!$F$2:$F$13999, \"Operation\" )*24","v":0},0]
[null,null,"",null,{"$f":"SUMIFS(FLData!$AH$2:$AH$13999, FLData!$C$2:$C$13999, \">=\"&fromDate, FLData!$C$2:$C$13999, \"<=\" &toDate,FLData!$D$2:$D$13999, \"=\" &$C47, FLData!$F$2:$F$13999,\"Lesson\", FLData!$AP$2:$AP$13999, \"Sim\")*24","v":0},{"$f":"SUMIFS(FLData!$AH$2:$AH$13999, FLData!$C$2:$C$13999, \">=\"&fromDate, FLData!$C$2:$C$13999, \"<=\" &toDate,FLData!$D$2:$D$13999, \"=\" &$C47, FLData!$F$2:$F$13999,\"RENTAL\")*24","v":0},{"$f":"SUMIFS(FLData!$AH$2:$AH$13999, FLData!$C$2:$C$13999, \">=\"&fromDate, FLData!$C$2:$C$13999, \"<=\" &toDate,FLData!$D$2:$D$13999, \"=\" &$C47, FLData!$F$2:$F$13999, \"Operation\" )*24","v":0},0]
[null,null,"",null,{"$f":"SUMIFS(FLData!$AH$2:$AH$13999, FLData!$C$2:$C$13999, \">=\"&fromDate, FLData!$C$2:$C$13999, \"<=\" &toDate,FLData!$D$2:$D$13999, \"=\" &$C48, FLData!$F$2:$F$13999,\"Lesson\", FLData!$AP$2:$AP$13999, \"Sim\")*24","v":0},{"$f":"SUMIFS(FLData!$AH$2:$AH$13999, FLData!$C$2:$C$13999, \">=\"&fromDate, FLData!$C$2:$C$13999, \"<=\" &toDate,FLData!$D$2:$D$13999, \"=\" &$C48, FLData!$F$2:$F$13999,\"RENTAL\")*24","v":0},{"$f":"SUMIFS(FLData!$AH$2:$AH$13999, FLData!$C$2:$C$13999, \">=\"&fromDate, FLData!$C$2:$C$13999, \"<=\" &toDate,FLData!$D$2:$D$13999, \"=\" &$C48, FLData!$F$2:$F$13999, \"Operation\" )*24","v":0},0]
[null,null,"",null,{"$f":"SUMIFS(FLData!$AH$2:$AH$13999, FLData!$C$2:$C$13999, \">=\"&fromDate, FLData!$C$2:$C$13999, \"<=\" &toDate,FLData!$D$2:$D$13999, \"=\" &$C49, FLData!$F$2:$F$13999,\"Lesson\", FLData!$AP$2:$AP$13999, \"Sim\")*24","v":0},{"$f":"SUMIFS(FLData!$AH$2:$AH$13999, FLData!$C$2:$C$13999, \">=\"&fromDate, FLData!$C$2:$C$13999, \"<=\" &toDate,FLData!$D$2:$D$13999, \"=\" &$C49, FLData!$F$2:$F$13999,\"RENTAL\")*24","v":0},{"$f":"SUMIFS(FLData!$AH$2:$AH$13999, FLData!$C$2:$C$13999, \">=\"&fromDate, FLData!$C$2:$C$13999, \"<=\" &toDate,FLData!$D$2:$D$13999, \"=\" &$C49, FLData!$F$2:$F$13999, \"Operation\" )*24","v":0},0]
[null,null,"",null,{"$f":"SUMIFS(FLData!$AH$2:$AH$13999, FLData!$C$2:$C$13999, \">=\"&fromDate, FLData!$C$2:$C$13999, \"<=\" &toDate,FLData!$D$2:$D$13999, \"=\" &$C50, FLData!$F$2:$F$13999,\"Lesson\", FLData!$AP$2:$AP$13999, \"Sim\")*24","v":0},{"$f":"SUMIFS(FLData!$AH$2:$AH$13999, FLData!$C$2:$C$13999, \">=\"&fromDate, FLData!$C$2:$C$13999, \"<=\" &toDate,FLData!$D$2:$D$13999, \"=\" &$C50, FLData!$F$2:$F$13999,\"RENTAL\")*24","v":0},{"$f":"SUMIFS(FLData!$AH$2:$AH$13999, FLData!$C$2:$C$13999, \">=\"&fromDate, FLData!$C$2:$C$13999, \"<=\" &toDate,FLData!$D$2:$D$13999, \"=\" &$C50, FLData!$F$2:$F$13999, \"Operation\" )*24","v":0},0]
[null,null,"",null,{"$f":"SUMIFS(FLData!$AH$2:$AH$13999, FLData!$C$2:$C$13999, \">=\"&fromDate, FLData!$C$2:$C$13999, \"<=\" &toDate,FLData!$D$2:$D$13999, \"=\" &$C51, FLData!$F$2:$F$13999,\"Lesson\", FLData!$AP$2:$AP$13999, \"Sim\")*24","v":0},{"$f":"SUMIFS(FLData!$AH$2:$AH$13999, FLData!$C$2:$C$13999, \">=\"&fromDate, FLData!$C$2:$C$13999, \"<=\" &toDate,FLData!$D$2:$D$13999, \"=\" &$C51, FLData!$F$2:$F$13999,\"RENTAL\")*24","v":0},{"$f":"SUMIFS(FLData!$AH$2:$AH$13999, FLData!$C$2:$C$13999, \">=\"&fromDate, FLData!$C$2:$C$13999, \"<=\" &toDate,FLData!$D$2:$D$13999, \"=\" &$C51, FLData!$F$2:$F$13999, \"Operation\" )*24","v":0},0]
[]
[null,null,"TOTAL",null,{"$f":"SUM(E45:E52)","v":0},{"$f":"SUM(F45:F52)","v":0},{"$f":"SUM(G45:G52)","v":0},{"$f":"SUM(E53:G53)","v":0}]
[]
[null,null,"Sim Type 2",null,"DUAL","RENTAL","OPERATIONS","TOTALS"]
[null,null,{"$f":"IF( OR(ISERROR(INDEX(AircraftSim2,ROW($C56)-ROW($C$56)+1 )), LEN(INDEX(AircraftSim2,ROW($C56)-ROW($C$56)+1))<=0),\"\",  INDEX(AircraftSim2,ROW($C56)-ROW($C$56)+1))","v":""},null,{"$f":"SUMIFS(FLData!$AH$2:$AH$13999, FLData!$C$2:$C$13999, \">=\"&fromDate, FLData!$C$2:$C$13999, \"<=\" &toDate,FLData!$D$2:$D$13999, \"=\" &$C56, FLData!$F$2:$F$13999,\"Lesson\", FLData!$AP$2:$AP$13999, \"Sim\")*24","v":0},{"$f":"SUMIFS(FLData!$AH$2:$AH$13999, FLData!$C$2:$C$13999, \">=\"&fromDate, FLData!$C$2:$C$13999, \"<=\" &toDate,FLData!$D$2:$D$13999, \"=\" &$C56, FLData!$F$2:$F$13999,\"RENTAL\")*24","v":0},{"$f":"SUMIFS(FLData!$AH$2:$AH$13999, FLData!$C$2:$C$13999, \">=\"&fromDate, FLData!$C$2:$C$13999, \"<=\" &toDate,FLData!$D$2:$D$13999, \"=\" &$C56, FLData!$F$2:$F$13999, \"Operation\" )*24","v":0},{"$f":"SUM(D56:G56)","v":0}]
[null,null,{"$f":"IF( OR(ISERROR(INDEX(AircraftSim2,ROW($C57)-ROW($C$56)+1 )), LEN(INDEX(AircraftSim2,ROW($C57)-ROW($C$56)+1))<=0),\"\",  INDEX(AircraftSim2,ROW($C57)-ROW($C$56)+1))","v":""},null,{"$f":"SUMIFS(FLData!$AH$2:$AH$13999, FLData!$C$2:$C$13999, \">=\"&fromDate, FLData!$C$2:$C$13999, \"<=\" &toDate,FLData!$D$2:$D$13999, \"=\" &$C57, FLData!$F$2:$F$13999,\"Lesson\", FLData!$AP$2:$AP$13999, \"Sim\")*24","v":0},{"$f":"SUMIFS(FLData!$AH$2:$AH$13999, FLData!$C$2:$C$13999, \">=\"&fromDate, FLData!$C$2:$C$13999, \"<=\" &toDate,FLData!$D$2:$D$13999, \"=\" &$C57, FLData!$F$2:$F$13999,\"RENTAL\")*24","v":0},{"$f":"SUMIFS(FLData!$AH$2:$AH$13999, FLData!$C$2:$C$13999, \">=\"&fromDate, FLData!$C$2:$C$13999, \"<=\" &toDate,FLData!$D$2:$D$13999, \"=\" &$C57, FLData!$F$2:$F$13999, \"Operation\" )*24","v":0},{"$f":"SUM(D57:G57)","v":0}]
[null,null,{"$f":"IF( OR(ISERROR(INDEX(AircraftSim2,ROW($C58)-ROW($C$56)+1 )), LEN(INDEX(AircraftSim2,ROW($C58)-ROW($C$56)+1))<=0),\"\",  INDEX(AircraftSim2,ROW($C58)-ROW($C$56)+1))","v":""},null,{"$f":"SUMIFS(FLData!$AH$2:$AH$13999, FLData!$C$2:$C$13999, \">=\"&fromDate, FLData!$C$2:$C$13999, \"<=\" &toDate,FLData!$D$2:$D$13999, \"=\" &$C58, FLData!$F$2:$F$13999,\"Lesson\", FLData!$AP$2:$AP$13999, \"Sim\")*24","v":0},{"$f":"SUMIFS(FLData!$AH$2:$AH$13999, FLData!$C$2:$C$13999, \">=\"&fromDate, FLData!$C$2:$C$13999, \"<=\" &toDate,FLData!$D$2:$D$13999, \"=\" &$C58, FLData!$F$2:$F$13999,\"RENTAL\")*24","v":0},{"$f":"SUMIFS(FLData!$AH$2:$AH$13999, FLData!$C$2:$C$13999, \">=\"&fromDate, FLData!$C$2:$C$13999, \"<=\" &toDate,FLData!$D$2:$D$13999, \"=\" &$C58, FLData!$F$2:$F$13999, \"Operation\" )*24","v":0},{"$f":"SUM(D58:G58)","v":0}]
[null,null,{"$f":"IF( OR(ISERROR(INDEX(AircraftSim2,ROW($C59)-ROW($C$56)+1 )), LEN(INDEX(AircraftSim2,ROW($C59)-ROW($C$56)+1))<=0),\"\",  INDEX(AircraftSim2,ROW($C59)-ROW($C$56)+1))","v":""},null,{"$f":"SUMIFS(FLData!$AH$2:$AH$13999, FLData!$C$2:$C$13999, \">=\"&fromDate, FLData!$C$2:$C$13999, \"<=\" &toDate,FLData!$D$2:$D$13999, \"=\" &$C59, FLData!$F$2:$F$13999,\"Lesson\", FLData!$AP$2:$AP$13999, \"Sim\")*24","v":0},{"$f":"SUMIFS(FLData!$AH$2:$AH$13999, FLData!$C$2:$C$13999, \">=\"&fromDate, FLData!$C$2:$C$13999, \"<=\" &toDate,FLData!$D$2:$D$13999, \"=\" &$C59, FLData!$F$2:$F$13999,\"RENTAL\")*24","v":0},{"$f":"SUMIFS(FLData!$AH$2:$AH$13999, FLData!$C$2:$C$13999, \">=\"&fromDate, FLData!$C$2:$C$13999, \"<=\" &toDate,FLData!$D$2:$D$13999, \"=\" &$C59, FLData!$F$2:$F$13999, \"Operation\" )*24","v":0},{"$f":"SUM(D59:G59)","v":0}]
[]
[null,null,"TOTAL",null,{"$f":"SUM(E56:E60)","v":0},{"$f":"SUM(F56:F60)","v":0},{"$f":"SUM(G56:G60)","v":0},{"$f":"SUM(E61:G61)","v":0}]
[]
[null,null,"Fleet totals",{"$f":"D61+D53+D42+D33","v":0},{"$f":"E61+E53+E42+E33","v":0},{"$f":"F61+F53+F42+F33","v":0},{"$f":"G61+G53+G42+G33","v":0},{"$f":"H61+H53+H42+H33","v":0}]

{"sheet":"Instructor Hours","index":4,"n_rows":200,"n_cols":14,"rows_kept":200,"cut":false,"hidden":false,"merged":[[7,3,7,4],[7,5,7,6],[7,7,7,8],[7,9,7,10],[7,11,7,13]]}
[]
[]
[null,null,"Flight Instructor Productivity"]
[null,null,{"$f":"FLVersion","v":"V009"}]
[null,null,null,null,null,null,"Period:","From:","2021-11-20","To:","2022-03-09","<-","SELECT DATE RANGE"]
[null,null,null,null,null,null,null,"first entry:",{"$f":"fedate","v":"00:00:00"},"last entry:",{"$f":"ledate","v":"00:00:00"}]
[]
[null,null,"INSTRUCTOR","Single Engine",null,"MultiEngine",null,"Sim Type 1",null,"Sim Type 2",null,"TOTALS"]
[null,null,"(Callsigns)"]
[null,null,null,"REV","OP","REV","OP","REV","OP","REV","OP","REV","OP","TOTALS"]
[]
[null,null,{"$f":"IF( OR(ISERROR(INDEX(InstructorNames,ROW($C12)-ROW($C$12)+1 )), LEN(INDEX(InstructorNames,ROW($C12)-ROW($C$12)+1))<=0),\"\",  INDEX(InstructorNames,ROW($C12)-ROW($C$12)+1))","v":""},{"$f":"( SUMPRODUCT( SUMIFS( FLData!$AH$2:$AH$13999, FLData!$C$2:$C$13999, \">=\"&fromDateI, FLData!$C$2:$C$13999, \"<=\" &toDateI, FLData!$M$2:$M$13999,$C12, FLData!$E$2:$E$13999, SingleEngineTypes, FLData!$F$2:$F$13999, \"Lesson\" )) + SUMPRODUCT( SUMIFS( FLData!$AH$2:$AH$13999, FLData!$C$2:$C$13999, \">=\"&fromDateI, FLData!$C$2:$C$13999, \"<=\" &toDateI, FLData!$S$2:$S$13999,$C12, FLData!$E$2:$E$13999, SingleEngineTypes, FLData!$F$2:$F$13999, \"Rental\" )) )*24","v":0},{"$f":"SUMPRODUCT( SUMIFS( FLData!$AH$2:$AH$13999, FLData!$C$2:$C$13999, \">=\"&fromDateI, FLData!$C$2:$C$13999, \"<=\" &toDateI, FLData!$J$2:$J$13999,$C12, FLData!$E$2:$E$13999, SingleEngineTypes, FLData!$F$2:$F$13999, \"Operation\" ))*24","v":0},{"$f":"( SUMPRODUCT( SUMIFS( FLData!$AH$2:$AH$13999, FLData!$C$2:$C$13999, \">=\"&fromDateI, FLData!$C$2:$C$13999, \"<=\" &toDateI, FLData!$M$2:$M$13999,$C12, FLData!$E$2:$E$13999, MultiEngineTypes, FLData!$F$2:$F$13999, \"Lesson\" )) + SUMPRODUCT( SUMIFS( FLData!$AH$2:$AH$13999, FLData!$C$2:$C$13999, \">=\"&fromDateI, FLData!$C$2:$C$13999, \"<=\" &toDateI, FLData!$S$2:$S$13999,$C12, FLData!$E$2:$E$13999, MultiEngineTypes, FLData!$F$2:$F$13999, \"Rental\" )) )*24","v":0},{"$f":"SUMPRODUCT( SUMIFS( FLData!$AH$2:$AH$13999, FLData!$C$2:$C$13999, \">=\"&fromDateI, FLData!$C$2:$C$13999, \"<=\" &toDateI, FLData!$J$2:$J$13999,$C12, FLData!$E$2:$E$13999, MultiEngineTypes, FLData!$F$2:$F$13999, \"Operation\" ))*24","v":0},{"$f":"( SUMPRODUCT( SUMIFS( FLData!$AH$2:$AH$13999, FLData!$C$2:$C$13999, \">=\"&fromDateI, FLData!$C$2:$C$13999, \"<=\" &toDateI, FLData!$M$2:$M$13999,$C12, FLData!$E$2:$E$13999, Sim1Types, FLData!$F$2:$F$13999, \"Lesson\" )) + SUMPRODUCT( SUMIFS( FLData!$AH$2:$AH$13999, FLData!$C$2:$C$13999, \">=\"&fromDateI, FLData!$C$2:$C$13999, \"<=\" &toDateI, FLData!$S$2:$S$13999,$C12, FLData!$E$2:$E$13999, Sim1Types, FLData!$F$2:$F$13999, \"Rental\" )) )*24","v":0},{"$f":"SUMPRODUCT( SUMIFS( FLData!$AH$2:$AH$13999, FLData!$C$2:$C$13999, \">=\"&fromDateI, FLData!$C$2:$C$13999, \"<=\" &toDateI, FLData!$J$2:$J$13999,$C12, FLData!$E$2:$E$13999, Sim1Types, FLData!$F$2:$F$13999, \"Operation\" ))*24","v":0},{"$f":"( SUMPRODUCT( SUMIFS( FLData!$AH$2:$AH$13999, FLData!$C$2:$C$13999, \">=\"&fromDateI, FLData!$C$2:$C$13999, \"<=\" &toDateI, FLData!$M$2:$M$13999,$C12, FLData!$E$2:$E$13999, Sim2Types, FLData!$F$2:$F$13999, \"Lesson\" )) + SUMPRODUCT( SUMIFS( FLData!$AH$2:$AH$13999, FLData!$C$2:$C$13999, \">=\"&fromDateI, FLData!$C$2:$C$13999, \"<=\" &toDateI, FLData!$S$2:$S$13999,$C12, FLData!$E$2:$E$13999, Sim2Types, FLData!$F$2:$F$13999, \"Rental\" )) )*24","v":0},{"$f":"SUMPRODUCT( SUMIFS( FLData!$AH$2:$AH$13999, FLData!$C$2:$C$13999, \">=\"&fromDateI, FLData!$C$2:$C$13999, \"<=\" &toDateI, FLData!$J$2:$J$13999,$C12, FLData!$E$2:$E$13999, Sim2Types, FLData!$F$2:$F$13999, \"Operation\" ))*24","v":0},{"$f":"D12+F12+H12+J12","v":0},{"$f":"E12+G12+I12+K12","v":0},{"$f":"L12+M12","v":0}]
[null,null,"",{"$f":"( SUMPRODUCT( SUMIFS( FLData!$AH$2:$AH$13999, FLData!$C$2:$C$13999, \">=\"&fromDateI, FLData!$C$2:$C$13999, \"<=\" &toDateI, FLData!$M$2:$M$13999,$C13, FLData!$E$2:$E$13999, SingleEngineTypes, FLData!$F$2:$F$13999, \"Lesson\" )) + SUMPRODUCT( SUMIFS( FLData!$AH$2:$AH$13999, FLData!$C$2:$C$13999, \">=\"&fromDateI, FLData!$C$2:$C$13999, \"<=\" &toDateI, FLData!$S$2:$S$13999,$C13, FLData!$E$2:$E$13999, SingleEngineTypes, FLData!$F$2:$F$13999, \"Rental\" )) )*24","v":0},{"$f":"SUMPRODUCT( SUMIFS( FLData!$AH$2:$AH$13999, FLData!$C$2:$C$13999, \">=\"&fromDateI, FLData!$C$2:$C$13999, \"<=\" &toDateI, FLData!$J$2:$J$13999,$C13, FLData!$E$2:$E$13999, SingleEngineTypes, FLData!$F$2:$F$13999, \"Operation\" ))*24","v":0},{"$f":"( SUMPRODUCT( SUMIFS( FLData!$AH$2:$AH$13999, FLData!$C$2:$C$13999, \">=\"&fromDateI, FLData!$C$2:$C$13999, \"<=\" &toDateI, FLData!$M$2:$M$13999,$C13, FLData!$E$2:$E$13999, MultiEngineTypes, FLData!$F$2:$F$13999, \"Lesson\" )) + SUMPRODUCT( SUMIFS( FLData!$AH$2:$AH$13999, FLData!$C$2:$C$13999, \">=\"&fromDateI, FLData!$C$2:$C$13999, \"<=\" &toDateI, FLData!$S$2:$S$13999,$C13, FLData!$E$2:$E$13999, MultiEngineTypes, FLData!$F$2:$F$13999, \"Rental\" )) )*24","v":0},{"$f":"SUMPRODUCT( SUMIFS( FLData!$AH$2:$AH$13999, FLData!$C$2:$C$13999, \">=\"&fromDateI, FLData!$C$2:$C$13999, \"<=\" &toDateI, FLData!$J$2:$J$13999,$C13, FLData!$E$2:$E$13999, MultiEngineTypes, FLData!$F$2:$F$13999, \"Operation\" ))*24","v":0},{"$f":"( SUMPRODUCT( SUMIFS( FLData!$AH$2:$AH$13999, FLData!$C$2:$C$13999, \">=\"&fromDateI, FLData!$C$2:$C$13999, \"<=\" &toDateI, FLData!$M$2:$M$13999,$C13, FLData!$E$2:$E$13999, Sim1Types, FLData!$F$2:$F$13999, \"Lesson\" )) + SUMPRODUCT( SUMIFS( FLData!$AH$2:$AH$13999, FLData!$C$2:$C$13999, \">=\"&fromDateI, FLData!$C$2:$C$13999, \"<=\" &toDateI, FLData!$S$2:$S$13999,$C13, FLData!$E$2:$E$13999, Sim1Types, FLData!$F$2:$F$13999, \"Rental\" )) )*24","v":0},{"$f":"SUMPRODUCT( SUMIFS( FLData!$AH$2:$AH$13999, FLData!$C$2:$C$13999, \">=\"&fromDateI, FLData!$C$2:$C$13999, \"<=\" &toDateI, FLData!$J$2:$J$13999,$C13, FLData!$E$2:$E$13999, Sim1Types, FLData!$F$2:$F$13999, \"Operation\" ))*24","v":0},{"$f":"( SUMPRODUCT( SUMIFS( FLData!$AH$2:$AH$13999, FLData!$C$2:$C$13999, \">=\"&fromDateI, FLData!$C$2:$C$13999, \"<=\" &toDateI, FLData!$M$2:$M$13999,$C13, FLData!$E$2:$E$13999, Sim2Types, FLData!$F$2:$F$13999, \"Lesson\" )) + SUMPRODUCT( SUMIFS( FLData!$AH$2:$AH$13999, FLData!$C$2:$C$13999, \">=\"&fromDateI, FLData!$C$2:$C$13999, \"<=\" &toDateI, FLData!$S$2:$S$13999,$C13, FLData!$E$2:$E$13999, Sim2Types, FLData!$F$2:$F$13999, \"Rental\" )) )*24","v":0},{"$f":"SUMPRODUCT( SUMIFS( FLData!$AH$2:$AH$13999, FLData!$C$2:$C$13999, \">=\"&fromDateI, FLData!$C$2:$C$13999, \"<=\" &toDateI, FLData!$J$2:$J$13999,$C13, FLData!$E$2:$E$13999, Sim2Types, FLData!$F$2:$F$13999, \"Operation\" ))*24","v":0},{"$f":"D13+F13+H13+J13","v":0},{"$f":"E13+G13+I13+K13","v":0},{"$f":"L13+M13","v":0}]
[null,null,"",{"$f":"( SUMPRODUCT( SUMIFS( FLData!$AH$2:$AH$13999, FLData!$C$2:$C$13999, \">=\"&fromDateI, FLData!$C$2:$C$13999, \"<=\" &toDateI, FLData!$M$2:$M$13999,$C14, FLData!$E$2:$E$13999, SingleEngineTypes, FLData!$F$2:$F$13999, \"Lesson\" )) + SUMPRODUCT( SUMIFS( FLData!$AH$2:$AH$13999, FLData!$C$2:$C$13999, \">=\"&fromDateI, FLData!$C$2:$C$13999, \"<=\" &toDateI, FLData!$S$2:$S$13999,$C14, FLData!$E$2:$E$13999, SingleEngineTypes, FLData!$F$2:$F$13999, \"Rental\" )) )*24","v":0},{"$f":"SUMPRODUCT( SUMIFS( FLData!$AH$2:$AH$13999, FLData!$C$2:$C$13999, \">=\"&fromDateI, FLData!$C$2:$C$13999, \"<=\" &toDateI, FLData!$J$2:$J$13999,$C14, FLData!$E$2:$E$13999, SingleEngineTypes, FLData!$F$2:$F$13999, \"Operation\" ))*24","v":0},{"$f":"( SUMPRODUCT( SUMIFS( FLData!$AH$2:$AH$13999, FLData!$C$2:$C$13999, \">=\"&fromDateI, FLData!$C$2:$C$13999, \"<=\" &toDateI, FLData!$M$2:$M$13999,$C14, FLData!$E$2:$E$13999, MultiEngineTypes, FLData!$F$2:$F$13999, \"Lesson\" )) + SUMPRODUCT( SUMIFS( FLData!$AH$2:$AH$13999, FLData!$C$2:$C$13999, \">=\"&fromDateI, FLData!$C$2:$C$13999, \"<=\" &toDateI, FLData!$S$2:$S$13999,$C14, FLData!$E$2:$E$13999, MultiEngineTypes, FLData!$F$2:$F$13999, \"Rental\" )) )*24","v":0},{"$f":"SUMPRODUCT( SUMIFS( FLData!$AH$2:$AH$13999, FLData!$C$2:$C$13999, \">=\"&fromDateI, FLData!$C$2:$C$13999, \"<=\" &toDateI, FLData!$J$2:$J$13999,$C14, FLData!$E$2:$E$13999, MultiEngineTypes, FLData!$F$2:$F$13999, \"Operation\" ))*24","v":0},{"$f":"( SUMPRODUCT( SUMIFS( FLData!$AH$2:$AH$13999, FLData!$C$2:$C$13999, \">=\"&fromDateI, FLData!$C$2:$C$13999, \"<=\" &toDateI, FLData!$M$2:$M$13999,$C14, FLData!$E$2:$E$13999, Sim1Types, FLData!$F$2:$F$13999, \"Lesson\" )) + SUMPRODUCT( SUMIFS( FLData!$AH$2:$AH$13999, FLData!$C$2:$C$13999, \">=\"&fromDateI, FLData!$C$2:$C$13999, \"<=\" &toDateI, FLData!$S$2:$S$13999,$C14, FLData!$E$2:$E$13999, Sim1Types, FLData!$F$2:$F$13999, \"Rental\" )) )*24","v":0},{"$f":"SUMPRODUCT( SUMIFS( FLData!$AH$2:$AH$13999, FLData!$C$2:$C$13999, \">=\"&fromDateI, FLData!$C$2:$C$13999, \"<=\" &toDateI, FLData!$J$2:$J$13999,$C14, FLData!$E$2:$E$13999, Sim1Types, FLData!$F$2:$F$13999, \"Operation\" ))*24","v":0},{"$f":"( SUMPRODUCT( SUMIFS( FLData!$AH$2:$AH$13999, FLData!$C$2:$C$13999, \">=\"&fromDateI, FLData!$C$2:$C$13999, \"<=\" &toDateI, FLData!$M$2:$M$13999,$C14, FLData!$E$2:$E$13999, Sim2Types, FLData!$F$2:$F$13999, \"Lesson\" )) + SUMPRODUCT( SUMIFS( FLData!$AH$2:$AH$13999, FLData!$C$2:$C$13999, \">=\"&fromDateI, FLData!$C$2:$C$13999, \"<=\" &toDateI, FLData!$S$2:$S$13999,$C14, FLData!$E$2:$E$13999, Sim2Types, FLData!$F$2:$F$13999, \"Rental\" )) )*24","v":0},{"$f":"SUMPRODUCT( SUMIFS( FLData!$AH$2:$AH$13999, FLData!$C$2:$C$13999, \">=\"&fromDateI, FLData!$C$2:$C$13999, \"<=\" &toDateI, FLData!$J$2:$J$13999,$C14, FLData!$E$2:$E$13999, Sim2Types, FLData!$F$2:$F$13999, \"Operation\" ))*24","v":0},0,0,0]
[null,null,"",{"$f":"( SUMPRODUCT( SUMIFS( FLData!$AH$2:$AH$13999, FLData!$C$2:$C$13999, \">=\"&fromDateI, FLData!$C$2:$C$13999, \"<=\" &toDateI, FLData!$M$2:$M$13999,$C15, FLData!$E$2:$E$13999, SingleEngineTypes, FLData!$F$2:$F$13999, \"Lesson\" )) + SUMPRODUCT( SUMIFS( FLData!$AH$2:$AH$13999, FLData!$C$2:$C$13999, \">=\"&fromDateI, FLData!$C$2:$C$13999, \"<=\" &toDateI, FLData!$S$2:$S$13999,$C15, FLData!$E$2:$E$13999, SingleEngineTypes, FLData!$F$2:$F$13999, \"Rental\" )) )*24","v":0},{"$f":"SUMPRODUCT( SUMIFS( FLData!$AH$2:$AH$13999, FLData!$C$2:$C$13999, \">=\"&fromDateI, FLData!$C$2:$C$13999, \"<=\" &toDateI, FLData!$J$2:$J$13999,$C15, FLData!$E$2:$E$13999, SingleEngineTypes, FLData!$F$2:$F$13999, \"Operation\" ))*24","v":0},{"$f":"( SUMPRODUCT( SUMIFS( FLData!$AH$2:$AH$13999, FLData!$C$2:$C$13999, \">=\"&fromDateI, FLData!$C$2:$C$13999, \"<=\" &toDateI, FLData!$M$2:$M$13999,$C15, FLData!$E$2:$E$13999, MultiEngineTypes, FLData!$F$2:$F$13999, \"Lesson\" )) + SUMPRODUCT( SUMIFS( FLData!$AH$2:$AH$13999, FLData!$C$2:$C$13999, \">=\"&fromDateI, FLData!$C$2:$C$13999, \"<=\" &toDateI, FLData!$S$2:$S$13999,$C15, FLData!$E$2:$E$13999, MultiEngineTypes, FLData!$F$2:$F$13999, \"Rental\" )) )*24","v":0},{"$f":"SUMPRODUCT( SUMIFS( FLData!$AH$2:$AH$13999, FLData!$C$2:$C$13999, \">=\"&fromDateI, FLData!$C$2:$C$13999, \"<=\" &toDateI, FLData!$J$2:$J$13999,$C15, FLData!$E$2:$E$13999, MultiEngineTypes, FLData!$F$2:$F$13999, \"Operation\" ))*24","v":0},{"$f":"( SUMPRODUCT( SUMIFS( FLData!$AH$2:$AH$13999, FLData!$C$2:$C$13999, \">=\"&fromDateI, FLData!$C$2:$C$13999, \"<=\" &toDateI, FLData!$M$2:$M$13999,$C15, FLData!$E$2:$E$13999, Sim1Types, FLData!$F$2:$F$13999, \"Lesson\" )) + SUMPRODUCT( SUMIFS( FLData!$AH$2:$AH$13999, FLData!$C$2:$C$13999, \">=\"&fromDateI, FLData!$C$2:$C$13999, \"<=\" &toDateI, FLData!$S$2:$S$13999,$C15, FLData!$E$2:$E$13999, Sim1Types, FLData!$F$2:$F$13999, \"Rental\" )) )*24","v":0},{"$f":"SUMPRODUCT( SUMIFS( FLData!$AH$2:$AH$13999, FLData!$C$2:$C$13999, \">=\"&fromDateI, FLData!$C$2:$C$13999, \"<=\" &toDateI, FLData!$J$2:$J$13999,$C15, FLData!$E$2:$E$13999, Sim1Types, FLData!$F$2:$F$13999, \"Operation\" ))*24","v":0},{"$f":"( SUMPRODUCT( SUMIFS( FLData!$AH$2:$AH$13999, FLData!$C$2:$C$13999, \">=\"&fromDateI, FLData!$C$2:$C$13999, \"<=\" &toDateI, FLData!$M$2:$M$13999,$C15, FLData!$E$2:$E$13999, Sim2Types, FLData!$F$2:$F$13999, \"Lesson\" )) + SUMPRODUCT( SUMIFS( FLData!$AH$2:$AH$13999, FLData!$C$2:$C$13999, \">=\"&fromDateI, FLData!$C$2:$C$13999, \"<=\" &toDateI, FLData!$S$2:$S$13999,$C15, FLData!$E$2:$E$13999, Sim2Types, FLData!$F$2:$F$13999, \"Rental\" )) )*24","v":0},{"$f":"SUMPRODUCT( SUMIFS( FLData!$AH$2:$AH$13999, FLData!$C$2:$C$13999, \">=\"&fromDateI, FLData!$C$2:$C$13999, \"<=\" &toDateI, FLData!$J$2:$J$13999,$C15, FLData!$E$2:$E$13999, Sim2Types, FLData!$F$2:$F$13999, \"Operation\" ))*24","v":0},0,0,0]
[null,null,"",{"$f":"( SUMPRODUCT( SUMIFS( FLData!$AH$2:$AH$13999, FLData!$C$2:$C$13999, \">=\"&fromDateI, FLData!$C$2:$C$13999, \"<=\" &toDateI, FLData!$M$2:$M$13999,$C16, FLData!$E$2:$E$13999, SingleEngineTypes, FLData!$F$2:$F$13999, \"Lesson\" )) + SUMPRODUCT( SUMIFS( FLData!$AH$2:$AH$13999, FLData!$C$2:$C$13999, \">=\"&fromDateI, FLData!$C$2:$C$13999, \"<=\" &toDateI, FLData!$S$2:$S$13999,$C16, FLData!$E$2:$E$13999, SingleEngineTypes, FLData!$F$2:$F$13999, \"Rental\" )) )*24","v":0},{"$f":"SUMPRODUCT( SUMIFS( FLData!$AH$2:$AH$13999, FLData!$C$2:$C$13999, \">=\"&fromDateI, FLData!$C$2:$C$13999, \"<=\" &toDateI, FLData!$J$2:$J$13999,$C16, FLData!$E$2:$E$13999, SingleEngineTypes, FLData!$F$2:$F$13999, \"Operation\" ))*24","v":0},{"$f":"( SUMPRODUCT( SUMIFS( FLData!$AH$2:$AH$13999, FLData!$C$2:$C$13999, \">=\"&fromDateI, FLData!$C$2:$C$13999, \"<=\" &toDateI, FLData!$M$2:$M$13999,$C16, FLData!$E$2:$E$13999, MultiEngineTypes, FLData!$F$2:$F$13999, \"Lesson\" )) + SUMPRODUCT( SUMIFS( FLData!$AH$2:$AH$13999, FLData!$C$2:$C$13999, \">=\"&fromDateI, FLData!$C$2:$C$13999, \"<=\" &toDateI, FLData!$S$2:$S$13999,$C16, FLData!$E$2:$E$13999, MultiEngineTypes, FLData!$F$2:$F$13999, \"Rental\" )) )*24","v":0},{"$f":"SUMPRODUCT( SUMIFS( FLData!$AH$2:$AH$13999, FLData!$C$2:$C$13999, \">=\"&fromDateI, FLData!$C$2:$C$13999, \"<=\" &toDateI, FLData!$J$2:$J$13999,$C16, FLData!$E$2:$E$13999, MultiEngineTypes, FLData!$F$2:$F$13999, \"Operation\" ))*24","v":0},{"$f":"( SUMPRODUCT( SUMIFS( FLData!$AH$2:$AH$13999, FLData!$C$2:$C$13999, \">=\"&fromDateI, FLData!$C$2:$C$13999, \"<=\" &toDateI, FLData!$M$2:$M$13999,$C16, FLData!$E$2:$E$13999, Sim1Types, FLData!$F$2:$F$13999, \"Lesson\" )) + SUMPRODUCT( SUMIFS( FLData!$AH$2:$AH$13999, FLData!$C$2:$C$13999, \">=\"&fromDateI, FLData!$C$2:$C$13999, \"<=\" &toDateI, FLData!$S$2:$S$13999,$C16, FLData!$E$2:$E$13999, Sim1Types, FLData!$F$2:$F$13999, \"Rental\" )) )*24","v":0},{"$f":"SUMPRODUCT( SUMIFS( FLData!$AH$2:$AH$13999, FLData!$C$2:$C$13999, \">=\"&fromDateI, FLData!$C$2:$C$13999, \"<=\" &toDateI, FLData!$J$2:$J$13999,$C16, FLData!$E$2:$E$13999, Sim1Types, FLData!$F$2:$F$13999, \"Operation\" ))*24","v":0},{"$f":"( SUMPRODUCT( SUMIFS( FLData!$AH$2:$AH$13999, FLData!$C$2:$C$13999, \">=\"&fromDateI, FLData!$C$2:$C$13999, \"<=\" &toDateI, FLData!$M$2:$M$13999,$C16, FLData!$E$2:$E$13999, Sim2Types, FLData!$F$2:$F$13999, \"Lesson\" )) + SUMPRODUCT( SUMIFS( FLData!$AH$2:$AH$13999, FLData!$C$2:$C$13999, \">=\"&fromDateI, FLData!$C$2:$C$13999, \"<=\" &toDateI, FLData!$S$2:$S$13999,$C16, FLData!$E$2:$E$13999, Sim2Types, FLData!$F$2:$F$13999, \"Rental\" )) )*24","v":0},{"$f":"SUMPRODUCT( SUMIFS( FLData!$AH$2:$AH$13999, FLData!$C$2:$C$13999, \">=\"&fromDateI, FLData!$C$2:$C$13999, \"<=\" &toDateI, FLData!$J$2:$J$13999,$C16, FLData!$E$2:$E$13999, Sim2Types, FLData!$F$2:$F$13999, \"Operation\" ))*24","v":0},0,0,0]
[null,null,"",{"$f":"( SUMPRODUCT( SUMIFS( FLData!$AH$2:$AH$13999, FLData!$C$2:$C$13999, \">=\"&fromDateI, FLData!$C$2:$C$13999, \"<=\" &toDateI, FLData!$M$2:$M$13999,$C17, FLData!$E$2:$E$13999, SingleEngineTypes, FLData!$F$2:$F$13999, \"Lesson\" )) + SUMPRODUCT( SUMIFS( FLData!$AH$2:$AH$13999, FLData!$C$2:$C$13999, \">=\"&fromDateI, FLData!$C$2:$C$13999, \"<=\" &toDateI, FLData!$S$2:$S$13999,$C17, FLData!$E$2:$E$13999, SingleEngineTypes, FLData!$F$2:$F$13999, \"Rental\" )) )*24","v":0},{"$f":"SUMPRODUCT( SUMIFS( FLData!$AH$2:$AH$13999, FLData!$C$2:$C$13999, \">=\"&fromDateI, FLData!$C$2:$C$13999, \"<=\" &toDateI, FLData!$J$2:$J$13999,$C17, FLData!$E$2:$E$13999, SingleEngineTypes, FLData!$F$2:$F$13999, \"Operation\" ))*24","v":0},{"$f":"( SUMPRODUCT( SUMIFS( FLData!$AH$2:$AH$13999, FLData!$C$2:$C$13999, \">=\"&fromDateI, FLData!$C$2:$C$13999, \"<=\" &toDateI, FLData!$M$2:$M$13999,$C17, FLData!$E$2:$E$13999, MultiEngineTypes, FLData!$F$2:$F$13999, \"Lesson\" )) + SUMPRODUCT( SUMIFS( FLData!$AH$2:$AH$13999, FLData!$C$2:$C$13999, \">=\"&fromDateI, FLData!$C$2:$C$13999, \"<=\" &toDateI, FLData!$S$2:$S$13999,$C17, FLData!$E$2:$E$13999, MultiEngineTypes, FLData!$F$2:$F$13999, \"Rental\" )) )*24","v":0},{"$f":"SUMPRODUCT( SUMIFS( FLData!$AH$2:$AH$13999, FLData!$C$2:$C$13999, \">=\"&fromDateI, FLData!$C$2:$C$13999, \"<=\" &toDateI, FLData!$J$2:$J$13999,$C17, FLData!$E$2:$E$13999, MultiEngineTypes, FLData!$F$2:$F$13999, \"Operation\" ))*24","v":0},{"$f":"( SUMPRODUCT( SUMIFS( FLData!$AH$2:$AH$13999, FLData!$C$2:$C$13999, \">=\"&fromDateI, FLData!$C$2:$C$13999, \"<=\" &toDateI, FLData!$M$2:$M$13999,$C17, FLData!$E$2:$E$13999, Sim1Types, FLData!$F$2:$F$13999, \"Lesson\" )) + SUMPRODUCT( SUMIFS( FLData!$AH$2:$AH$13999, FLData!$C$2:$C$13999, \">=\"&fromDateI, FLData!$C$2:$C$13999, \"<=\" &toDateI, FLData!$S$2:$S$13999,$C17, FLData!$E$2:$E$13999, Sim1Types, FLData!$F$2:$F$13999, \"Rental\" )) )*24","v":0},{"$f":"SUMPRODUCT( SUMIFS( FLData!$AH$2:$AH$13999, FLData!$C$2:$C$13999, \">=\"&fromDateI, FLData!$C$2:$C$13999, \"<=\" &toDateI, FLData!$J$2:$J$13999,$C17, FLData!$E$2:$E$13999, Sim1Types, FLData!$F$2:$F$13999, \"Operation\" ))*24","v":0},{"$f":"( SUMPRODUCT( SUMIFS( FLData!$AH$2:$AH$13999, FLData!$C$2:$C$13999, \">=\"&fromDateI, FLData!$C$2:$C$13999, \"<=\" &toDateI, FLData!$M$2:$M$13999,$C17, FLData!$E$2:$E$13999, Sim2Types, FLData!$F$2:$F$13999, \"Lesson\" )) + SUMPRODUCT( SUMIFS( FLData!$AH$2:$AH$13999, FLData!$C$2:$C$13999, \">=\"&fromDateI, FLData!$C$2:$C$13999, \"<=\" &toDateI, FLData!$S$2:$S$13999,$C17, FLData!$E$2:$E$13999, Sim2Types, FLData!$F$2:$F$13999, \"Rental\" )) )*24","v":0},{"$f":"SUMPRODUCT( SUMIFS( FLData!$AH$2:$AH$13999, FLData!$C$2:$C$13999, \">=\"&fromDateI, FLData!$C$2:$C$13999, \"<=\" &toDateI, FLData!$J$2:$J$13999,$C17, FLData!$E$2:$E$13999, Sim2Types, FLData!$F$2:$F$13999, \"Operation\" ))*24","v":0},0,0,0]
[null,null,"",{"$f":"( SUMPRODUCT( SUMIFS( FLData!$AH$2:$AH$13999, FLData!$C$2:$C$13999, \">=\"&fromDateI, FLData!$C$2:$C$13999, \"<=\" &toDateI, FLData!$M$2:$M$13999,$C18, FLData!$E$2:$E$13999, SingleEngineTypes, FLData!$F$2:$F$13999, \"Lesson\" )) + SUMPRODUCT( SUMIFS( FLData!$AH$2:$AH$13999, FLData!$C$2:$C$13999, \">=\"&fromDateI, FLData!$C$2:$C$13999, \"<=\" &toDateI, FLData!$S$2:$S$13999,$C18, FLData!$E$2:$E$13999, SingleEngineTypes, FLData!$F$2:$F$13999, \"Rental\" )) )*24","v":0},{"$f":"SUMPRODUCT( SUMIFS( FLData!$AH$2:$AH$13999, FLData!$C$2:$C$13999, \">=\"&fromDateI, FLData!$C$2:$C$13999, \"<=\" &toDateI, FLData!$J$2:$J$13999,$C18, FLData!$E$2:$E$13999, SingleEngineTypes, FLData!$F$2:$F$13999, \"Operation\" ))*24","v":0},{"$f":"( SUMPRODUCT( SUMIFS( FLData!$AH$2:$AH$13999, FLData!$C$2:$C$13999, \">=\"&fromDateI, FLData!$C$2:$C$13999, \"<=\" &toDateI, FLData!$M$2:$M$13999,$C18, FLData!$E$2:$E$13999, MultiEngineTypes, FLData!$F$2:$F$13999, \"Lesson\" )) + SUMPRODUCT( SUMIFS( FLData!$AH$2:$AH$13999, FLData!$C$2:$C$13999, \">=\"&fromDateI, FLData!$C$2:$C$13999, \"<=\" &toDateI, FLData!$S$2:$S$13999,$C18, FLData!$E$2:$E$13999, MultiEngineTypes, FLData!$F$2:$F$13999, \"Rental\" )) )*24","v":0},{"$f":"SUMPRODUCT( SUMIFS( FLData!$AH$2:$AH$13999, FLData!$C$2:$C$13999, \">=\"&fromDateI, FLData!$C$2:$C$13999, \"<=\" &toDateI, FLData!$J$2:$J$13999,$C18, FLData!$E$2:$E$13999, MultiEngineTypes, FLData!$F$2:$F$13999, \"Operation\" ))*24","v":0},{"$f":"( SUMPRODUCT( SUMIFS( FLData!$AH$2:$AH$13999, FLData!$C$2:$C$13999, \">=\"&fromDateI, FLData!$C$2:$C$13999, \"<=\" &toDateI, FLData!$M$2:$M$13999,$C18, FLData!$E$2:$E$13999, Sim1Types, FLData!$F$2:$F$13999, \"Lesson\" )) + SUMPRODUCT( SUMIFS( FLData!$AH$2:$AH$13999, FLData!$C$2:$C$13999, \">=\"&fromDateI, FLData!$C$2:$C$13999, \"<=\" &toDateI, FLData!$S$2:$S$13999,$C18, FLData!$E$2:$E$13999, Sim1Types, FLData!$F$2:$F$13999, \"Rental\" )) )*24","v":0},{"$f":"SUMPRODUCT( SUMIFS( FLData!$AH$2:$AH$13999, FLData!$C$2:$C$13999, \">=\"&fromDateI, FLData!$C$2:$C$13999, \"<=\" &toDateI, FLData!$J$2:$J$13999,$C18, FLData!$E$2:$E$13999, Sim1Types, FLData!$F$2:$F$13999, \"Operation\" ))*24","v":0},{"$f":"( SUMPRODUCT( SUMIFS( FLData!$AH$2:$AH$13999, FLData!$C$2:$C$13999, \">=\"&fromDateI, FLData!$C$2:$C$13999, \"<=\" &toDateI, FLData!$M$2:$M$13999,$C18, FLData!$E$2:$E$13999, Sim2Types, FLData!$F$2:$F$13999, \"Lesson\" )) + SUMPRODUCT( SUMIFS( FLData!$AH$2:$AH$13999, FLData!$C$2:$C$13999, \">=\"&fromDateI, FLData!$C$2:$C$13999, \"<=\" &toDateI, FLData!$S$2:$S$13999,$C18, FLData!$E$2:$E$13999, Sim2Types, FLData!$F$2:$F$13999, \"Rental\" )) )*24","v":0},{"$f":"SUMPRODUCT( SUMIFS( FLData!$AH$2:$AH$13999, FLData!$C$2:$C$13999, \">=\"&fromDateI, FLData!$C$2:$C$13999, \"<=\" &toDateI, FLData!$J$2:$J$13999,$C18, FLData!$E$2:$E$13999, Sim2Types, FLData!$F$2:$F$13999, \"Operation\" ))*24","v":0},0,0,0]
[null,null,"",{"$f":"( SUMPRODUCT( SUMIFS( FLData!$AH$2:$AH$13999, FLData!$C$2:$C$13999, \">=\"&fromDateI, FLData!$C$2:$C$13999, \"<=\" &toDateI, FLData!$M$2:$M$13999,$C19, FLData!$E$2:$E$13999, SingleEngineTypes, FLData!$F$2:$F$13999, \"Lesson\" )) + SUMPRODUCT( SUMIFS( FLData!$AH$2:$AH$13999, FLData!$C$2:$C$13999, \">=\"&fromDateI, FLData!$C$2:$C$13999, \"<=\" &toDateI, FLData!$S$2:$S$13999,$C19, FLData!$E$2:$E$13999, SingleEngineTypes, FLData!$F$2:$F$13999, \"Rental\" )) )*24","v":0},{"$f":"SUMPRODUCT( SUMIFS( FLData!$AH$2:$AH$13999, FLData!$C$2:$C$13999, \">=\"&fromDateI, FLData!$C$2:$C$13999, \"<=\" &toDateI, FLData!$J$2:$J$13999,$C19, FLData!$E$2:$E$13999, SingleEngineTypes, FLData!$F$2:$F$13999, \"Operation\" ))*24","v":0},{"$f":"( SUMPRODUCT( SUMIFS( FLData!$AH$2:$AH$13999, FLData!$C$2:$C$13999, \">=\"&fromDateI, FLData!$C$2:$C$13999, \"<=\" &toDateI, FLData!$M$2:$M$13999,$C19, FLData!$E$2:$E$13999, MultiEngineTypes, FLData!$F$2:$F$13999, \"Lesson\" )) + SUMPRODUCT( SUMIFS( FLData!$AH$2:$AH$13999, FLData!$C$2:$C$13999, \">=\"&fromDateI, FLData!$C$2:$C$13999, \"<=\" &toDateI, FLData!$S$2:$S$13999,$C19, FLData!$E$2:$E$13999, MultiEngineTypes, FLData!$F$2:$F$13999, \"Rental\" )) )*24","v":0},{"$f":"SUMPRODUCT( SUMIFS( FLData!$AH$2:$AH$13999, FLData!$C$2:$C$13999, \">=\"&fromDateI, FLData!$C$2:$C$13999, \"<=\" &toDateI, FLData!$J$2:$J$13999,$C19, FLData!$E$2:$E$13999, MultiEngineTypes, FLData!$F$2:$F$13999, \"Operation\" ))*24","v":0},{"$f":"( SUMPRODUCT( SUMIFS( FLData!$AH$2:$AH$13999, FLData!$C$2:$C$13999, \">=\"&fromDateI, FLData!$C$2:$C$13999, \"<=\" &toDateI, FLData!$M$2:$M$13999,$C19, FLData!$E$2:$E$13999, Sim1Types, FLData!$F$2:$F$13999, \"Lesson\" )) + SUMPRODUCT( SUMIFS( FLData!$AH$2:$AH$13999, FLData!$C$2:$C$13999, \">=\"&fromDateI, FLData!$C$2:$C$13999, \"<=\" &toDateI, FLData!$S$2:$S$13999,$C19, FLData!$E$2:$E$13999, Sim1Types, FLData!$F$2:$F$13999, \"Rental\" )) )*24","v":0},{"$f":"SUMPRODUCT( SUMIFS( FLData!$AH$2:$AH$13999, FLData!$C$2:$C$13999, \">=\"&fromDateI, FLData!$C$2:$C$13999, \"<=\" &toDateI, FLData!$J$2:$J$13999,$C19, FLData!$E$2:$E$13999, Sim1Types, FLData!$F$2:$F$13999, \"Operation\" ))*24","v":0},{"$f":"( SUMPRODUCT( SUMIFS( FLData!$AH$2:$AH$13999, FLData!$C$2:$C$13999, \">=\"&fromDateI, FLData!$C$2:$C$13999, \"<=\" &toDateI, FLData!$M$2:$M$13999,$C19, FLData!$E$2:$E$13999, Sim2Types, FLData!$F$2:$F$13999, \"Lesson\" )) + SUMPRODUCT( SUMIFS( FLData!$AH$2:$AH$13999, FLData!$C$2:$C$13999, \">=\"&fromDateI, FLData!$C$2:$C$13999, \"<=\" &toDateI, FLData!$S$2:$S$13999,$C19, FLData!$E$2:$E$13999, Sim2Types, FLData!$F$2:$F$13999, \"Rental\" )) )*24","v":0},{"$f":"SUMPRODUCT( SUMIFS( FLData!$AH$2:$AH$13999, FLData!$C$2:$C$13999, \">=\"&fromDateI, FLData!$C$2:$C$13999, \"<=\" &toDateI, FLData!$J$2:$J$13999,$C19, FLData!$E$2:$E$13999, Sim2Types, FLData!$F$2:$F$13999, \"Operation\" ))*24","v":0},0,0,0]
[null,null,"",{"$f":"( SUMPRODUCT( SUMIFS( FLData!$AH$2:$AH$13999, FLData!$C$2:$C$13999, \">=\"&fromDateI, FLData!$C$2:$C$13999, \"<=\" &toDateI, FLData!$M$2:$M$13999,$C20, FLData!$E$2:$E$13999, SingleEngineTypes, FLData!$F$2:$F$13999, \"Lesson\" )) + SUMPRODUCT( SUMIFS( FLData!$AH$2:$AH$13999, FLData!$C$2:$C$13999, \">=\"&fromDateI, FLData!$C$2:$C$13999, \"<=\" &toDateI, FLData!$S$2:$S$13999,$C20, FLData!$E$2:$E$13999, SingleEngineTypes, FLData!$F$2:$F$13999, \"Rental\" )) )*24","v":0},{"$f":"SUMPRODUCT( SUMIFS( FLData!$AH$2:$AH$13999, FLData!$C$2:$C$13999, \">=\"&fromDateI, FLData!$C$2:$C$13999, \"<=\" &toDateI, FLData!$J$2:$J$13999,$C20, FLData!$E$2:$E$13999, SingleEngineTypes, FLData!$F$2:$F$13999, \"Operation\" ))*24","v":0},{"$f":"( SUMPRODUCT( SUMIFS( FLData!$AH$2:$AH$13999, FLData!$C$2:$C$13999, \">=\"&fromDateI, FLData!$C$2:$C$13999, \"<=\" &toDateI, FLData!$M$2:$M$13999,$C20, FLData!$E$2:$E$13999, MultiEngineTypes, FLData!$F$2:$F$13999, \"Lesson\" )) + SUMPRODUCT( SUMIFS( FLData!$AH$2:$AH$13999, FLData!$C$2:$C$13999, \">=\"&fromDateI, FLData!$C$2:$C$13999, \"<=\" &toDateI, FLData!$S$2:$S$13999,$C20, FLData!$E$2:$E$13999, MultiEngineTypes, FLData!$F$2:$F$13999, \"Rental\" )) )*24","v":0},{"$f":"SUMPRODUCT( SUMIFS( FLData!$AH$2:$AH$13999, FLData!$C$2:$C$13999, \">=\"&fromDateI, FLData!$C$2:$C$13999, \"<=\" &toDateI, FLData!$J$2:$J$13999,$C20, FLData!$E$2:$E$13999, MultiEngineTypes, FLData!$F$2:$F$13999, \"Operation\" ))*24","v":0},{"$f":"( SUMPRODUCT( SUMIFS( FLData!$AH$2:$AH$13999, FLData!$C$2:$C$13999, \">=\"&fromDateI, FLData!$C$2:$C$13999, \"<=\" &toDateI, FLData!$M$2:$M$13999,$C20, FLData!$E$2:$E$13999, Sim1Types, FLData!$F$2:$F$13999, \"Lesson\" )) + SUMPRODUCT( SUMIFS( FLData!$AH$2:$AH$13999, FLData!$C$2:$C$13999, \">=\"&fromDateI, FLData!$C$2:$C$13999, \"<=\" &toDateI, FLData!$S$2:$S$13999,$C20, FLData!$E$2:$E$13999, Sim1Types, FLData!$F$2:$F$13999, \"Rental\" )) )*24","v":0},{"$f":"SUMPRODUCT( SUMIFS( FLData!$AH$2:$AH$13999, FLData!$C$2:$C$13999, \">=\"&fromDateI, FLData!$C$2:$C$13999, \"<=\" &toDateI, FLData!$J$2:$J$13999,$C20, FLData!$E$2:$E$13999, Sim1Types, FLData!$F$2:$F$13999, \"Operation\" ))*24","v":0},{"$f":"( SUMPRODUCT( SUMIFS( FLData!$AH$2:$AH$13999, FLData!$C$2:$C$13999, \">=\"&fromDateI, FLData!$C$2:$C$13999, \"<=\" &toDateI, FLData!$M$2:$M$13999,$C20, FLData!$E$2:$E$13999, Sim2Types, FLData!$F$2:$F$13999, \"Lesson\" )) + SUMPRODUCT( SUMIFS( FLData!$AH$2:$AH$13999, FLData!$C$2:$C$13999, \">=\"&fromDateI, FLData!$C$2:$C$13999, \"<=\" &toDateI, FLData!$S$2:$S$13999,$C20, FLData!$E$2:$E$13999, Sim2Types, FLData!$F$2:$F$13999, \"Rental\" )) )*24","v":0},{"$f":"SUMPRODUCT( SUMIFS( FLData!$AH$2:$AH$13999, FLData!$C$2:$C$13999, \">=\"&fromDateI, FLData!$C$2:$C$13999, \"<=\" &toDateI, FLData!$J$2:$J$13999,$C20, FLData!$E$2:$E$13999, Sim2Types, FLData!$F$2:$F$13999, \"Operation\" ))*24","v":0},0,0,0]
[null,null,"",{"$f":"( SUMPRODUCT( SUMIFS( FLData!$AH$2:$AH$13999, FLData!$C$2:$C$13999, \">=\"&fromDateI, FLData!$C$2:$C$13999, \"<=\" &toDateI, FLData!$M$2:$M$13999,$C21, FLData!$E$2:$E$13999, SingleEngineTypes, FLData!$F$2:$F$13999, \"Lesson\" )) + SUMPRODUCT( SUMIFS( FLData!$AH$2:$AH$13999, FLData!$C$2:$C$13999, \">=\"&fromDateI, FLData!$C$2:$C$13999, \"<=\" &toDateI, FLData!$S$2:$S$13999,$C21, FLData!$E$2:$E$13999, SingleEngineTypes, FLData!$F$2:$F$13999, \"Rental\" )) )*24","v":0},{"$f":"SUMPRODUCT( SUMIFS( FLData!$AH$2:$AH$13999, FLData!$C$2:$C$13999, \">=\"&fromDateI, FLData!$C$2:$C$13999, \"<=\" &toDateI, FLData!$J$2:$J$13999,$C21, FLData!$E$2:$E$13999, SingleEngineTypes, FLData!$F$2:$F$13999, \"Operation\" ))*24","v":0},{"$f":"( SUMPRODUCT( SUMIFS( FLData!$AH$2:$AH$13999, FLData!$C$2:$C$13999, \">=\"&fromDateI, FLData!$C$2:$C$13999, \"<=\" &toDateI, FLData!$M$2:$M$13999,$C21, FLData!$E$2:$E$13999, MultiEngineTypes, FLData!$F$2:$F$13999, \"Lesson\" )) + SUMPRODUCT( SUMIFS( FLData!$AH$2:$AH$13999, FLData!$C$2:$C$13999, \">=\"&fromDateI, FLData!$C$2:$C$13999, \"<=\" &toDateI, FLData!$S$2:$S$13999,$C21, FLData!$E$2:$E$13999, MultiEngineTypes, FLData!$F$2:$F$13999, \"Rental\" )) )*24","v":0},{"$f":"SUMPRODUCT( SUMIFS( FLData!$AH$2:$AH$13999, FLData!$C$2:$C$13999, \">=\"&fromDateI, FLData!$C$2:$C$13999, \"<=\" &toDateI, FLData!$J$2:$J$13999,$C21, FLData!$E$2:$E$13999, MultiEngineTypes, FLData!$F$2:$F$13999, \"Operation\" ))*24","v":0},{"$f":"( SUMPRODUCT( SUMIFS( FLData!$AH$2:$AH$13999, FLData!$C$2:$C$13999, \">=\"&fromDateI, FLData!$C$2:$C$13999, \"<=\" &toDateI, FLData!$M$2:$M$13999,$C21, FLData!$E$2:$E$13999, Sim1Types, FLData!$F$2:$F$13999, \"Lesson\" )) + SUMPRODUCT( SUMIFS( FLData!$AH$2:$AH$13999, FLData!$C$2:$C$13999, \">=\"&fromDateI, FLData!$C$2:$C$13999, \"<=\" &toDateI, FLData!$S$2:$S$13999,$C21, FLData!$E$2:$E$13999, Sim1Types, FLData!$F$2:$F$13999, \"Rental\" )) )*24","v":0},{"$f":"SUMPRODUCT( SUMIFS( FLData!$AH$2:$AH$13999, FLData!$C$2:$C$13999, \">=\"&fromDateI, FLData!$C$2:$C$13999, \"<=\" &toDateI, FLData!$J$2:$J$13999,$C21, FLData!$E$2:$E$13999, Sim1Types, FLData!$F$2:$F$13999, \"Operation\" ))*24","v":0},{"$f":"( SUMPRODUCT( SUMIFS( FLData!$AH$2:$AH$13999, FLData!$C$2:$C$13999, \">=\"&fromDateI, FLData!$C$2:$C$13999, \"<=\" &toDateI, FLData!$M$2:$M$13999,$C21, FLData!$E$2:$E$13999, Sim2Types, FLData!$F$2:$F$13999, \"Lesson\" )) + SUMPRODUCT( SUMIFS( FLData!$AH$2:$AH$13999, FLData!$C$2:$C$13999, \">=\"&fromDateI, FLData!$C$2:$C$13999, \"<=\" &toDateI, FLData!$S$2:$S$13999,$C21, FLData!$E$2:$E$13999, Sim2Types, FLData!$F$2:$F$13999, \"Rental\" )) )*24","v":0},{"$f":"SUMPRODUCT( SUMIFS( FLData!$AH$2:$AH$13999, FLData!$C$2:$C$13999, \">=\"&fromDateI, FLData!$C$2:$C$13999, \"<=\" &toDateI, FLData!$J$2:$J$13999,$C21, FLData!$E$2:$E$13999, Sim2Types, FLData!$F$2:$F$13999, \"Operation\" ))*24","v":0},0,0,0]
[null,null,"",{"$f":"( SUMPRODUCT( SUMIFS( FLData!$AH$2:$AH$13999, FLData!$C$2:$C$13999, \">=\"&fromDateI, FLData!$C$2:$C$13999, \"<=\" &toDateI, FLData!$M$2:$M$13999,$C22, FLData!$E$2:$E$13999, SingleEngineTypes, FLData!$F$2:$F$13999, \"Lesson\" )) + SUMPRODUCT( SUMIFS( FLData!$AH$2:$AH$13999, FLData!$C$2:$C$13999, \">=\"&fromDateI, FLData!$C$2:$C$13999, \"<=\" &toDateI, FLData!$S$2:$S$13999,$C22, FLData!$E$2:$E$13999, SingleEngineTypes, FLData!$F$2:$F$13999, \"Rental\" )) )*24","v":0},{"$f":"SUMPRODUCT( SUMIFS( FLData!$AH$2:$AH$13999, FLData!$C$2:$C$13999, \">=\"&fromDateI, FLData!$C$2:$C$13999, \"<=\" &toDateI, FLData!$J$2:$J$13999,$C22, FLData!$E$2:$E$13999, SingleEngineTypes, FLData!$F$2:$F$13999, \"Operation\" ))*24","v":0},{"$f":"( SUMPRODUCT( SUMIFS( FLData!$AH$2:$AH$13999, FLData!$C$2:$C$13999, \">=\"&fromDateI, FLData!$C$2:$C$13999, \"<=\" &toDateI, FLData!$M$2:$M$13999,$C22, FLData!$E$2:$E$13999, MultiEngineTypes, FLData!$F$2:$F$13999, \"Lesson\" )) + SUMPRODUCT( SUMIFS( FLData!$AH$2:$AH$13999, FLData!$C$2:$C$13999, \">=\"&fromDateI, FLData!$C$2:$C$13999, \"<=\" &toDateI, FLData!$S$2:$S$13999,$C22, FLData!$E$2:$E$13999, MultiEngineTypes, FLData!$F$2:$F$13999, \"Rental\" )) )*24","v":0},{"$f":"SUMPRODUCT( SUMIFS( FLData!$AH$2:$AH$13999, FLData!$C$2:$C$13999, \">=\"&fromDateI, FLData!$C$2:$C$13999, \"<=\" &toDateI, FLData!$J$2:$J$13999,$C22, FLData!$E$2:$E$13999, MultiEngineTypes, FLData!$F$2:$F$13999, \"Operation\" ))*24","v":0},{"$f":"( SUMPRODUCT( SUMIFS( FLData!$AH$2:$AH$13999, FLData!$C$2:$C$13999, \">=\"&fromDateI, FLData!$C$2:$C$13999, \"<=\" &toDateI, FLData!$M$2:$M$13999,$C22, FLData!$E$2:$E$13999, Sim1Types, FLData!$F$2:$F$13999, \"Lesson\" )) + SUMPRODUCT( SUMIFS( FLData!$AH$2:$AH$13999, FLData!$C$2:$C$13999, \">=\"&fromDateI, FLData!$C$2:$C$13999, \"<=\" &toDateI, FLData!$S$2:$S$13999,$C22, FLData!$E$2:$E$13999, Sim1Types, FLData!$F$2:$F$13999, \"Rental\" )) )*24","v":0},{"$f":"SUMPRODUCT( SUMIFS( FLData!$AH$2:$AH$13999, FLData!$C$2:$C$13999, \">=\"&fromDateI, FLData!$C$2:$C$13999, \"<=\" &toDateI, FLData!$J$2:$J$13999,$C22, FLData!$E$2:$E$13999, Sim1Types, FLData!$F$2:$F$13999, \"Operation\" ))*24","v":0},{"$f":"( SUMPRODUCT( SUMIFS( FLData!$AH$2:$AH$13999, FLData!$C$2:$C$13999, \">=\"&fromDateI, FLData!$C$2:$C$13999, \"<=\" &toDateI, FLData!$M$2:$M$13999,$C22, FLData!$E$2:$E$13999, Sim2Types, FLData!$F$2:$F$13999, \"Lesson\" )) + SUMPRODUCT( SUMIFS( FLData!$AH$2:$AH$13999, FLData!$C$2:$C$13999, \">=\"&fromDateI, FLData!$C$2:$C$13999, \"<=\" &toDateI, FLData!$S$2:$S$13999,$C22, FLData!$E$2:$E$13999, Sim2Types, FLData!$F$2:$F$13999, \"Rental\" )) )*24","v":0},{"$f":"SUMPRODUCT( SUMIFS( FLData!$AH$2:$AH$13999, FLData!$C$2:$C$13999, \">=\"&fromDateI, FLData!$C$2:$C$13999, \"<=\" &toDateI, FLData!$J$2:$J$13999,$C22, FLData!$E$2:$E$13999, Sim2Types, FLData!$F$2:$F$13999, \"Operation\" ))*24","v":0},0,0,0]
[null,null,"",{"$f":"( SUMPRODUCT( SUMIFS( FLData!$AH$2:$AH$13999, FLData!$C$2:$C$13999, \">=\"&fromDateI, FLData!$C$2:$C$13999, \"<=\" &toDateI, FLData!$M$2:$M$13999,$C23, FLData!$E$2:$E$13999, SingleEngineTypes, FLData!$F$2:$F$13999, \"Lesson\" )) + SUMPRODUCT( SUMIFS( FLData!$AH$2:$AH$13999, FLData!$C$2:$C$13999, \">=\"&fromDateI, FLData!$C$2:$C$13999, \"<=\" &toDateI, FLData!$S$2:$S$13999,$C23, FLData!$E$2:$E$13999, SingleEngineTypes, FLData!$F$2:$F$13999, \"Rental\" )) )*24","v":0},{"$f":"SUMPRODUCT( SUMIFS( FLData!$AH$2:$AH$13999, FLData!$C$2:$C$13999, \">=\"&fromDateI, FLData!$C$2:$C$13999, \"<=\" &toDateI, FLData!$J$2:$J$13999,$C23, FLData!$E$2:$E$13999, SingleEngineTypes, FLData!$F$2:$F$13999, \"Operation\" ))*24","v":0},{"$f":"( SUMPRODUCT( SUMIFS( FLData!$AH$2:$AH$13999, FLData!$C$2:$C$13999, \">=\"&fromDateI, FLData!$C$2:$C$13999, \"<=\" &toDateI, FLData!$M$2:$M$13999,$C23, FLData!$E$2:$E$13999, MultiEngineTypes, FLData!$F$2:$F$13999, \"Lesson\" )) + SUMPRODUCT( SUMIFS( FLData!$AH$2:$AH$13999, FLData!$C$2:$C$13999, \">=\"&fromDateI, FLData!$C$2:$C$13999, \"<=\" &toDateI, FLData!$S$2:$S$13999,$C23, FLData!$E$2:$E$13999, MultiEngineTypes, FLData!$F$2:$F$13999, \"Rental\" )) )*24","v":0},{"$f":"SUMPRODUCT( SUMIFS( FLData!$AH$2:$AH$13999, FLData!$C$2:$C$13999, \">=\"&fromDateI, FLData!$C$2:$C$13999, \"<=\" &toDateI, FLData!$J$2:$J$13999,$C23, FLData!$E$2:$E$13999, MultiEngineTypes, FLData!$F$2:$F$13999, \"Operation\" ))*24","v":0},{"$f":"( SUMPRODUCT( SUMIFS( FLData!$AH$2:$AH$13999, FLData!$C$2:$C$13999, \">=\"&fromDateI, FLData!$C$2:$C$13999, \"<=\" &toDateI, FLData!$M$2:$M$13999,$C23, FLData!$E$2:$E$13999, Sim1Types, FLData!$F$2:$F$13999, \"Lesson\" )) + SUMPRODUCT( SUMIFS( FLData!$AH$2:$AH$13999, FLData!$C$2:$C$13999, \">=\"&fromDateI, FLData!$C$2:$C$13999, \"<=\" &toDateI, FLData!$S$2:$S$13999,$C23, FLData!$E$2:$E$13999, Sim1Types, FLData!$F$2:$F$13999, \"Rental\" )) )*24","v":0},{"$f":"SUMPRODUCT( SUMIFS( FLData!$AH$2:$AH$13999, FLData!$C$2:$C$13999, \">=\"&fromDateI, FLData!$C$2:$C$13999, \"<=\" &toDateI, FLData!$J$2:$J$13999,$C23, FLData!$E$2:$E$13999, Sim1Types, FLData!$F$2:$F$13999, \"Operation\" ))*24","v":0},{"$f":"( SUMPRODUCT( SUMIFS( FLData!$AH$2:$AH$13999, FLData!$C$2:$C$13999, \">=\"&fromDateI, FLData!$C$2:$C$13999, \"<=\" &toDateI, FLData!$M$2:$M$13999,$C23, FLData!$E$2:$E$13999, Sim2Types, FLData!$F$2:$F$13999, \"Lesson\" )) + SUMPRODUCT( SUMIFS( FLData!$AH$2:$AH$13999, FLData!$C$2:$C$13999, \">=\"&fromDateI, FLData!$C$2:$C$13999, \"<=\" &toDateI, FLData!$S$2:$S$13999,$C23, FLData!$E$2:$E$13999, Sim2Types, FLData!$F$2:$F$13999, \"Rental\" )) )*24","v":0},{"$f":"SUMPRODUCT( SUMIFS( FLData!$AH$2:$AH$13999, FLData!$C$2:$C$13999, \">=\"&fromDateI, FLData!$C$2:$C$13999, \"<=\" &toDateI, FLData!$J$2:$J$13999,$C23, FLData!$E$2:$E$13999, Sim2Types, FLData!$F$2:$F$13999, \"Operation\" ))*24","v":0},0,0,0]
[null,null,"",{"$f":"( SUMPRODUCT( SUMIFS( FLData!$AH$2:$AH$13999, FLData!$C$2:$C$13999, \">=\"&fromDateI, FLData!$C$2:$C$13999, \"<=\" &toDateI, FLData!$M$2:$M$13999,$C24, FLData!$E$2:$E$13999, SingleEngineTypes, FLData!$F$2:$F$13999, \"Lesson\" )) + SUMPRODUCT( SUMIFS( FLData!$AH$2:$AH$13999, FLData!$C$2:$C$13999, \">=\"&fromDateI, FLData!$C$2:$C$13999, \"<=\" &toDateI, FLData!$S$2:$S$13999,$C24, FLData!$E$2:$E$13999, SingleEngineTypes, FLData!$F$2:$F$13999, \"Rental\" )) )*24","v":0},{"$f":"SUMPRODUCT( SUMIFS( FLData!$AH$2:$AH$13999, FLData!$C$2:$C$13999, \">=\"&fromDateI, FLData!$C$2:$C$13999, \"<=\" &toDateI, FLData!$J$2:$J$13999,$C24, FLData!$E$2:$E$13999, SingleEngineTypes, FLData!$F$2:$F$13999, \"Operation\" ))*24","v":0},{"$f":"( SUMPRODUCT( SUMIFS( FLData!$AH$2:$AH$13999, FLData!$C$2:$C$13999, \">=\"&fromDateI, FLData!$C$2:$C$13999, \"<=\" &toDateI, FLData!$M$2:$M$13999,$C24, FLData!$E$2:$E$13999, MultiEngineTypes, FLData!$F$2:$F$13999, \"Lesson\" )) + SUMPRODUCT( SUMIFS( FLData!$AH$2:$AH$13999, FLData!$C$2:$C$13999, \">=\"&fromDateI, FLData!$C$2:$C$13999, \"<=\" &toDateI, FLData!$S$2:$S$13999,$C24, FLData!$E$2:$E$13999, MultiEngineTypes, FLData!$F$2:$F$13999, \"Rental\" )) )*24","v":0},{"$f":"SUMPRODUCT( SUMIFS( FLData!$AH$2:$AH$13999, FLData!$C$2:$C$13999, \">=\"&fromDateI, FLData!$C$2:$C$13999, \"<=\" &toDateI, FLData!$J$2:$J$13999,$C24, FLData!$E$2:$E$13999, MultiEngineTypes, FLData!$F$2:$F$13999, \"Operation\" ))*24","v":0},{"$f":"( SUMPRODUCT( SUMIFS( FLData!$AH$2:$AH$13999, FLData!$C$2:$C$13999, \">=\"&fromDateI, FLData!$C$2:$C$13999, \"<=\" &toDateI, FLData!$M$2:$M$13999,$C24, FLData!$E$2:$E$13999, Sim1Types, FLData!$F$2:$F$13999, \"Lesson\" )) + SUMPRODUCT( SUMIFS( FLData!$AH$2:$AH$13999, FLData!$C$2:$C$13999, \">=\"&fromDateI, FLData!$C$2:$C$13999, \"<=\" &toDateI, FLData!$S$2:$S$13999,$C24, FLData!$E$2:$E$13999, Sim1Types, FLData!$F$2:$F$13999, \"Rental\" )) )*24","v":0},{"$f":"SUMPRODUCT( SUMIFS( FLData!$AH$2:$AH$13999, FLData!$C$2:$C$13999, \">=\"&fromDateI, FLData!$C$2:$C$13999, \"<=\" &toDateI, FLData!$J$2:$J$13999,$C24, FLData!$E$2:$E$13999, Sim1Types, FLData!$F$2:$F$13999, \"Operation\" ))*24","v":0},{"$f":"( SUMPRODUCT( SUMIFS( FLData!$AH$2:$AH$13999, FLData!$C$2:$C$13999, \">=\"&fromDateI, FLData!$C$2:$C$13999, \"<=\" &toDateI, FLData!$M$2:$M$13999,$C24, FLData!$E$2:$E$13999, Sim2Types, FLData!$F$2:$F$13999, \"Lesson\" )) + SUMPRODUCT( SUMIFS( FLData!$AH$2:$AH$13999, FLData!$C$2:$C$13999, \">=\"&fromDateI, FLData!$C$2:$C$13999, \"<=\" &toDateI, FLData!$S$2:$S$13999,$C24, FLData!$E$2:$E$13999, Sim2Types, FLData!$F$2:$F$13999, \"Rental\" )) )*24","v":0},{"$f":"SUMPRODUCT( SUMIFS( FLData!$AH$2:$AH$13999, FLData!$C$2:$C$13999, \">=\"&fromDateI, FLData!$C$2:$C$13999, \"<=\" &toDateI, FLData!$J$2:$J$13999,$C24, FLData!$E$2:$E$13999, Sim2Types, FLData!$F$2:$F$13999, \"Operation\" ))*24","v":0},0,0,0]
[null,null,"",{"$f":"( SUMPRODUCT( SUMIFS( FLData!$AH$2:$AH$13999, FLData!$C$2:$C$13999, \">=\"&fromDateI, FLData!$C$2:$C$13999, \"<=\" &toDateI, FLData!$M$2:$M$13999,$C25, FLData!$E$2:$E$13999, SingleEngineTypes, FLData!$F$2:$F$13999, \"Lesson\" )) + SUMPRODUCT( SUMIFS( FLData!$AH$2:$AH$13999, FLData!$C$2:$C$13999, \">=\"&fromDateI, FLData!$C$2:$C$13999, \"<=\" &toDateI, FLData!$S$2:$S$13999,$C25, FLData!$E$2:$E$13999, SingleEngineTypes, FLData!$F$2:$F$13999, \"Rental\" )) )*24","v":0},{"$f":"SUMPRODUCT( SUMIFS( FLData!$AH$2:$AH$13999, FLData!$C$2:$C$13999, \">=\"&fromDateI, FLData!$C$2:$C$13999, \"<=\" &toDateI, FLData!$J$2:$J$13999,$C25, FLData!$E$2:$E$13999, SingleEngineTypes, FLData!$F$2:$F$13999, \"Operation\" ))*24","v":0},{"$f":"( SUMPRODUCT( SUMIFS( FLData!$AH$2:$AH$13999, FLData!$C$2:$C$13999, \">=\"&fromDateI, FLData!$C$2:$C$13999, \"<=\" &toDateI, FLData!$M$2:$M$13999,$C25, FLData!$E$2:$E$13999, MultiEngineTypes, FLData!$F$2:$F$13999, \"Lesson\" )) + SUMPRODUCT( SUMIFS( FLData!$AH$2:$AH$13999, FLData!$C$2:$C$13999, \">=\"&fromDateI, FLData!$C$2:$C$13999, \"<=\" &toDateI, FLData!$S$2:$S$13999,$C25, FLData!$E$2:$E$13999, MultiEngineTypes, FLData!$F$2:$F$13999, \"Rental\" )) )*24","v":0},{"$f":"SUMPRODUCT( SUMIFS( FLData!$AH$2:$AH$13999, FLData!$C$2:$C$13999, \">=\"&fromDateI, FLData!$C$2:$C$13999, \"<=\" &toDateI, FLData!$J$2:$J$13999,$C25, FLData!$E$2:$E$13999, MultiEngineTypes, FLData!$F$2:$F$13999, \"Operation\" ))*24","v":0},{"$f":"( SUMPRODUCT( SUMIFS( FLData!$AH$2:$AH$13999, FLData!$C$2:$C$13999, \">=\"&fromDateI, FLData!$C$2:$C$13999, \"<=\" &toDateI, FLData!$M$2:$M$13999,$C25, FLData!$E$2:$E$13999, Sim1Types, FLData!$F$2:$F$13999, \"Lesson\" )) + SUMPRODUCT( SUMIFS( FLData!$AH$2:$AH$13999, FLData!$C$2:$C$13999, \">=\"&fromDateI, FLData!$C$2:$C$13999, \"<=\" &toDateI, FLData!$S$2:$S$13999,$C25, FLData!$E$2:$E$13999, Sim1Types, FLData!$F$2:$F$13999, \"Rental\" )) )*24","v":0},{"$f":"SUMPRODUCT( SUMIFS( FLData!$AH$2:$AH$13999, FLData!$C$2:$C$13999, \">=\"&fromDateI, FLData!$C$2:$C$13999, \"<=\" &toDateI, FLData!$J$2:$J$13999,$C25, FLData!$E$2:$E$13999, Sim1Types, FLData!$F$2:$F$13999, \"Operation\" ))*24","v":0},{"$f":"( SUMPRODUCT( SUMIFS( FLData!$AH$2:$AH$13999, FLData!$C$2:$C$13999, \">=\"&fromDateI, FLData!$C$2:$C$13999, \"<=\" &toDateI, FLData!$M$2:$M$13999,$C25, FLData!$E$2:$E$13999, Sim2Types, FLData!$F$2:$F$13999, \"Lesson\" )) + SUMPRODUCT( SUMIFS( FLData!$AH$2:$AH$13999, FLData!$C$2:$C$13999, \">=\"&fromDateI, FLData!$C$2:$C$13999, \"<=\" &toDateI, FLData!$S$2:$S$13999,$C25, FLData!$E$2:$E$13999, Sim2Types, FLData!$F$2:$F$13999, \"Rental\" )) )*24","v":0},{"$f":"SUMPRODUCT( SUMIFS( FLData!$AH$2:$AH$13999, FLData!$C$2:$C$13999, \">=\"&fromDateI, FLData!$C$2:$C$13999, \"<=\" &toDateI, FLData!$J$2:$J$13999,$C25, FLData!$E$2:$E$13999, Sim2Types, FLData!$F$2:$F$13999, \"Operation\" ))*24","v":0},0,0,0]
[null,null,"",{"$f":"( SUMPRODUCT( SUMIFS( FLData!$AH$2:$AH$13999, FLData!$C$2:$C$13999, \">=\"&fromDateI, FLData!$C$2:$C$13999, \"<=\" &toDateI, FLData!$M$2:$M$13999,$C26, FLData!$E$2:$E$13999, SingleEngineTypes, FLData!$F$2:$F$13999, \"Lesson\" )) + SUMPRODUCT( SUMIFS( FLData!$AH$2:$AH$13999, FLData!$C$2:$C$13999, \">=\"&fromDateI, FLData!$C$2:$C$13999, \"<=\" &toDateI, FLData!$S$2:$S$13999,$C26, FLData!$E$2:$E$13999, SingleEngineTypes, FLData!$F$2:$F$13999, \"Rental\" )) )*24","v":0},{"$f":"SUMPRODUCT( SUMIFS( FLData!$AH$2:$AH$13999, FLData!$C$2:$C$13999, \">=\"&fromDateI, FLData!$C$2:$C$13999, \"<=\" &toDateI, FLData!$J$2:$J$13999,$C26, FLData!$E$2:$E$13999, SingleEngineTypes, FLData!$F$2:$F$13999, \"Operation\" ))*24","v":0},{"$f":"( SUMPRODUCT( SUMIFS( FLData!$AH$2:$AH$13999, FLData!$C$2:$C$13999, \">=\"&fromDateI, FLData!$C$2:$C$13999, \"<=\" &toDateI, FLData!$M$2:$M$13999,$C26, FLData!$E$2:$E$13999, MultiEngineTypes, FLData!$F$2:$F$13999, \"Lesson\" )) + SUMPRODUCT( SUMIFS( FLData!$AH$2:$AH$13999, FLData!$C$2:$C$13999, \">=\"&fromDateI, FLData!$C$2:$C$13999, \"<=\" &toDateI, FLData!$S$2:$S$13999,$C26, FLData!$E$2:$E$13999, MultiEngineTypes, FLData!$F$2:$F$13999, \"Rental\" )) )*24","v":0},{"$f":"SUMPRODUCT( SUMIFS( FLData!$AH$2:$AH$13999, FLData!$C$2:$C$13999, \">=\"&fromDateI, FLData!$C$2:$C$13999, \"<=\" &toDateI, FLData!$J$2:$J$13999,$C26, FLData!$E$2:$E$13999, MultiEngineTypes, FLData!$F$2:$F$13999, \"Operation\" ))*24","v":0},{"$f":"( SUMPRODUCT( SUMIFS( FLData!$AH$2:$AH$13999, FLData!$C$2:$C$13999, \">=\"&fromDateI, FLData!$C$2:$C$13999, \"<=\" &toDateI, FLData!$M$2:$M$13999,$C26, FLData!$E$2:$E$13999, Sim1Types, FLData!$F$2:$F$13999, \"Lesson\" )) + SUMPRODUCT( SUMIFS( FLData!$AH$2:$AH$13999, FLData!$C$2:$C$13999, \">=\"&fromDateI, FLData!$C$2:$C$13999, \"<=\" &toDateI, FLData!$S$2:$S$13999,$C26, FLData!$E$2:$E$13999, Sim1Types, FLData!$F$2:$F$13999, \"Rental\" )) )*24","v":0},{"$f":"SUMPRODUCT( SUMIFS( FLData!$AH$2:$AH$13999, FLData!$C$2:$C$13999, \">=\"&fromDateI, FLData!$C$2:$C$13999, \"<=\" &toDateI, FLData!$J$2:$J$13999,$C26, FLData!$E$2:$E$13999, Sim1Types, FLData!$F$2:$F$13999, \"Operation\" ))*24","v":0},{"$f":"( SUMPRODUCT( SUMIFS( FLData!$AH$2:$AH$13999, FLData!$C$2:$C$13999, \">=\"&fromDateI, FLData!$C$2:$C$13999, \"<=\" &toDateI, FLData!$M$2:$M$13999,$C26, FLData!$E$2:$E$13999, Sim2Types, FLData!$F$2:$F$13999, \"Lesson\" )) + SUMPRODUCT( SUMIFS( FLData!$AH$2:$AH$13999, FLData!$C$2:$C$13999, \">=\"&fromDateI, FLData!$C$2:$C$13999, \"<=\" &toDateI, FLData!$S$2:$S$13999,$C26, FLData!$E$2:$E$13999, Sim2Types, FLData!$F$2:$F$13999, \"Rental\" )) )*24","v":0},{"$f":"SUMPRODUCT( SUMIFS( FLData!$AH$2:$AH$13999, FLData!$C$2:$C$13999, \">=\"&fromDateI, FLData!$C$2:$C$13999, \"<=\" &toDateI, FLData!$J$2:$J$13999,$C26, FLData!$E$2:$E$13999, Sim2Types, FLData!$F$2:$F$13999, \"Operation\" ))*24","v":0},0,0,0]
[null,null,"",{"$f":"( SUMPRODUCT( SUMIFS( FLData!$AH$2:$AH$13999, FLData!$C$2:$C$13999, \">=\"&fromDateI, FLData!$C$2:$C$13999, \"<=\" &toDateI, FLData!$M$2:$M$13999,$C27, FLData!$E$2:$E$13999, SingleEngineTypes, FLData!$F$2:$F$13999, \"Lesson\" )) + SUMPRODUCT( SUMIFS( FLData!$AH$2:$AH$13999, FLData!$C$2:$C$13999, \">=\"&fromDateI, FLData!$C$2:$C$13999, \"<=\" &toDateI, FLData!$S$2:$S$13999,$C27, FLData!$E$2:$E$13999, SingleEngineTypes, FLData!$F$2:$F$13999, \"Rental\" )) )*24","v":0},{"$f":"SUMPRODUCT( SUMIFS( FLData!$AH$2:$AH$13999, FLData!$C$2:$C$13999, \">=\"&fromDateI, FLData!$C$2:$C$13999, \"<=\" &toDateI, FLData!$J$2:$J$13999,$C27, FLData!$E$2:$E$13999, SingleEngineTypes, FLData!$F$2:$F$13999, \"Operation\" ))*24","v":0},{"$f":"( SUMPRODUCT( SUMIFS( FLData!$AH$2:$AH$13999, FLData!$C$2:$C$13999, \">=\"&fromDateI, FLData!$C$2:$C$13999, \"<=\" &toDateI, FLData!$M$2:$M$13999,$C27, FLData!$E$2:$E$13999, MultiEngineTypes, FLData!$F$2:$F$13999, \"Lesson\" )) + SUMPRODUCT( SUMIFS( FLData!$AH$2:$AH$13999, FLData!$C$2:$C$13999, \">=\"&fromDateI, FLData!$C$2:$C$13999, \"<=\" &toDateI, FLData!$S$2:$S$13999,$C27, FLData!$E$2:$E$13999, MultiEngineTypes, FLData!$F$2:$F$13999, \"Rental\" )) )*24","v":0},{"$f":"SUMPRODUCT( SUMIFS( FLData!$AH$2:$AH$13999, FLData!$C$2:$C$13999, \">=\"&fromDateI, FLData!$C$2:$C$13999, \"<=\" &toDateI, FLData!$J$2:$J$13999,$C27, FLData!$E$2:$E$13999, MultiEngineTypes, FLData!$F$2:$F$13999, \"Operation\" ))*24","v":0},{"$f":"( SUMPRODUCT( SUMIFS( FLData!$AH$2:$AH$13999, FLData!$C$2:$C$13999, \">=\"&fromDateI, FLData!$C$2:$C$13999, \"<=\" &toDateI, FLData!$M$2:$M$13999,$C27, FLData!$E$2:$E$13999, Sim1Types, FLData!$F$2:$F$13999, \"Lesson\" )) + SUMPRODUCT( SUMIFS( FLData!$AH$2:$AH$13999, FLData!$C$2:$C$13999, \">=\"&fromDateI, FLData!$C$2:$C$13999, \"<=\" &toDateI, FLData!$S$2:$S$13999,$C27, FLData!$E$2:$E$13999, Sim1Types, FLData!$F$2:$F$13999, \"Rental\" )) )*24","v":0},{"$f":"SUMPRODUCT( SUMIFS( FLData!$AH$2:$AH$13999, FLData!$C$2:$C$13999, \">=\"&fromDateI, FLData!$C$2:$C$13999, \"<=\" &toDateI, FLData!$J$2:$J$13999,$C27, FLData!$E$2:$E$13999, Sim1Types, FLData!$F$2:$F$13999, \"Operation\" ))*24","v":0},{"$f":"( SUMPRODUCT( SUMIFS( FLData!$AH$2:$AH$13999, FLData!$C$2:$C$13999, \">=\"&fromDateI, FLData!$C$2:$C$13999, \"<=\" &toDateI, FLData!$M$2:$M$13999,$C27, FLData!$E$2:$E$13999, Sim2Types, FLData!$F$2:$F$13999, \"Lesson\" )) + SUMPRODUCT( SUMIFS( FLData!$AH$2:$AH$13999, FLData!$C$2:$C$13999, \">=\"&fromDateI, FLData!$C$2:$C$13999, \"<=\" &toDateI, FLData!$S$2:$S$13999,$C27, FLData!$E$2:$E$13999, Sim2Types, FLData!$F$2:$F$13999, \"Rental\" )) )*24","v":0},{"$f":"SUMPRODUCT( SUMIFS( FLData!$AH$2:$AH$13999, FLData!$C$2:$C$13999, \">=\"&fromDateI, FLData!$C$2:$C$13999, \"<=\" &toDateI, FLData!$J$2:$J$13999,$C27, FLData!$E$2:$E$13999, Sim2Types, FLData!$F$2:$F$13999, \"Operation\" ))*24","v":0},0,0,0]
[null,null,"",{"$f":"( SUMPRODUCT( SUMIFS( FLData!$AH$2:$AH$13999, FLData!$C$2:$C$13999, \">=\"&fromDateI, FLData!$C$2:$C$13999, \"<=\" &toDateI, FLData!$M$2:$M$13999,$C28, FLData!$E$2:$E$13999, SingleEngineTypes, FLData!$F$2:$F$13999, \"Lesson\" )) + SUMPRODUCT( SUMIFS( FLData!$AH$2:$AH$13999, FLData!$C$2:$C$13999, \">=\"&fromDateI, FLData!$C$2:$C$13999, \"<=\" &toDateI, FLData!$S$2:$S$13999,$C28, FLData!$E$2:$E$13999, SingleEngineTypes, FLData!$F$2:$F$13999, \"Rental\" )) )*24","v":0},{"$f":"SUMPRODUCT( SUMIFS( FLData!$AH$2:$AH$13999, FLData!$C$2:$C$13999, \">=\"&fromDateI, FLData!$C$2:$C$13999, \"<=\" &toDateI, FLData!$J$2:$J$13999,$C28, FLData!$E$2:$E$13999, SingleEngineTypes, FLData!$F$2:$F$13999, \"Operation\" ))*24","v":0},{"$f":"( SUMPRODUCT( SUMIFS( FLData!$AH$2:$AH$13999, FLData!$C$2:$C$13999, \">=\"&fromDateI, FLData!$C$2:$C$13999, \"<=\" &toDateI, FLData!$M$2:$M$13999,$C28, FLData!$E$2:$E$13999, MultiEngineTypes, FLData!$F$2:$F$13999, \"Lesson\" )) + SUMPRODUCT( SUMIFS( FLData!$AH$2:$AH$13999, FLData!$C$2:$C$13999, \">=\"&fromDateI, FLData!$C$2:$C$13999, \"<=\" &toDateI, FLData!$S$2:$S$13999,$C28, FLData!$E$2:$E$13999, MultiEngineTypes, FLData!$F$2:$F$13999, \"Rental\" )) )*24","v":0},{"$f":"SUMPRODUCT( SUMIFS( FLData!$AH$2:$AH$13999, FLData!$C$2:$C$13999, \">=\"&fromDateI, FLData!$C$2:$C$13999, \"<=\" &toDateI, FLData!$J$2:$J$13999,$C28, FLData!$E$2:$E$13999, MultiEngineTypes, FLData!$F$2:$F$13999, \"Operation\" ))*24","v":0},{"$f":"( SUMPRODUCT( SUMIFS( FLData!$AH$2:$AH$13999, FLData!$C$2:$C$13999, \">=\"&fromDateI, FLData!$C$2:$C$13999, \"<=\" &toDateI, FLData!$M$2:$M$13999,$C28, FLData!$E$2:$E$13999, Sim1Types, FLData!$F$2:$F$13999, \"Lesson\" )) + SUMPRODUCT( SUMIFS( FLData!$AH$2:$AH$13999, FLData!$C$2:$C$13999, \">=\"&fromDateI, FLData!$C$2:$C$13999, \"<=\" &toDateI, FLData!$S$2:$S$13999,$C28, FLData!$E$2:$E$13999, Sim1Types, FLData!$F$2:$F$13999, \"Rental\" )) )*24","v":0},{"$f":"SUMPRODUCT( SUMIFS( FLData!$AH$2:$AH$13999, FLData!$C$2:$C$13999, \">=\"&fromDateI, FLData!$C$2:$C$13999, \"<=\" &toDateI, FLData!$J$2:$J$13999,$C28, FLData!$E$2:$E$13999, Sim1Types, FLData!$F$2:$F$13999, \"Operation\" ))*24","v":0},{"$f":"( SUMPRODUCT( SUMIFS( FLData!$AH$2:$AH$13999, FLData!$C$2:$C$13999, \">=\"&fromDateI, FLData!$C$2:$C$13999, \"<=\" &toDateI, FLData!$M$2:$M$13999,$C28, FLData!$E$2:$E$13999, Sim2Types, FLData!$F$2:$F$13999, \"Lesson\" )) + SUMPRODUCT( SUMIFS( FLData!$AH$2:$AH$13999, FLData!$C$2:$C$13999, \">=\"&fromDateI, FLData!$C$2:$C$13999, \"<=\" &toDateI, FLData!$S$2:$S$13999,$C28, FLData!$E$2:$E$13999, Sim2Types, FLData!$F$2:$F$13999, \"Rental\" )) )*24","v":0},{"$f":"SUMPRODUCT( SUMIFS( FLData!$AH$2:$AH$13999, FLData!$C$2:$C$13999, \">=\"&fromDateI, FLData!$C$2:$C$13999, \"<=\" &toDateI, FLData!$J$2:$J$13999,$C28, FLData!$E$2:$E$13999, Sim2Types, FLData!$F$2:$F$13999, \"Operation\" ))*24","v":0},0,0,0]
[null,null,"",{"$f":"( SUMPRODUCT( SUMIFS( FLData!$AH$2:$AH$13999, FLData!$C$2:$C$13999, \">=\"&fromDateI, FLData!$C$2:$C$13999, \"<=\" &toDateI, FLData!$M$2:$M$13999,$C29, FLData!$E$2:$E$13999, SingleEngineTypes, FLData!$F$2:$F$13999, \"Lesson\" )) + SUMPRODUCT( SUMIFS( FLData!$AH$2:$AH$13999, FLData!$C$2:$C$13999, \">=\"&fromDateI, FLData!$C$2:$C$13999, \"<=\" &toDateI, FLData!$S$2:$S$13999,$C29, FLData!$E$2:$E$13999, SingleEngineTypes, FLData!$F$2:$F$13999, \"Rental\" )) )*24","v":0},{"$f":"SUMPRODUCT( SUMIFS( FLData!$AH$2:$AH$13999, FLData!$C$2:$C$13999, \">=\"&fromDateI, FLData!$C$2:$C$13999, \"<=\" &toDateI, FLData!$J$2:$J$13999,$C29, FLData!$E$2:$E$13999, SingleEngineTypes, FLData!$F$2:$F$13999, \"Operation\" ))*24","v":0},{"$f":"( SUMPRODUCT( SUMIFS( FLData!$AH$2:$AH$13999, FLData!$C$2:$C$13999, \">=\"&fromDateI, FLData!$C$2:$C$13999, \"<=\" &toDateI, FLData!$M$2:$M$13999,$C29, FLData!$E$2:$E$13999, MultiEngineTypes, FLData!$F$2:$F$13999, \"Lesson\" )) + SUMPRODUCT( SUMIFS( FLData!$AH$2:$AH$13999, FLData!$C$2:$C$13999, \">=\"&fromDateI, FLData!$C$2:$C$13999, \"<=\" &toDateI, FLData!$S$2:$S$13999,$C29, FLData!$E$2:$E$13999, MultiEngineTypes, FLData!$F$2:$F$13999, \"Rental\" )) )*24","v":0},{"$f":"SUMPRODUCT( SUMIFS( FLData!$AH$2:$AH$13999, FLData!$C$2:$C$13999, \">=\"&fromDateI, FLData!$C$2:$C$13999, \"<=\" &toDateI, FLData!$J$2:$J$13999,$C29, FLData!$E$2:$E$13999, MultiEngineTypes, FLData!$F$2:$F$13999, \"Operation\" ))*24","v":0},{"$f":"( SUMPRODUCT( SUMIFS( FLData!$AH$2:$AH$13999, FLData!$C$2:$C$13999, \">=\"&fromDateI, FLData!$C$2:$C$13999, \"<=\" &toDateI, FLData!$M$2:$M$13999,$C29, FLData!$E$2:$E$13999, Sim1Types, FLData!$F$2:$F$13999, \"Lesson\" )) + SUMPRODUCT( SUMIFS( FLData!$AH$2:$AH$13999, FLData!$C$2:$C$13999, \">=\"&fromDateI, FLData!$C$2:$C$13999, \"<=\" &toDateI, FLData!$S$2:$S$13999,$C29, FLData!$E$2:$E$13999, Sim1Types, FLData!$F$2:$F$13999, \"Rental\" )) )*24","v":0},{"$f":"SUMPRODUCT( SUMIFS( FLData!$AH$2:$AH$13999, FLData!$C$2:$C$13999, \">=\"&fromDateI, FLData!$C$2:$C$13999, \"<=\" &toDateI, FLData!$J$2:$J$13999,$C29, FLData!$E$2:$E$13999, Sim1Types, FLData!$F$2:$F$13999, \"Operation\" ))*24","v":0},{"$f":"( SUMPRODUCT( SUMIFS( FLData!$AH$2:$AH$13999, FLData!$C$2:$C$13999, \">=\"&fromDateI, FLData!$C$2:$C$13999, \"<=\" &toDateI, FLData!$M$2:$M$13999,$C29, FLData!$E$2:$E$13999, Sim2Types, FLData!$F$2:$F$13999, \"Lesson\" )) + SUMPRODUCT( SUMIFS( FLData!$AH$2:$AH$13999, FLData!$C$2:$C$13999, \">=\"&fromDateI, FLData!$C$2:$C$13999, \"<=\" &toDateI, FLData!$S$2:$S$13999,$C29, FLData!$E$2:$E$13999, Sim2Types, FLData!$F$2:$F$13999, \"Rental\" )) )*24","v":0},{"$f":"SUMPRODUCT( SUMIFS( FLData!$AH$2:$AH$13999, FLData!$C$2:$C$13999, \">=\"&fromDateI, FLData!$C$2:$C$13999, \"<=\" &toDateI, FLData!$J$2:$J$13999,$C29, FLData!$E$2:$E$13999, Sim2Types, FLData!$F$2:$F$13999, \"Operation\" ))*24","v":0},0,0,0]
[null,null,"",{"$f":"( SUMPRODUCT( SUMIFS( FLData!$AH$2:$AH$13999, FLData!$C$2:$C$13999, \">=\"&fromDateI, FLData!$C$2:$C$13999, \"<=\" &toDateI, FLData!$M$2:$M$13999,$C30, FLData!$E$2:$E$13999, SingleEngineTypes, FLData!$F$2:$F$13999, \"Lesson\" )) + SUMPRODUCT( SUMIFS( FLData!$AH$2:$AH$13999, FLData!$C$2:$C$13999, \">=\"&fromDateI, FLData!$C$2:$C$13999, \"<=\" &toDateI, FLData!$S$2:$S$13999,$C30, FLData!$E$2:$E$13999, SingleEngineTypes, FLData!$F$2:$F$13999, \"Rental\" )) )*24","v":0},{"$f":"SUMPRODUCT( SUMIFS( FLData!$AH$2:$AH$13999, FLData!$C$2:$C$13999, \">=\"&fromDateI, FLData!$C$2:$C$13999, \"<=\" &toDateI, FLData!$J$2:$J$13999,$C30, FLData!$E$2:$E$13999, SingleEngineTypes, FLData!$F$2:$F$13999, \"Operation\" ))*24","v":0},{"$f":"( SUMPRODUCT( SUMIFS( FLData!$AH$2:$AH$13999, FLData!$C$2:$C$13999, \">=\"&fromDateI, FLData!$C$2:$C$13999, \"<=\" &toDateI, FLData!$M$2:$M$13999,$C30, FLData!$E$2:$E$13999, MultiEngineTypes, FLData!$F$2:$F$13999, \"Lesson\" )) + SUMPRODUCT( SUMIFS( FLData!$AH$2:$AH$13999, FLData!$C$2:$C$13999, \">=\"&fromDateI, FLData!$C$2:$C$13999, \"<=\" &toDateI, FLData!$S$2:$S$13999,$C30, FLData!$E$2:$E$13999, MultiEngineTypes, FLData!$F$2:$F$13999, \"Rental\" )) )*24","v":0},{"$f":"SUMPRODUCT( SUMIFS( FLData!$AH$2:$AH$13999, FLData!$C$2:$C$13999, \">=\"&fromDateI, FLData!$C$2:$C$13999, \"<=\" &toDateI, FLData!$J$2:$J$13999,$C30, FLData!$E$2:$E$13999, MultiEngineTypes, FLData!$F$2:$F$13999, \"Operation\" ))*24","v":0},{"$f":"( SUMPRODUCT( SUMIFS( FLData!$AH$2:$AH$13999, FLData!$C$2:$C$13999, \">=\"&fromDateI, FLData!$C$2:$C$13999, \"<=\" &toDateI, FLData!$M$2:$M$13999,$C30, FLData!$E$2:$E$13999, Sim1Types, FLData!$F$2:$F$13999, \"Lesson\" )) + SUMPRODUCT( SUMIFS( FLData!$AH$2:$AH$13999, FLData!$C$2:$C$13999, \">=\"&fromDateI, FLData!$C$2:$C$13999, \"<=\" &toDateI, FLData!$S$2:$S$13999,$C30, FLData!$E$2:$E$13999, Sim1Types, FLData!$F$2:$F$13999, \"Rental\" )) )*24","v":0},{"$f":"SUMPRODUCT( SUMIFS( FLData!$AH$2:$AH$13999, FLData!$C$2:$C$13999, \">=\"&fromDateI, FLData!$C$2:$C$13999, \"<=\" &toDateI, FLData!$J$2:$J$13999,$C30, FLData!$E$2:$E$13999, Sim1Types, FLData!$F$2:$F$13999, \"Operation\" ))*24","v":0},{"$f":"( SUMPRODUCT( SUMIFS( FLData!$AH$2:$AH$13999, FLData!$C$2:$C$13999, \">=\"&fromDateI, FLData!$C$2:$C$13999, \"<=\" &toDateI, FLData!$M$2:$M$13999,$C30, FLData!$E$2:$E$13999, Sim2Types, FLData!$F$2:$F$13999, \"Lesson\" )) + SUMPRODUCT( SUMIFS( FLData!$AH$2:$AH$13999, FLData!$C$2:$C$13999, \">=\"&fromDateI, FLData!$C$2:$C$13999, \"<=\" &toDateI, FLData!$S$2:$S$13999,$C30, FLData!$E$2:$E$13999, Sim2Types, FLData!$F$2:$F$13999, \"Rental\" )) )*24","v":0},{"$f":"SUMPRODUCT( SUMIFS( FLData!$AH$2:$AH$13999, FLData!$C$2:$C$13999, \">=\"&fromDateI, FLData!$C$2:$C$13999, \"<=\" &toDateI, FLData!$J$2:$J$13999,$C30, FLData!$E$2:$E$13999, Sim2Types, FLData!$F$2:$F$13999, \"Operation\" ))*24","v":0},0,0,0]
[null,null,"",{"$f":"( SUMPRODUCT( SUMIFS( FLData!$AH$2:$AH$13999, FLData!$C$2:$C$13999, \">=\"&fromDateI, FLData!$C$2:$C$13999, \"<=\" &toDateI, FLData!$M$2:$M$13999,$C31, FLData!$E$2:$E$13999, SingleEngineTypes, FLData!$F$2:$F$13999, \"Lesson\" )) + SUMPRODUCT( SUMIFS( FLData!$AH$2:$AH$13999, FLData!$C$2:$C$13999, \">=\"&fromDateI, FLData!$C$2:$C$13999, \"<=\" &toDateI, FLData!$S$2:$S$13999,$C31, FLData!$E$2:$E$13999, SingleEngineTypes, FLData!$F$2:$F$13999, \"Rental\" )) )*24","v":0},{"$f":"SUMPRODUCT( SUMIFS( FLData!$AH$2:$AH$13999, FLData!$C$2:$C$13999, \">=\"&fromDateI, FLData!$C$2:$C$13999, \"<=\" &toDateI, FLData!$J$2:$J$13999,$C31, FLData!$E$2:$E$13999, SingleEngineTypes, FLData!$F$2:$F$13999, \"Operation\" ))*24","v":0},{"$f":"( SUMPRODUCT( SUMIFS( FLData!$AH$2:$AH$13999, FLData!$C$2:$C$13999, \">=\"&fromDateI, FLData!$C$2:$C$13999, \"<=\" &toDateI, FLData!$M$2:$M$13999,$C31, FLData!$E$2:$E$13999, MultiEngineTypes, FLData!$F$2:$F$13999, \"Lesson\" )) + SUMPRODUCT( SUMIFS( FLData!$AH$2:$AH$13999, FLData!$C$2:$C$13999, \">=\"&fromDateI, FLData!$C$2:$C$13999, \"<=\" &toDateI, FLData!$S$2:$S$13999,$C31, FLData!$E$2:$E$13999, MultiEngineTypes, FLData!$F$2:$F$13999, \"Rental\" )) )*24","v":0},{"$f":"SUMPRODUCT( SUMIFS( FLData!$AH$2:$AH$13999, FLData!$C$2:$C$13999, \">=\"&fromDateI, FLData!$C$2:$C$13999, \"<=\" &toDateI, FLData!$J$2:$J$13999,$C31, FLData!$E$2:$E$13999, MultiEngineTypes, FLData!$F$2:$F$13999, \"Operation\" ))*24","v":0},{"$f":"( SUMPRODUCT( SUMIFS( FLData!$AH$2:$AH$13999, FLData!$C$2:$C$13999, \">=\"&fromDateI, FLData!$C$2:$C$13999, \"<=\" &toDateI, FLData!$M$2:$M$13999,$C31, FLData!$E$2:$E$13999, Sim1Types, FLData!$F$2:$F$13999, \"Lesson\" )) + SUMPRODUCT( SUMIFS( FLData!$AH$2:$AH$13999, FLData!$C$2:$C$13999, \">=\"&fromDateI, FLData!$C$2:$C$13999, \"<=\" &toDateI, FLData!$S$2:$S$13999,$C31, FLData!$E$2:$E$13999, Sim1Types, FLData!$F$2:$F$13999, \"Rental\" )) )*24","v":0},{"$f":"SUMPRODUCT( SUMIFS( FLData!$AH$2:$AH$13999, FLData!$C$2:$C$13999, \">=\"&fromDateI, FLData!$C$2:$C$13999, \"<=\" &toDateI, FLData!$J$2:$J$13999,$C31, FLData!$E$2:$E$13999, Sim1Types, FLData!$F$2:$F$13999, \"Operation\" ))*24","v":0},{"$f":"( SUMPRODUCT( SUMIFS( FLData!$AH$2:$AH$13999, FLData!$C$2:$C$13999, \">=\"&fromDateI, FLData!$C$2:$C$13999, \"<=\" &toDateI, FLData!$M$2:$M$13999,$C31, FLData!$E$2:$E$13999, Sim2Types, FLData!$F$2:$F$13999, \"Lesson\" )) + SUMPRODUCT( SUMIFS( FLData!$AH$2:$AH$13999, FLData!$C$2:$C$13999, \">=\"&fromDateI, FLData!$C$2:$C$13999, \"<=\" &toDateI, FLData!$S$2:$S$13999,$C31, FLData!$E$2:$E$13999, Sim2Types, FLData!$F$2:$F$13999, \"Rental\" )) )*24","v":0},{"$f":"SUMPRODUCT( SUMIFS( FLData!$AH$2:$AH$13999, FLData!$C$2:$C$13999, \">=\"&fromDateI, FLData!$C$2:$C$13999, \"<=\" &toDateI, FLData!$J$2:$J$13999,$C31, FLData!$E$2:$E$13999, Sim2Types, FLData!$F$2:$F$13999, \"Operation\" ))*24","v":0},0,0,0]
[null,null,"",{"$f":"( SUMPRODUCT( SUMIFS( FLData!$AH$2:$AH$13999, FLData!$C$2:$C$13999, \">=\"&fromDateI, FLData!$C$2:$C$13999, \"<=\" &toDateI, FLData!$M$2:$M$13999,$C32, FLData!$E$2:$E$13999, SingleEngineTypes, FLData!$F$2:$F$13999, \"Lesson\" )) + SUMPRODUCT( SUMIFS( FLData!$AH$2:$AH$13999, FLData!$C$2:$C$13999, \">=\"&fromDateI, FLData!$C$2:$C$13999, \"<=\" &toDateI, FLData!$S$2:$S$13999,$C32, FLData!$E$2:$E$13999, SingleEngineTypes, FLData!$F$2:$F$13999, \"Rental\" )) )*24","v":0},{"$f":"SUMPRODUCT( SUMIFS( FLData!$AH$2:$AH$13999, FLData!$C$2:$C$13999, \">=\"&fromDateI, FLData!$C$2:$C$13999, \"<=\" &toDateI, FLData!$J$2:$J$13999,$C32, FLData!$E$2:$E$13999, SingleEngineTypes, FLData!$F$2:$F$13999, \"Operation\" ))*24","v":0},{"$f":"( SUMPRODUCT( SUMIFS( FLData!$AH$2:$AH$13999, FLData!$C$2:$C$13999, \">=\"&fromDateI, FLData!$C$2:$C$13999, \"<=\" &toDateI, FLData!$M$2:$M$13999,$C32, FLData!$E$2:$E$13999, MultiEngineTypes, FLData!$F$2:$F$13999, \"Lesson\" )) + SUMPRODUCT( SUMIFS( FLData!$AH$2:$AH$13999, FLData!$C$2:$C$13999, \">=\"&fromDateI, FLData!$C$2:$C$13999, \"<=\" &toDateI, FLData!$S$2:$S$13999,$C32, FLData!$E$2:$E$13999, MultiEngineTypes, FLData!$F$2:$F$13999, \"Rental\" )) )*24","v":0},{"$f":"SUMPRODUCT( SUMIFS( FLData!$AH$2:$AH$13999, FLData!$C$2:$C$13999, \">=\"&fromDateI, FLData!$C$2:$C$13999, \"<=\" &toDateI, FLData!$J$2:$J$13999,$C32, FLData!$E$2:$E$13999, MultiEngineTypes, FLData!$F$2:$F$13999, \"Operation\" ))*24","v":0},{"$f":"( SUMPRODUCT( SUMIFS( FLData!$AH$2:$AH$13999, FLData!$C$2:$C$13999, \">=\"&fromDateI, FLData!$C$2:$C$13999, \"<=\" &toDateI, FLData!$M$2:$M$13999,$C32, FLData!$E$2:$E$13999, Sim1Types, FLData!$F$2:$F$13999, \"Lesson\" )) + SUMPRODUCT( SUMIFS( FLData!$AH$2:$AH$13999, FLData!$C$2:$C$13999, \">=\"&fromDateI, FLData!$C$2:$C$13999, \"<=\" &toDateI, FLData!$S$2:$S$13999,$C32, FLData!$E$2:$E$13999, Sim1Types, FLData!$F$2:$F$13999, \"Rental\" )) )*24","v":0},{"$f":"SUMPRODUCT( SUMIFS( FLData!$AH$2:$AH$13999, FLData!$C$2:$C$13999, \">=\"&fromDateI, FLData!$C$2:$C$13999, \"<=\" &toDateI, FLData!$J$2:$J$13999,$C32, FLData!$E$2:$E$13999, Sim1Types, FLData!$F$2:$F$13999, \"Operation\" ))*24","v":0},{"$f":"( SUMPRODUCT( SUMIFS( FLData!$AH$2:$AH$13999, FLData!$C$2:$C$13999, \">=\"&fromDateI, FLData!$C$2:$C$13999, \"<=\" &toDateI, FLData!$M$2:$M$13999,$C32, FLData!$E$2:$E$13999, Sim2Types, FLData!$F$2:$F$13999, \"Lesson\" )) + SUMPRODUCT( SUMIFS( FLData!$AH$2:$AH$13999, FLData!$C$2:$C$13999, \">=\"&fromDateI, FLData!$C$2:$C$13999, \"<=\" &toDateI, FLData!$S$2:$S$13999,$C32, FLData!$E$2:$E$13999, Sim2Types, FLData!$F$2:$F$13999, \"Rental\" )) )*24","v":0},{"$f":"SUMPRODUCT( SUMIFS( FLData!$AH$2:$AH$13999, FLData!$C$2:$C$13999, \">=\"&fromDateI, FLData!$C$2:$C$13999, \"<=\" &toDateI, FLData!$J$2:$J$13999,$C32, FLData!$E$2:$E$13999, Sim2Types, FLData!$F$2:$F$13999, \"Operation\" ))*24","v":0},0,0,0]
[null,null,"",{"$f":"( SUMPRODUCT( SUMIFS( FLData!$AH$2:$AH$13999, FLData!$C$2:$C$13999, \">=\"&fromDateI, FLData!$C$2:$C$13999, \"<=\" &toDateI, FLData!$M$2:$M$13999,$C33, FLData!$E$2:$E$13999, SingleEngineTypes, FLData!$F$2:$F$13999, \"Lesson\" )) + SUMPRODUCT( SUMIFS( FLData!$AH$2:$AH$13999, FLData!$C$2:$C$13999, \">=\"&fromDateI, FLData!$C$2:$C$13999, \"<=\" &toDateI, FLData!$S$2:$S$13999,$C33, FLData!$E$2:$E$13999, SingleEngineTypes, FLData!$F$2:$F$13999, \"Rental\" )) )*24","v":0},{"$f":"SUMPRODUCT( SUMIFS( FLData!$AH$2:$AH$13999, FLData!$C$2:$C$13999, \">=\"&fromDateI, FLData!$C$2:$C$13999, \"<=\" &toDateI, FLData!$J$2:$J$13999,$C33, FLData!$E$2:$E$13999, SingleEngineTypes, FLData!$F$2:$F$13999, \"Operation\" ))*24","v":0},{"$f":"( SUMPRODUCT( SUMIFS( FLData!$AH$2:$AH$13999, FLData!$C$2:$C$13999, \">=\"&fromDateI, FLData!$C$2:$C$13999, \"<=\" &toDateI, FLData!$M$2:$M$13999,$C33, FLData!$E$2:$E$13999, MultiEngineTypes, FLData!$F$2:$F$13999, \"Lesson\" )) + SUMPRODUCT( SUMIFS( FLData!$AH$2:$AH$13999, FLData!$C$2:$C$13999, \">=\"&fromDateI, FLData!$C$2:$C$13999, \"<=\" &toDateI, FLData!$S$2:$S$13999,$C33, FLData!$E$2:$E$13999, MultiEngineTypes, FLData!$F$2:$F$13999, \"Rental\" )) )*24","v":0},{"$f":"SUMPRODUCT( SUMIFS( FLData!$AH$2:$AH$13999, FLData!$C$2:$C$13999, \">=\"&fromDateI, FLData!$C$2:$C$13999, \"<=\" &toDateI, FLData!$J$2:$J$13999,$C33, FLData!$E$2:$E$13999, MultiEngineTypes, FLData!$F$2:$F$13999, \"Operation\" ))*24","v":0},{"$f":"( SUMPRODUCT( SUMIFS( FLData!$AH$2:$AH$13999, FLData!$C$2:$C$13999, \">=\"&fromDateI, FLData!$C$2:$C$13999, \"<=\" &toDateI, FLData!$M$2:$M$13999,$C33, FLData!$E$2:$E$13999, Sim1Types, FLData!$F$2:$F$13999, \"Lesson\" )) + SUMPRODUCT( SUMIFS( FLData!$AH$2:$AH$13999, FLData!$C$2:$C$13999, \">=\"&fromDateI, FLData!$C$2:$C$13999, \"<=\" &toDateI, FLData!$S$2:$S$13999,$C33, FLData!$E$2:$E$13999, Sim1Types, FLData!$F$2:$F$13999, \"Rental\" )) )*24","v":0},{"$f":"SUMPRODUCT( SUMIFS( FLData!$AH$2:$AH$13999, FLData!$C$2:$C$13999, \">=\"&fromDateI, FLData!$C$2:$C$13999, \"<=\" &toDateI, FLData!$J$2:$J$13999,$C33, FLData!$E$2:$E$13999, Sim1Types, FLData!$F$2:$F$13999, \"Operation\" ))*24","v":0},{"$f":"( SUMPRODUCT( SUMIFS( FLData!$AH$2:$AH$13999, FLData!$C$2:$C$13999, \">=\"&fromDateI, FLData!$C$2:$C$13999, \"<=\" &toDateI, FLData!$M$2:$M$13999,$C33, FLData!$E$2:$E$13999, Sim2Types, FLData!$F$2:$F$13999, \"Lesson\" )) + SUMPRODUCT( SUMIFS( FLData!$AH$2:$AH$13999, FLData!$C$2:$C$13999, \">=\"&fromDateI, FLData!$C$2:$C$13999, \"<=\" &toDateI, FLData!$S$2:$S$13999,$C33, FLData!$E$2:$E$13999, Sim2Types, FLData!$F$2:$F$13999, \"Rental\" )) )*24","v":0},{"$f":"SUMPRODUCT( SUMIFS( FLData!$AH$2:$AH$13999, FLData!$C$2:$C$13999, \">=\"&fromDateI, FLData!$C$2:$C$13999, \"<=\" &toDateI, FLData!$J$2:$J$13999,$C33, FLData!$E$2:$E$13999, Sim2Types, FLData!$F$2:$F$13999, \"Operation\" ))*24","v":0},0,0,0]
[null,null,"",{"$f":"( SUMPRODUCT( SUMIFS( FLData!$AH$2:$AH$13999, FLData!$C$2:$C$13999, \">=\"&fromDateI, FLData!$C$2:$C$13999, \"<=\" &toDateI, FLData!$M$2:$M$13999,$C34, FLData!$E$2:$E$13999, SingleEngineTypes, FLData!$F$2:$F$13999, \"Lesson\" )) + SUMPRODUCT( SUMIFS( FLData!$AH$2:$AH$13999, FLData!$C$2:$C$13999, \">=\"&fromDateI, FLData!$C$2:$C$13999, \"<=\" &toDateI, FLData!$S$2:$S$13999,$C34, FLData!$E$2:$E$13999, SingleEngineTypes, FLData!$F$2:$F$13999, \"Rental\" )) )*24","v":0},{"$f":"SUMPRODUCT( SUMIFS( FLData!$AH$2:$AH$13999, FLData!$C$2:$C$13999, \">=\"&fromDateI, FLData!$C$2:$C$13999, \"<=\" &toDateI, FLData!$J$2:$J$13999,$C34, FLData!$E$2:$E$13999, SingleEngineTypes, FLData!$F$2:$F$13999, \"Operation\" ))*24","v":0},{"$f":"( SUMPRODUCT( SUMIFS( FLData!$AH$2:$AH$13999, FLData!$C$2:$C$13999, \">=\"&fromDateI, FLData!$C$2:$C$13999, \"<=\" &toDateI, FLData!$M$2:$M$13999,$C34, FLData!$E$2:$E$13999, MultiEngineTypes, FLData!$F$2:$F$13999, \"Lesson\" )) + SUMPRODUCT( SUMIFS( FLData!$AH$2:$AH$13999, FLData!$C$2:$C$13999, \">=\"&fromDateI, FLData!$C$2:$C$13999, \"<=\" &toDateI, FLData!$S$2:$S$13999,$C34, FLData!$E$2:$E$13999, MultiEngineTypes, FLData!$F$2:$F$13999, \"Rental\" )) )*24","v":0},{"$f":"SUMPRODUCT( SUMIFS( FLData!$AH$2:$AH$13999, FLData!$C$2:$C$13999, \">=\"&fromDateI, FLData!$C$2:$C$13999, \"<=\" &toDateI, FLData!$J$2:$J$13999,$C34, FLData!$E$2:$E$13999, MultiEngineTypes, FLData!$F$2:$F$13999, \"Operation\" ))*24","v":0},{"$f":"( SUMPRODUCT( SUMIFS( FLData!$AH$2:$AH$13999, FLData!$C$2:$C$13999, \">=\"&fromDateI, FLData!$C$2:$C$13999, \"<=\" &toDateI, FLData!$M$2:$M$13999,$C34, FLData!$E$2:$E$13999, Sim1Types, FLData!$F$2:$F$13999, \"Lesson\" )) + SUMPRODUCT( SUMIFS( FLData!$AH$2:$AH$13999, FLData!$C$2:$C$13999, \">=\"&fromDateI, FLData!$C$2:$C$13999, \"<=\" &toDateI, FLData!$S$2:$S$13999,$C34, FLData!$E$2:$E$13999, Sim1Types, FLData!$F$2:$F$13999, \"Rental\" )) )*24","v":0},{"$f":"SUMPRODUCT( SUMIFS( FLData!$AH$2:$AH$13999, FLData!$C$2:$C$13999, \">=\"&fromDateI, FLData!$C$2:$C$13999, \"<=\" &toDateI, FLData!$J$2:$J$13999,$C34, FLData!$E$2:$E$13999, Sim1Types, FLData!$F$2:$F$13999, \"Operation\" ))*24","v":0},{"$f":"( SUMPRODUCT( SUMIFS( FLData!$AH$2:$AH$13999, FLData!$C$2:$C$13999, \">=\"&fromDateI, FLData!$C$2:$C$13999, \"<=\" &toDateI, FLData!$M$2:$M$13999,$C34, FLData!$E$2:$E$13999, Sim2Types, FLData!$F$2:$F$13999, \"Lesson\" )) + SUMPRODUCT( SUMIFS( FLData!$AH$2:$AH$13999, FLData!$C$2:$C$13999, \">=\"&fromDateI, FLData!$C$2:$C$13999, \"<=\" &toDateI, FLData!$S$2:$S$13999,$C34, FLData!$E$2:$E$13999, Sim2Types, FLData!$F$2:$F$13999, \"Rental\" )) )*24","v":0},{"$f":"SUMPRODUCT( SUMIFS( FLData!$AH$2:$AH$13999, FLData!$C$2:$C$13999, \">=\"&fromDateI, FLData!$C$2:$C$13999, \"<=\" &toDateI, FLData!$J$2:$J$13999,$C34, FLData!$E$2:$E$13999, Sim2Types, FLData!$F$2:$F$13999, \"Operation\" ))*24","v":0},0,0,0]
[null,null,"",{"$f":"( SUMPRODUCT( SUMIFS( FLData!$AH$2:$AH$13999, FLData!$C$2:$C$13999, \">=\"&fromDateI, FLData!$C$2:$C$13999, \"<=\" &toDateI, FLData!$M$2:$M$13999,$C35, FLData!$E$2:$E$13999, SingleEngineTypes, FLData!$F$2:$F$13999, \"Lesson\" )) + SUMPRODUCT( SUMIFS( FLData!$AH$2:$AH$13999, FLData!$C$2:$C$13999, \">=\"&fromDateI, FLData!$C$2:$C$13999, \"<=\" &toDateI, FLData!$S$2:$S$13999,$C35, FLData!$E$2:$E$13999, SingleEngineTypes, FLData!$F$2:$F$13999, \"Rental\" )) )*24","v":0},{"$f":"SUMPRODUCT( SUMIFS( FLData!$AH$2:$AH$13999, FLData!$C$2:$C$13999, \">=\"&fromDateI, FLData!$C$2:$C$13999, \"<=\" &toDateI, FLData!$J$2:$J$13999,$C35, FLData!$E$2:$E$13999, SingleEngineTypes, FLData!$F$2:$F$13999, \"Operation\" ))*24","v":0},{"$f":"( SUMPRODUCT( SUMIFS( FLData!$AH$2:$AH$13999, FLData!$C$2:$C$13999, \">=\"&fromDateI, FLData!$C$2:$C$13999, \"<=\" &toDateI, FLData!$M$2:$M$13999,$C35, FLData!$E$2:$E$13999, MultiEngineTypes, FLData!$F$2:$F$13999, \"Lesson\" )) + SUMPRODUCT( SUMIFS( FLData!$AH$2:$AH$13999, FLData!$C$2:$C$13999, \">=\"&fromDateI, FLData!$C$2:$C$13999, \"<=\" &toDateI, FLData!$S$2:$S$13999,$C35, FLData!$E$2:$E$13999, MultiEngineTypes, FLData!$F$2:$F$13999, \"Rental\" )) )*24","v":0},{"$f":"SUMPRODUCT( SUMIFS( FLData!$AH$2:$AH$13999, FLData!$C$2:$C$13999, \">=\"&fromDateI, FLData!$C$2:$C$13999, \"<=\" &toDateI, FLData!$J$2:$J$13999,$C35, FLData!$E$2:$E$13999, MultiEngineTypes, FLData!$F$2:$F$13999, \"Operation\" ))*24","v":0},{"$f":"( SUMPRODUCT( SUMIFS( FLData!$AH$2:$AH$13999, FLData!$C$2:$C$13999, \">=\"&fromDateI, FLData!$C$2:$C$13999, \"<=\" &toDateI, FLData!$M$2:$M$13999,$C35, FLData!$E$2:$E$13999, Sim1Types, FLData!$F$2:$F$13999, \"Lesson\" )) + SUMPRODUCT( SUMIFS( FLData!$AH$2:$AH$13999, FLData!$C$2:$C$13999, \">=\"&fromDateI, FLData!$C$2:$C$13999, \"<=\" &toDateI, FLData!$S$2:$S$13999,$C35, FLData!$E$2:$E$13999, Sim1Types, FLData!$F$2:$F$13999, \"Rental\" )) )*24","v":0},{"$f":"SUMPRODUCT( SUMIFS( FLData!$AH$2:$AH$13999, FLData!$C$2:$C$13999, \">=\"&fromDateI, FLData!$C$2:$C$13999, \"<=\" &toDateI, FLData!$J$2:$J$13999,$C35, FLData!$E$2:$E$13999, Sim1Types, FLData!$F$2:$F$13999, \"Operation\" ))*24","v":0},{"$f":"( SUMPRODUCT( SUMIFS( FLData!$AH$2:$AH$13999, FLData!$C$2:$C$13999, \">=\"&fromDateI, FLData!$C$2:$C$13999, \"<=\" &toDateI, FLData!$M$2:$M$13999,$C35, FLData!$E$2:$E$13999, Sim2Types, FLData!$F$2:$F$13999, \"Lesson\" )) + SUMPRODUCT( SUMIFS( FLData!$AH$2:$AH$13999, FLData!$C$2:$C$13999, \">=\"&fromDateI, FLData!$C$2:$C$13999, \"<=\" &toDateI, FLData!$S$2:$S$13999,$C35, FLData!$E$2:$E$13999, Sim2Types, FLData!$F$2:$F$13999, \"Rental\" )) )*24","v":0},{"$f":"SUMPRODUCT( SUMIFS( FLData!$AH$2:$AH$13999, FLData!$C$2:$C$13999, \">=\"&fromDateI, FLData!$C$2:$C$13999, \"<=\" &toDateI, FLData!$J$2:$J$13999,$C35, FLData!$E$2:$E$13999, Sim2Types, FLData!$F$2:$F$13999, \"Operation\" ))*24","v":0},0,0,0]
[null,null,"",{"$f":"( SUMPRODUCT( SUMIFS( FLData!$AH$2:$AH$13999, FLData!$C$2:$C$13999, \">=\"&fromDateI, FLData!$C$2:$C$13999, \"<=\" &toDateI, FLData!$M$2:$M$13999,$C36, FLData!$E$2:$E$13999, SingleEngineTypes, FLData!$F$2:$F$13999, \"Lesson\" )) + SUMPRODUCT( SUMIFS( FLData!$AH$2:$AH$13999, FLData!$C$2:$C$13999, \">=\"&fromDateI, FLData!$C$2:$C$13999, \"<=\" &toDateI, FLData!$S$2:$S$13999,$C36, FLData!$E$2:$E$13999, SingleEngineTypes, FLData!$F$2:$F$13999, \"Rental\" )) )*24","v":0},{"$f":"SUMPRODUCT( SUMIFS( FLData!$AH$2:$AH$13999, FLData!$C$2:$C$13999, \">=\"&fromDateI, FLData!$C$2:$C$13999, \"<=\" &toDateI, FLData!$J$2:$J$13999,$C36, FLData!$E$2:$E$13999, SingleEngineTypes, FLData!$F$2:$F$13999, \"Operation\" ))*24","v":0},{"$f":"( SUMPRODUCT( SUMIFS( FLData!$AH$2:$AH$13999, FLData!$C$2:$C$13999, \">=\"&fromDateI, FLData!$C$2:$C$13999, \"<=\" &toDateI, FLData!$M$2:$M$13999,$C36, FLData!$E$2:$E$13999, MultiEngineTypes, FLData!$F$2:$F$13999, \"Lesson\" )) + SUMPRODUCT( SUMIFS( FLData!$AH$2:$AH$13999, FLData!$C$2:$C$13999, \">=\"&fromDateI, FLData!$C$2:$C$13999, \"<=\" &toDateI, FLData!$S$2:$S$13999,$C36, FLData!$E$2:$E$13999, MultiEngineTypes, FLData!$F$2:$F$13999, \"Rental\" )) )*24","v":0},{"$f":"SUMPRODUCT( SUMIFS( FLData!$AH$2:$AH$13999, FLData!$C$2:$C$13999, \">=\"&fromDateI, FLData!$C$2:$C$13999, \"<=\" &toDateI, FLData!$J$2:$J$13999,$C36, FLData!$E$2:$E$13999, MultiEngineTypes, FLData!$F$2:$F$13999, \"Operation\" ))*24","v":0},{"$f":"( SUMPRODUCT( SUMIFS( FLData!$AH$2:$AH$13999, FLData!$C$2:$C$13999, \">=\"&fromDateI, FLData!$C$2:$C$13999, \"<=\" &toDateI, FLData!$M$2:$M$13999,$C36, FLData!$E$2:$E$13999, Sim1Types, FLData!$F$2:$F$13999, \"Lesson\" )) + SUMPRODUCT( SUMIFS( FLData!$AH$2:$AH$13999, FLData!$C$2:$C$13999, \">=\"&fromDateI, FLData!$C$2:$C$13999, \"<=\" &toDateI, FLData!$S$2:$S$13999,$C36, FLData!$E$2:$E$13999, Sim1Types, FLData!$F$2:$F$13999, \"Rental\" )) )*24","v":0},{"$f":"SUMPRODUCT( SUMIFS( FLData!$AH$2:$AH$13999, FLData!$C$2:$C$13999, \">=\"&fromDateI, FLData!$C$2:$C$13999, \"<=\" &toDateI, FLData!$J$2:$J$13999,$C36, FLData!$E$2:$E$13999, Sim1Types, FLData!$F$2:$F$13999, \"Operation\" ))*24","v":0},{"$f":"( SUMPRODUCT( SUMIFS( FLData!$AH$2:$AH$13999, FLData!$C$2:$C$13999, \">=\"&fromDateI, FLData!$C$2:$C$13999, \"<=\" &toDateI, FLData!$M$2:$M$13999,$C36, FLData!$E$2:$E$13999, Sim2Types, FLData!$F$2:$F$13999, \"Lesson\" )) + SUMPRODUCT( SUMIFS( FLData!$AH$2:$AH$13999, FLData!$C$2:$C$13999, \">=\"&fromDateI, FLData!$C$2:$C$13999, \"<=\" &toDateI, FLData!$S$2:$S$13999,$C36, FLData!$E$2:$E$13999, Sim2Types, FLData!$F$2:$F$13999, \"Rental\" )) )*24","v":0},{"$f":"SUMPRODUCT( SUMIFS( FLData!$AH$2:$AH$13999, FLData!$C$2:$C$13999, \">=\"&fromDateI, FLData!$C$2:$C$13999, \"<=\" &toDateI, FLData!$J$2:$J$13999,$C36, FLData!$E$2:$E$13999, Sim2Types, FLData!$F$2:$F$13999, \"Operation\" ))*24","v":0},0,0,0]
[null,null,"",{"$f":"( SUMPRODUCT( SUMIFS( FLData!$AH$2:$AH$13999, FLData!$C$2:$C$13999, \">=\"&fromDateI, FLData!$C$2:$C$13999, \"<=\" &toDateI, FLData!$M$2:$M$13999,$C37, FLData!$E$2:$E$13999, SingleEngineTypes, FLData!$F$2:$F$13999, \"Lesson\" )) + SUMPRODUCT( SUMIFS( FLData!$AH$2:$AH$13999, FLData!$C$2:$C$13999, \">=\"&fromDateI, FLData!$C$2:$C$13999, \"<=\" &toDateI, FLData!$S$2:$S$13999,$C37, FLData!$E$2:$E$13999, SingleEngineTypes, FLData!$F$2:$F$13999, \"Rental\" )) )*24","v":0},{"$f":"SUMPRODUCT( SUMIFS( FLData!$AH$2:$AH$13999, FLData!$C$2:$C$13999, \">=\"&fromDateI, FLData!$C$2:$C$13999, \"<=\" &toDateI, FLData!$J$2:$J$13999,$C37, FLData!$E$2:$E$13999, SingleEngineTypes, FLData!$F$2:$F$13999, \"Operation\" ))*24","v":0},{"$f":"( SUMPRODUCT( SUMIFS( FLData!$AH$2:$AH$13999, FLData!$C$2:$C$13999, \">=\"&fromDateI, FLData!$C$2:$C$13999, \"<=\" &toDateI, FLData!$M$2:$M$13999,$C37, FLData!$E$2:$E$13999, MultiEngineTypes, FLData!$F$2:$F$13999, \"Lesson\" )) + SUMPRODUCT( SUMIFS( FLData!$AH$2:$AH$13999, FLData!$C$2:$C$13999, \">=\"&fromDateI, FLData!$C$2:$C$13999, \"<=\" &toDateI, FLData!$S$2:$S$13999,$C37, FLData!$E$2:$E$13999, MultiEngineTypes, FLData!$F$2:$F$13999, \"Rental\" )) )*24","v":0},{"$f":"SUMPRODUCT( SUMIFS( FLData!$AH$2:$AH$13999, FLData!$C$2:$C$13999, \">=\"&fromDateI, FLData!$C$2:$C$13999, \"<=\" &toDateI, FLData!$J$2:$J$13999,$C37, FLData!$E$2:$E$13999, MultiEngineTypes, FLData!$F$2:$F$13999, \"Operation\" ))*24","v":0},{"$f":"( SUMPRODUCT( SUMIFS( FLData!$AH$2:$AH$13999, FLData!$C$2:$C$13999, \">=\"&fromDateI, FLData!$C$2:$C$13999, \"<=\" &toDateI, FLData!$M$2:$M$13999,$C37, FLData!$E$2:$E$13999, Sim1Types, FLData!$F$2:$F$13999, \"Lesson\" )) + SUMPRODUCT( SUMIFS( FLData!$AH$2:$AH$13999, FLData!$C$2:$C$13999, \">=\"&fromDateI, FLData!$C$2:$C$13999, \"<=\" &toDateI, FLData!$S$2:$S$13999,$C37, FLData!$E$2:$E$13999, Sim1Types, FLData!$F$2:$F$13999, \"Rental\" )) )*24","v":0},{"$f":"SUMPRODUCT( SUMIFS( FLData!$AH$2:$AH$13999, FLData!$C$2:$C$13999, \">=\"&fromDateI, FLData!$C$2:$C$13999, \"<=\" &toDateI, FLData!$J$2:$J$13999,$C37, FLData!$E$2:$E$13999, Sim1Types, FLData!$F$2:$F$13999, \"Operation\" ))*24","v":0},{"$f":"( SUMPRODUCT( SUMIFS( FLData!$AH$2:$AH$13999, FLData!$C$2:$C$13999, \">=\"&fromDateI, FLData!$C$2:$C$13999, \"<=\" &toDateI, FLData!$M$2:$M$13999,$C37, FLData!$E$2:$E$13999, Sim2Types, FLData!$F$2:$F$13999, \"Lesson\" )) + SUMPRODUCT( SUMIFS( FLData!$AH$2:$AH$13999, FLData!$C$2:$C$13999, \">=\"&fromDateI, FLData!$C$2:$C$13999, \"<=\" &toDateI, FLData!$S$2:$S$13999,$C37, FLData!$E$2:$E$13999, Sim2Types, FLData!$F$2:$F$13999, \"Rental\" )) )*24","v":0},{"$f":"SUMPRODUCT( SUMIFS( FLData!$AH$2:$AH$13999, FLData!$C$2:$C$13999, \">=\"&fromDateI, FLData!$C$2:$C$13999, \"<=\" &toDateI, FLData!$J$2:$J$13999,$C37, FLData!$E$2:$E$13999, Sim2Types, FLData!$F$2:$F$13999, \"Operation\" ))*24","v":0},0,0,0]
[null,null,"",{"$f":"( SUMPRODUCT( SUMIFS( FLData!$AH$2:$AH$13999, FLData!$C$2:$C$13999, \">=\"&fromDateI, FLData!$C$2:$C$13999, \"<=\" &toDateI, FLData!$M$2:$M$13999,$C38, FLData!$E$2:$E$13999, SingleEngineTypes, FLData!$F$2:$F$13999, \"Lesson\" )) + SUMPRODUCT( SUMIFS( FLData!$AH$2:$AH$13999, FLData!$C$2:$C$13999, \">=\"&fromDateI, FLData!$C$2:$C$13999, \"<=\" &toDateI, FLData!$S$2:$S$13999,$C38, FLData!$E$2:$E$13999, SingleEngineTypes, FLData!$F$2:$F$13999, \"Rental\" )) )*24","v":0},{"$f":"SUMPRODUCT( SUMIFS( FLData!$AH$2:$AH$13999, FLData!$C$2:$C$13999, \">=\"&fromDateI, FLData!$C$2:$C$13999, \"<=\" &toDateI, FLData!$J$2:$J$13999,$C38, FLData!$E$2:$E$13999, SingleEngineTypes, FLData!$F$2:$F$13999, \"Operation\" ))*24","v":0},{"$f":"( SUMPRODUCT( SUMIFS( FLData!$AH$2:$AH$13999, FLData!$C$2:$C$13999, \">=\"&fromDateI, FLData!$C$2:$C$13999, \"<=\" &toDateI, FLData!$M$2:$M$13999,$C38, FLData!$E$2:$E$13999, MultiEngineTypes, FLData!$F$2:$F$13999, \"Lesson\" )) + SUMPRODUCT( SUMIFS( FLData!$AH$2:$AH$13999, FLData!$C$2:$C$13999, \">=\"&fromDateI, FLData!$C$2:$C$13999, \"<=\" &toDateI, FLData!$S$2:$S$13999,$C38, FLData!$E$2:$E$13999, MultiEngineTypes, FLData!$F$2:$F$13999, \"Rental\" )) )*24","v":0},{"$f":"SUMPRODUCT( SUMIFS( FLData!$AH$2:$AH$13999, FLData!$C$2:$C$13999, \">=\"&fromDateI, FLData!$C$2:$C$13999, \"<=\" &toDateI, FLData!$J$2:$J$13999,$C38, FLData!$E$2:$E$13999, MultiEngineTypes, FLData!$F$2:$F$13999, \"Operation\" ))*24","v":0},{"$f":"( SUMPRODUCT( SUMIFS( FLData!$AH$2:$AH$13999, FLData!$C$2:$C$13999, \">=\"&fromDateI, FLData!$C$2:$C$13999, \"<=\" &toDateI, FLData!$M$2:$M$13999,$C38, FLData!$E$2:$E$13999, Sim1Types, FLData!$F$2:$F$13999, \"Lesson\" )) + SUMPRODUCT( SUMIFS( FLData!$AH$2:$AH$13999, FLData!$C$2:$C$13999, \">=\"&fromDateI, FLData!$C$2:$C$13999, \"<=\" &toDateI, FLData!$S$2:$S$13999,$C38, FLData!$E$2:$E$13999, Sim1Types, FLData!$F$2:$F$13999, \"Rental\" )) )*24","v":0},{"$f":"SUMPRODUCT( SUMIFS( FLData!$AH$2:$AH$13999, FLData!$C$2:$C$13999, \">=\"&fromDateI, FLData!$C$2:$C$13999, \"<=\" &toDateI, FLData!$J$2:$J$13999,$C38, FLData!$E$2:$E$13999, Sim1Types, FLData!$F$2:$F$13999, \"Operation\" ))*24","v":0},{"$f":"( SUMPRODUCT( SUMIFS( FLData!$AH$2:$AH$13999, FLData!$C$2:$C$13999, \">=\"&fromDateI, FLData!$C$2:$C$13999, \"<=\" &toDateI, FLData!$M$2:$M$13999,$C38, FLData!$E$2:$E$13999, Sim2Types, FLData!$F$2:$F$13999, \"Lesson\" )) + SUMPRODUCT( SUMIFS( FLData!$AH$2:$AH$13999, FLData!$C$2:$C$13999, \">=\"&fromDateI, FLData!$C$2:$C$13999, \"<=\" &toDateI, FLData!$S$2:$S$13999,$C38, FLData!$E$2:$E$13999, Sim2Types, FLData!$F$2:$F$13999, \"Rental\" )) )*24","v":0},{"$f":"SUMPRODUCT( SUMIFS( FLData!$AH$2:$AH$13999, FLData!$C$2:$C$13999, \">=\"&fromDateI, FLData!$C$2:$C$13999, \"<=\" &toDateI, FLData!$J$2:$J$13999,$C38, FLData!$E$2:$E$13999, Sim2Types, FLData!$F$2:$F$13999, \"Operation\" ))*24","v":0},0,0,0]
[null,null,"",{"$f":"( SUMPRODUCT( SUMIFS( FLData!$AH$2:$AH$13999, FLData!$C$2:$C$13999, \">=\"&fromDateI, FLData!$C$2:$C$13999, \"<=\" &toDateI, FLData!$M$2:$M$13999,$C39, FLData!$E$2:$E$13999, SingleEngineTypes, FLData!$F$2:$F$13999, \"Lesson\" )) + SUMPRODUCT( SUMIFS( FLData!$AH$2:$AH$13999, FLData!$C$2:$C$13999, \">=\"&fromDateI, FLData!$C$2:$C$13999, \"<=\" &toDateI, FLData!$S$2:$S$13999,$C39, FLData!$E$2:$E$13999, SingleEngineTypes, FLData!$F$2:$F$13999, \"Rental\" )) )*24","v":0},{"$f":"SUMPRODUCT( SUMIFS( FLData!$AH$2:$AH$13999, FLData!$C$2:$C$13999, \">=\"&fromDateI, FLData!$C$2:$C$13999, \"<=\" &toDateI, FLData!$J$2:$J$13999,$C39, FLData!$E$2:$E$13999, SingleEngineTypes, FLData!$F$2:$F$13999, \"Operation\" ))*24","v":0},{"$f":"( SUMPRODUCT( SUMIFS( FLData!$AH$2:$AH$13999, FLData!$C$2:$C$13999, \">=\"&fromDateI, FLData!$C$2:$C$13999, \"<=\" &toDateI, FLData!$M$2:$M$13999,$C39, FLData!$E$2:$E$13999, MultiEngineTypes, FLData!$F$2:$F$13999, \"Lesson\" )) + SUMPRODUCT( SUMIFS( FLData!$AH$2:$AH$13999, FLData!$C$2:$C$13999, \">=\"&fromDateI, FLData!$C$2:$C$13999, \"<=\" &toDateI, FLData!$S$2:$S$13999,$C39, FLData!$E$2:$E$13999, MultiEngineTypes, FLData!$F$2:$F$13999, \"Rental\" )) )*24","v":0},{"$f":"SUMPRODUCT( SUMIFS( FLData!$AH$2:$AH$13999, FLData!$C$2:$C$13999, \">=\"&fromDateI, FLData!$C$2:$C$13999, \"<=\" &toDateI, FLData!$J$2:$J$13999,$C39, FLData!$E$2:$E$13999, MultiEngineTypes, FLData!$F$2:$F$13999, \"Operation\" ))*24","v":0},{"$f":"( SUMPRODUCT( SUMIFS( FLData!$AH$2:$AH$13999, FLData!$C$2:$C$13999, \">=\"&fromDateI, FLData!$C$2:$C$13999, \"<=\" &toDateI, FLData!$M$2:$M$13999,$C39, FLData!$E$2:$E$13999, Sim1Types, FLData!$F$2:$F$13999, \"Lesson\" )) + SUMPRODUCT( SUMIFS( FLData!$AH$2:$AH$13999, FLData!$C$2:$C$13999, \">=\"&fromDateI, FLData!$C$2:$C$13999, \"<=\" &toDateI, FLData!$S$2:$S$13999,$C39, FLData!$E$2:$E$13999, Sim1Types, FLData!$F$2:$F$13999, \"Rental\" )) )*24","v":0},{"$f":"SUMPRODUCT( SUMIFS( FLData!$AH$2:$AH$13999, FLData!$C$2:$C$13999, \">=\"&fromDateI, FLData!$C$2:$C$13999, \"<=\" &toDateI, FLData!$J$2:$J$13999,$C39, FLData!$E$2:$E$13999, Sim1Types, FLData!$F$2:$F$13999, \"Operation\" ))*24","v":0},{"$f":"( SUMPRODUCT( SUMIFS( FLData!$AH$2:$AH$13999, FLData!$C$2:$C$13999, \">=\"&fromDateI, FLData!$C$2:$C$13999, \"<=\" &toDateI, FLData!$M$2:$M$13999,$C39, FLData!$E$2:$E$13999, Sim2Types, FLData!$F$2:$F$13999, \"Lesson\" )) + SUMPRODUCT( SUMIFS( FLData!$AH$2:$AH$13999, FLData!$C$2:$C$13999, \">=\"&fromDateI, FLData!$C$2:$C$13999, \"<=\" &toDateI, FLData!$S$2:$S$13999,$C39, FLData!$E$2:$E$13999, Sim2Types, FLData!$F$2:$F$13999, \"Rental\" )) )*24","v":0},{"$f":"SUMPRODUCT( SUMIFS( FLData!$AH$2:$AH$13999, FLData!$C$2:$C$13999, \">=\"&fromDateI, FLData!$C$2:$C$13999, \"<=\" &toDateI, FLData!$J$2:$J$13999,$C39, FLData!$E$2:$E$13999, Sim2Types, FLData!$F$2:$F$13999, \"Operation\" ))*24","v":0},0,0,0]
[null,null,"",{"$f":"( SUMPRODUCT( SUMIFS( FLData!$AH$2:$AH$13999, FLData!$C$2:$C$13999, \">=\"&fromDateI, FLData!$C$2:$C$13999, \"<=\" &toDateI, FLData!$M$2:$M$13999,$C40, FLData!$E$2:$E$13999, SingleEngineTypes, FLData!$F$2:$F$13999, \"Lesson\" )) + SUMPRODUCT( SUMIFS( FLData!$AH$2:$AH$13999, FLData!$C$2:$C$13999, \">=\"&fromDateI, FLData!$C$2:$C$13999, \"<=\" &toDateI, FLData!$S$2:$S$13999,$C40, FLData!$E$2:$E$13999, SingleEngineTypes, FLData!$F$2:$F$13999, \"Rental\" )) )*24","v":0},{"$f":"SUMPRODUCT( SUMIFS( FLData!$AH$2:$AH$13999, FLData!$C$2:$C$13999, \">=\"&fromDateI, FLData!$C$2:$C$13999, \"<=\" &toDateI, FLData!$J$2:$J$13999,$C40, FLData!$E$2:$E$13999, SingleEngineTypes, FLData!$F$2:$F$13999, \"Operation\" ))*24","v":0},{"$f":"( SUMPRODUCT( SUMIFS( FLData!$AH$2:$AH$13999, FLData!$C$2:$C$13999, \">=\"&fromDateI, FLData!$C$2:$C$13999, \"<=\" &toDateI, FLData!$M$2:$M$13999,$C40, FLData!$E$2:$E$13999, MultiEngineTypes, FLData!$F$2:$F$13999, \"Lesson\" )) + SUMPRODUCT( SUMIFS( FLData!$AH$2:$AH$13999, FLData!$C$2:$C$13999, \">=\"&fromDateI, FLData!$C$2:$C$13999, \"<=\" &toDateI, FLData!$S$2:$S$13999,$C40, FLData!$E$2:$E$13999, MultiEngineTypes, FLData!$F$2:$F$13999, \"Rental\" )) )*24","v":0},{"$f":"SUMPRODUCT( SUMIFS( FLData!$AH$2:$AH$13999, FLData!$C$2:$C$13999, \">=\"&fromDateI, FLData!$C$2:$C$13999, \"<=\" &toDateI, FLData!$J$2:$J$13999,$C40, FLData!$E$2:$E$13999, MultiEngineTypes, FLData!$F$2:$F$13999, \"Operation\" ))*24","v":0},{"$f":"( SUMPRODUCT( SUMIFS( FLData!$AH$2:$AH$13999, FLData!$C$2:$C$13999, \">=\"&fromDateI, FLData!$C$2:$C$13999, \"<=\" &toDateI, FLData!$M$2:$M$13999,$C40, FLData!$E$2:$E$13999, Sim1Types, FLData!$F$2:$F$13999, \"Lesson\" )) + SUMPRODUCT( SUMIFS( FLData!$AH$2:$AH$13999, FLData!$C$2:$C$13999, \">=\"&fromDateI, FLData!$C$2:$C$13999, \"<=\" &toDateI, FLData!$S$2:$S$13999,$C40, FLData!$E$2:$E$13999, Sim1Types, FLData!$F$2:$F$13999, \"Rental\" )) )*24","v":0},{"$f":"SUMPRODUCT( SUMIFS( FLData!$AH$2:$AH$13999, FLData!$C$2:$C$13999, \">=\"&fromDateI, FLData!$C$2:$C$13999, \"<=\" &toDateI, FLData!$J$2:$J$13999,$C40, FLData!$E$2:$E$13999, Sim1Types, FLData!$F$2:$F$13999, \"Operation\" ))*24","v":0},{"$f":"( SUMPRODUCT( SUMIFS( FLData!$AH$2:$AH$13999, FLData!$C$2:$C$13999, \">=\"&fromDateI, FLData!$C$2:$C$13999, \"<=\" &toDateI, FLData!$M$2:$M$13999,$C40, FLData!$E$2:$E$13999, Sim2Types, FLData!$F$2:$F$13999, \"Lesson\" )) + SUMPRODUCT( SUMIFS( FLData!$AH$2:$AH$13999, FLData!$C$2:$C$13999, \">=\"&fromDateI, FLData!$C$2:$C$13999, \"<=\" &toDateI, FLData!$S$2:$S$13999,$C40, FLData!$E$2:$E$13999, Sim2Types, FLData!$F$2:$F$13999, \"Rental\" )) )*24","v":0},{"$f":"SUMPRODUCT( SUMIFS( FLData!$AH$2:$AH$13999, FLData!$C$2:$C$13999, \">=\"&fromDateI, FLData!$C$2:$C$13999, \"<=\" &toDateI, FLData!$J$2:$J$13999,$C40, FLData!$E$2:$E$13999, Sim2Types, FLData!$F$2:$F$13999, \"Operation\" ))*24","v":0},0,0,0]
[null,null,"",{"$f":"( SUMPRODUCT( SUMIFS( FLData!$AH$2:$AH$13999, FLData!$C$2:$C$13999, \">=\"&fromDateI, FLData!$C$2:$C$13999, \"<=\" &toDateI, FLData!$M$2:$M$13999,$C41, FLData!$E$2:$E$13999, SingleEngineTypes, FLData!$F$2:$F$13999, \"Lesson\" )) + SUMPRODUCT( SUMIFS( FLData!$AH$2:$AH$13999, FLData!$C$2:$C$13999, \">=\"&fromDateI, FLData!$C$2:$C$13999, \"<=\" &toDateI, FLData!$S$2:$S$13999,$C41, FLData!$E$2:$E$13999, SingleEngineTypes, FLData!$F$2:$F$13999, \"Rental\" )) )*24","v":0},{"$f":"SUMPRODUCT( SUMIFS( FLData!$AH$2:$AH$13999, FLData!$C$2:$C$13999, \">=\"&fromDateI, FLData!$C$2:$C$13999, \"<=\" &toDateI, FLData!$J$2:$J$13999,$C41, FLData!$E$2:$E$13999, SingleEngineTypes, FLData!$F$2:$F$13999, \"Operation\" ))*24","v":0},{"$f":"( SUMPRODUCT( SUMIFS( FLData!$AH$2:$AH$13999, FLData!$C$2:$C$13999, \">=\"&fromDateI, FLData!$C$2:$C$13999, \"<=\" &toDateI, FLData!$M$2:$M$13999,$C41, FLData!$E$2:$E$13999, MultiEngineTypes, FLData!$F$2:$F$13999, \"Lesson\" )) + SUMPRODUCT( SUMIFS( FLData!$AH$2:$AH$13999, FLData!$C$2:$C$13999, \">=\"&fromDateI, FLData!$C$2:$C$13999, \"<=\" &toDateI, FLData!$S$2:$S$13999,$C41, FLData!$E$2:$E$13999, MultiEngineTypes, FLData!$F$2:$F$13999, \"Rental\" )) )*24","v":0},{"$f":"SUMPRODUCT( SUMIFS( FLData!$AH$2:$AH$13999, FLData!$C$2:$C$13999, \">=\"&fromDateI, FLData!$C$2:$C$13999, \"<=\" &toDateI, FLData!$J$2:$J$13999,$C41, FLData!$E$2:$E$13999, MultiEngineTypes, FLData!$F$2:$F$13999, \"Operation\" ))*24","v":0},{"$f":"( SUMPRODUCT( SUMIFS( FLData!$AH$2:$AH$13999, FLData!$C$2:$C$13999, \">=\"&fromDateI, FLData!$C$2:$C$13999, \"<=\" &toDateI, FLData!$M$2:$M$13999,$C41, FLData!$E$2:$E$13999, Sim1Types, FLData!$F$2:$F$13999, \"Lesson\" )) + SUMPRODUCT( SUMIFS( FLData!$AH$2:$AH$13999, FLData!$C$2:$C$13999, \">=\"&fromDateI, FLData!$C$2:$C$13999, \"<=\" &toDateI, FLData!$S$2:$S$13999,$C41, FLData!$E$2:$E$13999, Sim1Types, FLData!$F$2:$F$13999, \"Rental\" )) )*24","v":0},{"$f":"SUMPRODUCT( SUMIFS( FLData!$AH$2:$AH$13999, FLData!$C$2:$C$13999, \">=\"&fromDateI, FLData!$C$2:$C$13999, \"<=\" &toDateI, FLData!$J$2:$J$13999,$C41, FLData!$E$2:$E$13999, Sim1Types, FLData!$F$2:$F$13999, \"Operation\" ))*24","v":0},{"$f":"( SUMPRODUCT( SUMIFS( FLData!$AH$2:$AH$13999, FLData!$C$2:$C$13999, \">=\"&fromDateI, FLData!$C$2:$C$13999, \"<=\" &toDateI, FLData!$M$2:$M$13999,$C41, FLData!$E$2:$E$13999, Sim2Types, FLData!$F$2:$F$13999, \"Lesson\" )) + SUMPRODUCT( SUMIFS( FLData!$AH$2:$AH$13999, FLData!$C$2:$C$13999, \">=\"&fromDateI, FLData!$C$2:$C$13999, \"<=\" &toDateI, FLData!$S$2:$S$13999,$C41, FLData!$E$2:$E$13999, Sim2Types, FLData!$F$2:$F$13999, \"Rental\" )) )*24","v":0},{"$f":"SUMPRODUCT( SUMIFS( FLData!$AH$2:$AH$13999, FLData!$C$2:$C$13999, \">=\"&fromDateI, FLData!$C$2:$C$13999, \"<=\" &toDateI, FLData!$J$2:$J$13999,$C41, FLData!$E$2:$E$13999, Sim2Types, FLData!$F$2:$F$13999, \"Operation\" ))*24","v":0},0,0,0]
[null,null,"",{"$f":"( SUMPRODUCT( SUMIFS( FLData!$AH$2:$AH$13999, FLData!$C$2:$C$13999, \">=\"&fromDateI, FLData!$C$2:$C$13999, \"<=\" &toDateI, FLData!$M$2:$M$13999,$C42, FLData!$E$2:$E$13999, SingleEngineTypes, FLData!$F$2:$F$13999, \"Lesson\" )) + SUMPRODUCT( SUMIFS( FLData!$AH$2:$AH$13999, FLData!$C$2:$C$13999, \">=\"&fromDateI, FLData!$C$2:$C$13999, \"<=\" &toDateI, FLData!$S$2:$S$13999,$C42, FLData!$E$2:$E$13999, SingleEngineTypes, FLData!$F$2:$F$13999, \"Rental\" )) )*24","v":0},{"$f":"SUMPRODUCT( SUMIFS( FLData!$AH$2:$AH$13999, FLData!$C$2:$C$13999, \">=\"&fromDateI, FLData!$C$2:$C$13999, \"<=\" &toDateI, FLData!$J$2:$J$13999,$C42, FLData!$E$2:$E$13999, SingleEngineTypes, FLData!$F$2:$F$13999, \"Operation\" ))*24","v":0},{"$f":"( SUMPRODUCT( SUMIFS( FLData!$AH$2:$AH$13999, FLData!$C$2:$C$13999, \">=\"&fromDateI, FLData!$C$2:$C$13999, \"<=\" &toDateI, FLData!$M$2:$M$13999,$C42, FLData!$E$2:$E$13999, MultiEngineTypes, FLData!$F$2:$F$13999, \"Lesson\" )) + SUMPRODUCT( SUMIFS( FLData!$AH$2:$AH$13999, FLData!$C$2:$C$13999, \">=\"&fromDateI, FLData!$C$2:$C$13999, \"<=\" &toDateI, FLData!$S$2:$S$13999,$C42, FLData!$E$2:$E$13999, MultiEngineTypes, FLData!$F$2:$F$13999, \"Rental\" )) )*24","v":0},{"$f":"SUMPRODUCT( SUMIFS( FLData!$AH$2:$AH$13999, FLData!$C$2:$C$13999, \">=\"&fromDateI, FLData!$C$2:$C$13999, \"<=\" &toDateI, FLData!$J$2:$J$13999,$C42, FLData!$E$2:$E$13999, MultiEngineTypes, FLData!$F$2:$F$13999, \"Operation\" ))*24","v":0},{"$f":"( SUMPRODUCT( SUMIFS( FLData!$AH$2:$AH$13999, FLData!$C$2:$C$13999, \">=\"&fromDateI, FLData!$C$2:$C$13999, \"<=\" &toDateI, FLData!$M$2:$M$13999,$C42, FLData!$E$2:$E$13999, Sim1Types, FLData!$F$2:$F$13999, \"Lesson\" )) + SUMPRODUCT( SUMIFS( FLData!$AH$2:$AH$13999, FLData!$C$2:$C$13999, \">=\"&fromDateI, FLData!$C$2:$C$13999, \"<=\" &toDateI, FLData!$S$2:$S$13999,$C42, FLData!$E$2:$E$13999, Sim1Types, FLData!$F$2:$F$13999, \"Rental\" )) )*24","v":0},{"$f":"SUMPRODUCT( SUMIFS( FLData!$AH$2:$AH$13999, FLData!$C$2:$C$13999, \">=\"&fromDateI, FLData!$C$2:$C$13999, \"<=\" &toDateI, FLData!$J$2:$J$13999,$C42, FLData!$E$2:$E$13999, Sim1Types, FLData!$F$2:$F$13999, \"Operation\" ))*24","v":0},{"$f":"( SUMPRODUCT( SUMIFS( FLData!$AH$2:$AH$13999, FLData!$C$2:$C$13999, \">=\"&fromDateI, FLData!$C$2:$C$13999, \"<=\" &toDateI, FLData!$M$2:$M$13999,$C42, FLData!$E$2:$E$13999, Sim2Types, FLData!$F$2:$F$13999, \"Lesson\" )) + SUMPRODUCT( SUMIFS( FLData!$AH$2:$AH$13999, FLData!$C$2:$C$13999, \">=\"&fromDateI, FLData!$C$2:$C$13999, \"<=\" &toDateI, FLData!$S$2:$S$13999,$C42, FLData!$E$2:$E$13999, Sim2Types, FLData!$F$2:$F$13999, \"Rental\" )) )*24","v":0},{"$f":"SUMPRODUCT( SUMIFS( FLData!$AH$2:$AH$13999, FLData!$C$2:$C$13999, \">=\"&fromDateI, FLData!$C$2:$C$13999, \"<=\" &toDateI, FLData!$J$2:$J$13999,$C42, FLData!$E$2:$E$13999, Sim2Types, FLData!$F$2:$F$13999, \"Operation\" ))*24","v":0},0,0,0]
[null,null,"",{"$f":"( SUMPRODUCT( SUMIFS( FLData!$AH$2:$AH$13999, FLData!$C$2:$C$13999, \">=\"&fromDateI, FLData!$C$2:$C$13999, \"<=\" &toDateI, FLData!$M$2:$M$13999,$C43, FLData!$E$2:$E$13999, SingleEngineTypes, FLData!$F$2:$F$13999, \"Lesson\" )) + SUMPRODUCT( SUMIFS( FLData!$AH$2:$AH$13999, FLData!$C$2:$C$13999, \">=\"&fromDateI, FLData!$C$2:$C$13999, \"<=\" &toDateI, FLData!$S$2:$S$13999,$C43, FLData!$E$2:$E$13999, SingleEngineTypes, FLData!$F$2:$F$13999, \"Rental\" )) )*24","v":0},{"$f":"SUMPRODUCT( SUMIFS( FLData!$AH$2:$AH$13999, FLData!$C$2:$C$13999, \">=\"&fromDateI, FLData!$C$2:$C$13999, \"<=\" &toDateI, FLData!$J$2:$J$13999,$C43, FLData!$E$2:$E$13999, SingleEngineTypes, FLData!$F$2:$F$13999, \"Operation\" ))*24","v":0},{"$f":"( SUMPRODUCT( SUMIFS( FLData!$AH$2:$AH$13999, FLData!$C$2:$C$13999, \">=\"&fromDateI, FLData!$C$2:$C$13999, \"<=\" &toDateI, FLData!$M$2:$M$13999,$C43, FLData!$E$2:$E$13999, MultiEngineTypes, FLData!$F$2:$F$13999, \"Lesson\" )) + SUMPRODUCT( SUMIFS( FLData!$AH$2:$AH$13999, FLData!$C$2:$C$13999, \">=\"&fromDateI, FLData!$C$2:$C$13999, \"<=\" &toDateI, FLData!$S$2:$S$13999,$C43, FLData!$E$2:$E$13999, MultiEngineTypes, FLData!$F$2:$F$13999, \"Rental\" )) )*24","v":0},{"$f":"SUMPRODUCT( SUMIFS( FLData!$AH$2:$AH$13999, FLData!$C$2:$C$13999, \">=\"&fromDateI, FLData!$C$2:$C$13999, \"<=\" &toDateI, FLData!$J$2:$J$13999,$C43, FLData!$E$2:$E$13999, MultiEngineTypes, FLData!$F$2:$F$13999, \"Operation\" ))*24","v":0},{"$f":"( SUMPRODUCT( SUMIFS( FLData!$AH$2:$AH$13999, FLData!$C$2:$C$13999, \">=\"&fromDateI, FLData!$C$2:$C$13999, \"<=\" &toDateI, FLData!$M$2:$M$13999,$C43, FLData!$E$2:$E$13999, Sim1Types, FLData!$F$2:$F$13999, \"Lesson\" )) + SUMPRODUCT( SUMIFS( FLData!$AH$2:$AH$13999, FLData!$C$2:$C$13999, \">=\"&fromDateI, FLData!$C$2:$C$13999, \"<=\" &toDateI, FLData!$S$2:$S$13999,$C43, FLData!$E$2:$E$13999, Sim1Types, FLData!$F$2:$F$13999, \"Rental\" )) )*24","v":0},{"$f":"SUMPRODUCT( SUMIFS( FLData!$AH$2:$AH$13999, FLData!$C$2:$C$13999, \">=\"&fromDateI, FLData!$C$2:$C$13999, \"<=\" &toDateI, FLData!$J$2:$J$13999,$C43, FLData!$E$2:$E$13999, Sim1Types, FLData!$F$2:$F$13999, \"Operation\" ))*24","v":0},{"$f":"( SUMPRODUCT( SUMIFS( FLData!$AH$2:$AH$13999, FLData!$C$2:$C$13999, \">=\"&fromDateI, FLData!$C$2:$C$13999, \"<=\" &toDateI, FLData!$M$2:$M$13999,$C43, FLData!$E$2:$E$13999, Sim2Types, FLData!$F$2:$F$13999, \"Lesson\" )) + SUMPRODUCT( SUMIFS( FLData!$AH$2:$AH$13999, FLData!$C$2:$C$13999, \">=\"&fromDateI, FLData!$C$2:$C$13999, \"<=\" &toDateI, FLData!$S$2:$S$13999,$C43, FLData!$E$2:$E$13999, Sim2Types, FLData!$F$2:$F$13999, \"Rental\" )) )*24","v":0},{"$f":"SUMPRODUCT( SUMIFS( FLData!$AH$2:$AH$13999, FLData!$C$2:$C$13999, \">=\"&fromDateI, FLData!$C$2:$C$13999, \"<=\" &toDateI, FLData!$J$2:$J$13999,$C43, FLData!$E$2:$E$13999, Sim2Types, FLData!$F$2:$F$13999, \"Operation\" ))*24","v":0},0,0,0]
[null,null,"",{"$f":"( SUMPRODUCT( SUMIFS( FLData!$AH$2:$AH$13999, FLData!$C$2:$C$13999, \">=\"&fromDateI, FLData!$C$2:$C$13999, \"<=\" &toDateI, FLData!$M$2:$M$13999,$C44, FLData!$E$2:$E$13999, SingleEngineTypes, FLData!$F$2:$F$13999, \"Lesson\" )) + SUMPRODUCT( SUMIFS( FLData!$AH$2:$AH$13999, FLData!$C$2:$C$13999, \">=\"&fromDateI, FLData!$C$2:$C$13999, \"<=\" &toDateI, FLData!$S$2:$S$13999,$C44, FLData!$E$2:$E$13999, SingleEngineTypes, FLData!$F$2:$F$13999, \"Rental\" )) )*24","v":0},{"$f":"SUMPRODUCT( SUMIFS( FLData!$AH$2:$AH$13999, FLData!$C$2:$C$13999, \">=\"&fromDateI, FLData!$C$2:$C$13999, \"<=\" &toDateI, FLData!$J$2:$J$13999,$C44, FLData!$E$2:$E$13999, SingleEngineTypes, FLData!$F$2:$F$13999, \"Operation\" ))*24","v":0},{"$f":"( SUMPRODUCT( SUMIFS( FLData!$AH$2:$AH$13999, FLData!$C$2:$C$13999, \">=\"&fromDateI, FLData!$C$2:$C$13999, \"<=\" &toDateI, FLData!$M$2:$M$13999,$C44, FLData!$E$2:$E$13999, MultiEngineTypes, FLData!$F$2:$F$13999, \"Lesson\" )) + SUMPRODUCT( SUMIFS( FLData!$AH$2:$AH$13999, FLData!$C$2:$C$13999, \">=\"&fromDateI, FLData!$C$2:$C$13999, \"<=\" &toDateI, FLData!$S$2:$S$13999,$C44, FLData!$E$2:$E$13999, MultiEngineTypes, FLData!$F$2:$F$13999, \"Rental\" )) )*24","v":0},{"$f":"SUMPRODUCT( SUMIFS( FLData!$AH$2:$AH$13999, FLData!$C$2:$C$13999, \">=\"&fromDateI, FLData!$C$2:$C$13999, \"<=\" &toDateI, FLData!$J$2:$J$13999,$C44, FLData!$E$2:$E$13999, MultiEngineTypes, FLData!$F$2:$F$13999, \"Operation\" ))*24","v":0},{"$f":"( SUMPRODUCT( SUMIFS( FLData!$AH$2:$AH$13999, FLData!$C$2:$C$13999, \">=\"&fromDateI, FLData!$C$2:$C$13999, \"<=\" &toDateI, FLData!$M$2:$M$13999,$C44, FLData!$E$2:$E$13999, Sim1Types, FLData!$F$2:$F$13999, \"Lesson\" )) + SUMPRODUCT( SUMIFS( FLData!$AH$2:$AH$13999, FLData!$C$2:$C$13999, \">=\"&fromDateI, FLData!$C$2:$C$13999, \"<=\" &toDateI, FLData!$S$2:$S$13999,$C44, FLData!$E$2:$E$13999, Sim1Types, FLData!$F$2:$F$13999, \"Rental\" )) )*24","v":0},{"$f":"SUMPRODUCT( SUMIFS( FLData!$AH$2:$AH$13999, FLData!$C$2:$C$13999, \">=\"&fromDateI, FLData!$C$2:$C$13999, \"<=\" &toDateI, FLData!$J$2:$J$13999,$C44, FLData!$E$2:$E$13999, Sim1Types, FLData!$F$2:$F$13999, \"Operation\" ))*24","v":0},{"$f":"( SUMPRODUCT( SUMIFS( FLData!$AH$2:$AH$13999, FLData!$C$2:$C$13999, \">=\"&fromDateI, FLData!$C$2:$C$13999, \"<=\" &toDateI, FLData!$M$2:$M$13999,$C44, FLData!$E$2:$E$13999, Sim2Types, FLData!$F$2:$F$13999, \"Lesson\" )) + SUMPRODUCT( SUMIFS( FLData!$AH$2:$AH$13999, FLData!$C$2:$C$13999, \">=\"&fromDateI, FLData!$C$2:$C$13999, \"<=\" &toDateI, FLData!$S$2:$S$13999,$C44, FLData!$E$2:$E$13999, Sim2Types, FLData!$F$2:$F$13999, \"Rental\" )) )*24","v":0},{"$f":"SUMPRODUCT( SUMIFS( FLData!$AH$2:$AH$13999, FLData!$C$2:$C$13999, \">=\"&fromDateI, FLData!$C$2:$C$13999, \"<=\" &toDateI, FLData!$J$2:$J$13999,$C44, FLData!$E$2:$E$13999, Sim2Types, FLData!$F$2:$F$13999, \"Operation\" ))*24","v":0},0,0,0]
[null,null,"",{"$f":"( SUMPRODUCT( SUMIFS( FLData!$AH$2:$AH$13999, FLData!$C$2:$C$13999, \">=\"&fromDateI, FLData!$C$2:$C$13999, \"<=\" &toDateI, FLData!$M$2:$M$13999,$C45, FLData!$E$2:$E$13999, SingleEngineTypes, FLData!$F$2:$F$13999, \"Lesson\" )) + SUMPRODUCT( SUMIFS( FLData!$AH$2:$AH$13999, FLData!$C$2:$C$13999, \">=\"&fromDateI, FLData!$C$2:$C$13999, \"<=\" &toDateI, FLData!$S$2:$S$13999,$C45, FLData!$E$2:$E$13999, SingleEngineTypes, FLData!$F$2:$F$13999, \"Rental\" )) )*24","v":0},{"$f":"SUMPRODUCT( SUMIFS( FLData!$AH$2:$AH$13999, FLData!$C$2:$C$13999, \">=\"&fromDateI, FLData!$C$2:$C$13999, \"<=\" &toDateI, FLData!$J$2:$J$13999,$C45, FLData!$E$2:$E$13999, SingleEngineTypes, FLData!$F$2:$F$13999, \"Operation\" ))*24","v":0},{"$f":"( SUMPRODUCT( SUMIFS( FLData!$AH$2:$AH$13999, FLData!$C$2:$C$13999, \">=\"&fromDateI, FLData!$C$2:$C$13999, \"<=\" &toDateI, FLData!$M$2:$M$13999,$C45, FLData!$E$2:$E$13999, MultiEngineTypes, FLData!$F$2:$F$13999, \"Lesson\" )) + SUMPRODUCT( SUMIFS( FLData!$AH$2:$AH$13999, FLData!$C$2:$C$13999, \">=\"&fromDateI, FLData!$C$2:$C$13999, \"<=\" &toDateI, FLData!$S$2:$S$13999,$C45, FLData!$E$2:$E$13999, MultiEngineTypes, FLData!$F$2:$F$13999, \"Rental\" )) )*24","v":0},{"$f":"SUMPRODUCT( SUMIFS( FLData!$AH$2:$AH$13999, FLData!$C$2:$C$13999, \">=\"&fromDateI, FLData!$C$2:$C$13999, \"<=\" &toDateI, FLData!$J$2:$J$13999,$C45, FLData!$E$2:$E$13999, MultiEngineTypes, FLData!$F$2:$F$13999, \"Operation\" ))*24","v":0},{"$f":"( SUMPRODUCT( SUMIFS( FLData!$AH$2:$AH$13999, FLData!$C$2:$C$13999, \">=\"&fromDateI, FLData!$C$2:$C$13999, \"<=\" &toDateI, FLData!$M$2:$M$13999,$C45, FLData!$E$2:$E$13999, Sim1Types, FLData!$F$2:$F$13999, \"Lesson\" )) + SUMPRODUCT( SUMIFS( FLData!$AH$2:$AH$13999, FLData!$C$2:$C$13999, \">=\"&fromDateI, FLData!$C$2:$C$13999, \"<=\" &toDateI, FLData!$S$2:$S$13999,$C45, FLData!$E$2:$E$13999, Sim1Types, FLData!$F$2:$F$13999, \"Rental\" )) )*24","v":0},{"$f":"SUMPRODUCT( SUMIFS( FLData!$AH$2:$AH$13999, FLData!$C$2:$C$13999, \">=\"&fromDateI, FLData!$C$2:$C$13999, \"<=\" &toDateI, FLData!$J$2:$J$13999,$C45, FLData!$E$2:$E$13999, Sim1Types, FLData!$F$2:$F$13999, \"Operation\" ))*24","v":0},{"$f":"( SUMPRODUCT( SUMIFS( FLData!$AH$2:$AH$13999, FLData!$C$2:$C$13999, \">=\"&fromDateI, FLData!$C$2:$C$13999, \"<=\" &toDateI, FLData!$M$2:$M$13999,$C45, FLData!$E$2:$E$13999, Sim2Types, FLData!$F$2:$F$13999, \"Lesson\" )) + SUMPRODUCT( SUMIFS( FLData!$AH$2:$AH$13999, FLData!$C$2:$C$13999, \">=\"&fromDateI, FLData!$C$2:$C$13999, \"<=\" &toDateI, FLData!$S$2:$S$13999,$C45, FLData!$E$2:$E$13999, Sim2Types, FLData!$F$2:$F$13999, \"Rental\" )) )*24","v":0},{"$f":"SUMPRODUCT( SUMIFS( FLData!$AH$2:$AH$13999, FLData!$C$2:$C$13999, \">=\"&fromDateI, FLData!$C$2:$C$13999, \"<=\" &toDateI, FLData!$J$2:$J$13999,$C45, FLData!$E$2:$E$13999, Sim2Types, FLData!$F$2:$F$13999, \"Operation\" ))*24","v":0},0,0,0]
[null,null,"",{"$f":"( SUMPRODUCT( SUMIFS( FLData!$AH$2:$AH$13999, FLData!$C$2:$C$13999, \">=\"&fromDateI, FLData!$C$2:$C$13999, \"<=\" &toDateI, FLData!$M$2:$M$13999,$C46, FLData!$E$2:$E$13999, SingleEngineTypes, FLData!$F$2:$F$13999, \"Lesson\" )) + SUMPRODUCT( SUMIFS( FLData!$AH$2:$AH$13999, FLData!$C$2:$C$13999, \">=\"&fromDateI, FLData!$C$2:$C$13999, \"<=\" &toDateI, FLData!$S$2:$S$13999,$C46, FLData!$E$2:$E$13999, SingleEngineTypes, FLData!$F$2:$F$13999, \"Rental\" )) )*24","v":0},{"$f":"SUMPRODUCT( SUMIFS( FLData!$AH$2:$AH$13999, FLData!$C$2:$C$13999, \">=\"&fromDateI, FLData!$C$2:$C$13999, \"<=\" &toDateI, FLData!$J$2:$J$13999,$C46, FLData!$E$2:$E$13999, SingleEngineTypes, FLData!$F$2:$F$13999, \"Operation\" ))*24","v":0},{"$f":"( SUMPRODUCT( SUMIFS( FLData!$AH$2:$AH$13999, FLData!$C$2:$C$13999, \">=\"&fromDateI, FLData!$C$2:$C$13999, \"<=\" &toDateI, FLData!$M$2:$M$13999,$C46, FLData!$E$2:$E$13999, MultiEngineTypes, FLData!$F$2:$F$13999, \"Lesson\" )) + SUMPRODUCT( SUMIFS( FLData!$AH$2:$AH$13999, FLData!$C$2:$C$13999, \">=\"&fromDateI, FLData!$C$2:$C$13999, \"<=\" &toDateI, FLData!$S$2:$S$13999,$C46, FLData!$E$2:$E$13999, MultiEngineTypes, FLData!$F$2:$F$13999, \"Rental\" )) )*24","v":0},{"$f":"SUMPRODUCT( SUMIFS( FLData!$AH$2:$AH$13999, FLData!$C$2:$C$13999, \">=\"&fromDateI, FLData!$C$2:$C$13999, \"<=\" &toDateI, FLData!$J$2:$J$13999,$C46, FLData!$E$2:$E$13999, MultiEngineTypes, FLData!$F$2:$F$13999, \"Operation\" ))*24","v":0},{"$f":"( SUMPRODUCT( SUMIFS( FLData!$AH$2:$AH$13999, FLData!$C$2:$C$13999, \">=\"&fromDateI, FLData!$C$2:$C$13999, \"<=\" &toDateI, FLData!$M$2:$M$13999,$C46, FLData!$E$2:$E$13999, Sim1Types, FLData!$F$2:$F$13999, \"Lesson\" )) + SUMPRODUCT( SUMIFS( FLData!$AH$2:$AH$13999, FLData!$C$2:$C$13999, \">=\"&fromDateI, FLData!$C$2:$C$13999, \"<=\" &toDateI, FLData!$S$2:$S$13999,$C46, FLData!$E$2:$E$13999, Sim1Types, FLData!$F$2:$F$13999, \"Rental\" )) )*24","v":0},{"$f":"SUMPRODUCT( SUMIFS( FLData!$AH$2:$AH$13999, FLData!$C$2:$C$13999, \">=\"&fromDateI, FLData!$C$2:$C$13999, \"<=\" &toDateI, FLData!$J$2:$J$13999,$C46, FLData!$E$2:$E$13999, Sim1Types, FLData!$F$2:$F$13999, \"Operation\" ))*24","v":0},{"$f":"( SUMPRODUCT( SUMIFS( FLData!$AH$2:$AH$13999, FLData!$C$2:$C$13999, \">=\"&fromDateI, FLData!$C$2:$C$13999, \"<=\" &toDateI, FLData!$M$2:$M$13999,$C46, FLData!$E$2:$E$13999, Sim2Types, FLData!$F$2:$F$13999, \"Lesson\" )) + SUMPRODUCT( SUMIFS( FLData!$AH$2:$AH$13999, FLData!$C$2:$C$13999, \">=\"&fromDateI, FLData!$C$2:$C$13999, \"<=\" &toDateI, FLData!$S$2:$S$13999,$C46, FLData!$E$2:$E$13999, Sim2Types, FLData!$F$2:$F$13999, \"Rental\" )) )*24","v":0},{"$f":"SUMPRODUCT( SUMIFS( FLData!$AH$2:$AH$13999, FLData!$C$2:$C$13999, \">=\"&fromDateI, FLData!$C$2:$C$13999, \"<=\" &toDateI, FLData!$J$2:$J$13999,$C46, FLData!$E$2:$E$13999, Sim2Types, FLData!$F$2:$F$13999, \"Operation\" ))*24","v":0},0,0,0]
[null,null,"",{"$f":"( SUMPRODUCT( SUMIFS( FLData!$AH$2:$AH$13999, FLData!$C$2:$C$13999, \">=\"&fromDateI, FLData!$C$2:$C$13999, \"<=\" &toDateI, FLData!$M$2:$M$13999,$C47, FLData!$E$2:$E$13999, SingleEngineTypes, FLData!$F$2:$F$13999, \"Lesson\" )) + SUMPRODUCT( SUMIFS( FLData!$AH$2:$AH$13999, FLData!$C$2:$C$13999, \">=\"&fromDateI, FLData!$C$2:$C$13999, \"<=\" &toDateI, FLData!$S$2:$S$13999,$C47, FLData!$E$2:$E$13999, SingleEngineTypes, FLData!$F$2:$F$13999, \"Rental\" )) )*24","v":0},{"$f":"SUMPRODUCT( SUMIFS( FLData!$AH$2:$AH$13999, FLData!$C$2:$C$13999, \">=\"&fromDateI, FLData!$C$2:$C$13999, \"<=\" &toDateI, FLData!$J$2:$J$13999,$C47, FLData!$E$2:$E$13999, SingleEngineTypes, FLData!$F$2:$F$13999, \"Operation\" ))*24","v":0},{"$f":"( SUMPRODUCT( SUMIFS( FLData!$AH$2:$AH$13999, FLData!$C$2:$C$13999, \">=\"&fromDateI, FLData!$C$2:$C$13999, \"<=\" &toDateI, FLData!$M$2:$M$13999,$C47, FLData!$E$2:$E$13999, MultiEngineTypes, FLData!$F$2:$F$13999, \"Lesson\" )) + SUMPRODUCT( SUMIFS( FLData!$AH$2:$AH$13999, FLData!$C$2:$C$13999, \">=\"&fromDateI, FLData!$C$2:$C$13999, \"<=\" &toDateI, FLData!$S$2:$S$13999,$C47, FLData!$E$2:$E$13999, MultiEngineTypes, FLData!$F$2:$F$13999, \"Rental\" )) )*24","v":0},{"$f":"SUMPRODUCT( SUMIFS( FLData!$AH$2:$AH$13999, FLData!$C$2:$C$13999, \">=\"&fromDateI, FLData!$C$2:$C$13999, \"<=\" &toDateI, FLData!$J$2:$J$13999,$C47, FLData!$E$2:$E$13999, MultiEngineTypes, FLData!$F$2:$F$13999, \"Operation\" ))*24","v":0},{"$f":"( SUMPRODUCT( SUMIFS( FLData!$AH$2:$AH$13999, FLData!$C$2:$C$13999, \">=\"&fromDateI, FLData!$C$2:$C$13999, \"<=\" &toDateI, FLData!$M$2:$M$13999,$C47, FLData!$E$2:$E$13999, Sim1Types, FLData!$F$2:$F$13999, \"Lesson\" )) + SUMPRODUCT( SUMIFS( FLData!$AH$2:$AH$13999, FLData!$C$2:$C$13999, \">=\"&fromDateI, FLData!$C$2:$C$13999, \"<=\" &toDateI, FLData!$S$2:$S$13999,$C47, FLData!$E$2:$E$13999, Sim1Types, FLData!$F$2:$F$13999, \"Rental\" )) )*24","v":0},{"$f":"SUMPRODUCT( SUMIFS( FLData!$AH$2:$AH$13999, FLData!$C$2:$C$13999, \">=\"&fromDateI, FLData!$C$2:$C$13999, \"<=\" &toDateI, FLData!$J$2:$J$13999,$C47, FLData!$E$2:$E$13999, Sim1Types, FLData!$F$2:$F$13999, \"Operation\" ))*24","v":0},{"$f":"( SUMPRODUCT( SUMIFS( FLData!$AH$2:$AH$13999, FLData!$C$2:$C$13999, \">=\"&fromDateI, FLData!$C$2:$C$13999, \"<=\" &toDateI, FLData!$M$2:$M$13999,$C47, FLData!$E$2:$E$13999, Sim2Types, FLData!$F$2:$F$13999, \"Lesson\" )) + SUMPRODUCT( SUMIFS( FLData!$AH$2:$AH$13999, FLData!$C$2:$C$13999, \">=\"&fromDateI, FLData!$C$2:$C$13999, \"<=\" &toDateI, FLData!$S$2:$S$13999,$C47, FLData!$E$2:$E$13999, Sim2Types, FLData!$F$2:$F$13999, \"Rental\" )) )*24","v":0},{"$f":"SUMPRODUCT( SUMIFS( FLData!$AH$2:$AH$13999, FLData!$C$2:$C$13999, \">=\"&fromDateI, FLData!$C$2:$C$13999, \"<=\" &toDateI, FLData!$J$2:$J$13999,$C47, FLData!$E$2:$E$13999, Sim2Types, FLData!$F$2:$F$13999, \"Operation\" ))*24","v":0},0,0,0]
[null,null,"",{"$f":"( SUMPRODUCT( SUMIFS( FLData!$AH$2:$AH$13999, FLData!$C$2:$C$13999, \">=\"&fromDateI, FLData!$C$2:$C$13999, \"<=\" &toDateI, FLData!$M$2:$M$13999,$C48, FLData!$E$2:$E$13999, SingleEngineTypes, FLData!$F$2:$F$13999, \"Lesson\" )) + SUMPRODUCT( SUMIFS( FLData!$AH$2:$AH$13999, FLData!$C$2:$C$13999, \">=\"&fromDateI, FLData!$C$2:$C$13999, \"<=\" &toDateI, FLData!$S$2:$S$13999,$C48, FLData!$E$2:$E$13999, SingleEngineTypes, FLData!$F$2:$F$13999, \"Rental\" )) )*24","v":0},{"$f":"SUMPRODUCT( SUMIFS( FLData!$AH$2:$AH$13999, FLData!$C$2:$C$13999, \">=\"&fromDateI, FLData!$C$2:$C$13999, \"<=\" &toDateI, FLData!$J$2:$J$13999,$C48, FLData!$E$2:$E$13999, SingleEngineTypes, FLData!$F$2:$F$13999, \"Operation\" ))*24","v":0},{"$f":"( SUMPRODUCT( SUMIFS( FLData!$AH$2:$AH$13999, FLData!$C$2:$C$13999, \">=\"&fromDateI, FLData!$C$2:$C$13999, \"<=\" &toDateI, FLData!$M$2:$M$13999,$C48, FLData!$E$2:$E$13999, MultiEngineTypes, FLData!$F$2:$F$13999, \"Lesson\" )) + SUMPRODUCT( SUMIFS( FLData!$AH$2:$AH$13999, FLData!$C$2:$C$13999, \">=\"&fromDateI, FLData!$C$2:$C$13999, \"<=\" &toDateI, FLData!$S$2:$S$13999,$C48, FLData!$E$2:$E$13999, MultiEngineTypes, FLData!$F$2:$F$13999, \"Rental\" )) )*24","v":0},{"$f":"SUMPRODUCT( SUMIFS( FLData!$AH$2:$AH$13999, FLData!$C$2:$C$13999, \">=\"&fromDateI, FLData!$C$2:$C$13999, \"<=\" &toDateI, FLData!$J$2:$J$13999,$C48, FLData!$E$2:$E$13999, MultiEngineTypes, FLData!$F$2:$F$13999, \"Operation\" ))*24","v":0},{"$f":"( SUMPRODUCT( SUMIFS( FLData!$AH$2:$AH$13999, FLData!$C$2:$C$13999, \">=\"&fromDateI, FLData!$C$2:$C$13999, \"<=\" &toDateI, FLData!$M$2:$M$13999,$C48, FLData!$E$2:$E$13999, Sim1Types, FLData!$F$2:$F$13999, \"Lesson\" )) + SUMPRODUCT( SUMIFS( FLData!$AH$2:$AH$13999, FLData!$C$2:$C$13999, \">=\"&fromDateI, FLData!$C$2:$C$13999, \"<=\" &toDateI, FLData!$S$2:$S$13999,$C48, FLData!$E$2:$E$13999, Sim1Types, FLData!$F$2:$F$13999, \"Rental\" )) )*24","v":0},{"$f":"SUMPRODUCT( SUMIFS( FLData!$AH$2:$AH$13999, FLData!$C$2:$C$13999, \">=\"&fromDateI, FLData!$C$2:$C$13999, \"<=\" &toDateI, FLData!$J$2:$J$13999,$C48, FLData!$E$2:$E$13999, Sim1Types, FLData!$F$2:$F$13999, \"Operation\" ))*24","v":0},{"$f":"( SUMPRODUCT( SUMIFS( FLData!$AH$2:$AH$13999, FLData!$C$2:$C$13999, \">=\"&fromDateI, FLData!$C$2:$C$13999, \"<=\" &toDateI, FLData!$M$2:$M$13999,$C48, FLData!$E$2:$E$13999, Sim2Types, FLData!$F$2:$F$13999, \"Lesson\" )) + SUMPRODUCT( SUMIFS( FLData!$AH$2:$AH$13999, FLData!$C$2:$C$13999, \">=\"&fromDateI, FLData!$C$2:$C$13999, \"<=\" &toDateI, FLData!$S$2:$S$13999,$C48, FLData!$E$2:$E$13999, Sim2Types, FLData!$F$2:$F$13999, \"Rental\" )) )*24","v":0},{"$f":"SUMPRODUCT( SUMIFS( FLData!$AH$2:$AH$13999, FLData!$C$2:$C$13999, \">=\"&fromDateI, FLData!$C$2:$C$13999, \"<=\" &toDateI, FLData!$J$2:$J$13999,$C48, FLData!$E$2:$E$13999, Sim2Types, FLData!$F$2:$F$13999, \"Operation\" ))*24","v":0},0,0,0]
[null,null,"",{"$f":"( SUMPRODUCT( SUMIFS( FLData!$AH$2:$AH$13999, FLData!$C$2:$C$13999, \">=\"&fromDateI, FLData!$C$2:$C$13999, \"<=\" &toDateI, FLData!$M$2:$M$13999,$C49, FLData!$E$2:$E$13999, SingleEngineTypes, FLData!$F$2:$F$13999, \"Lesson\" )) + SUMPRODUCT( SUMIFS( FLData!$AH$2:$AH$13999, FLData!$C$2:$C$13999, \">=\"&fromDateI, FLData!$C$2:$C$13999, \"<=\" &toDateI, FLData!$S$2:$S$13999,$C49, FLData!$E$2:$E$13999, SingleEngineTypes, FLData!$F$2:$F$13999, \"Rental\" )) )*24","v":0},{"$f":"SUMPRODUCT( SUMIFS( FLData!$AH$2:$AH$13999, FLData!$C$2:$C$13999, \">=\"&fromDateI, FLData!$C$2:$C$13999, \"<=\" &toDateI, FLData!$J$2:$J$13999,$C49, FLData!$E$2:$E$13999, SingleEngineTypes, FLData!$F$2:$F$13999, \"Operation\" ))*24","v":0},{"$f":"( SUMPRODUCT( SUMIFS( FLData!$AH$2:$AH$13999, FLData!$C$2:$C$13999, \">=\"&fromDateI, FLData!$C$2:$C$13999, \"<=\" &toDateI, FLData!$M$2:$M$13999,$C49, FLData!$E$2:$E$13999, MultiEngineTypes, FLData!$F$2:$F$13999, \"Lesson\" )) + SUMPRODUCT( SUMIFS( FLData!$AH$2:$AH$13999, FLData!$C$2:$C$13999, \">=\"&fromDateI, FLData!$C$2:$C$13999, \"<=\" &toDateI, FLData!$S$2:$S$13999,$C49, FLData!$E$2:$E$13999, MultiEngineTypes, FLData!$F$2:$F$13999, \"Rental\" )) )*24","v":0},{"$f":"SUMPRODUCT( SUMIFS( FLData!$AH$2:$AH$13999, FLData!$C$2:$C$13999, \">=\"&fromDateI, FLData!$C$2:$C$13999, \"<=\" &toDateI, FLData!$J$2:$J$13999,$C49, FLData!$E$2:$E$13999, MultiEngineTypes, FLData!$F$2:$F$13999, \"Operation\" ))*24","v":0},{"$f":"( SUMPRODUCT( SUMIFS( FLData!$AH$2:$AH$13999, FLData!$C$2:$C$13999, \">=\"&fromDateI, FLData!$C$2:$C$13999, \"<=\" &toDateI, FLData!$M$2:$M$13999,$C49, FLData!$E$2:$E$13999, Sim1Types, FLData!$F$2:$F$13999, \"Lesson\" )) + SUMPRODUCT( SUMIFS( FLData!$AH$2:$AH$13999, FLData!$C$2:$C$13999, \">=\"&fromDateI, FLData!$C$2:$C$13999, \"<=\" &toDateI, FLData!$S$2:$S$13999,$C49, FLData!$E$2:$E$13999, Sim1Types, FLData!$F$2:$F$13999, \"Rental\" )) )*24","v":0},{"$f":"SUMPRODUCT( SUMIFS( FLData!$AH$2:$AH$13999, FLData!$C$2:$C$13999, \">=\"&fromDateI, FLData!$C$2:$C$13999, \"<=\" &toDateI, FLData!$J$2:$J$13999,$C49, FLData!$E$2:$E$13999, Sim1Types, FLData!$F$2:$F$13999, \"Operation\" ))*24","v":0},{"$f":"( SUMPRODUCT( SUMIFS( FLData!$AH$2:$AH$13999, FLData!$C$2:$C$13999, \">=\"&fromDateI, FLData!$C$2:$C$13999, \"<=\" &toDateI, FLData!$M$2:$M$13999,$C49, FLData!$E$2:$E$13999, Sim2Types, FLData!$F$2:$F$13999, \"Lesson\" )) + SUMPRODUCT( SUMIFS( FLData!$AH$2:$AH$13999, FLData!$C$2:$C$13999, \">=\"&fromDateI, FLData!$C$2:$C$13999, \"<=\" &toDateI, FLData!$S$2:$S$13999,$C49, FLData!$E$2:$E$13999, Sim2Types, FLData!$F$2:$F$13999, \"Rental\" )) )*24","v":0},{"$f":"SUMPRODUCT( SUMIFS( FLData!$AH$2:$AH$13999, FLData!$C$2:$C$13999, \">=\"&fromDateI, FLData!$C$2:$C$13999, \"<=\" &toDateI, FLData!$J$2:$J$13999,$C49, FLData!$E$2:$E$13999, Sim2Types, FLData!$F$2:$F$13999, \"Operation\" ))*24","v":0},0,0,0]
[null,null,"",{"$f":"( SUMPRODUCT( SUMIFS( FLData!$AH$2:$AH$13999, FLData!$C$2:$C$13999, \">=\"&fromDateI, FLData!$C$2:$C$13999, \"<=\" &toDateI, FLData!$M$2:$M$13999,$C50, FLData!$E$2:$E$13999, SingleEngineTypes, FLData!$F$2:$F$13999, \"Lesson\" )) + SUMPRODUCT( SUMIFS( FLData!$AH$2:$AH$13999, FLData!$C$2:$C$13999, \">=\"&fromDateI, FLData!$C$2:$C$13999, \"<=\" &toDateI, FLData!$S$2:$S$13999,$C50, FLData!$E$2:$E$13999, SingleEngineTypes, FLData!$F$2:$F$13999, \"Rental\" )) )*24","v":0},{"$f":"SUMPRODUCT( SUMIFS( FLData!$AH$2:$AH$13999, FLData!$C$2:$C$13999, \">=\"&fromDateI, FLData!$C$2:$C$13999, \"<=\" &toDateI, FLData!$J$2:$J$13999,$C50, FLData!$E$2:$E$13999, SingleEngineTypes, FLData!$F$2:$F$13999, \"Operation\" ))*24","v":0},{"$f":"( SUMPRODUCT( SUMIFS( FLData!$AH$2:$AH$13999, FLData!$C$2:$C$13999, \">=\"&fromDateI, FLData!$C$2:$C$13999, \"<=\" &toDateI, FLData!$M$2:$M$13999,$C50, FLData!$E$2:$E$13999, MultiEngineTypes, FLData!$F$2:$F$13999, \"Lesson\" )) + SUMPRODUCT( SUMIFS( FLData!$AH$2:$AH$13999, FLData!$C$2:$C$13999, \">=\"&fromDateI, FLData!$C$2:$C$13999, \"<=\" &toDateI, FLData!$S$2:$S$13999,$C50, FLData!$E$2:$E$13999, MultiEngineTypes, FLData!$F$2:$F$13999, \"Rental\" )) )*24","v":0},{"$f":"SUMPRODUCT( SUMIFS( FLData!$AH$2:$AH$13999, FLData!$C$2:$C$13999, \">=\"&fromDateI, FLData!$C$2:$C$13999, \"<=\" &toDateI, FLData!$J$2:$J$13999,$C50, FLData!$E$2:$E$13999, MultiEngineTypes, FLData!$F$2:$F$13999, \"Operation\" ))*24","v":0},{"$f":"( SUMPRODUCT( SUMIFS( FLData!$AH$2:$AH$13999, FLData!$C$2:$C$13999, \">=\"&fromDateI, FLData!$C$2:$C$13999, \"<=\" &toDateI, FLData!$M$2:$M$13999,$C50, FLData!$E$2:$E$13999, Sim1Types, FLData!$F$2:$F$13999, \"Lesson\" )) + SUMPRODUCT( SUMIFS( FLData!$AH$2:$AH$13999, FLData!$C$2:$C$13999, \">=\"&fromDateI, FLData!$C$2:$C$13999, \"<=\" &toDateI, FLData!$S$2:$S$13999,$C50, FLData!$E$2:$E$13999, Sim1Types, FLData!$F$2:$F$13999, \"Rental\" )) )*24","v":0},{"$f":"SUMPRODUCT( SUMIFS( FLData!$AH$2:$AH$13999, FLData!$C$2:$C$13999, \">=\"&fromDateI, FLData!$C$2:$C$13999, \"<=\" &toDateI, FLData!$J$2:$J$13999,$C50, FLData!$E$2:$E$13999, Sim1Types, FLData!$F$2:$F$13999, \"Operation\" ))*24","v":0},{"$f":"( SUMPRODUCT( SUMIFS( FLData!$AH$2:$AH$13999, FLData!$C$2:$C$13999, \">=\"&fromDateI, FLData!$C$2:$C$13999, \"<=\" &toDateI, FLData!$M$2:$M$13999,$C50, FLData!$E$2:$E$13999, Sim2Types, FLData!$F$2:$F$13999, \"Lesson\" )) + SUMPRODUCT( SUMIFS( FLData!$AH$2:$AH$13999, FLData!$C$2:$C$13999, \">=\"&fromDateI, FLData!$C$2:$C$13999, \"<=\" &toDateI, FLData!$S$2:$S$13999,$C50, FLData!$E$2:$E$13999, Sim2Types, FLData!$F$2:$F$13999, \"Rental\" )) )*24","v":0},{"$f":"SUMPRODUCT( SUMIFS( FLData!$AH$2:$AH$13999, FLData!$C$2:$C$13999, \">=\"&fromDateI, FLData!$C$2:$C$13999, \"<=\" &toDateI, FLData!$J$2:$J$13999,$C50, FLData!$E$2:$E$13999, Sim2Types, FLData!$F$2:$F$13999, \"Operation\" ))*24","v":0},0,0,0]
[null,null,"",{"$f":"( SUMPRODUCT( SUMIFS( FLData!$AH$2:$AH$13999, FLData!$C$2:$C$13999, \">=\"&fromDateI, FLData!$C$2:$C$13999, \"<=\" &toDateI, FLData!$M$2:$M$13999,$C51, FLData!$E$2:$E$13999, SingleEngineTypes, FLData!$F$2:$F$13999, \"Lesson\" )) + SUMPRODUCT( SUMIFS( FLData!$AH$2:$AH$13999, FLData!$C$2:$C$13999, \">=\"&fromDateI, FLData!$C$2:$C$13999, \"<=\" &toDateI, FLData!$S$2:$S$13999,$C51, FLData!$E$2:$E$13999, SingleEngineTypes, FLData!$F$2:$F$13999, \"Rental\" )) )*24","v":0},{"$f":"SUMPRODUCT( SUMIFS( FLData!$AH$2:$AH$13999, FLData!$C$2:$C$13999, \">=\"&fromDateI, FLData!$C$2:$C$13999, \"<=\" &toDateI, FLData!$J$2:$J$13999,$C51, FLData!$E$2:$E$13999, SingleEngineTypes, FLData!$F$2:$F$13999, \"Operation\" ))*24","v":0},{"$f":"( SUMPRODUCT( SUMIFS( FLData!$AH$2:$AH$13999, FLData!$C$2:$C$13999, \">=\"&fromDateI, FLData!$C$2:$C$13999, \"<=\" &toDateI, FLData!$M$2:$M$13999,$C51, FLData!$E$2:$E$13999, MultiEngineTypes, FLData!$F$2:$F$13999, \"Lesson\" )) + SUMPRODUCT( SUMIFS( FLData!$AH$2:$AH$13999, FLData!$C$2:$C$13999, \">=\"&fromDateI, FLData!$C$2:$C$13999, \"<=\" &toDateI, FLData!$S$2:$S$13999,$C51, FLData!$E$2:$E$13999, MultiEngineTypes, FLData!$F$2:$F$13999, \"Rental\" )) )*24","v":0},{"$f":"SUMPRODUCT( SUMIFS( FLData!$AH$2:$AH$13999, FLData!$C$2:$C$13999, \">=\"&fromDateI, FLData!$C$2:$C$13999, \"<=\" &toDateI, FLData!$J$2:$J$13999,$C51, FLData!$E$2:$E$13999, MultiEngineTypes, FLData!$F$2:$F$13999, \"Operation\" ))*24","v":0},{"$f":"( SUMPRODUCT( SUMIFS( FLData!$AH$2:$AH$13999, FLData!$C$2:$C$13999, \">=\"&fromDateI, FLData!$C$2:$C$13999, \"<=\" &toDateI, FLData!$M$2:$M$13999,$C51, FLData!$E$2:$E$13999, Sim1Types, FLData!$F$2:$F$13999, \"Lesson\" )) + SUMPRODUCT( SUMIFS( FLData!$AH$2:$AH$13999, FLData!$C$2:$C$13999, \">=\"&fromDateI, FLData!$C$2:$C$13999, \"<=\" &toDateI, FLData!$S$2:$S$13999,$C51, FLData!$E$2:$E$13999, Sim1Types, FLData!$F$2:$F$13999, \"Rental\" )) )*24","v":0},{"$f":"SUMPRODUCT( SUMIFS( FLData!$AH$2:$AH$13999, FLData!$C$2:$C$13999, \">=\"&fromDateI, FLData!$C$2:$C$13999, \"<=\" &toDateI, FLData!$J$2:$J$13999,$C51, FLData!$E$2:$E$13999, Sim1Types, FLData!$F$2:$F$13999, \"Operation\" ))*24","v":0},{"$f":"( SUMPRODUCT( SUMIFS( FLData!$AH$2:$AH$13999, FLData!$C$2:$C$13999, \">=\"&fromDateI, FLData!$C$2:$C$13999, \"<=\" &toDateI, FLData!$M$2:$M$13999,$C51, FLData!$E$2:$E$13999, Sim2Types, FLData!$F$2:$F$13999, \"Lesson\" )) + SUMPRODUCT( SUMIFS( FLData!$AH$2:$AH$13999, FLData!$C$2:$C$13999, \">=\"&fromDateI, FLData!$C$2:$C$13999, \"<=\" &toDateI, FLData!$S$2:$S$13999,$C51, FLData!$E$2:$E$13999, Sim2Types, FLData!$F$2:$F$13999, \"Rental\" )) )*24","v":0},{"$f":"SUMPRODUCT( SUMIFS( FLData!$AH$2:$AH$13999, FLData!$C$2:$C$13999, \">=\"&fromDateI, FLData!$C$2:$C$13999, \"<=\" &toDateI, FLData!$J$2:$J$13999,$C51, FLData!$E$2:$E$13999, Sim2Types, FLData!$F$2:$F$13999, \"Operation\" ))*24","v":0},0,0,0]
[null,null,"",{"$f":"( SUMPRODUCT( SUMIFS( FLData!$AH$2:$AH$13999, FLData!$C$2:$C$13999, \">=\"&fromDateI, FLData!$C$2:$C$13999, \"<=\" &toDateI, FLData!$M$2:$M$13999,$C52, FLData!$E$2:$E$13999, SingleEngineTypes, FLData!$F$2:$F$13999, \"Lesson\" )) + SUMPRODUCT( SUMIFS( FLData!$AH$2:$AH$13999, FLData!$C$2:$C$13999, \">=\"&fromDateI, FLData!$C$2:$C$13999, \"<=\" &toDateI, FLData!$S$2:$S$13999,$C52, FLData!$E$2:$E$13999, SingleEngineTypes, FLData!$F$2:$F$13999, \"Rental\" )) )*24","v":0},{"$f":"SUMPRODUCT( SUMIFS( FLData!$AH$2:$AH$13999, FLData!$C$2:$C$13999, \">=\"&fromDateI, FLData!$C$2:$C$13999, \"<=\" &toDateI, FLData!$J$2:$J$13999,$C52, FLData!$E$2:$E$13999, SingleEngineTypes, FLData!$F$2:$F$13999, \"Operation\" ))*24","v":0},{"$f":"( SUMPRODUCT( SUMIFS( FLData!$AH$2:$AH$13999, FLData!$C$2:$C$13999, \">=\"&fromDateI, FLData!$C$2:$C$13999, \"<=\" &toDateI, FLData!$M$2:$M$13999,$C52, FLData!$E$2:$E$13999, MultiEngineTypes, FLData!$F$2:$F$13999, \"Lesson\" )) + SUMPRODUCT( SUMIFS( FLData!$AH$2:$AH$13999, FLData!$C$2:$C$13999, \">=\"&fromDateI, FLData!$C$2:$C$13999, \"<=\" &toDateI, FLData!$S$2:$S$13999,$C52, FLData!$E$2:$E$13999, MultiEngineTypes, FLData!$F$2:$F$13999, \"Rental\" )) )*24","v":0},{"$f":"SUMPRODUCT( SUMIFS( FLData!$AH$2:$AH$13999, FLData!$C$2:$C$13999, \">=\"&fromDateI, FLData!$C$2:$C$13999, \"<=\" &toDateI, FLData!$J$2:$J$13999,$C52, FLData!$E$2:$E$13999, MultiEngineTypes, FLData!$F$2:$F$13999, \"Operation\" ))*24","v":0},{"$f":"( SUMPRODUCT( SUMIFS( FLData!$AH$2:$AH$13999, FLData!$C$2:$C$13999, \">=\"&fromDateI, FLData!$C$2:$C$13999, \"<=\" &toDateI, FLData!$M$2:$M$13999,$C52, FLData!$E$2:$E$13999, Sim1Types, FLData!$F$2:$F$13999, \"Lesson\" )) + SUMPRODUCT( SUMIFS( FLData!$AH$2:$AH$13999, FLData!$C$2:$C$13999, \">=\"&fromDateI, FLData!$C$2:$C$13999, \"<=\" &toDateI, FLData!$S$2:$S$13999,$C52, FLData!$E$2:$E$13999, Sim1Types, FLData!$F$2:$F$13999, \"Rental\" )) )*24","v":0},{"$f":"SUMPRODUCT( SUMIFS( FLData!$AH$2:$AH$13999, FLData!$C$2:$C$13999, \">=\"&fromDateI, FLData!$C$2:$C$13999, \"<=\" &toDateI, FLData!$J$2:$J$13999,$C52, FLData!$E$2:$E$13999, Sim1Types, FLData!$F$2:$F$13999, \"Operation\" ))*24","v":0},{"$f":"( SUMPRODUCT( SUMIFS( FLData!$AH$2:$AH$13999, FLData!$C$2:$C$13999, \">=\"&fromDateI, FLData!$C$2:$C$13999, \"<=\" &toDateI, FLData!$M$2:$M$13999,$C52, FLData!$E$2:$E$13999, Sim2Types, FLData!$F$2:$F$13999, \"Lesson\" )) + SUMPRODUCT( SUMIFS( FLData!$AH$2:$AH$13999, FLData!$C$2:$C$13999, \">=\"&fromDateI, FLData!$C$2:$C$13999, \"<=\" &toDateI, FLData!$S$2:$S$13999,$C52, FLData!$E$2:$E$13999, Sim2Types, FLData!$F$2:$F$13999, \"Rental\" )) )*24","v":0},{"$f":"SUMPRODUCT( SUMIFS( FLData!$AH$2:$AH$13999, FLData!$C$2:$C$13999, \">=\"&fromDateI, FLData!$C$2:$C$13999, \"<=\" &toDateI, FLData!$J$2:$J$13999,$C52, FLData!$E$2:$E$13999, Sim2Types, FLData!$F$2:$F$13999, \"Operation\" ))*24","v":0},0,0,0]
[null,null,"",{"$f":"( SUMPRODUCT( SUMIFS( FLData!$AH$2:$AH$13999, FLData!$C$2:$C$13999, \">=\"&fromDateI, FLData!$C$2:$C$13999, \"<=\" &toDateI, FLData!$M$2:$M$13999,$C53, FLData!$E$2:$E$13999, SingleEngineTypes, FLData!$F$2:$F$13999, \"Lesson\" )) + SUMPRODUCT( SUMIFS( FLData!$AH$2:$AH$13999, FLData!$C$2:$C$13999, \">=\"&fromDateI, FLData!$C$2:$C$13999, \"<=\" &toDateI, FLData!$S$2:$S$13999,$C53, FLData!$E$2:$E$13999, SingleEngineTypes, FLData!$F$2:$F$13999, \"Rental\" )) )*24","v":0},{"$f":"SUMPRODUCT( SUMIFS( FLData!$AH$2:$AH$13999, FLData!$C$2:$C$13999, \">=\"&fromDateI, FLData!$C$2:$C$13999, \"<=\" &toDateI, FLData!$J$2:$J$13999,$C53, FLData!$E$2:$E$13999, SingleEngineTypes, FLData!$F$2:$F$13999, \"Operation\" ))*24","v":0},{"$f":"( SUMPRODUCT( SUMIFS( FLData!$AH$2:$AH$13999, FLData!$C$2:$C$13999, \">=\"&fromDateI, FLData!$C$2:$C$13999, \"<=\" &toDateI, FLData!$M$2:$M$13999,$C53, FLData!$E$2:$E$13999, MultiEngineTypes, FLData!$F$2:$F$13999, \"Lesson\" )) + SUMPRODUCT( SUMIFS( FLData!$AH$2:$AH$13999, FLData!$C$2:$C$13999, \">=\"&fromDateI, FLData!$C$2:$C$13999, \"<=\" &toDateI, FLData!$S$2:$S$13999,$C53, FLData!$E$2:$E$13999, MultiEngineTypes, FLData!$F$2:$F$13999, \"Rental\" )) )*24","v":0},{"$f":"SUMPRODUCT( SUMIFS( FLData!$AH$2:$AH$13999, FLData!$C$2:$C$13999, \">=\"&fromDateI, FLData!$C$2:$C$13999, \"<=\" &toDateI, FLData!$J$2:$J$13999,$C53, FLData!$E$2:$E$13999, MultiEngineTypes, FLData!$F$2:$F$13999, \"Operation\" ))*24","v":0},{"$f":"( SUMPRODUCT( SUMIFS( FLData!$AH$2:$AH$13999, FLData!$C$2:$C$13999, \">=\"&fromDateI, FLData!$C$2:$C$13999, \"<=\" &toDateI, FLData!$M$2:$M$13999,$C53, FLData!$E$2:$E$13999, Sim1Types, FLData!$F$2:$F$13999, \"Lesson\" )) + SUMPRODUCT( SUMIFS( FLData!$AH$2:$AH$13999, FLData!$C$2:$C$13999, \">=\"&fromDateI, FLData!$C$2:$C$13999, \"<=\" &toDateI, FLData!$S$2:$S$13999,$C53, FLData!$E$2:$E$13999, Sim1Types, FLData!$F$2:$F$13999, \"Rental\" )) )*24","v":0},{"$f":"SUMPRODUCT( SUMIFS( FLData!$AH$2:$AH$13999, FLData!$C$2:$C$13999, \">=\"&fromDateI, FLData!$C$2:$C$13999, \"<=\" &toDateI, FLData!$J$2:$J$13999,$C53, FLData!$E$2:$E$13999, Sim1Types, FLData!$F$2:$F$13999, \"Operation\" ))*24","v":0},{"$f":"( SUMPRODUCT( SUMIFS( FLData!$AH$2:$AH$13999, FLData!$C$2:$C$13999, \">=\"&fromDateI, FLData!$C$2:$C$13999, \"<=\" &toDateI, FLData!$M$2:$M$13999,$C53, FLData!$E$2:$E$13999, Sim2Types, FLData!$F$2:$F$13999, \"Lesson\" )) + SUMPRODUCT( SUMIFS( FLData!$AH$2:$AH$13999, FLData!$C$2:$C$13999, \">=\"&fromDateI, FLData!$C$2:$C$13999, \"<=\" &toDateI, FLData!$S$2:$S$13999,$C53, FLData!$E$2:$E$13999, Sim2Types, FLData!$F$2:$F$13999, \"Rental\" )) )*24","v":0},{"$f":"SUMPRODUCT( SUMIFS( FLData!$AH$2:$AH$13999, FLData!$C$2:$C$13999, \">=\"&fromDateI, FLData!$C$2:$C$13999, \"<=\" &toDateI, FLData!$J$2:$J$13999,$C53, FLData!$E$2:$E$13999, Sim2Types, FLData!$F$2:$F$13999, \"Operation\" ))*24","v":0},0,0,0]
[null,null,"",{"$f":"( SUMPRODUCT( SUMIFS( FLData!$AH$2:$AH$13999, FLData!$C$2:$C$13999, \">=\"&fromDateI, FLData!$C$2:$C$13999, \"<=\" &toDateI, FLData!$M$2:$M$13999,$C54, FLData!$E$2:$E$13999, SingleEngineTypes, FLData!$F$2:$F$13999, \"Lesson\" )) + SUMPRODUCT( SUMIFS( FLData!$AH$2:$AH$13999, FLData!$C$2:$C$13999, \">=\"&fromDateI, FLData!$C$2:$C$13999, \"<=\" &toDateI, FLData!$S$2:$S$13999,$C54, FLData!$E$2:$E$13999, SingleEngineTypes, FLData!$F$2:$F$13999, \"Rental\" )) )*24","v":0},{"$f":"SUMPRODUCT( SUMIFS( FLData!$AH$2:$AH$13999, FLData!$C$2:$C$13999, \">=\"&fromDateI, FLData!$C$2:$C$13999, \"<=\" &toDateI, FLData!$J$2:$J$13999,$C54, FLData!$E$2:$E$13999, SingleEngineTypes, FLData!$F$2:$F$13999, \"Operation\" ))*24","v":0},{"$f":"( SUMPRODUCT( SUMIFS( FLData!$AH$2:$AH$13999, FLData!$C$2:$C$13999, \">=\"&fromDateI, FLData!$C$2:$C$13999, \"<=\" &toDateI, FLData!$M$2:$M$13999,$C54, FLData!$E$2:$E$13999, MultiEngineTypes, FLData!$F$2:$F$13999, \"Lesson\" )) + SUMPRODUCT( SUMIFS( FLData!$AH$2:$AH$13999, FLData!$C$2:$C$13999, \">=\"&fromDateI, FLData!$C$2:$C$13999, \"<=\" &toDateI, FLData!$S$2:$S$13999,$C54, FLData!$E$2:$E$13999, MultiEngineTypes, FLData!$F$2:$F$13999, \"Rental\" )) )*24","v":0},{"$f":"SUMPRODUCT( SUMIFS( FLData!$AH$2:$AH$13999, FLData!$C$2:$C$13999, \">=\"&fromDateI, FLData!$C$2:$C$13999, \"<=\" &toDateI, FLData!$J$2:$J$13999,$C54, FLData!$E$2:$E$13999, MultiEngineTypes, FLData!$F$2:$F$13999, \"Operation\" ))*24","v":0},{"$f":"( SUMPRODUCT( SUMIFS( FLData!$AH$2:$AH$13999, FLData!$C$2:$C$13999, \">=\"&fromDateI, FLData!$C$2:$C$13999, \"<=\" &toDateI, FLData!$M$2:$M$13999,$C54, FLData!$E$2:$E$13999, Sim1Types, FLData!$F$2:$F$13999, \"Lesson\" )) + SUMPRODUCT( SUMIFS( FLData!$AH$2:$AH$13999, FLData!$C$2:$C$13999, \">=\"&fromDateI, FLData!$C$2:$C$13999, \"<=\" &toDateI, FLData!$S$2:$S$13999,$C54, FLData!$E$2:$E$13999, Sim1Types, FLData!$F$2:$F$13999, \"Rental\" )) )*24","v":0},{"$f":"SUMPRODUCT( SUMIFS( FLData!$AH$2:$AH$13999, FLData!$C$2:$C$13999, \">=\"&fromDateI, FLData!$C$2:$C$13999, \"<=\" &toDateI, FLData!$J$2:$J$13999,$C54, FLData!$E$2:$E$13999, Sim1Types, FLData!$F$2:$F$13999, \"Operation\" ))*24","v":0},{"$f":"( SUMPRODUCT( SUMIFS( FLData!$AH$2:$AH$13999, FLData!$C$2:$C$13999, \">=\"&fromDateI, FLData!$C$2:$C$13999, \"<=\" &toDateI, FLData!$M$2:$M$13999,$C54, FLData!$E$2:$E$13999, Sim2Types, FLData!$F$2:$F$13999, \"Lesson\" )) + SUMPRODUCT( SUMIFS( FLData!$AH$2:$AH$13999, FLData!$C$2:$C$13999, \">=\"&fromDateI, FLData!$C$2:$C$13999, \"<=\" &toDateI, FLData!$S$2:$S$13999,$C54, FLData!$E$2:$E$13999, Sim2Types, FLData!$F$2:$F$13999, \"Rental\" )) )*24","v":0},{"$f":"SUMPRODUCT( SUMIFS( FLData!$AH$2:$AH$13999, FLData!$C$2:$C$13999, \">=\"&fromDateI, FLData!$C$2:$C$13999, \"<=\" &toDateI, FLData!$J$2:$J$13999,$C54, FLData!$E$2:$E$13999, Sim2Types, FLData!$F$2:$F$13999, \"Operation\" ))*24","v":0},0,0,0]
[null,null,"",{"$f":"( SUMPRODUCT( SUMIFS( FLData!$AH$2:$AH$13999, FLData!$C$2:$C$13999, \">=\"&fromDateI, FLData!$C$2:$C$13999, \"<=\" &toDateI, FLData!$M$2:$M$13999,$C55, FLData!$E$2:$E$13999, SingleEngineTypes, FLData!$F$2:$F$13999, \"Lesson\" )) + SUMPRODUCT( SUMIFS( FLData!$AH$2:$AH$13999, FLData!$C$2:$C$13999, \">=\"&fromDateI, FLData!$C$2:$C$13999, \"<=\" &toDateI, FLData!$S$2:$S$13999,$C55, FLData!$E$2:$E$13999, SingleEngineTypes, FLData!$F$2:$F$13999, \"Rental\" )) )*24","v":0},{"$f":"SUMPRODUCT( SUMIFS( FLData!$AH$2:$AH$13999, FLData!$C$2:$C$13999, \">=\"&fromDateI, FLData!$C$2:$C$13999, \"<=\" &toDateI, FLData!$J$2:$J$13999,$C55, FLData!$E$2:$E$13999, SingleEngineTypes, FLData!$F$2:$F$13999, \"Operation\" ))*24","v":0},{"$f":"( SUMPRODUCT( SUMIFS( FLData!$AH$2:$AH$13999, FLData!$C$2:$C$13999, \">=\"&fromDateI, FLData!$C$2:$C$13999, \"<=\" &toDateI, FLData!$M$2:$M$13999,$C55, FLData!$E$2:$E$13999, MultiEngineTypes, FLData!$F$2:$F$13999, \"Lesson\" )) + SUMPRODUCT( SUMIFS( FLData!$AH$2:$AH$13999, FLData!$C$2:$C$13999, \">=\"&fromDateI, FLData!$C$2:$C$13999, \"<=\" &toDateI, FLData!$S$2:$S$13999,$C55, FLData!$E$2:$E$13999, MultiEngineTypes, FLData!$F$2:$F$13999, \"Rental\" )) )*24","v":0},{"$f":"SUMPRODUCT( SUMIFS( FLData!$AH$2:$AH$13999, FLData!$C$2:$C$13999, \">=\"&fromDateI, FLData!$C$2:$C$13999, \"<=\" &toDateI, FLData!$J$2:$J$13999,$C55, FLData!$E$2:$E$13999, MultiEngineTypes, FLData!$F$2:$F$13999, \"Operation\" ))*24","v":0},{"$f":"( SUMPRODUCT( SUMIFS( FLData!$AH$2:$AH$13999, FLData!$C$2:$C$13999, \">=\"&fromDateI, FLData!$C$2:$C$13999, \"<=\" &toDateI, FLData!$M$2:$M$13999,$C55, FLData!$E$2:$E$13999, Sim1Types, FLData!$F$2:$F$13999, \"Lesson\" )) + SUMPRODUCT( SUMIFS( FLData!$AH$2:$AH$13999, FLData!$C$2:$C$13999, \">=\"&fromDateI, FLData!$C$2:$C$13999, \"<=\" &toDateI, FLData!$S$2:$S$13999,$C55, FLData!$E$2:$E$13999, Sim1Types, FLData!$F$2:$F$13999, \"Rental\" )) )*24","v":0},{"$f":"SUMPRODUCT( SUMIFS( FLData!$AH$2:$AH$13999, FLData!$C$2:$C$13999, \">=\"&fromDateI, FLData!$C$2:$C$13999, \"<=\" &toDateI, FLData!$J$2:$J$13999,$C55, FLData!$E$2:$E$13999, Sim1Types, FLData!$F$2:$F$13999, \"Operation\" ))*24","v":0},{"$f":"( SUMPRODUCT( SUMIFS( FLData!$AH$2:$AH$13999, FLData!$C$2:$C$13999, \">=\"&fromDateI, FLData!$C$2:$C$13999, \"<=\" &toDateI, FLData!$M$2:$M$13999,$C55, FLData!$E$2:$E$13999, Sim2Types, FLData!$F$2:$F$13999, \"Lesson\" )) + SUMPRODUCT( SUMIFS( FLData!$AH$2:$AH$13999, FLData!$C$2:$C$13999, \">=\"&fromDateI, FLData!$C$2:$C$13999, \"<=\" &toDateI, FLData!$S$2:$S$13999,$C55, FLData!$E$2:$E$13999, Sim2Types, FLData!$F$2:$F$13999, \"Rental\" )) )*24","v":0},{"$f":"SUMPRODUCT( SUMIFS( FLData!$AH$2:$AH$13999, FLData!$C$2:$C$13999, \">=\"&fromDateI, FLData!$C$2:$C$13999, \"<=\" &toDateI, FLData!$J$2:$J$13999,$C55, FLData!$E$2:$E$13999, Sim2Types, FLData!$F$2:$F$13999, \"Operation\" ))*24","v":0},0,0,0]
[null,null,"",{"$f":"( SUMPRODUCT( SUMIFS( FLData!$AH$2:$AH$13999, FLData!$C$2:$C$13999, \">=\"&fromDateI, FLData!$C$2:$C$13999, \"<=\" &toDateI, FLData!$M$2:$M$13999,$C56, FLData!$E$2:$E$13999, SingleEngineTypes, FLData!$F$2:$F$13999, \"Lesson\" )) + SUMPRODUCT( SUMIFS( FLData!$AH$2:$AH$13999, FLData!$C$2:$C$13999, \">=\"&fromDateI, FLData!$C$2:$C$13999, \"<=\" &toDateI, FLData!$S$2:$S$13999,$C56, FLData!$E$2:$E$13999, SingleEngineTypes, FLData!$F$2:$F$13999, \"Rental\" )) )*24","v":0},{"$f":"SUMPRODUCT( SUMIFS( FLData!$AH$2:$AH$13999, FLData!$C$2:$C$13999, \">=\"&fromDateI, FLData!$C$2:$C$13999, \"<=\" &toDateI, FLData!$J$2:$J$13999,$C56, FLData!$E$2:$E$13999, SingleEngineTypes, FLData!$F$2:$F$13999, \"Operation\" ))*24","v":0},{"$f":"( SUMPRODUCT( SUMIFS( FLData!$AH$2:$AH$13999, FLData!$C$2:$C$13999, \">=\"&fromDateI, FLData!$C$2:$C$13999, \"<=\" &toDateI, FLData!$M$2:$M$13999,$C56, FLData!$E$2:$E$13999, MultiEngineTypes, FLData!$F$2:$F$13999, \"Lesson\" )) + SUMPRODUCT( SUMIFS( FLData!$AH$2:$AH$13999, FLData!$C$2:$C$13999, \">=\"&fromDateI, FLData!$C$2:$C$13999, \"<=\" &toDateI, FLData!$S$2:$S$13999,$C56, FLData!$E$2:$E$13999, MultiEngineTypes, FLData!$F$2:$F$13999, \"Rental\" )) )*24","v":0},{"$f":"SUMPRODUCT( SUMIFS( FLData!$AH$2:$AH$13999, FLData!$C$2:$C$13999, \">=\"&fromDateI, FLData!$C$2:$C$13999, \"<=\" &toDateI, FLData!$J$2:$J$13999,$C56, FLData!$E$2:$E$13999, MultiEngineTypes, FLData!$F$2:$F$13999, \"Operation\" ))*24","v":0},{"$f":"( SUMPRODUCT( SUMIFS( FLData!$AH$2:$AH$13999, FLData!$C$2:$C$13999, \">=\"&fromDateI, FLData!$C$2:$C$13999, \"<=\" &toDateI, FLData!$M$2:$M$13999,$C56, FLData!$E$2:$E$13999, Sim1Types, FLData!$F$2:$F$13999, \"Lesson\" )) + SUMPRODUCT( SUMIFS( FLData!$AH$2:$AH$13999, FLData!$C$2:$C$13999, \">=\"&fromDateI, FLData!$C$2:$C$13999, \"<=\" &toDateI, FLData!$S$2:$S$13999,$C56, FLData!$E$2:$E$13999, Sim1Types, FLData!$F$2:$F$13999, \"Rental\" )) )*24","v":0},{"$f":"SUMPRODUCT( SUMIFS( FLData!$AH$2:$AH$13999, FLData!$C$2:$C$13999, \">=\"&fromDateI, FLData!$C$2:$C$13999, \"<=\" &toDateI, FLData!$J$2:$J$13999,$C56, FLData!$E$2:$E$13999, Sim1Types, FLData!$F$2:$F$13999, \"Operation\" ))*24","v":0},{"$f":"( SUMPRODUCT( SUMIFS( FLData!$AH$2:$AH$13999, FLData!$C$2:$C$13999, \">=\"&fromDateI, FLData!$C$2:$C$13999, \"<=\" &toDateI, FLData!$M$2:$M$13999,$C56, FLData!$E$2:$E$13999, Sim2Types, FLData!$F$2:$F$13999, \"Lesson\" )) + SUMPRODUCT( SUMIFS( FLData!$AH$2:$AH$13999, FLData!$C$2:$C$13999, \">=\"&fromDateI, FLData!$C$2:$C$13999, \"<=\" &toDateI, FLData!$S$2:$S$13999,$C56, FLData!$E$2:$E$13999, Sim2Types, FLData!$F$2:$F$13999, \"Rental\" )) )*24","v":0},{"$f":"SUMPRODUCT( SUMIFS( FLData!$AH$2:$AH$13999, FLData!$C$2:$C$13999, \">=\"&fromDateI, FLData!$C$2:$C$13999, \"<=\" &toDateI, FLData!$J$2:$J$13999,$C56, FLData!$E$2:$E$13999, Sim2Types, FLData!$F$2:$F$13999, \"Operation\" ))*24","v":0},0,0,0]
[null,null,"",{"$f":"( SUMPRODUCT( SUMIFS( FLData!$AH$2:$AH$13999, FLData!$C$2:$C$13999, \">=\"&fromDateI, FLData!$C$2:$C$13999, \"<=\" &toDateI, FLData!$M$2:$M$13999,$C57, FLData!$E$2:$E$13999, SingleEngineTypes, FLData!$F$2:$F$13999, \"Lesson\" )) + SUMPRODUCT( SUMIFS( FLData!$AH$2:$AH$13999, FLData!$C$2:$C$13999, \">=\"&fromDateI, FLData!$C$2:$C$13999, \"<=\" &toDateI, FLData!$S$2:$S$13999,$C57, FLData!$E$2:$E$13999, SingleEngineTypes, FLData!$F$2:$F$13999, \"Rental\" )) )*24","v":0},{"$f":"SUMPRODUCT( SUMIFS( FLData!$AH$2:$AH$13999, FLData!$C$2:$C$13999, \">=\"&fromDateI, FLData!$C$2:$C$13999, \"<=\" &toDateI, FLData!$J$2:$J$13999,$C57, FLData!$E$2:$E$13999, SingleEngineTypes, FLData!$F$2:$F$13999, \"Operation\" ))*24","v":0},{"$f":"( SUMPRODUCT( SUMIFS( FLData!$AH$2:$AH$13999, FLData!$C$2:$C$13999, \">=\"&fromDateI, FLData!$C$2:$C$13999, \"<=\" &toDateI, FLData!$M$2:$M$13999,$C57, FLData!$E$2:$E$13999, MultiEngineTypes, FLData!$F$2:$F$13999, \"Lesson\" )) + SUMPRODUCT( SUMIFS( FLData!$AH$2:$AH$13999, FLData!$C$2:$C$13999, \">=\"&fromDateI, FLData!$C$2:$C$13999, \"<=\" &toDateI, FLData!$S$2:$S$13999,$C57, FLData!$E$2:$E$13999, MultiEngineTypes, FLData!$F$2:$F$13999, \"Rental\" )) )*24","v":0},{"$f":"SUMPRODUCT( SUMIFS( FLData!$AH$2:$AH$13999, FLData!$C$2:$C$13999, \">=\"&fromDateI, FLData!$C$2:$C$13999, \"<=\" &toDateI, FLData!$J$2:$J$13999,$C57, FLData!$E$2:$E$13999, MultiEngineTypes, FLData!$F$2:$F$13999, \"Operation\" ))*24","v":0},{"$f":"( SUMPRODUCT( SUMIFS( FLData!$AH$2:$AH$13999, FLData!$C$2:$C$13999, \">=\"&fromDateI, FLData!$C$2:$C$13999, \"<=\" &toDateI, FLData!$M$2:$M$13999,$C57, FLData!$E$2:$E$13999, Sim1Types, FLData!$F$2:$F$13999, \"Lesson\" )) + SUMPRODUCT( SUMIFS( FLData!$AH$2:$AH$13999, FLData!$C$2:$C$13999, \">=\"&fromDateI, FLData!$C$2:$C$13999, \"<=\" &toDateI, FLData!$S$2:$S$13999,$C57, FLData!$E$2:$E$13999, Sim1Types, FLData!$F$2:$F$13999, \"Rental\" )) )*24","v":0},{"$f":"SUMPRODUCT( SUMIFS( FLData!$AH$2:$AH$13999, FLData!$C$2:$C$13999, \">=\"&fromDateI, FLData!$C$2:$C$13999, \"<=\" &toDateI, FLData!$J$2:$J$13999,$C57, FLData!$E$2:$E$13999, Sim1Types, FLData!$F$2:$F$13999, \"Operation\" ))*24","v":0},{"$f":"( SUMPRODUCT( SUMIFS( FLData!$AH$2:$AH$13999, FLData!$C$2:$C$13999, \">=\"&fromDateI, FLData!$C$2:$C$13999, \"<=\" &toDateI, FLData!$M$2:$M$13999,$C57, FLData!$E$2:$E$13999, Sim2Types, FLData!$F$2:$F$13999, \"Lesson\" )) + SUMPRODUCT( SUMIFS( FLData!$AH$2:$AH$13999, FLData!$C$2:$C$13999, \">=\"&fromDateI, FLData!$C$2:$C$13999, \"<=\" &toDateI, FLData!$S$2:$S$13999,$C57, FLData!$E$2:$E$13999, Sim2Types, FLData!$F$2:$F$13999, \"Rental\" )) )*24","v":0},{"$f":"SUMPRODUCT( SUMIFS( FLData!$AH$2:$AH$13999, FLData!$C$2:$C$13999, \">=\"&fromDateI, FLData!$C$2:$C$13999, \"<=\" &toDateI, FLData!$J$2:$J$13999,$C57, FLData!$E$2:$E$13999, Sim2Types, FLData!$F$2:$F$13999, \"Operation\" ))*24","v":0},0,0,0]
[null,null,"",{"$f":"( SUMPRODUCT( SUMIFS( FLData!$AH$2:$AH$13999, FLData!$C$2:$C$13999, \">=\"&fromDateI, FLData!$C$2:$C$13999, \"<=\" &toDateI, FLData!$M$2:$M$13999,$C58, FLData!$E$2:$E$13999, SingleEngineTypes, FLData!$F$2:$F$13999, \"Lesson\" )) + SUMPRODUCT( SUMIFS( FLData!$AH$2:$AH$13999, FLData!$C$2:$C$13999, \">=\"&fromDateI, FLData!$C$2:$C$13999, \"<=\" &toDateI, FLData!$S$2:$S$13999,$C58, FLData!$E$2:$E$13999, SingleEngineTypes, FLData!$F$2:$F$13999, \"Rental\" )) )*24","v":0},{"$f":"SUMPRODUCT( SUMIFS( FLData!$AH$2:$AH$13999, FLData!$C$2:$C$13999, \">=\"&fromDateI, FLData!$C$2:$C$13999, \"<=\" &toDateI, FLData!$J$2:$J$13999,$C58, FLData!$E$2:$E$13999, SingleEngineTypes, FLData!$F$2:$F$13999, \"Operation\" ))*24","v":0},{"$f":"( SUMPRODUCT( SUMIFS( FLData!$AH$2:$AH$13999, FLData!$C$2:$C$13999, \">=\"&fromDateI, FLData!$C$2:$C$13999, \"<=\" &toDateI, FLData!$M$2:$M$13999,$C58, FLData!$E$2:$E$13999, MultiEngineTypes, FLData!$F$2:$F$13999, \"Lesson\" )) + SUMPRODUCT( SUMIFS( FLData!$AH$2:$AH$13999, FLData!$C$2:$C$13999, \">=\"&fromDateI, FLData!$C$2:$C$13999, \"<=\" &toDateI, FLData!$S$2:$S$13999,$C58, FLData!$E$2:$E$13999, MultiEngineTypes, FLData!$F$2:$F$13999, \"Rental\" )) )*24","v":0},{"$f":"SUMPRODUCT( SUMIFS( FLData!$AH$2:$AH$13999, FLData!$C$2:$C$13999, \">=\"&fromDateI, FLData!$C$2:$C$13999, \"<=\" &toDateI, FLData!$J$2:$J$13999,$C58, FLData!$E$2:$E$13999, MultiEngineTypes, FLData!$F$2:$F$13999, \"Operation\" ))*24","v":0},{"$f":"( SUMPRODUCT( SUMIFS( FLData!$AH$2:$AH$13999, FLData!$C$2:$C$13999, \">=\"&fromDateI, FLData!$C$2:$C$13999, \"<=\" &toDateI, FLData!$M$2:$M$13999,$C58, FLData!$E$2:$E$13999, Sim1Types, FLData!$F$2:$F$13999, \"Lesson\" )) + SUMPRODUCT( SUMIFS( FLData!$AH$2:$AH$13999, FLData!$C$2:$C$13999, \">=\"&fromDateI, FLData!$C$2:$C$13999, \"<=\" &toDateI, FLData!$S$2:$S$13999,$C58, FLData!$E$2:$E$13999, Sim1Types, FLData!$F$2:$F$13999, \"Rental\" )) )*24","v":0},{"$f":"SUMPRODUCT( SUMIFS( FLData!$AH$2:$AH$13999, FLData!$C$2:$C$13999, \">=\"&fromDateI, FLData!$C$2:$C$13999, \"<=\" &toDateI, FLData!$J$2:$J$13999,$C58, FLData!$E$2:$E$13999, Sim1Types, FLData!$F$2:$F$13999, \"Operation\" ))*24","v":0},{"$f":"( SUMPRODUCT( SUMIFS( FLData!$AH$2:$AH$13999, FLData!$C$2:$C$13999, \">=\"&fromDateI, FLData!$C$2:$C$13999, \"<=\" &toDateI, FLData!$M$2:$M$13999,$C58, FLData!$E$2:$E$13999, Sim2Types, FLData!$F$2:$F$13999, \"Lesson\" )) + SUMPRODUCT( SUMIFS( FLData!$AH$2:$AH$13999, FLData!$C$2:$C$13999, \">=\"&fromDateI, FLData!$C$2:$C$13999, \"<=\" &toDateI, FLData!$S$2:$S$13999,$C58, FLData!$E$2:$E$13999, Sim2Types, FLData!$F$2:$F$13999, \"Rental\" )) )*24","v":0},{"$f":"SUMPRODUCT( SUMIFS( FLData!$AH$2:$AH$13999, FLData!$C$2:$C$13999, \">=\"&fromDateI, FLData!$C$2:$C$13999, \"<=\" &toDateI, FLData!$J$2:$J$13999,$C58, FLData!$E$2:$E$13999, Sim2Types, FLData!$F$2:$F$13999, \"Operation\" ))*24","v":0},0,0,0]
[null,null,"",{"$f":"( SUMPRODUCT( SUMIFS( FLData!$AH$2:$AH$13999, FLData!$C$2:$C$13999, \">=\"&fromDateI, FLData!$C$2:$C$13999, \"<=\" &toDateI, FLData!$M$2:$M$13999,$C59, FLData!$E$2:$E$13999, SingleEngineTypes, FLData!$F$2:$F$13999, \"Lesson\" )) + SUMPRODUCT( SUMIFS( FLData!$AH$2:$AH$13999, FLData!$C$2:$C$13999, \">=\"&fromDateI, FLData!$C$2:$C$13999, \"<=\" &toDateI, FLData!$S$2:$S$13999,$C59, FLData!$E$2:$E$13999, SingleEngineTypes, FLData!$F$2:$F$13999, \"Rental\" )) )*24","v":0},{"$f":"SUMPRODUCT( SUMIFS( FLData!$AH$2:$AH$13999, FLData!$C$2:$C$13999, \">=\"&fromDateI, FLData!$C$2:$C$13999, \"<=\" &toDateI, FLData!$J$2:$J$13999,$C59, FLData!$E$2:$E$13999, SingleEngineTypes, FLData!$F$2:$F$13999, \"Operation\" ))*24","v":0},{"$f":"( SUMPRODUCT( SUMIFS( FLData!$AH$2:$AH$13999, FLData!$C$2:$C$13999, \">=\"&fromDateI, FLData!$C$2:$C$13999, \"<=\" &toDateI, FLData!$M$2:$M$13999,$C59, FLData!$E$2:$E$13999, MultiEngineTypes, FLData!$F$2:$F$13999, \"Lesson\" )) + SUMPRODUCT( SUMIFS( FLData!$AH$2:$AH$13999, FLData!$C$2:$C$13999, \">=\"&fromDateI, FLData!$C$2:$C$13999, \"<=\" &toDateI, FLData!$S$2:$S$13999,$C59, FLData!$E$2:$E$13999, MultiEngineTypes, FLData!$F$2:$F$13999, \"Rental\" )) )*24","v":0},{"$f":"SUMPRODUCT( SUMIFS( FLData!$AH$2:$AH$13999, FLData!$C$2:$C$13999, \">=\"&fromDateI, FLData!$C$2:$C$13999, \"<=\" &toDateI, FLData!$J$2:$J$13999,$C59, FLData!$E$2:$E$13999, MultiEngineTypes, FLData!$F$2:$F$13999, \"Operation\" ))*24","v":0},{"$f":"( SUMPRODUCT( SUMIFS( FLData!$AH$2:$AH$13999, FLData!$C$2:$C$13999, \">=\"&fromDateI, FLData!$C$2:$C$13999, \"<=\" &toDateI, FLData!$M$2:$M$13999,$C59, FLData!$E$2:$E$13999, Sim1Types, FLData!$F$2:$F$13999, \"Lesson\" )) + SUMPRODUCT( SUMIFS( FLData!$AH$2:$AH$13999, FLData!$C$2:$C$13999, \">=\"&fromDateI, FLData!$C$2:$C$13999, \"<=\" &toDateI, FLData!$S$2:$S$13999,$C59, FLData!$E$2:$E$13999, Sim1Types, FLData!$F$2:$F$13999, \"Rental\" )) )*24","v":0},{"$f":"SUMPRODUCT( SUMIFS( FLData!$AH$2:$AH$13999, FLData!$C$2:$C$13999, \">=\"&fromDateI, FLData!$C$2:$C$13999, \"<=\" &toDateI, FLData!$J$2:$J$13999,$C59, FLData!$E$2:$E$13999, Sim1Types, FLData!$F$2:$F$13999, \"Operation\" ))*24","v":0},{"$f":"( SUMPRODUCT( SUMIFS( FLData!$AH$2:$AH$13999, FLData!$C$2:$C$13999, \">=\"&fromDateI, FLData!$C$2:$C$13999, \"<=\" &toDateI, FLData!$M$2:$M$13999,$C59, FLData!$E$2:$E$13999, Sim2Types, FLData!$F$2:$F$13999, \"Lesson\" )) + SUMPRODUCT( SUMIFS( FLData!$AH$2:$AH$13999, FLData!$C$2:$C$13999, \">=\"&fromDateI, FLData!$C$2:$C$13999, \"<=\" &toDateI, FLData!$S$2:$S$13999,$C59, FLData!$E$2:$E$13999, Sim2Types, FLData!$F$2:$F$13999, \"Rental\" )) )*24","v":0},{"$f":"SUMPRODUCT( SUMIFS( FLData!$AH$2:$AH$13999, FLData!$C$2:$C$13999, \">=\"&fromDateI, FLData!$C$2:$C$13999, \"<=\" &toDateI, FLData!$J$2:$J$13999,$C59, FLData!$E$2:$E$13999, Sim2Types, FLData!$F$2:$F$13999, \"Operation\" ))*24","v":0},0,0,0]
[null,null,"",{"$f":"( SUMPRODUCT( SUMIFS( FLData!$AH$2:$AH$13999, FLData!$C$2:$C$13999, \">=\"&fromDateI, FLData!$C$2:$C$13999, \"<=\" &toDateI, FLData!$M$2:$M$13999,$C60, FLData!$E$2:$E$13999, SingleEngineTypes, FLData!$F$2:$F$13999, \"Lesson\" )) + SUMPRODUCT( SUMIFS( FLData!$AH$2:$AH$13999, FLData!$C$2:$C$13999, \">=\"&fromDateI, FLData!$C$2:$C$13999, \"<=\" &toDateI, FLData!$S$2:$S$13999,$C60, FLData!$E$2:$E$13999, SingleEngineTypes, FLData!$F$2:$F$13999, \"Rental\" )) )*24","v":0},{"$f":"SUMPRODUCT( SUMIFS( FLData!$AH$2:$AH$13999, FLData!$C$2:$C$13999, \">=\"&fromDateI, FLData!$C$2:$C$13999, \"<=\" &toDateI, FLData!$J$2:$J$13999,$C60, FLData!$E$2:$E$13999, SingleEngineTypes, FLData!$F$2:$F$13999, \"Operation\" ))*24","v":0},{"$f":"( SUMPRODUCT( SUMIFS( FLData!$AH$2:$AH$13999, FLData!$C$2:$C$13999, \">=\"&fromDateI, FLData!$C$2:$C$13999, \"<=\" &toDateI, FLData!$M$2:$M$13999,$C60, FLData!$E$2:$E$13999, MultiEngineTypes, FLData!$F$2:$F$13999, \"Lesson\" )) + SUMPRODUCT( SUMIFS( FLData!$AH$2:$AH$13999, FLData!$C$2:$C$13999, \">=\"&fromDateI, FLData!$C$2:$C$13999, \"<=\" &toDateI, FLData!$S$2:$S$13999,$C60, FLData!$E$2:$E$13999, MultiEngineTypes, FLData!$F$2:$F$13999, \"Rental\" )) )*24","v":0},{"$f":"SUMPRODUCT( SUMIFS( FLData!$AH$2:$AH$13999, FLData!$C$2:$C$13999, \">=\"&fromDateI, FLData!$C$2:$C$13999, \"<=\" &toDateI, FLData!$J$2:$J$13999,$C60, FLData!$E$2:$E$13999, MultiEngineTypes, FLData!$F$2:$F$13999, \"Operation\" ))*24","v":0},{"$f":"( SUMPRODUCT( SUMIFS( FLData!$AH$2:$AH$13999, FLData!$C$2:$C$13999, \">=\"&fromDateI, FLData!$C$2:$C$13999, \"<=\" &toDateI, FLData!$M$2:$M$13999,$C60, FLData!$E$2:$E$13999, Sim1Types, FLData!$F$2:$F$13999, \"Lesson\" )) + SUMPRODUCT( SUMIFS( FLData!$AH$2:$AH$13999, FLData!$C$2:$C$13999, \">=\"&fromDateI, FLData!$C$2:$C$13999, \"<=\" &toDateI, FLData!$S$2:$S$13999,$C60, FLData!$E$2:$E$13999, Sim1Types, FLData!$F$2:$F$13999, \"Rental\" )) )*24","v":0},{"$f":"SUMPRODUCT( SUMIFS( FLData!$AH$2:$AH$13999, FLData!$C$2:$C$13999, \">=\"&fromDateI, FLData!$C$2:$C$13999, \"<=\" &toDateI, FLData!$J$2:$J$13999,$C60, FLData!$E$2:$E$13999, Sim1Types, FLData!$F$2:$F$13999, \"Operation\" ))*24","v":0},{"$f":"( SUMPRODUCT( SUMIFS( FLData!$AH$2:$AH$13999, FLData!$C$2:$C$13999, \">=\"&fromDateI, FLData!$C$2:$C$13999, \"<=\" &toDateI, FLData!$M$2:$M$13999,$C60, FLData!$E$2:$E$13999, Sim2Types, FLData!$F$2:$F$13999, \"Lesson\" )) + SUMPRODUCT( SUMIFS( FLData!$AH$2:$AH$13999, FLData!$C$2:$C$13999, \">=\"&fromDateI, FLData!$C$2:$C$13999, \"<=\" &toDateI, FLData!$S$2:$S$13999,$C60, FLData!$E$2:$E$13999, Sim2Types, FLData!$F$2:$F$13999, \"Rental\" )) )*24","v":0},{"$f":"SUMPRODUCT( SUMIFS( FLData!$AH$2:$AH$13999, FLData!$C$2:$C$13999, \">=\"&fromDateI, FLData!$C$2:$C$13999, \"<=\" &toDateI, FLData!$J$2:$J$13999,$C60, FLData!$E$2:$E$13999, Sim2Types, FLData!$F$2:$F$13999, \"Operation\" ))*24","v":0},0,0,0]
[null,null,"",{"$f":"( SUMPRODUCT( SUMIFS( FLData!$AH$2:$AH$13999, FLData!$C$2:$C$13999, \">=\"&fromDateI, FLData!$C$2:$C$13999, \"<=\" &toDateI, FLData!$M$2:$M$13999,$C61, FLData!$E$2:$E$13999, SingleEngineTypes, FLData!$F$2:$F$13999, \"Lesson\" )) + SUMPRODUCT( SUMIFS( FLData!$AH$2:$AH$13999, FLData!$C$2:$C$13999, \">=\"&fromDateI, FLData!$C$2:$C$13999, \"<=\" &toDateI, FLData!$S$2:$S$13999,$C61, FLData!$E$2:$E$13999, SingleEngineTypes, FLData!$F$2:$F$13999, \"Rental\" )) )*24","v":0},{"$f":"SUMPRODUCT( SUMIFS( FLData!$AH$2:$AH$13999, FLData!$C$2:$C$13999, \">=\"&fromDateI, FLData!$C$2:$C$13999, \"<=\" &toDateI, FLData!$J$2:$J$13999,$C61, FLData!$E$2:$E$13999, SingleEngineTypes, FLData!$F$2:$F$13999, \"Operation\" ))*24","v":0},{"$f":"( SUMPRODUCT( SUMIFS( FLData!$AH$2:$AH$13999, FLData!$C$2:$C$13999, \">=\"&fromDateI, FLData!$C$2:$C$13999, \"<=\" &toDateI, FLData!$M$2:$M$13999,$C61, FLData!$E$2:$E$13999, MultiEngineTypes, FLData!$F$2:$F$13999, \"Lesson\" )) + SUMPRODUCT( SUMIFS( FLData!$AH$2:$AH$13999, FLData!$C$2:$C$13999, \">=\"&fromDateI, FLData!$C$2:$C$13999, \"<=\" &toDateI, FLData!$S$2:$S$13999,$C61, FLData!$E$2:$E$13999, MultiEngineTypes, FLData!$F$2:$F$13999, \"Rental\" )) )*24","v":0},{"$f":"SUMPRODUCT( SUMIFS( FLData!$AH$2:$AH$13999, FLData!$C$2:$C$13999, \">=\"&fromDateI, FLData!$C$2:$C$13999, \"<=\" &toDateI, FLData!$J$2:$J$13999,$C61, FLData!$E$2:$E$13999, MultiEngineTypes, FLData!$F$2:$F$13999, \"Operation\" ))*24","v":0},{"$f":"( SUMPRODUCT( SUMIFS( FLData!$AH$2:$AH$13999, FLData!$C$2:$C$13999, \">=\"&fromDateI, FLData!$C$2:$C$13999, \"<=\" &toDateI, FLData!$M$2:$M$13999,$C61, FLData!$E$2:$E$13999, Sim1Types, FLData!$F$2:$F$13999, \"Lesson\" )) + SUMPRODUCT( SUMIFS( FLData!$AH$2:$AH$13999, FLData!$C$2:$C$13999, \">=\"&fromDateI, FLData!$C$2:$C$13999, \"<=\" &toDateI, FLData!$S$2:$S$13999,$C61, FLData!$E$2:$E$13999, Sim1Types, FLData!$F$2:$F$13999, \"Rental\" )) )*24","v":0},{"$f":"SUMPRODUCT( SUMIFS( FLData!$AH$2:$AH$13999, FLData!$C$2:$C$13999, \">=\"&fromDateI, FLData!$C$2:$C$13999, \"<=\" &toDateI, FLData!$J$2:$J$13999,$C61, FLData!$E$2:$E$13999, Sim1Types, FLData!$F$2:$F$13999, \"Operation\" ))*24","v":0},{"$f":"( SUMPRODUCT( SUMIFS( FLData!$AH$2:$AH$13999, FLData!$C$2:$C$13999, \">=\"&fromDateI, FLData!$C$2:$C$13999, \"<=\" &toDateI, FLData!$M$2:$M$13999,$C61, FLData!$E$2:$E$13999, Sim2Types, FLData!$F$2:$F$13999, \"Lesson\" )) + SUMPRODUCT( SUMIFS( FLData!$AH$2:$AH$13999, FLData!$C$2:$C$13999, \">=\"&fromDateI, FLData!$C$2:$C$13999, \"<=\" &toDateI, FLData!$S$2:$S$13999,$C61, FLData!$E$2:$E$13999, Sim2Types, FLData!$F$2:$F$13999, \"Rental\" )) )*24","v":0},{"$f":"SUMPRODUCT( SUMIFS( FLData!$AH$2:$AH$13999, FLData!$C$2:$C$13999, \">=\"&fromDateI, FLData!$C$2:$C$13999, \"<=\" &toDateI, FLData!$J$2:$J$13999,$C61, FLData!$E$2:$E$13999, Sim2Types, FLData!$F$2:$F$13999, \"Operation\" ))*24","v":0},0,0,0]
[null,null,"",{"$f":"( SUMPRODUCT( SUMIFS( FLData!$AH$2:$AH$13999, FLData!$C$2:$C$13999, \">=\"&fromDateI, FLData!$C$2:$C$13999, \"<=\" &toDateI, FLData!$M$2:$M$13999,$C62, FLData!$E$2:$E$13999, SingleEngineTypes, FLData!$F$2:$F$13999, \"Lesson\" )) + SUMPRODUCT( SUMIFS( FLData!$AH$2:$AH$13999, FLData!$C$2:$C$13999, \">=\"&fromDateI, FLData!$C$2:$C$13999, \"<=\" &toDateI, FLData!$S$2:$S$13999,$C62, FLData!$E$2:$E$13999, SingleEngineTypes, FLData!$F$2:$F$13999, \"Rental\" )) )*24","v":0},{"$f":"SUMPRODUCT( SUMIFS( FLData!$AH$2:$AH$13999, FLData!$C$2:$C$13999, \">=\"&fromDateI, FLData!$C$2:$C$13999, \"<=\" &toDateI, FLData!$J$2:$J$13999,$C62, FLData!$E$2:$E$13999, SingleEngineTypes, FLData!$F$2:$F$13999, \"Operation\" ))*24","v":0},{"$f":"( SUMPRODUCT( SUMIFS( FLData!$AH$2:$AH$13999, FLData!$C$2:$C$13999, \">=\"&fromDateI, FLData!$C$2:$C$13999, \"<=\" &toDateI, FLData!$M$2:$M$13999,$C62, FLData!$E$2:$E$13999, MultiEngineTypes, FLData!$F$2:$F$13999, \"Lesson\" )) + SUMPRODUCT( SUMIFS( FLData!$AH$2:$AH$13999, FLData!$C$2:$C$13999, \">=\"&fromDateI, FLData!$C$2:$C$13999, \"<=\" &toDateI, FLData!$S$2:$S$13999,$C62, FLData!$E$2:$E$13999, MultiEngineTypes, FLData!$F$2:$F$13999, \"Rental\" )) )*24","v":0},{"$f":"SUMPRODUCT( SUMIFS( FLData!$AH$2:$AH$13999, FLData!$C$2:$C$13999, \">=\"&fromDateI, FLData!$C$2:$C$13999, \"<=\" &toDateI, FLData!$J$2:$J$13999,$C62, FLData!$E$2:$E$13999, MultiEngineTypes, FLData!$F$2:$F$13999, \"Operation\" ))*24","v":0},{"$f":"( SUMPRODUCT( SUMIFS( FLData!$AH$2:$AH$13999, FLData!$C$2:$C$13999, \">=\"&fromDateI, FLData!$C$2:$C$13999, \"<=\" &toDateI, FLData!$M$2:$M$13999,$C62, FLData!$E$2:$E$13999, Sim1Types, FLData!$F$2:$F$13999, \"Lesson\" )) + SUMPRODUCT( SUMIFS( FLData!$AH$2:$AH$13999, FLData!$C$2:$C$13999, \">=\"&fromDateI, FLData!$C$2:$C$13999, \"<=\" &toDateI, FLData!$S$2:$S$13999,$C62, FLData!$E$2:$E$13999, Sim1Types, FLData!$F$2:$F$13999, \"Rental\" )) )*24","v":0},{"$f":"SUMPRODUCT( SUMIFS( FLData!$AH$2:$AH$13999, FLData!$C$2:$C$13999, \">=\"&fromDateI, FLData!$C$2:$C$13999, \"<=\" &toDateI, FLData!$J$2:$J$13999,$C62, FLData!$E$2:$E$13999, Sim1Types, FLData!$F$2:$F$13999, \"Operation\" ))*24","v":0},{"$f":"( SUMPRODUCT( SUMIFS( FLData!$AH$2:$AH$13999, FLData!$C$2:$C$13999, \">=\"&fromDateI, FLData!$C$2:$C$13999, \"<=\" &toDateI, FLData!$M$2:$M$13999,$C62, FLData!$E$2:$E$13999, Sim2Types, FLData!$F$2:$F$13999, \"Lesson\" )) + SUMPRODUCT( SUMIFS( FLData!$AH$2:$AH$13999, FLData!$C$2:$C$13999, \">=\"&fromDateI, FLData!$C$2:$C$13999, \"<=\" &toDateI, FLData!$S$2:$S$13999,$C62, FLData!$E$2:$E$13999, Sim2Types, FLData!$F$2:$F$13999, \"Rental\" )) )*24","v":0},{"$f":"SUMPRODUCT( SUMIFS( FLData!$AH$2:$AH$13999, FLData!$C$2:$C$13999, \">=\"&fromDateI, FLData!$C$2:$C$13999, \"<=\" &toDateI, FLData!$J$2:$J$13999,$C62, FLData!$E$2:$E$13999, Sim2Types, FLData!$F$2:$F$13999, \"Operation\" ))*24","v":0},0,0,0]
[null,null,"",{"$f":"( SUMPRODUCT( SUMIFS( FLData!$AH$2:$AH$13999, FLData!$C$2:$C$13999, \">=\"&fromDateI, FLData!$C$2:$C$13999, \"<=\" &toDateI, FLData!$M$2:$M$13999,$C63, FLData!$E$2:$E$13999, SingleEngineTypes, FLData!$F$2:$F$13999, \"Lesson\" )) + SUMPRODUCT( SUMIFS( FLData!$AH$2:$AH$13999, FLData!$C$2:$C$13999, \">=\"&fromDateI, FLData!$C$2:$C$13999, \"<=\" &toDateI, FLData!$S$2:$S$13999,$C63, FLData!$E$2:$E$13999, SingleEngineTypes, FLData!$F$2:$F$13999, \"Rental\" )) )*24","v":0},{"$f":"SUMPRODUCT( SUMIFS( FLData!$AH$2:$AH$13999, FLData!$C$2:$C$13999, \">=\"&fromDateI, FLData!$C$2:$C$13999, \"<=\" &toDateI, FLData!$J$2:$J$13999,$C63, FLData!$E$2:$E$13999, SingleEngineTypes, FLData!$F$2:$F$13999, \"Operation\" ))*24","v":0},{"$f":"( SUMPRODUCT( SUMIFS( FLData!$AH$2:$AH$13999, FLData!$C$2:$C$13999, \">=\"&fromDateI, FLData!$C$2:$C$13999, \"<=\" &toDateI, FLData!$M$2:$M$13999,$C63, FLData!$E$2:$E$13999, MultiEngineTypes, FLData!$F$2:$F$13999, \"Lesson\" )) + SUMPRODUCT( SUMIFS( FLData!$AH$2:$AH$13999, FLData!$C$2:$C$13999, \">=\"&fromDateI, FLData!$C$2:$C$13999, \"<=\" &toDateI, FLData!$S$2:$S$13999,$C63, FLData!$E$2:$E$13999, MultiEngineTypes, FLData!$F$2:$F$13999, \"Rental\" )) )*24","v":0},{"$f":"SUMPRODUCT( SUMIFS( FLData!$AH$2:$AH$13999, FLData!$C$2:$C$13999, \">=\"&fromDateI, FLData!$C$2:$C$13999, \"<=\" &toDateI, FLData!$J$2:$J$13999,$C63, FLData!$E$2:$E$13999, MultiEngineTypes, FLData!$F$2:$F$13999, \"Operation\" ))*24","v":0},{"$f":"( SUMPRODUCT( SUMIFS( FLData!$AH$2:$AH$13999, FLData!$C$2:$C$13999, \">=\"&fromDateI, FLData!$C$2:$C$13999, \"<=\" &toDateI, FLData!$M$2:$M$13999,$C63, FLData!$E$2:$E$13999, Sim1Types, FLData!$F$2:$F$13999, \"Lesson\" )) + SUMPRODUCT( SUMIFS( FLData!$AH$2:$AH$13999, FLData!$C$2:$C$13999, \">=\"&fromDateI, FLData!$C$2:$C$13999, \"<=\" &toDateI, FLData!$S$2:$S$13999,$C63, FLData!$E$2:$E$13999, Sim1Types, FLData!$F$2:$F$13999, \"Rental\" )) )*24","v":0},{"$f":"SUMPRODUCT( SUMIFS( FLData!$AH$2:$AH$13999, FLData!$C$2:$C$13999, \">=\"&fromDateI, FLData!$C$2:$C$13999, \"<=\" &toDateI, FLData!$J$2:$J$13999,$C63, FLData!$E$2:$E$13999, Sim1Types, FLData!$F$2:$F$13999, \"Operation\" ))*24","v":0},{"$f":"( SUMPRODUCT( SUMIFS( FLData!$AH$2:$AH$13999, FLData!$C$2:$C$13999, \">=\"&fromDateI, FLData!$C$2:$C$13999, \"<=\" &toDateI, FLData!$M$2:$M$13999,$C63, FLData!$E$2:$E$13999, Sim2Types, FLData!$F$2:$F$13999, \"Lesson\" )) + SUMPRODUCT( SUMIFS( FLData!$AH$2:$AH$13999, FLData!$C$2:$C$13999, \">=\"&fromDateI, FLData!$C$2:$C$13999, \"<=\" &toDateI, FLData!$S$2:$S$13999,$C63, FLData!$E$2:$E$13999, Sim2Types, FLData!$F$2:$F$13999, \"Rental\" )) )*24","v":0},{"$f":"SUMPRODUCT( SUMIFS( FLData!$AH$2:$AH$13999, FLData!$C$2:$C$13999, \">=\"&fromDateI, FLData!$C$2:$C$13999, \"<=\" &toDateI, FLData!$J$2:$J$13999,$C63, FLData!$E$2:$E$13999, Sim2Types, FLData!$F$2:$F$13999, \"Operation\" ))*24","v":0},0,0,0]
[null,null,"",{"$f":"( SUMPRODUCT( SUMIFS( FLData!$AH$2:$AH$13999, FLData!$C$2:$C$13999, \">=\"&fromDateI, FLData!$C$2:$C$13999, \"<=\" &toDateI, FLData!$M$2:$M$13999,$C64, FLData!$E$2:$E$13999, SingleEngineTypes, FLData!$F$2:$F$13999, \"Lesson\" )) + SUMPRODUCT( SUMIFS( FLData!$AH$2:$AH$13999, FLData!$C$2:$C$13999, \">=\"&fromDateI, FLData!$C$2:$C$13999, \"<=\" &toDateI, FLData!$S$2:$S$13999,$C64, FLData!$E$2:$E$13999, SingleEngineTypes, FLData!$F$2:$F$13999, \"Rental\" )) )*24","v":0},{"$f":"SUMPRODUCT( SUMIFS( FLData!$AH$2:$AH$13999, FLData!$C$2:$C$13999, \">=\"&fromDateI, FLData!$C$2:$C$13999, \"<=\" &toDateI, FLData!$J$2:$J$13999,$C64, FLData!$E$2:$E$13999, SingleEngineTypes, FLData!$F$2:$F$13999, \"Operation\" ))*24","v":0},{"$f":"( SUMPRODUCT( SUMIFS( FLData!$AH$2:$AH$13999, FLData!$C$2:$C$13999, \">=\"&fromDateI, FLData!$C$2:$C$13999, \"<=\" &toDateI, FLData!$M$2:$M$13999,$C64, FLData!$E$2:$E$13999, MultiEngineTypes, FLData!$F$2:$F$13999, \"Lesson\" )) + SUMPRODUCT( SUMIFS( FLData!$AH$2:$AH$13999, FLData!$C$2:$C$13999, \">=\"&fromDateI, FLData!$C$2:$C$13999, \"<=\" &toDateI, FLData!$S$2:$S$13999,$C64, FLData!$E$2:$E$13999, MultiEngineTypes, FLData!$F$2:$F$13999, \"Rental\" )) )*24","v":0},{"$f":"SUMPRODUCT( SUMIFS( FLData!$AH$2:$AH$13999, FLData!$C$2:$C$13999, \">=\"&fromDateI, FLData!$C$2:$C$13999, \"<=\" &toDateI, FLData!$J$2:$J$13999,$C64, FLData!$E$2:$E$13999, MultiEngineTypes, FLData!$F$2:$F$13999, \"Operation\" ))*24","v":0},{"$f":"( SUMPRODUCT( SUMIFS( FLData!$AH$2:$AH$13999, FLData!$C$2:$C$13999, \">=\"&fromDateI, FLData!$C$2:$C$13999, \"<=\" &toDateI, FLData!$M$2:$M$13999,$C64, FLData!$E$2:$E$13999, Sim1Types, FLData!$F$2:$F$13999, \"Lesson\" )) + SUMPRODUCT( SUMIFS( FLData!$AH$2:$AH$13999, FLData!$C$2:$C$13999, \">=\"&fromDateI, FLData!$C$2:$C$13999, \"<=\" &toDateI, FLData!$S$2:$S$13999,$C64, FLData!$E$2:$E$13999, Sim1Types, FLData!$F$2:$F$13999, \"Rental\" )) )*24","v":0},{"$f":"SUMPRODUCT( SUMIFS( FLData!$AH$2:$AH$13999, FLData!$C$2:$C$13999, \">=\"&fromDateI, FLData!$C$2:$C$13999, \"<=\" &toDateI, FLData!$J$2:$J$13999,$C64, FLData!$E$2:$E$13999, Sim1Types, FLData!$F$2:$F$13999, \"Operation\" ))*24","v":0},{"$f":"( SUMPRODUCT( SUMIFS( FLData!$AH$2:$AH$13999, FLData!$C$2:$C$13999, \">=\"&fromDateI, FLData!$C$2:$C$13999, \"<=\" &toDateI, FLData!$M$2:$M$13999,$C64, FLData!$E$2:$E$13999, Sim2Types, FLData!$F$2:$F$13999, \"Lesson\" )) + SUMPRODUCT( SUMIFS( FLData!$AH$2:$AH$13999, FLData!$C$2:$C$13999, \">=\"&fromDateI, FLData!$C$2:$C$13999, \"<=\" &toDateI, FLData!$S$2:$S$13999,$C64, FLData!$E$2:$E$13999, Sim2Types, FLData!$F$2:$F$13999, \"Rental\" )) )*24","v":0},{"$f":"SUMPRODUCT( SUMIFS( FLData!$AH$2:$AH$13999, FLData!$C$2:$C$13999, \">=\"&fromDateI, FLData!$C$2:$C$13999, \"<=\" &toDateI, FLData!$J$2:$J$13999,$C64, FLData!$E$2:$E$13999, Sim2Types, FLData!$F$2:$F$13999, \"Operation\" ))*24","v":0},0,0,0]
[null,null,"",{"$f":"( SUMPRODUCT( SUMIFS( FLData!$AH$2:$AH$13999, FLData!$C$2:$C$13999, \">=\"&fromDateI, FLData!$C$2:$C$13999, \"<=\" &toDateI, FLData!$M$2:$M$13999,$C65, FLData!$E$2:$E$13999, SingleEngineTypes, FLData!$F$2:$F$13999, \"Lesson\" )) + SUMPRODUCT( SUMIFS( FLData!$AH$2:$AH$13999, FLData!$C$2:$C$13999, \">=\"&fromDateI, FLData!$C$2:$C$13999, \"<=\" &toDateI, FLData!$S$2:$S$13999,$C65, FLData!$E$2:$E$13999, SingleEngineTypes, FLData!$F$2:$F$13999, \"Rental\" )) )*24","v":0},{"$f":"SUMPRODUCT( SUMIFS( FLData!$AH$2:$AH$13999, FLData!$C$2:$C$13999, \">=\"&fromDateI, FLData!$C$2:$C$13999, \"<=\" &toDateI, FLData!$J$2:$J$13999,$C65, FLData!$E$2:$E$13999, SingleEngineTypes, FLData!$F$2:$F$13999, \"Operation\" ))*24","v":0},{"$f":"( SUMPRODUCT( SUMIFS( FLData!$AH$2:$AH$13999, FLData!$C$2:$C$13999, \">=\"&fromDateI, FLData!$C$2:$C$13999, \"<=\" &toDateI, FLData!$M$2:$M$13999,$C65, FLData!$E$2:$E$13999, MultiEngineTypes, FLData!$F$2:$F$13999, \"Lesson\" )) + SUMPRODUCT( SUMIFS( FLData!$AH$2:$AH$13999, FLData!$C$2:$C$13999, \">=\"&fromDateI, FLData!$C$2:$C$13999, \"<=\" &toDateI, FLData!$S$2:$S$13999,$C65, FLData!$E$2:$E$13999, MultiEngineTypes, FLData!$F$2:$F$13999, \"Rental\" )) )*24","v":0},{"$f":"SUMPRODUCT( SUMIFS( FLData!$AH$2:$AH$13999, FLData!$C$2:$C$13999, \">=\"&fromDateI, FLData!$C$2:$C$13999, \"<=\" &toDateI, FLData!$J$2:$J$13999,$C65, FLData!$E$2:$E$13999, MultiEngineTypes, FLData!$F$2:$F$13999, \"Operation\" ))*24","v":0},{"$f":"( SUMPRODUCT( SUMIFS( FLData!$AH$2:$AH$13999, FLData!$C$2:$C$13999, \">=\"&fromDateI, FLData!$C$2:$C$13999, \"<=\" &toDateI, FLData!$M$2:$M$13999,$C65, FLData!$E$2:$E$13999, Sim1Types, FLData!$F$2:$F$13999, \"Lesson\" )) + SUMPRODUCT( SUMIFS( FLData!$AH$2:$AH$13999, FLData!$C$2:$C$13999, \">=\"&fromDateI, FLData!$C$2:$C$13999, \"<=\" &toDateI, FLData!$S$2:$S$13999,$C65, FLData!$E$2:$E$13999, Sim1Types, FLData!$F$2:$F$13999, \"Rental\" )) )*24","v":0},{"$f":"SUMPRODUCT( SUMIFS( FLData!$AH$2:$AH$13999, FLData!$C$2:$C$13999, \">=\"&fromDateI, FLData!$C$2:$C$13999, \"<=\" &toDateI, FLData!$J$2:$J$13999,$C65, FLData!$E$2:$E$13999, Sim1Types, FLData!$F$2:$F$13999, \"Operation\" ))*24","v":0},{"$f":"( SUMPRODUCT( SUMIFS( FLData!$AH$2:$AH$13999, FLData!$C$2:$C$13999, \">=\"&fromDateI, FLData!$C$2:$C$13999, \"<=\" &toDateI, FLData!$M$2:$M$13999,$C65, FLData!$E$2:$E$13999, Sim2Types, FLData!$F$2:$F$13999, \"Lesson\" )) + SUMPRODUCT( SUMIFS( FLData!$AH$2:$AH$13999, FLData!$C$2:$C$13999, \">=\"&fromDateI, FLData!$C$2:$C$13999, \"<=\" &toDateI, FLData!$S$2:$S$13999,$C65, FLData!$E$2:$E$13999, Sim2Types, FLData!$F$2:$F$13999, \"Rental\" )) )*24","v":0},{"$f":"SUMPRODUCT( SUMIFS( FLData!$AH$2:$AH$13999, FLData!$C$2:$C$13999, \">=\"&fromDateI, FLData!$C$2:$C$13999, \"<=\" &toDateI, FLData!$J$2:$J$13999,$C65, FLData!$E$2:$E$13999, Sim2Types, FLData!$F$2:$F$13999, \"Operation\" ))*24","v":0},0,0,0]
[null,null,"",{"$f":"( SUMPRODUCT( SUMIFS( FLData!$AH$2:$AH$13999, FLData!$C$2:$C$13999, \">=\"&fromDateI, FLData!$C$2:$C$13999, \"<=\" &toDateI, FLData!$M$2:$M$13999,$C66, FLData!$E$2:$E$13999, SingleEngineTypes, FLData!$F$2:$F$13999, \"Lesson\" )) + SUMPRODUCT( SUMIFS( FLData!$AH$2:$AH$13999, FLData!$C$2:$C$13999, \">=\"&fromDateI, FLData!$C$2:$C$13999, \"<=\" &toDateI, FLData!$S$2:$S$13999,$C66, FLData!$E$2:$E$13999, SingleEngineTypes, FLData!$F$2:$F$13999, \"Rental\" )) )*24","v":0},{"$f":"SUMPRODUCT( SUMIFS( FLData!$AH$2:$AH$13999, FLData!$C$2:$C$13999, \">=\"&fromDateI, FLData!$C$2:$C$13999, \"<=\" &toDateI, FLData!$J$2:$J$13999,$C66, FLData!$E$2:$E$13999, SingleEngineTypes, FLData!$F$2:$F$13999, \"Operation\" ))*24","v":0},{"$f":"( SUMPRODUCT( SUMIFS( FLData!$AH$2:$AH$13999, FLData!$C$2:$C$13999, \">=\"&fromDateI, FLData!$C$2:$C$13999, \"<=\" &toDateI, FLData!$M$2:$M$13999,$C66, FLData!$E$2:$E$13999, MultiEngineTypes, FLData!$F$2:$F$13999, \"Lesson\" )) + SUMPRODUCT( SUMIFS( FLData!$AH$2:$AH$13999, FLData!$C$2:$C$13999, \">=\"&fromDateI, FLData!$C$2:$C$13999, \"<=\" &toDateI, FLData!$S$2:$S$13999,$C66, FLData!$E$2:$E$13999, MultiEngineTypes, FLData!$F$2:$F$13999, \"Rental\" )) )*24","v":0},{"$f":"SUMPRODUCT( SUMIFS( FLData!$AH$2:$AH$13999, FLData!$C$2:$C$13999, \">=\"&fromDateI, FLData!$C$2:$C$13999, \"<=\" &toDateI, FLData!$J$2:$J$13999,$C66, FLData!$E$2:$E$13999, MultiEngineTypes, FLData!$F$2:$F$13999, \"Operation\" ))*24","v":0},{"$f":"( SUMPRODUCT( SUMIFS( FLData!$AH$2:$AH$13999, FLData!$C$2:$C$13999, \">=\"&fromDateI, FLData!$C$2:$C$13999, \"<=\" &toDateI, FLData!$M$2:$M$13999,$C66, FLData!$E$2:$E$13999, Sim1Types, FLData!$F$2:$F$13999, \"Lesson\" )) + SUMPRODUCT( SUMIFS( FLData!$AH$2:$AH$13999, FLData!$C$2:$C$13999, \">=\"&fromDateI, FLData!$C$2:$C$13999, \"<=\" &toDateI, FLData!$S$2:$S$13999,$C66, FLData!$E$2:$E$13999, Sim1Types, FLData!$F$2:$F$13999, \"Rental\" )) )*24","v":0},{"$f":"SUMPRODUCT( SUMIFS( FLData!$AH$2:$AH$13999, FLData!$C$2:$C$13999, \">=\"&fromDateI, FLData!$C$2:$C$13999, \"<=\" &toDateI, FLData!$J$2:$J$13999,$C66, FLData!$E$2:$E$13999, Sim1Types, FLData!$F$2:$F$13999, \"Operation\" ))*24","v":0},{"$f":"( SUMPRODUCT( SUMIFS( FLData!$AH$2:$AH$13999, FLData!$C$2:$C$13999, \">=\"&fromDateI, FLData!$C$2:$C$13999, \"<=\" &toDateI, FLData!$M$2:$M$13999,$C66, FLData!$E$2:$E$13999, Sim2Types, FLData!$F$2:$F$13999, \"Lesson\" )) + SUMPRODUCT( SUMIFS( FLData!$AH$2:$AH$13999, FLData!$C$2:$C$13999, \">=\"&fromDateI, FLData!$C$2:$C$13999, \"<=\" &toDateI, FLData!$S$2:$S$13999,$C66, FLData!$E$2:$E$13999, Sim2Types, FLData!$F$2:$F$13999, \"Rental\" )) )*24","v":0},{"$f":"SUMPRODUCT( SUMIFS( FLData!$AH$2:$AH$13999, FLData!$C$2:$C$13999, \">=\"&fromDateI, FLData!$C$2:$C$13999, \"<=\" &toDateI, FLData!$J$2:$J$13999,$C66, FLData!$E$2:$E$13999, Sim2Types, FLData!$F$2:$F$13999, \"Operation\" ))*24","v":0},0,0,0]
[null,null,"",{"$f":"( SUMPRODUCT( SUMIFS( FLData!$AH$2:$AH$13999, FLData!$C$2:$C$13999, \">=\"&fromDateI, FLData!$C$2:$C$13999, \"<=\" &toDateI, FLData!$M$2:$M$13999,$C67, FLData!$E$2:$E$13999, SingleEngineTypes, FLData!$F$2:$F$13999, \"Lesson\" )) + SUMPRODUCT( SUMIFS( FLData!$AH$2:$AH$13999, FLData!$C$2:$C$13999, \">=\"&fromDateI, FLData!$C$2:$C$13999, \"<=\" &toDateI, FLData!$S$2:$S$13999,$C67, FLData!$E$2:$E$13999, SingleEngineTypes, FLData!$F$2:$F$13999, \"Rental\" )) )*24","v":0},{"$f":"SUMPRODUCT( SUMIFS( FLData!$AH$2:$AH$13999, FLData!$C$2:$C$13999, \">=\"&fromDateI, FLData!$C$2:$C$13999, \"<=\" &toDateI, FLData!$J$2:$J$13999,$C67, FLData!$E$2:$E$13999, SingleEngineTypes, FLData!$F$2:$F$13999, \"Operation\" ))*24","v":0},{"$f":"( SUMPRODUCT( SUMIFS( FLData!$AH$2:$AH$13999, FLData!$C$2:$C$13999, \">=\"&fromDateI, FLData!$C$2:$C$13999, \"<=\" &toDateI, FLData!$M$2:$M$13999,$C67, FLData!$E$2:$E$13999, MultiEngineTypes, FLData!$F$2:$F$13999, \"Lesson\" )) + SUMPRODUCT( SUMIFS( FLData!$AH$2:$AH$13999, FLData!$C$2:$C$13999, \">=\"&fromDateI, FLData!$C$2:$C$13999, \"<=\" &toDateI, FLData!$S$2:$S$13999,$C67, FLData!$E$2:$E$13999, MultiEngineTypes, FLData!$F$2:$F$13999, \"Rental\" )) )*24","v":0},{"$f":"SUMPRODUCT( SUMIFS( FLData!$AH$2:$AH$13999, FLData!$C$2:$C$13999, \">=\"&fromDateI, FLData!$C$2:$C$13999, \"<=\" &toDateI, FLData!$J$2:$J$13999,$C67, FLData!$E$2:$E$13999, MultiEngineTypes, FLData!$F$2:$F$13999, \"Operation\" ))*24","v":0},{"$f":"( SUMPRODUCT( SUMIFS( FLData!$AH$2:$AH$13999, FLData!$C$2:$C$13999, \">=\"&fromDateI, FLData!$C$2:$C$13999, \"<=\" &toDateI, FLData!$M$2:$M$13999,$C67, FLData!$E$2:$E$13999, Sim1Types, FLData!$F$2:$F$13999, \"Lesson\" )) + SUMPRODUCT( SUMIFS( FLData!$AH$2:$AH$13999, FLData!$C$2:$C$13999, \">=\"&fromDateI, FLData!$C$2:$C$13999, \"<=\" &toDateI, FLData!$S$2:$S$13999,$C67, FLData!$E$2:$E$13999, Sim1Types, FLData!$F$2:$F$13999, \"Rental\" )) )*24","v":0},{"$f":"SUMPRODUCT( SUMIFS( FLData!$AH$2:$AH$13999, FLData!$C$2:$C$13999, \">=\"&fromDateI, FLData!$C$2:$C$13999, \"<=\" &toDateI, FLData!$J$2:$J$13999,$C67, FLData!$E$2:$E$13999, Sim1Types, FLData!$F$2:$F$13999, \"Operation\" ))*24","v":0},{"$f":"( SUMPRODUCT( SUMIFS( FLData!$AH$2:$AH$13999, FLData!$C$2:$C$13999, \">=\"&fromDateI, FLData!$C$2:$C$13999, \"<=\" &toDateI, FLData!$M$2:$M$13999,$C67, FLData!$E$2:$E$13999, Sim2Types, FLData!$F$2:$F$13999, \"Lesson\" )) + SUMPRODUCT( SUMIFS( FLData!$AH$2:$AH$13999, FLData!$C$2:$C$13999, \">=\"&fromDateI, FLData!$C$2:$C$13999, \"<=\" &toDateI, FLData!$S$2:$S$13999,$C67, FLData!$E$2:$E$13999, Sim2Types, FLData!$F$2:$F$13999, \"Rental\" )) )*24","v":0},{"$f":"SUMPRODUCT( SUMIFS( FLData!$AH$2:$AH$13999, FLData!$C$2:$C$13999, \">=\"&fromDateI, FLData!$C$2:$C$13999, \"<=\" &toDateI, FLData!$J$2:$J$13999,$C67, FLData!$E$2:$E$13999, Sim2Types, FLData!$F$2:$F$13999, \"Operation\" ))*24","v":0},0,0,0]
[null,null,"",{"$f":"( SUMPRODUCT( SUMIFS( FLData!$AH$2:$AH$13999, FLData!$C$2:$C$13999, \">=\"&fromDateI, FLData!$C$2:$C$13999, \"<=\" &toDateI, FLData!$M$2:$M$13999,$C68, FLData!$E$2:$E$13999, SingleEngineTypes, FLData!$F$2:$F$13999, \"Lesson\" )) + SUMPRODUCT( SUMIFS( FLData!$AH$2:$AH$13999, FLData!$C$2:$C$13999, \">=\"&fromDateI, FLData!$C$2:$C$13999, \"<=\" &toDateI, FLData!$S$2:$S$13999,$C68, FLData!$E$2:$E$13999, SingleEngineTypes, FLData!$F$2:$F$13999, \"Rental\" )) )*24","v":0},{"$f":"SUMPRODUCT( SUMIFS( FLData!$AH$2:$AH$13999, FLData!$C$2:$C$13999, \">=\"&fromDateI, FLData!$C$2:$C$13999, \"<=\" &toDateI, FLData!$J$2:$J$13999,$C68, FLData!$E$2:$E$13999, SingleEngineTypes, FLData!$F$2:$F$13999, \"Operation\" ))*24","v":0},{"$f":"( SUMPRODUCT( SUMIFS( FLData!$AH$2:$AH$13999, FLData!$C$2:$C$13999, \">=\"&fromDateI, FLData!$C$2:$C$13999, \"<=\" &toDateI, FLData!$M$2:$M$13999,$C68, FLData!$E$2:$E$13999, MultiEngineTypes, FLData!$F$2:$F$13999, \"Lesson\" )) + SUMPRODUCT( SUMIFS( FLData!$AH$2:$AH$13999, FLData!$C$2:$C$13999, \">=\"&fromDateI, FLData!$C$2:$C$13999, \"<=\" &toDateI, FLData!$S$2:$S$13999,$C68, FLData!$E$2:$E$13999, MultiEngineTypes, FLData!$F$2:$F$13999, \"Rental\" )) )*24","v":0},{"$f":"SUMPRODUCT( SUMIFS( FLData!$AH$2:$AH$13999, FLData!$C$2:$C$13999, \">=\"&fromDateI, FLData!$C$2:$C$13999, \"<=\" &toDateI, FLData!$J$2:$J$13999,$C68, FLData!$E$2:$E$13999, MultiEngineTypes, FLData!$F$2:$F$13999, \"Operation\" ))*24","v":0},{"$f":"( SUMPRODUCT( SUMIFS( FLData!$AH$2:$AH$13999, FLData!$C$2:$C$13999, \">=\"&fromDateI, FLData!$C$2:$C$13999, \"<=\" &toDateI, FLData!$M$2:$M$13999,$C68, FLData!$E$2:$E$13999, Sim1Types, FLData!$F$2:$F$13999, \"Lesson\" )) + SUMPRODUCT( SUMIFS( FLData!$AH$2:$AH$13999, FLData!$C$2:$C$13999, \">=\"&fromDateI, FLData!$C$2:$C$13999, \"<=\" &toDateI, FLData!$S$2:$S$13999,$C68, FLData!$E$2:$E$13999, Sim1Types, FLData!$F$2:$F$13999, \"Rental\" )) )*24","v":0},{"$f":"SUMPRODUCT( SUMIFS( FLData!$AH$2:$AH$13999, FLData!$C$2:$C$13999, \">=\"&fromDateI, FLData!$C$2:$C$13999, \"<=\" &toDateI, FLData!$J$2:$J$13999,$C68, FLData!$E$2:$E$13999, Sim1Types, FLData!$F$2:$F$13999, \"Operation\" ))*24","v":0},{"$f":"( SUMPRODUCT( SUMIFS( FLData!$AH$2:$AH$13999, FLData!$C$2:$C$13999, \">=\"&fromDateI, FLData!$C$2:$C$13999, \"<=\" &toDateI, FLData!$M$2:$M$13999,$C68, FLData!$E$2:$E$13999, Sim2Types, FLData!$F$2:$F$13999, \"Lesson\" )) + SUMPRODUCT( SUMIFS( FLData!$AH$2:$AH$13999, FLData!$C$2:$C$13999, \">=\"&fromDateI, FLData!$C$2:$C$13999, \"<=\" &toDateI, FLData!$S$2:$S$13999,$C68, FLData!$E$2:$E$13999, Sim2Types, FLData!$F$2:$F$13999, \"Rental\" )) )*24","v":0},{"$f":"SUMPRODUCT( SUMIFS( FLData!$AH$2:$AH$13999, FLData!$C$2:$C$13999, \">=\"&fromDateI, FLData!$C$2:$C$13999, \"<=\" &toDateI, FLData!$J$2:$J$13999,$C68, FLData!$E$2:$E$13999, Sim2Types, FLData!$F$2:$F$13999, \"Operation\" ))*24","v":0},0,0,0]
[null,null,"",{"$f":"( SUMPRODUCT( SUMIFS( FLData!$AH$2:$AH$13999, FLData!$C$2:$C$13999, \">=\"&fromDateI, FLData!$C$2:$C$13999, \"<=\" &toDateI, FLData!$M$2:$M$13999,$C69, FLData!$E$2:$E$13999, SingleEngineTypes, FLData!$F$2:$F$13999, \"Lesson\" )) + SUMPRODUCT( SUMIFS( FLData!$AH$2:$AH$13999, FLData!$C$2:$C$13999, \">=\"&fromDateI, FLData!$C$2:$C$13999, \"<=\" &toDateI, FLData!$S$2:$S$13999,$C69, FLData!$E$2:$E$13999, SingleEngineTypes, FLData!$F$2:$F$13999, \"Rental\" )) )*24","v":0},{"$f":"SUMPRODUCT( SUMIFS( FLData!$AH$2:$AH$13999, FLData!$C$2:$C$13999, \">=\"&fromDateI, FLData!$C$2:$C$13999, \"<=\" &toDateI, FLData!$J$2:$J$13999,$C69, FLData!$E$2:$E$13999, SingleEngineTypes, FLData!$F$2:$F$13999, \"Operation\" ))*24","v":0},{"$f":"( SUMPRODUCT( SUMIFS( FLData!$AH$2:$AH$13999, FLData!$C$2:$C$13999, \">=\"&fromDateI, FLData!$C$2:$C$13999, \"<=\" &toDateI, FLData!$M$2:$M$13999,$C69, FLData!$E$2:$E$13999, MultiEngineTypes, FLData!$F$2:$F$13999, \"Lesson\" )) + SUMPRODUCT( SUMIFS( FLData!$AH$2:$AH$13999, FLData!$C$2:$C$13999, \">=\"&fromDateI, FLData!$C$2:$C$13999, \"<=\" &toDateI, FLData!$S$2:$S$13999,$C69, FLData!$E$2:$E$13999, MultiEngineTypes, FLData!$F$2:$F$13999, \"Rental\" )) )*24","v":0},{"$f":"SUMPRODUCT( SUMIFS( FLData!$AH$2:$AH$13999, FLData!$C$2:$C$13999, \">=\"&fromDateI, FLData!$C$2:$C$13999, \"<=\" &toDateI, FLData!$J$2:$J$13999,$C69, FLData!$E$2:$E$13999, MultiEngineTypes, FLData!$F$2:$F$13999, \"Operation\" ))*24","v":0},{"$f":"( SUMPRODUCT( SUMIFS( FLData!$AH$2:$AH$13999, FLData!$C$2:$C$13999, \">=\"&fromDateI, FLData!$C$2:$C$13999, \"<=\" &toDateI, FLData!$M$2:$M$13999,$C69, FLData!$E$2:$E$13999, Sim1Types, FLData!$F$2:$F$13999, \"Lesson\" )) + SUMPRODUCT( SUMIFS( FLData!$AH$2:$AH$13999, FLData!$C$2:$C$13999, \">=\"&fromDateI, FLData!$C$2:$C$13999, \"<=\" &toDateI, FLData!$S$2:$S$13999,$C69, FLData!$E$2:$E$13999, Sim1Types, FLData!$F$2:$F$13999, \"Rental\" )) )*24","v":0},{"$f":"SUMPRODUCT( SUMIFS( FLData!$AH$2:$AH$13999, FLData!$C$2:$C$13999, \">=\"&fromDateI, FLData!$C$2:$C$13999, \"<=\" &toDateI, FLData!$J$2:$J$13999,$C69, FLData!$E$2:$E$13999, Sim1Types, FLData!$F$2:$F$13999, \"Operation\" ))*24","v":0},{"$f":"( SUMPRODUCT( SUMIFS( FLData!$AH$2:$AH$13999, FLData!$C$2:$C$13999, \">=\"&fromDateI, FLData!$C$2:$C$13999, \"<=\" &toDateI, FLData!$M$2:$M$13999,$C69, FLData!$E$2:$E$13999, Sim2Types, FLData!$F$2:$F$13999, \"Lesson\" )) + SUMPRODUCT( SUMIFS( FLData!$AH$2:$AH$13999, FLData!$C$2:$C$13999, \">=\"&fromDateI, FLData!$C$2:$C$13999, \"<=\" &toDateI, FLData!$S$2:$S$13999,$C69, FLData!$E$2:$E$13999, Sim2Types, FLData!$F$2:$F$13999, \"Rental\" )) )*24","v":0},{"$f":"SUMPRODUCT( SUMIFS( FLData!$AH$2:$AH$13999, FLData!$C$2:$C$13999, \">=\"&fromDateI, FLData!$C$2:$C$13999, \"<=\" &toDateI, FLData!$J$2:$J$13999,$C69, FLData!$E$2:$E$13999, Sim2Types, FLData!$F$2:$F$13999, \"Operation\" ))*24","v":0},0,0,0]
[null,null,"",{"$f":"( SUMPRODUCT( SUMIFS( FLData!$AH$2:$AH$13999, FLData!$C$2:$C$13999, \">=\"&fromDateI, FLData!$C$2:$C$13999, \"<=\" &toDateI, FLData!$M$2:$M$13999,$C70, FLData!$E$2:$E$13999, SingleEngineTypes, FLData!$F$2:$F$13999, \"Lesson\" )) + SUMPRODUCT( SUMIFS( FLData!$AH$2:$AH$13999, FLData!$C$2:$C$13999, \">=\"&fromDateI, FLData!$C$2:$C$13999, \"<=\" &toDateI, FLData!$S$2:$S$13999,$C70, FLData!$E$2:$E$13999, SingleEngineTypes, FLData!$F$2:$F$13999, \"Rental\" )) )*24","v":0},{"$f":"SUMPRODUCT( SUMIFS( FLData!$AH$2:$AH$13999, FLData!$C$2:$C$13999, \">=\"&fromDateI, FLData!$C$2:$C$13999, \"<=\" &toDateI, FLData!$J$2:$J$13999,$C70, FLData!$E$2:$E$13999, SingleEngineTypes, FLData!$F$2:$F$13999, \"Operation\" ))*24","v":0},{"$f":"( SUMPRODUCT( SUMIFS( FLData!$AH$2:$AH$13999, FLData!$C$2:$C$13999, \">=\"&fromDateI, FLData!$C$2:$C$13999, \"<=\" &toDateI, FLData!$M$2:$M$13999,$C70, FLData!$E$2:$E$13999, MultiEngineTypes, FLData!$F$2:$F$13999, \"Lesson\" )) + SUMPRODUCT( SUMIFS( FLData!$AH$2:$AH$13999, FLData!$C$2:$C$13999, \">=\"&fromDateI, FLData!$C$2:$C$13999, \"<=\" &toDateI, FLData!$S$2:$S$13999,$C70, FLData!$E$2:$E$13999, MultiEngineTypes, FLData!$F$2:$F$13999, \"Rental\" )) )*24","v":0},{"$f":"SUMPRODUCT( SUMIFS( FLData!$AH$2:$AH$13999, FLData!$C$2:$C$13999, \">=\"&fromDateI, FLData!$C$2:$C$13999, \"<=\" &toDateI, FLData!$J$2:$J$13999,$C70, FLData!$E$2:$E$13999, MultiEngineTypes, FLData!$F$2:$F$13999, \"Operation\" ))*24","v":0},{"$f":"( SUMPRODUCT( SUMIFS( FLData!$AH$2:$AH$13999, FLData!$C$2:$C$13999, \">=\"&fromDateI, FLData!$C$2:$C$13999, \"<=\" &toDateI, FLData!$M$2:$M$13999,$C70, FLData!$E$2:$E$13999, Sim1Types, FLData!$F$2:$F$13999, \"Lesson\" )) + SUMPRODUCT( SUMIFS( FLData!$AH$2:$AH$13999, FLData!$C$2:$C$13999, \">=\"&fromDateI, FLData!$C$2:$C$13999, \"<=\" &toDateI, FLData!$S$2:$S$13999,$C70, FLData!$E$2:$E$13999, Sim1Types, FLData!$F$2:$F$13999, \"Rental\" )) )*24","v":0},{"$f":"SUMPRODUCT( SUMIFS( FLData!$AH$2:$AH$13999, FLData!$C$2:$C$13999, \">=\"&fromDateI, FLData!$C$2:$C$13999, \"<=\" &toDateI, FLData!$J$2:$J$13999,$C70, FLData!$E$2:$E$13999, Sim1Types, FLData!$F$2:$F$13999, \"Operation\" ))*24","v":0},{"$f":"( SUMPRODUCT( SUMIFS( FLData!$AH$2:$AH$13999, FLData!$C$2:$C$13999, \">=\"&fromDateI, FLData!$C$2:$C$13999, \"<=\" &toDateI, FLData!$M$2:$M$13999,$C70, FLData!$E$2:$E$13999, Sim2Types, FLData!$F$2:$F$13999, \"Lesson\" )) + SUMPRODUCT( SUMIFS( FLData!$AH$2:$AH$13999, FLData!$C$2:$C$13999, \">=\"&fromDateI, FLData!$C$2:$C$13999, \"<=\" &toDateI, FLData!$S$2:$S$13999,$C70, FLData!$E$2:$E$13999, Sim2Types, FLData!$F$2:$F$13999, \"Rental\" )) )*24","v":0},{"$f":"SUMPRODUCT( SUMIFS( FLData!$AH$2:$AH$13999, FLData!$C$2:$C$13999, \">=\"&fromDateI, FLData!$C$2:$C$13999, \"<=\" &toDateI, FLData!$J$2:$J$13999,$C70, FLData!$E$2:$E$13999, Sim2Types, FLData!$F$2:$F$13999, \"Operation\" ))*24","v":0},0,0,0]
[null,null,"",{"$f":"( SUMPRODUCT( SUMIFS( FLData!$AH$2:$AH$13999, FLData!$C$2:$C$13999, \">=\"&fromDateI, FLData!$C$2:$C$13999, \"<=\" &toDateI, FLData!$M$2:$M$13999,$C71, FLData!$E$2:$E$13999, SingleEngineTypes, FLData!$F$2:$F$13999, \"Lesson\" )) + SUMPRODUCT( SUMIFS( FLData!$AH$2:$AH$13999, FLData!$C$2:$C$13999, \">=\"&fromDateI, FLData!$C$2:$C$13999, \"<=\" &toDateI, FLData!$S$2:$S$13999,$C71, FLData!$E$2:$E$13999, SingleEngineTypes, FLData!$F$2:$F$13999, \"Rental\" )) )*24","v":0},{"$f":"SUMPRODUCT( SUMIFS( FLData!$AH$2:$AH$13999, FLData!$C$2:$C$13999, \">=\"&fromDateI, FLData!$C$2:$C$13999, \"<=\" &toDateI, FLData!$J$2:$J$13999,$C71, FLData!$E$2:$E$13999, SingleEngineTypes, FLData!$F$2:$F$13999, \"Operation\" ))*24","v":0},{"$f":"( SUMPRODUCT( SUMIFS( FLData!$AH$2:$AH$13999, FLData!$C$2:$C$13999, \">=\"&fromDateI, FLData!$C$2:$C$13999, \"<=\" &toDateI, FLData!$M$2:$M$13999,$C71, FLData!$E$2:$E$13999, MultiEngineTypes, FLData!$F$2:$F$13999, \"Lesson\" )) + SUMPRODUCT( SUMIFS( FLData!$AH$2:$AH$13999, FLData!$C$2:$C$13999, \">=\"&fromDateI, FLData!$C$2:$C$13999, \"<=\" &toDateI, FLData!$S$2:$S$13999,$C71, FLData!$E$2:$E$13999, MultiEngineTypes, FLData!$F$2:$F$13999, \"Rental\" )) )*24","v":0},{"$f":"SUMPRODUCT( SUMIFS( FLData!$AH$2:$AH$13999, FLData!$C$2:$C$13999, \">=\"&fromDateI, FLData!$C$2:$C$13999, \"<=\" &toDateI, FLData!$J$2:$J$13999,$C71, FLData!$E$2:$E$13999, MultiEngineTypes, FLData!$F$2:$F$13999, \"Operation\" ))*24","v":0},{"$f":"( SUMPRODUCT( SUMIFS( FLData!$AH$2:$AH$13999, FLData!$C$2:$C$13999, \">=\"&fromDateI, FLData!$C$2:$C$13999, \"<=\" &toDateI, FLData!$M$2:$M$13999,$C71, FLData!$E$2:$E$13999, Sim1Types, FLData!$F$2:$F$13999, \"Lesson\" )) + SUMPRODUCT( SUMIFS( FLData!$AH$2:$AH$13999, FLData!$C$2:$C$13999, \">=\"&fromDateI, FLData!$C$2:$C$13999, \"<=\" &toDateI, FLData!$S$2:$S$13999,$C71, FLData!$E$2:$E$13999, Sim1Types, FLData!$F$2:$F$13999, \"Rental\" )) )*24","v":0},{"$f":"SUMPRODUCT( SUMIFS( FLData!$AH$2:$AH$13999, FLData!$C$2:$C$13999, \">=\"&fromDateI, FLData!$C$2:$C$13999, \"<=\" &toDateI, FLData!$J$2:$J$13999,$C71, FLData!$E$2:$E$13999, Sim1Types, FLData!$F$2:$F$13999, \"Operation\" ))*24","v":0},{"$f":"( SUMPRODUCT( SUMIFS( FLData!$AH$2:$AH$13999, FLData!$C$2:$C$13999, \">=\"&fromDateI, FLData!$C$2:$C$13999, \"<=\" &toDateI, FLData!$M$2:$M$13999,$C71, FLData!$E$2:$E$13999, Sim2Types, FLData!$F$2:$F$13999, \"Lesson\" )) + SUMPRODUCT( SUMIFS( FLData!$AH$2:$AH$13999, FLData!$C$2:$C$13999, \">=\"&fromDateI, FLData!$C$2:$C$13999, \"<=\" &toDateI, FLData!$S$2:$S$13999,$C71, FLData!$E$2:$E$13999, Sim2Types, FLData!$F$2:$F$13999, \"Rental\" )) )*24","v":0},{"$f":"SUMPRODUCT( SUMIFS( FLData!$AH$2:$AH$13999, FLData!$C$2:$C$13999, \">=\"&fromDateI, FLData!$C$2:$C$13999, \"<=\" &toDateI, FLData!$J$2:$J$13999,$C71, FLData!$E$2:$E$13999, Sim2Types, FLData!$F$2:$F$13999, \"Operation\" ))*24","v":0},0,0,0]
[null,null,"",{"$f":"( SUMPRODUCT( SUMIFS( FLData!$AH$2:$AH$13999, FLData!$C$2:$C$13999, \">=\"&fromDateI, FLData!$C$2:$C$13999, \"<=\" &toDateI, FLData!$M$2:$M$13999,$C72, FLData!$E$2:$E$13999, SingleEngineTypes, FLData!$F$2:$F$13999, \"Lesson\" )) + SUMPRODUCT( SUMIFS( FLData!$AH$2:$AH$13999, FLData!$C$2:$C$13999, \">=\"&fromDateI, FLData!$C$2:$C$13999, \"<=\" &toDateI, FLData!$S$2:$S$13999,$C72, FLData!$E$2:$E$13999, SingleEngineTypes, FLData!$F$2:$F$13999, \"Rental\" )) )*24","v":0},{"$f":"SUMPRODUCT( SUMIFS( FLData!$AH$2:$AH$13999, FLData!$C$2:$C$13999, \">=\"&fromDateI, FLData!$C$2:$C$13999, \"<=\" &toDateI, FLData!$J$2:$J$13999,$C72, FLData!$E$2:$E$13999, SingleEngineTypes, FLData!$F$2:$F$13999, \"Operation\" ))*24","v":0},{"$f":"( SUMPRODUCT( SUMIFS( FLData!$AH$2:$AH$13999, FLData!$C$2:$C$13999, \">=\"&fromDateI, FLData!$C$2:$C$13999, \"<=\" &toDateI, FLData!$M$2:$M$13999,$C72, FLData!$E$2:$E$13999, MultiEngineTypes, FLData!$F$2:$F$13999, \"Lesson\" )) + SUMPRODUCT( SUMIFS( FLData!$AH$2:$AH$13999, FLData!$C$2:$C$13999, \">=\"&fromDateI, FLData!$C$2:$C$13999, \"<=\" &toDateI, FLData!$S$2:$S$13999,$C72, FLData!$E$2:$E$13999, MultiEngineTypes, FLData!$F$2:$F$13999, \"Rental\" )) )*24","v":0},{"$f":"SUMPRODUCT( SUMIFS( FLData!$AH$2:$AH$13999, FLData!$C$2:$C$13999, \">=\"&fromDateI, FLData!$C$2:$C$13999, \"<=\" &toDateI, FLData!$J$2:$J$13999,$C72, FLData!$E$2:$E$13999, MultiEngineTypes, FLData!$F$2:$F$13999, \"Operation\" ))*24","v":0},{"$f":"( SUMPRODUCT( SUMIFS( FLData!$AH$2:$AH$13999, FLData!$C$2:$C$13999, \">=\"&fromDateI, FLData!$C$2:$C$13999, \"<=\" &toDateI, FLData!$M$2:$M$13999,$C72, FLData!$E$2:$E$13999, Sim1Types, FLData!$F$2:$F$13999, \"Lesson\" )) + SUMPRODUCT( SUMIFS( FLData!$AH$2:$AH$13999, FLData!$C$2:$C$13999, \">=\"&fromDateI, FLData!$C$2:$C$13999, \"<=\" &toDateI, FLData!$S$2:$S$13999,$C72, FLData!$E$2:$E$13999, Sim1Types, FLData!$F$2:$F$13999, \"Rental\" )) )*24","v":0},{"$f":"SUMPRODUCT( SUMIFS( FLData!$AH$2:$AH$13999, FLData!$C$2:$C$13999, \">=\"&fromDateI, FLData!$C$2:$C$13999, \"<=\" &toDateI, FLData!$J$2:$J$13999,$C72, FLData!$E$2:$E$13999, Sim1Types, FLData!$F$2:$F$13999, \"Operation\" ))*24","v":0},{"$f":"( SUMPRODUCT( SUMIFS( FLData!$AH$2:$AH$13999, FLData!$C$2:$C$13999, \">=\"&fromDateI, FLData!$C$2:$C$13999, \"<=\" &toDateI, FLData!$M$2:$M$13999,$C72, FLData!$E$2:$E$13999, Sim2Types, FLData!$F$2:$F$13999, \"Lesson\" )) + SUMPRODUCT( SUMIFS( FLData!$AH$2:$AH$13999, FLData!$C$2:$C$13999, \">=\"&fromDateI, FLData!$C$2:$C$13999, \"<=\" &toDateI, FLData!$S$2:$S$13999,$C72, FLData!$E$2:$E$13999, Sim2Types, FLData!$F$2:$F$13999, \"Rental\" )) )*24","v":0},{"$f":"SUMPRODUCT( SUMIFS( FLData!$AH$2:$AH$13999, FLData!$C$2:$C$13999, \">=\"&fromDateI, FLData!$C$2:$C$13999, \"<=\" &toDateI, FLData!$J$2:$J$13999,$C72, FLData!$E$2:$E$13999, Sim2Types, FLData!$F$2:$F$13999, \"Operation\" ))*24","v":0},0,0,0]
[null,null,"",{"$f":"( SUMPRODUCT( SUMIFS( FLData!$AH$2:$AH$13999, FLData!$C$2:$C$13999, \">=\"&fromDateI, FLData!$C$2:$C$13999, \"<=\" &toDateI, FLData!$M$2:$M$13999,$C73, FLData!$E$2:$E$13999, SingleEngineTypes, FLData!$F$2:$F$13999, \"Lesson\" )) + SUMPRODUCT( SUMIFS( FLData!$AH$2:$AH$13999, FLData!$C$2:$C$13999, \">=\"&fromDateI, FLData!$C$2:$C$13999, \"<=\" &toDateI, FLData!$S$2:$S$13999,$C73, FLData!$E$2:$E$13999, SingleEngineTypes, FLData!$F$2:$F$13999, \"Rental\" )) )*24","v":0},{"$f":"SUMPRODUCT( SUMIFS( FLData!$AH$2:$AH$13999, FLData!$C$2:$C$13999, \">=\"&fromDateI, FLData!$C$2:$C$13999, \"<=\" &toDateI, FLData!$J$2:$J$13999,$C73, FLData!$E$2:$E$13999, SingleEngineTypes, FLData!$F$2:$F$13999, \"Operation\" ))*24","v":0},{"$f":"( SUMPRODUCT( SUMIFS( FLData!$AH$2:$AH$13999, FLData!$C$2:$C$13999, \">=\"&fromDateI, FLData!$C$2:$C$13999, \"<=\" &toDateI, FLData!$M$2:$M$13999,$C73, FLData!$E$2:$E$13999, MultiEngineTypes, FLData!$F$2:$F$13999, \"Lesson\" )) + SUMPRODUCT( SUMIFS( FLData!$AH$2:$AH$13999, FLData!$C$2:$C$13999, \">=\"&fromDateI, FLData!$C$2:$C$13999, \"<=\" &toDateI, FLData!$S$2:$S$13999,$C73, FLData!$E$2:$E$13999, MultiEngineTypes, FLData!$F$2:$F$13999, \"Rental\" )) )*24","v":0},{"$f":"SUMPRODUCT( SUMIFS( FLData!$AH$2:$AH$13999, FLData!$C$2:$C$13999, \">=\"&fromDateI, FLData!$C$2:$C$13999, \"<=\" &toDateI, FLData!$J$2:$J$13999,$C73, FLData!$E$2:$E$13999, MultiEngineTypes, FLData!$F$2:$F$13999, \"Operation\" ))*24","v":0},{"$f":"( SUMPRODUCT( SUMIFS( FLData!$AH$2:$AH$13999, FLData!$C$2:$C$13999, \">=\"&fromDateI, FLData!$C$2:$C$13999, \"<=\" &toDateI, FLData!$M$2:$M$13999,$C73, FLData!$E$2:$E$13999, Sim1Types, FLData!$F$2:$F$13999, \"Lesson\" )) + SUMPRODUCT( SUMIFS( FLData!$AH$2:$AH$13999, FLData!$C$2:$C$13999, \">=\"&fromDateI, FLData!$C$2:$C$13999, \"<=\" &toDateI, FLData!$S$2:$S$13999,$C73, FLData!$E$2:$E$13999, Sim1Types, FLData!$F$2:$F$13999, \"Rental\" )) )*24","v":0},{"$f":"SUMPRODUCT( SUMIFS( FLData!$AH$2:$AH$13999, FLData!$C$2:$C$13999, \">=\"&fromDateI, FLData!$C$2:$C$13999, \"<=\" &toDateI, FLData!$J$2:$J$13999,$C73, FLData!$E$2:$E$13999, Sim1Types, FLData!$F$2:$F$13999, \"Operation\" ))*24","v":0},{"$f":"( SUMPRODUCT( SUMIFS( FLData!$AH$2:$AH$13999, FLData!$C$2:$C$13999, \">=\"&fromDateI, FLData!$C$2:$C$13999, \"<=\" &toDateI, FLData!$M$2:$M$13999,$C73, FLData!$E$2:$E$13999, Sim2Types, FLData!$F$2:$F$13999, \"Lesson\" )) + SUMPRODUCT( SUMIFS( FLData!$AH$2:$AH$13999, FLData!$C$2:$C$13999, \">=\"&fromDateI, FLData!$C$2:$C$13999, \"<=\" &toDateI, FLData!$S$2:$S$13999,$C73, FLData!$E$2:$E$13999, Sim2Types, FLData!$F$2:$F$13999, \"Rental\" )) )*24","v":0},{"$f":"SUMPRODUCT( SUMIFS( FLData!$AH$2:$AH$13999, FLData!$C$2:$C$13999, \">=\"&fromDateI, FLData!$C$2:$C$13999, \"<=\" &toDateI, FLData!$J$2:$J$13999,$C73, FLData!$E$2:$E$13999, Sim2Types, FLData!$F$2:$F$13999, \"Operation\" ))*24","v":0},0,0,0]
[null,null,"",{"$f":"( SUMPRODUCT( SUMIFS( FLData!$AH$2:$AH$13999, FLData!$C$2:$C$13999, \">=\"&fromDateI, FLData!$C$2:$C$13999, \"<=\" &toDateI, FLData!$M$2:$M$13999,$C74, FLData!$E$2:$E$13999, SingleEngineTypes, FLData!$F$2:$F$13999, \"Lesson\" )) + SUMPRODUCT( SUMIFS( FLData!$AH$2:$AH$13999, FLData!$C$2:$C$13999, \">=\"&fromDateI, FLData!$C$2:$C$13999, \"<=\" &toDateI, FLData!$S$2:$S$13999,$C74, FLData!$E$2:$E$13999, SingleEngineTypes, FLData!$F$2:$F$13999, \"Rental\" )) )*24","v":0},{"$f":"SUMPRODUCT( SUMIFS( FLData!$AH$2:$AH$13999, FLData!$C$2:$C$13999, \">=\"&fromDateI, FLData!$C$2:$C$13999, \"<=\" &toDateI, FLData!$J$2:$J$13999,$C74, FLData!$E$2:$E$13999, SingleEngineTypes, FLData!$F$2:$F$13999, \"Operation\" ))*24","v":0},{"$f":"( SUMPRODUCT( SUMIFS( FLData!$AH$2:$AH$13999, FLData!$C$2:$C$13999, \">=\"&fromDateI, FLData!$C$2:$C$13999, \"<=\" &toDateI, FLData!$M$2:$M$13999,$C74, FLData!$E$2:$E$13999, MultiEngineTypes, FLData!$F$2:$F$13999, \"Lesson\" )) + SUMPRODUCT( SUMIFS( FLData!$AH$2:$AH$13999, FLData!$C$2:$C$13999, \">=\"&fromDateI, FLData!$C$2:$C$13999, \"<=\" &toDateI, FLData!$S$2:$S$13999,$C74, FLData!$E$2:$E$13999, MultiEngineTypes, FLData!$F$2:$F$13999, \"Rental\" )) )*24","v":0},{"$f":"SUMPRODUCT( SUMIFS( FLData!$AH$2:$AH$13999, FLData!$C$2:$C$13999, \">=\"&fromDateI, FLData!$C$2:$C$13999, \"<=\" &toDateI, FLData!$J$2:$J$13999,$C74, FLData!$E$2:$E$13999, MultiEngineTypes, FLData!$F$2:$F$13999, \"Operation\" ))*24","v":0},{"$f":"( SUMPRODUCT( SUMIFS( FLData!$AH$2:$AH$13999, FLData!$C$2:$C$13999, \">=\"&fromDateI, FLData!$C$2:$C$13999, \"<=\" &toDateI, FLData!$M$2:$M$13999,$C74, FLData!$E$2:$E$13999, Sim1Types, FLData!$F$2:$F$13999, \"Lesson\" )) + SUMPRODUCT( SUMIFS( FLData!$AH$2:$AH$13999, FLData!$C$2:$C$13999, \">=\"&fromDateI, FLData!$C$2:$C$13999, \"<=\" &toDateI, FLData!$S$2:$S$13999,$C74, FLData!$E$2:$E$13999, Sim1Types, FLData!$F$2:$F$13999, \"Rental\" )) )*24","v":0},{"$f":"SUMPRODUCT( SUMIFS( FLData!$AH$2:$AH$13999, FLData!$C$2:$C$13999, \">=\"&fromDateI, FLData!$C$2:$C$13999, \"<=\" &toDateI, FLData!$J$2:$J$13999,$C74, FLData!$E$2:$E$13999, Sim1Types, FLData!$F$2:$F$13999, \"Operation\" ))*24","v":0},{"$f":"( SUMPRODUCT( SUMIFS( FLData!$AH$2:$AH$13999, FLData!$C$2:$C$13999, \">=\"&fromDateI, FLData!$C$2:$C$13999, \"<=\" &toDateI, FLData!$M$2:$M$13999,$C74, FLData!$E$2:$E$13999, Sim2Types, FLData!$F$2:$F$13999, \"Lesson\" )) + SUMPRODUCT( SUMIFS( FLData!$AH$2:$AH$13999, FLData!$C$2:$C$13999, \">=\"&fromDateI, FLData!$C$2:$C$13999, \"<=\" &toDateI, FLData!$S$2:$S$13999,$C74, FLData!$E$2:$E$13999, Sim2Types, FLData!$F$2:$F$13999, \"Rental\" )) )*24","v":0},{"$f":"SUMPRODUCT( SUMIFS( FLData!$AH$2:$AH$13999, FLData!$C$2:$C$13999, \">=\"&fromDateI, FLData!$C$2:$C$13999, \"<=\" &toDateI, FLData!$J$2:$J$13999,$C74, FLData!$E$2:$E$13999, Sim2Types, FLData!$F$2:$F$13999, \"Operation\" ))*24","v":0},0,0,0]
[null,null,"",{"$f":"( SUMPRODUCT( SUMIFS( FLData!$AH$2:$AH$13999, FLData!$C$2:$C$13999, \">=\"&fromDateI, FLData!$C$2:$C$13999, \"<=\" &toDateI, FLData!$M$2:$M$13999,$C75, FLData!$E$2:$E$13999, SingleEngineTypes, FLData!$F$2:$F$13999, \"Lesson\" )) + SUMPRODUCT( SUMIFS( FLData!$AH$2:$AH$13999, FLData!$C$2:$C$13999, \">=\"&fromDateI, FLData!$C$2:$C$13999, \"<=\" &toDateI, FLData!$S$2:$S$13999,$C75, FLData!$E$2:$E$13999, SingleEngineTypes, FLData!$F$2:$F$13999, \"Rental\" )) )*24","v":0},{"$f":"SUMPRODUCT( SUMIFS( FLData!$AH$2:$AH$13999, FLData!$C$2:$C$13999, \">=\"&fromDateI, FLData!$C$2:$C$13999, \"<=\" &toDateI, FLData!$J$2:$J$13999,$C75, FLData!$E$2:$E$13999, SingleEngineTypes, FLData!$F$2:$F$13999, \"Operation\" ))*24","v":0},{"$f":"( SUMPRODUCT( SUMIFS( FLData!$AH$2:$AH$13999, FLData!$C$2:$C$13999, \">=\"&fromDateI, FLData!$C$2:$C$13999, \"<=\" &toDateI, FLData!$M$2:$M$13999,$C75, FLData!$E$2:$E$13999, MultiEngineTypes, FLData!$F$2:$F$13999, \"Lesson\" )) + SUMPRODUCT( SUMIFS( FLData!$AH$2:$AH$13999, FLData!$C$2:$C$13999, \">=\"&fromDateI, FLData!$C$2:$C$13999, \"<=\" &toDateI, FLData!$S$2:$S$13999,$C75, FLData!$E$2:$E$13999, MultiEngineTypes, FLData!$F$2:$F$13999, \"Rental\" )) )*24","v":0},{"$f":"SUMPRODUCT( SUMIFS( FLData!$AH$2:$AH$13999, FLData!$C$2:$C$13999, \">=\"&fromDateI, FLData!$C$2:$C$13999, \"<=\" &toDateI, FLData!$J$2:$J$13999,$C75, FLData!$E$2:$E$13999, MultiEngineTypes, FLData!$F$2:$F$13999, \"Operation\" ))*24","v":0},{"$f":"( SUMPRODUCT( SUMIFS( FLData!$AH$2:$AH$13999, FLData!$C$2:$C$13999, \">=\"&fromDateI, FLData!$C$2:$C$13999, \"<=\" &toDateI, FLData!$M$2:$M$13999,$C75, FLData!$E$2:$E$13999, Sim1Types, FLData!$F$2:$F$13999, \"Lesson\" )) + SUMPRODUCT( SUMIFS( FLData!$AH$2:$AH$13999, FLData!$C$2:$C$13999, \">=\"&fromDateI, FLData!$C$2:$C$13999, \"<=\" &toDateI, FLData!$S$2:$S$13999,$C75, FLData!$E$2:$E$13999, Sim1Types, FLData!$F$2:$F$13999, \"Rental\" )) )*24","v":0},{"$f":"SUMPRODUCT( SUMIFS( FLData!$AH$2:$AH$13999, FLData!$C$2:$C$13999, \">=\"&fromDateI, FLData!$C$2:$C$13999, \"<=\" &toDateI, FLData!$J$2:$J$13999,$C75, FLData!$E$2:$E$13999, Sim1Types, FLData!$F$2:$F$13999, \"Operation\" ))*24","v":0},{"$f":"( SUMPRODUCT( SUMIFS( FLData!$AH$2:$AH$13999, FLData!$C$2:$C$13999, \">=\"&fromDateI, FLData!$C$2:$C$13999, \"<=\" &toDateI, FLData!$M$2:$M$13999,$C75, FLData!$E$2:$E$13999, Sim2Types, FLData!$F$2:$F$13999, \"Lesson\" )) + SUMPRODUCT( SUMIFS( FLData!$AH$2:$AH$13999, FLData!$C$2:$C$13999, \">=\"&fromDateI, FLData!$C$2:$C$13999, \"<=\" &toDateI, FLData!$S$2:$S$13999,$C75, FLData!$E$2:$E$13999, Sim2Types, FLData!$F$2:$F$13999, \"Rental\" )) )*24","v":0},{"$f":"SUMPRODUCT( SUMIFS( FLData!$AH$2:$AH$13999, FLData!$C$2:$C$13999, \">=\"&fromDateI, FLData!$C$2:$C$13999, \"<=\" &toDateI, FLData!$J$2:$J$13999,$C75, FLData!$E$2:$E$13999, Sim2Types, FLData!$F$2:$F$13999, \"Operation\" ))*24","v":0},0,0,0]
[null,null,{"$f":"IF( OR(ISERROR(INDEX(InstructorNames,ROW($C76)-ROW($C$12)+1 )), LEN(INDEX(InstructorNames,ROW($C76)-ROW($C$12)+1))<=0),\"\",  INDEX(InstructorNames,ROW($C76)-ROW($C$12)+1))","v":""},{"$f":"( SUMPRODUCT( SUMIFS( FLData!$AH$2:$AH$13999, FLData!$C$2:$C$13999, \">=\"&fromDateI, FLData!$C$2:$C$13999, \"<=\" &toDateI, FLData!$M$2:$M$13999,$C76, FLData!$E$2:$E$13999, SingleEngineTypes, FLData!$F$2:$F$13999, \"Lesson\" )) + SUMPRODUCT( SUMIFS( FLData!$AH$2:$AH$13999, FLData!$C$2:$C$13999, \">=\"&fromDateI, FLData!$C$2:$C$13999, \"<=\" &toDateI, FLData!$S$2:$S$13999,$C76, FLData!$E$2:$E$13999, SingleEngineTypes, FLData!$F$2:$F$13999, \"Rental\" )) )*24","v":0},{"$f":"SUMPRODUCT( SUMIFS( FLData!$AH$2:$AH$13999, FLData!$C$2:$C$13999, \">=\"&fromDateI, FLData!$C$2:$C$13999, \"<=\" &toDateI, FLData!$J$2:$J$13999,$C76, FLData!$E$2:$E$13999, SingleEngineTypes, FLData!$F$2:$F$13999, \"Operation\" ))*24","v":0},{"$f":"( SUMPRODUCT( SUMIFS( FLData!$AH$2:$AH$13999, FLData!$C$2:$C$13999, \">=\"&fromDateI, FLData!$C$2:$C$13999, \"<=\" &toDateI, FLData!$M$2:$M$13999,$C76, FLData!$E$2:$E$13999, MultiEngineTypes, FLData!$F$2:$F$13999, \"Lesson\" )) + SUMPRODUCT( SUMIFS( FLData!$AH$2:$AH$13999, FLData!$C$2:$C$13999, \">=\"&fromDateI, FLData!$C$2:$C$13999, \"<=\" &toDateI, FLData!$S$2:$S$13999,$C76, FLData!$E$2:$E$13999, MultiEngineTypes, FLData!$F$2:$F$13999, \"Rental\" )) )*24","v":0},{"$f":"SUMPRODUCT( SUMIFS( FLData!$AH$2:$AH$13999, FLData!$C$2:$C$13999, \">=\"&fromDateI, FLData!$C$2:$C$13999, \"<=\" &toDateI, FLData!$J$2:$J$13999,$C76, FLData!$E$2:$E$13999, MultiEngineTypes, FLData!$F$2:$F$13999, \"Operation\" ))*24","v":0},{"$f":"( SUMPRODUCT( SUMIFS( FLData!$AH$2:$AH$13999, FLData!$C$2:$C$13999, \">=\"&fromDateI, FLData!$C$2:$C$13999, \"<=\" &toDateI, FLData!$M$2:$M$13999,$C76, FLData!$E$2:$E$13999, Sim1Types, FLData!$F$2:$F$13999, \"Lesson\" )) + SUMPRODUCT( SUMIFS( FLData!$AH$2:$AH$13999, FLData!$C$2:$C$13999, \">=\"&fromDateI, FLData!$C$2:$C$13999, \"<=\" &toDateI, FLData!$S$2:$S$13999,$C76, FLData!$E$2:$E$13999, Sim1Types, FLData!$F$2:$F$13999, \"Rental\" )) )*24","v":0},{"$f":"SUMPRODUCT( SUMIFS( FLData!$AH$2:$AH$13999, FLData!$C$2:$C$13999, \">=\"&fromDateI, FLData!$C$2:$C$13999, \"<=\" &toDateI, FLData!$J$2:$J$13999,$C76, FLData!$E$2:$E$13999, Sim1Types, FLData!$F$2:$F$13999, \"Operation\" ))*24","v":0},{"$f":"( SUMPRODUCT( SUMIFS( FLData!$AH$2:$AH$13999, FLData!$C$2:$C$13999, \">=\"&fromDateI, FLData!$C$2:$C$13999, \"<=\" &toDateI, FLData!$M$2:$M$13999,$C76, FLData!$E$2:$E$13999, Sim2Types, FLData!$F$2:$F$13999, \"Lesson\" )) + SUMPRODUCT( SUMIFS( FLData!$AH$2:$AH$13999, FLData!$C$2:$C$13999, \">=\"&fromDateI, FLData!$C$2:$C$13999, \"<=\" &toDateI, FLData!$S$2:$S$13999,$C76, FLData!$E$2:$E$13999, Sim2Types, FLData!$F$2:$F$13999, \"Rental\" )) )*24","v":0},{"$f":"SUMPRODUCT( SUMIFS( FLData!$AH$2:$AH$13999, FLData!$C$2:$C$13999, \">=\"&fromDateI, FLData!$C$2:$C$13999, \"<=\" &toDateI, FLData!$J$2:$J$13999,$C76, FLData!$E$2:$E$13999, Sim2Types, FLData!$F$2:$F$13999, \"Operation\" ))*24","v":0},0,0,0]
[null,null,"",{"$f":"( SUMPRODUCT( SUMIFS( FLData!$AH$2:$AH$13999, FLData!$C$2:$C$13999, \">=\"&fromDateI, FLData!$C$2:$C$13999, \"<=\" &toDateI, FLData!$M$2:$M$13999,$C77, FLData!$E$2:$E$13999, SingleEngineTypes, FLData!$F$2:$F$13999, \"Lesson\" )) + SUMPRODUCT( SUMIFS( FLData!$AH$2:$AH$13999, FLData!$C$2:$C$13999, \">=\"&fromDateI, FLData!$C$2:$C$13999, \"<=\" &toDateI, FLData!$S$2:$S$13999,$C77, FLData!$E$2:$E$13999, SingleEngineTypes, FLData!$F$2:$F$13999, \"Rental\" )) )*24","v":0},{"$f":"SUMPRODUCT( SUMIFS( FLData!$AH$2:$AH$13999, FLData!$C$2:$C$13999, \">=\"&fromDateI, FLData!$C$2:$C$13999, \"<=\" &toDateI, FLData!$J$2:$J$13999,$C77, FLData!$E$2:$E$13999, SingleEngineTypes, FLData!$F$2:$F$13999, \"Operation\" ))*24","v":0},{"$f":"( SUMPRODUCT( SUMIFS( FLData!$AH$2:$AH$13999, FLData!$C$2:$C$13999, \">=\"&fromDateI, FLData!$C$2:$C$13999, \"<=\" &toDateI, FLData!$M$2:$M$13999,$C77, FLData!$E$2:$E$13999, MultiEngineTypes, FLData!$F$2:$F$13999, \"Lesson\" )) + SUMPRODUCT( SUMIFS( FLData!$AH$2:$AH$13999, FLData!$C$2:$C$13999, \">=\"&fromDateI, FLData!$C$2:$C$13999, \"<=\" &toDateI, FLData!$S$2:$S$13999,$C77, FLData!$E$2:$E$13999, MultiEngineTypes, FLData!$F$2:$F$13999, \"Rental\" )) )*24","v":0},{"$f":"SUMPRODUCT( SUMIFS( FLData!$AH$2:$AH$13999, FLData!$C$2:$C$13999, \">=\"&fromDateI, FLData!$C$2:$C$13999, \"<=\" &toDateI, FLData!$J$2:$J$13999,$C77, FLData!$E$2:$E$13999, MultiEngineTypes, FLData!$F$2:$F$13999, \"Operation\" ))*24","v":0},{"$f":"( SUMPRODUCT( SUMIFS( FLData!$AH$2:$AH$13999, FLData!$C$2:$C$13999, \">=\"&fromDateI, FLData!$C$2:$C$13999, \"<=\" &toDateI, FLData!$M$2:$M$13999,$C77, FLData!$E$2:$E$13999, Sim1Types, FLData!$F$2:$F$13999, \"Lesson\" )) + SUMPRODUCT( SUMIFS( FLData!$AH$2:$AH$13999, FLData!$C$2:$C$13999, \">=\"&fromDateI, FLData!$C$2:$C$13999, \"<=\" &toDateI, FLData!$S$2:$S$13999,$C77, FLData!$E$2:$E$13999, Sim1Types, FLData!$F$2:$F$13999, \"Rental\" )) )*24","v":0},{"$f":"SUMPRODUCT( SUMIFS( FLData!$AH$2:$AH$13999, FLData!$C$2:$C$13999, \">=\"&fromDateI, FLData!$C$2:$C$13999, \"<=\" &toDateI, FLData!$J$2:$J$13999,$C77, FLData!$E$2:$E$13999, Sim1Types, FLData!$F$2:$F$13999, \"Operation\" ))*24","v":0},{"$f":"( SUMPRODUCT( SUMIFS( FLData!$AH$2:$AH$13999, FLData!$C$2:$C$13999, \">=\"&fromDateI, FLData!$C$2:$C$13999, \"<=\" &toDateI, FLData!$M$2:$M$13999,$C77, FLData!$E$2:$E$13999, Sim2Types, FLData!$F$2:$F$13999, \"Lesson\" )) + SUMPRODUCT( SUMIFS( FLData!$AH$2:$AH$13999, FLData!$C$2:$C$13999, \">=\"&fromDateI, FLData!$C$2:$C$13999, \"<=\" &toDateI, FLData!$S$2:$S$13999,$C77, FLData!$E$2:$E$13999, Sim2Types, FLData!$F$2:$F$13999, \"Rental\" )) )*24","v":0},{"$f":"SUMPRODUCT( SUMIFS( FLData!$AH$2:$AH$13999, FLData!$C$2:$C$13999, \">=\"&fromDateI, FLData!$C$2:$C$13999, \"<=\" &toDateI, FLData!$J$2:$J$13999,$C77, FLData!$E$2:$E$13999, Sim2Types, FLData!$F$2:$F$13999, \"Operation\" ))*24","v":0},{"$f":"D77+F77+H77+J77","v":0},{"$f":"E77+G77+I77+K77","v":0},{"$f":"L77+M77","v":0}]
[null,null,"",{"$f":"( SUMPRODUCT( SUMIFS( FLData!$AH$2:$AH$13999, FLData!$C$2:$C$13999, \">=\"&fromDateI, FLData!$C$2:$C$13999, \"<=\" &toDateI, FLData!$M$2:$M$13999,$C78, FLData!$E$2:$E$13999, SingleEngineTypes, FLData!$F$2:$F$13999, \"Lesson\" )) + SUMPRODUCT( SUMIFS( FLData!$AH$2:$AH$13999, FLData!$C$2:$C$13999, \">=\"&fromDateI, FLData!$C$2:$C$13999, \"<=\" &toDateI, FLData!$S$2:$S$13999,$C78, FLData!$E$2:$E$13999, SingleEngineTypes, FLData!$F$2:$F$13999, \"Rental\" )) )*24","v":0},{"$f":"SUMPRODUCT( SUMIFS( FLData!$AH$2:$AH$13999, FLData!$C$2:$C$13999, \">=\"&fromDateI, FLData!$C$2:$C$13999, \"<=\" &toDateI, FLData!$J$2:$J$13999,$C78, FLData!$E$2:$E$13999, SingleEngineTypes, FLData!$F$2:$F$13999, \"Operation\" ))*24","v":0},{"$f":"( SUMPRODUCT( SUMIFS( FLData!$AH$2:$AH$13999, FLData!$C$2:$C$13999, \">=\"&fromDateI, FLData!$C$2:$C$13999, \"<=\" &toDateI, FLData!$M$2:$M$13999,$C78, FLData!$E$2:$E$13999, MultiEngineTypes, FLData!$F$2:$F$13999, \"Lesson\" )) + SUMPRODUCT( SUMIFS( FLData!$AH$2:$AH$13999, FLData!$C$2:$C$13999, \">=\"&fromDateI, FLData!$C$2:$C$13999, \"<=\" &toDateI, FLData!$S$2:$S$13999,$C78, FLData!$E$2:$E$13999, MultiEngineTypes, FLData!$F$2:$F$13999, \"Rental\" )) )*24","v":0},{"$f":"SUMPRODUCT( SUMIFS( FLData!$AH$2:$AH$13999, FLData!$C$2:$C$13999, \">=\"&fromDateI, FLData!$C$2:$C$13999, \"<=\" &toDateI, FLData!$J$2:$J$13999,$C78, FLData!$E$2:$E$13999, MultiEngineTypes, FLData!$F$2:$F$13999, \"Operation\" ))*24","v":0},{"$f":"( SUMPRODUCT( SUMIFS( FLData!$AH$2:$AH$13999, FLData!$C$2:$C$13999, \">=\"&fromDateI, FLData!$C$2:$C$13999, \"<=\" &toDateI, FLData!$M$2:$M$13999,$C78, FLData!$E$2:$E$13999, Sim1Types, FLData!$F$2:$F$13999, \"Lesson\" )) + SUMPRODUCT( SUMIFS( FLData!$AH$2:$AH$13999, FLData!$C$2:$C$13999, \">=\"&fromDateI, FLData!$C$2:$C$13999, \"<=\" &toDateI, FLData!$S$2:$S$13999,$C78, FLData!$E$2:$E$13999, Sim1Types, FLData!$F$2:$F$13999, \"Rental\" )) )*24","v":0},{"$f":"SUMPRODUCT( SUMIFS( FLData!$AH$2:$AH$13999, FLData!$C$2:$C$13999, \">=\"&fromDateI, FLData!$C$2:$C$13999, \"<=\" &toDateI, FLData!$J$2:$J$13999,$C78, FLData!$E$2:$E$13999, Sim1Types, FLData!$F$2:$F$13999, \"Operation\" ))*24","v":0},{"$f":"( SUMPRODUCT( SUMIFS( FLData!$AH$2:$AH$13999, FLData!$C$2:$C$13999, \">=\"&fromDateI, FLData!$C$2:$C$13999, \"<=\" &toDateI, FLData!$M$2:$M$13999,$C78, FLData!$E$2:$E$13999, Sim2Types, FLData!$F$2:$F$13999, \"Lesson\" )) + SUMPRODUCT( SUMIFS( FLData!$AH$2:$AH$13999, FLData!$C$2:$C$13999, \">=\"&fromDateI, FLData!$C$2:$C$13999, \"<=\" &toDateI, FLData!$S$2:$S$13999,$C78, FLData!$E$2:$E$13999, Sim2Types, FLData!$F$2:$F$13999, \"Rental\" )) )*24","v":0},{"$f":"SUMPRODUCT( SUMIFS( FLData!$AH$2:$AH$13999, FLData!$C$2:$C$13999, \">=\"&fromDateI, FLData!$C$2:$C$13999, \"<=\" &toDateI, FLData!$J$2:$J$13999,$C78, FLData!$E$2:$E$13999, Sim2Types, FLData!$F$2:$F$13999, \"Operation\" ))*24","v":0},0,0,0]
[null,null,"",{"$f":"( SUMPRODUCT( SUMIFS( FLData!$AH$2:$AH$13999, FLData!$C$2:$C$13999, \">=\"&fromDateI, FLData!$C$2:$C$13999, \"<=\" &toDateI, FLData!$M$2:$M$13999,$C79, FLData!$E$2:$E$13999, SingleEngineTypes, FLData!$F$2:$F$13999, \"Lesson\" )) + SUMPRODUCT( SUMIFS( FLData!$AH$2:$AH$13999, FLData!$C$2:$C$13999, \">=\"&fromDateI, FLData!$C$2:$C$13999, \"<=\" &toDateI, FLData!$S$2:$S$13999,$C79, FLData!$E$2:$E$13999, SingleEngineTypes, FLData!$F$2:$F$13999, \"Rental\" )) )*24","v":0},{"$f":"SUMPRODUCT( SUMIFS( FLData!$AH$2:$AH$13999, FLData!$C$2:$C$13999, \">=\"&fromDateI, FLData!$C$2:$C$13999, \"<=\" &toDateI, FLData!$J$2:$J$13999,$C79, FLData!$E$2:$E$13999, SingleEngineTypes, FLData!$F$2:$F$13999, \"Operation\" ))*24","v":0},{"$f":"( SUMPRODUCT( SUMIFS( FLData!$AH$2:$AH$13999, FLData!$C$2:$C$13999, \">=\"&fromDateI, FLData!$C$2:$C$13999, \"<=\" &toDateI, FLData!$M$2:$M$13999,$C79, FLData!$E$2:$E$13999, MultiEngineTypes, FLData!$F$2:$F$13999, \"Lesson\" )) + SUMPRODUCT( SUMIFS( FLData!$AH$2:$AH$13999, FLData!$C$2:$C$13999, \">=\"&fromDateI, FLData!$C$2:$C$13999, \"<=\" &toDateI, FLData!$S$2:$S$13999,$C79, FLData!$E$2:$E$13999, MultiEngineTypes, FLData!$F$2:$F$13999, \"Rental\" )) )*24","v":0},{"$f":"SUMPRODUCT( SUMIFS( FLData!$AH$2:$AH$13999, FLData!$C$2:$C$13999, \">=\"&fromDateI, FLData!$C$2:$C$13999, \"<=\" &toDateI, FLData!$J$2:$J$13999,$C79, FLData!$E$2:$E$13999, MultiEngineTypes, FLData!$F$2:$F$13999, \"Operation\" ))*24","v":0},{"$f":"( SUMPRODUCT( SUMIFS( FLData!$AH$2:$AH$13999, FLData!$C$2:$C$13999, \">=\"&fromDateI, FLData!$C$2:$C$13999, \"<=\" &toDateI, FLData!$M$2:$M$13999,$C79, FLData!$E$2:$E$13999, Sim1Types, FLData!$F$2:$F$13999, \"Lesson\" )) + SUMPRODUCT( SUMIFS( FLData!$AH$2:$AH$13999, FLData!$C$2:$C$13999, \">=\"&fromDateI, FLData!$C$2:$C$13999, \"<=\" &toDateI, FLData!$S$2:$S$13999,$C79, FLData!$E$2:$E$13999, Sim1Types, FLData!$F$2:$F$13999, \"Rental\" )) )*24","v":0},{"$f":"SUMPRODUCT( SUMIFS( FLData!$AH$2:$AH$13999, FLData!$C$2:$C$13999, \">=\"&fromDateI, FLData!$C$2:$C$13999, \"<=\" &toDateI, FLData!$J$2:$J$13999,$C79, FLData!$E$2:$E$13999, Sim1Types, FLData!$F$2:$F$13999, \"Operation\" ))*24","v":0},{"$f":"( SUMPRODUCT( SUMIFS( FLData!$AH$2:$AH$13999, FLData!$C$2:$C$13999, \">=\"&fromDateI, FLData!$C$2:$C$13999, \"<=\" &toDateI, FLData!$M$2:$M$13999,$C79, FLData!$E$2:$E$13999, Sim2Types, FLData!$F$2:$F$13999, \"Lesson\" )) + SUMPRODUCT( SUMIFS( FLData!$AH$2:$AH$13999, FLData!$C$2:$C$13999, \">=\"&fromDateI, FLData!$C$2:$C$13999, \"<=\" &toDateI, FLData!$S$2:$S$13999,$C79, FLData!$E$2:$E$13999, Sim2Types, FLData!$F$2:$F$13999, \"Rental\" )) )*24","v":0},{"$f":"SUMPRODUCT( SUMIFS( FLData!$AH$2:$AH$13999, FLData!$C$2:$C$13999, \">=\"&fromDateI, FLData!$C$2:$C$13999, \"<=\" &toDateI, FLData!$J$2:$J$13999,$C79, FLData!$E$2:$E$13999, Sim2Types, FLData!$F$2:$F$13999, \"Operation\" ))*24","v":0},0,0,0]
[null,null,"",{"$f":"( SUMPRODUCT( SUMIFS( FLData!$AH$2:$AH$13999, FLData!$C$2:$C$13999, \">=\"&fromDateI, FLData!$C$2:$C$13999, \"<=\" &toDateI, FLData!$M$2:$M$13999,$C80, FLData!$E$2:$E$13999, SingleEngineTypes, FLData!$F$2:$F$13999, \"Lesson\" )) + SUMPRODUCT( SUMIFS( FLData!$AH$2:$AH$13999, FLData!$C$2:$C$13999, \">=\"&fromDateI, FLData!$C$2:$C$13999, \"<=\" &toDateI, FLData!$S$2:$S$13999,$C80, FLData!$E$2:$E$13999, SingleEngineTypes, FLData!$F$2:$F$13999, \"Rental\" )) )*24","v":0},{"$f":"SUMPRODUCT( SUMIFS( FLData!$AH$2:$AH$13999, FLData!$C$2:$C$13999, \">=\"&fromDateI, FLData!$C$2:$C$13999, \"<=\" &toDateI, FLData!$J$2:$J$13999,$C80, FLData!$E$2:$E$13999, SingleEngineTypes, FLData!$F$2:$F$13999, \"Operation\" ))*24","v":0},{"$f":"( SUMPRODUCT( SUMIFS( FLData!$AH$2:$AH$13999, FLData!$C$2:$C$13999, \">=\"&fromDateI, FLData!$C$2:$C$13999, \"<=\" &toDateI, FLData!$M$2:$M$13999,$C80, FLData!$E$2:$E$13999, MultiEngineTypes, FLData!$F$2:$F$13999, \"Lesson\" )) + SUMPRODUCT( SUMIFS( FLData!$AH$2:$AH$13999, FLData!$C$2:$C$13999, \">=\"&fromDateI, FLData!$C$2:$C$13999, \"<=\" &toDateI, FLData!$S$2:$S$13999,$C80, FLData!$E$2:$E$13999, MultiEngineTypes, FLData!$F$2:$F$13999, \"Rental\" )) )*24","v":0},{"$f":"SUMPRODUCT( SUMIFS( FLData!$AH$2:$AH$13999, FLData!$C$2:$C$13999, \">=\"&fromDateI, FLData!$C$2:$C$13999, \"<=\" &toDateI, FLData!$J$2:$J$13999,$C80, FLData!$E$2:$E$13999, MultiEngineTypes, FLData!$F$2:$F$13999, \"Operation\" ))*24","v":0},{"$f":"( SUMPRODUCT( SUMIFS( FLData!$AH$2:$AH$13999, FLData!$C$2:$C$13999, \">=\"&fromDateI, FLData!$C$2:$C$13999, \"<=\" &toDateI, FLData!$M$2:$M$13999,$C80, FLData!$E$2:$E$13999, Sim1Types, FLData!$F$2:$F$13999, \"Lesson\" )) + SUMPRODUCT( SUMIFS( FLData!$AH$2:$AH$13999, FLData!$C$2:$C$13999, \">=\"&fromDateI, FLData!$C$2:$C$13999, \"<=\" &toDateI, FLData!$S$2:$S$13999,$C80, FLData!$E$2:$E$13999, Sim1Types, FLData!$F$2:$F$13999, \"Rental\" )) )*24","v":0},{"$f":"SUMPRODUCT( SUMIFS( FLData!$AH$2:$AH$13999, FLData!$C$2:$C$13999, \">=\"&fromDateI, FLData!$C$2:$C$13999, \"<=\" &toDateI, FLData!$J$2:$J$13999,$C80, FLData!$E$2:$E$13999, Sim1Types, FLData!$F$2:$F$13999, \"Operation\" ))*24","v":0},{"$f":"( SUMPRODUCT( SUMIFS( FLData!$AH$2:$AH$13999, FLData!$C$2:$C$13999, \">=\"&fromDateI, FLData!$C$2:$C$13999, \"<=\" &toDateI, FLData!$M$2:$M$13999,$C80, FLData!$E$2:$E$13999, Sim2Types, FLData!$F$2:$F$13999, \"Lesson\" )) + SUMPRODUCT( SUMIFS( FLData!$AH$2:$AH$13999, FLData!$C$2:$C$13999, \">=\"&fromDateI, FLData!$C$2:$C$13999, \"<=\" &toDateI, FLData!$S$2:$S$13999,$C80, FLData!$E$2:$E$13999, Sim2Types, FLData!$F$2:$F$13999, \"Rental\" )) )*24","v":0},{"$f":"SUMPRODUCT( SUMIFS( FLData!$AH$2:$AH$13999, FLData!$C$2:$C$13999, \">=\"&fromDateI, FLData!$C$2:$C$13999, \"<=\" &toDateI, FLData!$J$2:$J$13999,$C80, FLData!$E$2:$E$13999, Sim2Types, FLData!$F$2:$F$13999, \"Operation\" ))*24","v":0},0,0,0]
[null,null,"",{"$f":"( SUMPRODUCT( SUMIFS( FLData!$AH$2:$AH$13999, FLData!$C$2:$C$13999, \">=\"&fromDateI, FLData!$C$2:$C$13999, \"<=\" &toDateI, FLData!$M$2:$M$13999,$C81, FLData!$E$2:$E$13999, SingleEngineTypes, FLData!$F$2:$F$13999, \"Lesson\" )) + SUMPRODUCT( SUMIFS( FLData!$AH$2:$AH$13999, FLData!$C$2:$C$13999, \">=\"&fromDateI, FLData!$C$2:$C$13999, \"<=\" &toDateI, FLData!$S$2:$S$13999,$C81, FLData!$E$2:$E$13999, SingleEngineTypes, FLData!$F$2:$F$13999, \"Rental\" )) )*24","v":0},{"$f":"SUMPRODUCT( SUMIFS( FLData!$AH$2:$AH$13999, FLData!$C$2:$C$13999, \">=\"&fromDateI, FLData!$C$2:$C$13999, \"<=\" &toDateI, FLData!$J$2:$J$13999,$C81, FLData!$E$2:$E$13999, SingleEngineTypes, FLData!$F$2:$F$13999, \"Operation\" ))*24","v":0},{"$f":"( SUMPRODUCT( SUMIFS( FLData!$AH$2:$AH$13999, FLData!$C$2:$C$13999, \">=\"&fromDateI, FLData!$C$2:$C$13999, \"<=\" &toDateI, FLData!$M$2:$M$13999,$C81, FLData!$E$2:$E$13999, MultiEngineTypes, FLData!$F$2:$F$13999, \"Lesson\" )) + SUMPRODUCT( SUMIFS( FLData!$AH$2:$AH$13999, FLData!$C$2:$C$13999, \">=\"&fromDateI, FLData!$C$2:$C$13999, \"<=\" &toDateI, FLData!$S$2:$S$13999,$C81, FLData!$E$2:$E$13999, MultiEngineTypes, FLData!$F$2:$F$13999, \"Rental\" )) )*24","v":0},{"$f":"SUMPRODUCT( SUMIFS( FLData!$AH$2:$AH$13999, FLData!$C$2:$C$13999, \">=\"&fromDateI, FLData!$C$2:$C$13999, \"<=\" &toDateI, FLData!$J$2:$J$13999,$C81, FLData!$E$2:$E$13999, MultiEngineTypes, FLData!$F$2:$F$13999, \"Operation\" ))*24","v":0},{"$f":"( SUMPRODUCT( SUMIFS( FLData!$AH$2:$AH$13999, FLData!$C$2:$C$13999, \">=\"&fromDateI, FLData!$C$2:$C$13999, \"<=\" &toDateI, FLData!$M$2:$M$13999,$C81, FLData!$E$2:$E$13999, Sim1Types, FLData!$F$2:$F$13999, \"Lesson\" )) + SUMPRODUCT( SUMIFS( FLData!$AH$2:$AH$13999, FLData!$C$2:$C$13999, \">=\"&fromDateI, FLData!$C$2:$C$13999, \"<=\" &toDateI, FLData!$S$2:$S$13999,$C81, FLData!$E$2:$E$13999, Sim1Types, FLData!$F$2:$F$13999, \"Rental\" )) )*24","v":0},{"$f":"SUMPRODUCT( SUMIFS( FLData!$AH$2:$AH$13999, FLData!$C$2:$C$13999, \">=\"&fromDateI, FLData!$C$2:$C$13999, \"<=\" &toDateI, FLData!$J$2:$J$13999,$C81, FLData!$E$2:$E$13999, Sim1Types, FLData!$F$2:$F$13999, \"Operation\" ))*24","v":0},{"$f":"( SUMPRODUCT( SUMIFS( FLData!$AH$2:$AH$13999, FLData!$C$2:$C$13999, \">=\"&fromDateI, FLData!$C$2:$C$13999, \"<=\" &toDateI, FLData!$M$2:$M$13999,$C81, FLData!$E$2:$E$13999, Sim2Types, FLData!$F$2:$F$13999, \"Lesson\" )) + SUMPRODUCT( SUMIFS( FLData!$AH$2:$AH$13999, FLData!$C$2:$C$13999, \">=\"&fromDateI, FLData!$C$2:$C$13999, \"<=\" &toDateI, FLData!$S$2:$S$13999,$C81, FLData!$E$2:$E$13999, Sim2Types, FLData!$F$2:$F$13999, \"Rental\" )) )*24","v":0},{"$f":"SUMPRODUCT( SUMIFS( FLData!$AH$2:$AH$13999, FLData!$C$2:$C$13999, \">=\"&fromDateI, FLData!$C$2:$C$13999, \"<=\" &toDateI, FLData!$J$2:$J$13999,$C81, FLData!$E$2:$E$13999, Sim2Types, FLData!$F$2:$F$13999, \"Operation\" ))*24","v":0},0,0,0]
[null,null,"",{"$f":"( SUMPRODUCT( SUMIFS( FLData!$AH$2:$AH$13999, FLData!$C$2:$C$13999, \">=\"&fromDateI, FLData!$C$2:$C$13999, \"<=\" &toDateI, FLData!$M$2:$M$13999,$C82, FLData!$E$2:$E$13999, SingleEngineTypes, FLData!$F$2:$F$13999, \"Lesson\" )) + SUMPRODUCT( SUMIFS( FLData!$AH$2:$AH$13999, FLData!$C$2:$C$13999, \">=\"&fromDateI, FLData!$C$2:$C$13999, \"<=\" &toDateI, FLData!$S$2:$S$13999,$C82, FLData!$E$2:$E$13999, SingleEngineTypes, FLData!$F$2:$F$13999, \"Rental\" )) )*24","v":0},{"$f":"SUMPRODUCT( SUMIFS( FLData!$AH$2:$AH$13999, FLData!$C$2:$C$13999, \">=\"&fromDateI, FLData!$C$2:$C$13999, \"<=\" &toDateI, FLData!$J$2:$J$13999,$C82, FLData!$E$2:$E$13999, SingleEngineTypes, FLData!$F$2:$F$13999, \"Operation\" ))*24","v":0},{"$f":"( SUMPRODUCT( SUMIFS( FLData!$AH$2:$AH$13999, FLData!$C$2:$C$13999, \">=\"&fromDateI, FLData!$C$2:$C$13999, \"<=\" &toDateI, FLData!$M$2:$M$13999,$C82, FLData!$E$2:$E$13999, MultiEngineTypes, FLData!$F$2:$F$13999, \"Lesson\" )) + SUMPRODUCT( SUMIFS( FLData!$AH$2:$AH$13999, FLData!$C$2:$C$13999, \">=\"&fromDateI, FLData!$C$2:$C$13999, \"<=\" &toDateI, FLData!$S$2:$S$13999,$C82, FLData!$E$2:$E$13999, MultiEngineTypes, FLData!$F$2:$F$13999, \"Rental\" )) )*24","v":0},{"$f":"SUMPRODUCT( SUMIFS( FLData!$AH$2:$AH$13999, FLData!$C$2:$C$13999, \">=\"&fromDateI, FLData!$C$2:$C$13999, \"<=\" &toDateI, FLData!$J$2:$J$13999,$C82, FLData!$E$2:$E$13999, MultiEngineTypes, FLData!$F$2:$F$13999, \"Operation\" ))*24","v":0},{"$f":"( SUMPRODUCT( SUMIFS( FLData!$AH$2:$AH$13999, FLData!$C$2:$C$13999, \">=\"&fromDateI, FLData!$C$2:$C$13999, \"<=\" &toDateI, FLData!$M$2:$M$13999,$C82, FLData!$E$2:$E$13999, Sim1Types, FLData!$F$2:$F$13999, \"Lesson\" )) + SUMPRODUCT( SUMIFS( FLData!$AH$2:$AH$13999, FLData!$C$2:$C$13999, \">=\"&fromDateI, FLData!$C$2:$C$13999, \"<=\" &toDateI, FLData!$S$2:$S$13999,$C82, FLData!$E$2:$E$13999, Sim1Types, FLData!$F$2:$F$13999, \"Rental\" )) )*24","v":0},{"$f":"SUMPRODUCT( SUMIFS( FLData!$AH$2:$AH$13999, FLData!$C$2:$C$13999, \">=\"&fromDateI, FLData!$C$2:$C$13999, \"<=\" &toDateI, FLData!$J$2:$J$13999,$C82, FLData!$E$2:$E$13999, Sim1Types, FLData!$F$2:$F$13999, \"Operation\" ))*24","v":0},{"$f":"( SUMPRODUCT( SUMIFS( FLData!$AH$2:$AH$13999, FLData!$C$2:$C$13999, \">=\"&fromDateI, FLData!$C$2:$C$13999, \"<=\" &toDateI, FLData!$M$2:$M$13999,$C82, FLData!$E$2:$E$13999, Sim2Types, FLData!$F$2:$F$13999, \"Lesson\" )) + SUMPRODUCT( SUMIFS( FLData!$AH$2:$AH$13999, FLData!$C$2:$C$13999, \">=\"&fromDateI, FLData!$C$2:$C$13999, \"<=\" &toDateI, FLData!$S$2:$S$13999,$C82, FLData!$E$2:$E$13999, Sim2Types, FLData!$F$2:$F$13999, \"Rental\" )) )*24","v":0},{"$f":"SUMPRODUCT( SUMIFS( FLData!$AH$2:$AH$13999, FLData!$C$2:$C$13999, \">=\"&fromDateI, FLData!$C$2:$C$13999, \"<=\" &toDateI, FLData!$J$2:$J$13999,$C82, FLData!$E$2:$E$13999, Sim2Types, FLData!$F$2:$F$13999, \"Operation\" ))*24","v":0},0,0,0]
[null,null,"",{"$f":"( SUMPRODUCT( SUMIFS( FLData!$AH$2:$AH$13999, FLData!$C$2:$C$13999, \">=\"&fromDateI, FLData!$C$2:$C$13999, \"<=\" &toDateI, FLData!$M$2:$M$13999,$C83, FLData!$E$2:$E$13999, SingleEngineTypes, FLData!$F$2:$F$13999, \"Lesson\" )) + SUMPRODUCT( SUMIFS( FLData!$AH$2:$AH$13999, FLData!$C$2:$C$13999, \">=\"&fromDateI, FLData!$C$2:$C$13999, \"<=\" &toDateI, FLData!$S$2:$S$13999,$C83, FLData!$E$2:$E$13999, SingleEngineTypes, FLData!$F$2:$F$13999, \"Rental\" )) )*24","v":0},{"$f":"SUMPRODUCT( SUMIFS( FLData!$AH$2:$AH$13999, FLData!$C$2:$C$13999, \">=\"&fromDateI, FLData!$C$2:$C$13999, \"<=\" &toDateI, FLData!$J$2:$J$13999,$C83, FLData!$E$2:$E$13999, SingleEngineTypes, FLData!$F$2:$F$13999, \"Operation\" ))*24","v":0},{"$f":"( SUMPRODUCT( SUMIFS( FLData!$AH$2:$AH$13999, FLData!$C$2:$C$13999, \">=\"&fromDateI, FLData!$C$2:$C$13999, \"<=\" &toDateI, FLData!$M$2:$M$13999,$C83, FLData!$E$2:$E$13999, MultiEngineTypes, FLData!$F$2:$F$13999, \"Lesson\" )) + SUMPRODUCT( SUMIFS( FLData!$AH$2:$AH$13999, FLData!$C$2:$C$13999, \">=\"&fromDateI, FLData!$C$2:$C$13999, \"<=\" &toDateI, FLData!$S$2:$S$13999,$C83, FLData!$E$2:$E$13999, MultiEngineTypes, FLData!$F$2:$F$13999, \"Rental\" )) )*24","v":0},{"$f":"SUMPRODUCT( SUMIFS( FLData!$AH$2:$AH$13999, FLData!$C$2:$C$13999, \">=\"&fromDateI, FLData!$C$2:$C$13999, \"<=\" &toDateI, FLData!$J$2:$J$13999,$C83, FLData!$E$2:$E$13999, MultiEngineTypes, FLData!$F$2:$F$13999, \"Operation\" ))*24","v":0},{"$f":"( SUMPRODUCT( SUMIFS( FLData!$AH$2:$AH$13999, FLData!$C$2:$C$13999, \">=\"&fromDateI, FLData!$C$2:$C$13999, \"<=\" &toDateI, FLData!$M$2:$M$13999,$C83, FLData!$E$2:$E$13999, Sim1Types, FLData!$F$2:$F$13999, \"Lesson\" )) + SUMPRODUCT( SUMIFS( FLData!$AH$2:$AH$13999, FLData!$C$2:$C$13999, \">=\"&fromDateI, FLData!$C$2:$C$13999, \"<=\" &toDateI, FLData!$S$2:$S$13999,$C83, FLData!$E$2:$E$13999, Sim1Types, FLData!$F$2:$F$13999, \"Rental\" )) )*24","v":0},{"$f":"SUMPRODUCT( SUMIFS( FLData!$AH$2:$AH$13999, FLData!$C$2:$C$13999, \">=\"&fromDateI, FLData!$C$2:$C$13999, \"<=\" &toDateI, FLData!$J$2:$J$13999,$C83, FLData!$E$2:$E$13999, Sim1Types, FLData!$F$2:$F$13999, \"Operation\" ))*24","v":0},{"$f":"( SUMPRODUCT( SUMIFS( FLData!$AH$2:$AH$13999, FLData!$C$2:$C$13999, \">=\"&fromDateI, FLData!$C$2:$C$13999, \"<=\" &toDateI, FLData!$M$2:$M$13999,$C83, FLData!$E$2:$E$13999, Sim2Types, FLData!$F$2:$F$13999, \"Lesson\" )) + SUMPRODUCT( SUMIFS( FLData!$AH$2:$AH$13999, FLData!$C$2:$C$13999, \">=\"&fromDateI, FLData!$C$2:$C$13999, \"<=\" &toDateI, FLData!$S$2:$S$13999,$C83, FLData!$E$2:$E$13999, Sim2Types, FLData!$F$2:$F$13999, \"Rental\" )) )*24","v":0},{"$f":"SUMPRODUCT( SUMIFS( FLData!$AH$2:$AH$13999, FLData!$C$2:$C$13999, \">=\"&fromDateI, FLData!$C$2:$C$13999, \"<=\" &toDateI, FLData!$J$2:$J$13999,$C83, FLData!$E$2:$E$13999, Sim2Types, FLData!$F$2:$F$13999, \"Operation\" ))*24","v":0},0,0,0]
[null,null,"",{"$f":"( SUMPRODUCT( SUMIFS( FLData!$AH$2:$AH$13999, FLData!$C$2:$C$13999, \">=\"&fromDateI, FLData!$C$2:$C$13999, \"<=\" &toDateI, FLData!$M$2:$M$13999,$C84, FLData!$E$2:$E$13999, SingleEngineTypes, FLData!$F$2:$F$13999, \"Lesson\" )) + SUMPRODUCT( SUMIFS( FLData!$AH$2:$AH$13999, FLData!$C$2:$C$13999, \">=\"&fromDateI, FLData!$C$2:$C$13999, \"<=\" &toDateI, FLData!$S$2:$S$13999,$C84, FLData!$E$2:$E$13999, SingleEngineTypes, FLData!$F$2:$F$13999, \"Rental\" )) )*24","v":0},{"$f":"SUMPRODUCT( SUMIFS( FLData!$AH$2:$AH$13999, FLData!$C$2:$C$13999, \">=\"&fromDateI, FLData!$C$2:$C$13999, \"<=\" &toDateI, FLData!$J$2:$J$13999,$C84, FLData!$E$2:$E$13999, SingleEngineTypes, FLData!$F$2:$F$13999, \"Operation\" ))*24","v":0},{"$f":"( SUMPRODUCT( SUMIFS( FLData!$AH$2:$AH$13999, FLData!$C$2:$C$13999, \">=\"&fromDateI, FLData!$C$2:$C$13999, \"<=\" &toDateI, FLData!$M$2:$M$13999,$C84, FLData!$E$2:$E$13999, MultiEngineTypes, FLData!$F$2:$F$13999, \"Lesson\" )) + SUMPRODUCT( SUMIFS( FLData!$AH$2:$AH$13999, FLData!$C$2:$C$13999, \">=\"&fromDateI, FLData!$C$2:$C$13999, \"<=\" &toDateI, FLData!$S$2:$S$13999,$C84, FLData!$E$2:$E$13999, MultiEngineTypes, FLData!$F$2:$F$13999, \"Rental\" )) )*24","v":0},{"$f":"SUMPRODUCT( SUMIFS( FLData!$AH$2:$AH$13999, FLData!$C$2:$C$13999, \">=\"&fromDateI, FLData!$C$2:$C$13999, \"<=\" &toDateI, FLData!$J$2:$J$13999,$C84, FLData!$E$2:$E$13999, MultiEngineTypes, FLData!$F$2:$F$13999, \"Operation\" ))*24","v":0},{"$f":"( SUMPRODUCT( SUMIFS( FLData!$AH$2:$AH$13999, FLData!$C$2:$C$13999, \">=\"&fromDateI, FLData!$C$2:$C$13999, \"<=\" &toDateI, FLData!$M$2:$M$13999,$C84, FLData!$E$2:$E$13999, Sim1Types, FLData!$F$2:$F$13999, \"Lesson\" )) + SUMPRODUCT( SUMIFS( FLData!$AH$2:$AH$13999, FLData!$C$2:$C$13999, \">=\"&fromDateI, FLData!$C$2:$C$13999, \"<=\" &toDateI, FLData!$S$2:$S$13999,$C84, FLData!$E$2:$E$13999, Sim1Types, FLData!$F$2:$F$13999, \"Rental\" )) )*24","v":0},{"$f":"SUMPRODUCT( SUMIFS( FLData!$AH$2:$AH$13999, FLData!$C$2:$C$13999, \">=\"&fromDateI, FLData!$C$2:$C$13999, \"<=\" &toDateI, FLData!$J$2:$J$13999,$C84, FLData!$E$2:$E$13999, Sim1Types, FLData!$F$2:$F$13999, \"Operation\" ))*24","v":0},{"$f":"( SUMPRODUCT( SUMIFS( FLData!$AH$2:$AH$13999, FLData!$C$2:$C$13999, \">=\"&fromDateI, FLData!$C$2:$C$13999, \"<=\" &toDateI, FLData!$M$2:$M$13999,$C84, FLData!$E$2:$E$13999, Sim2Types, FLData!$F$2:$F$13999, \"Lesson\" )) + SUMPRODUCT( SUMIFS( FLData!$AH$2:$AH$13999, FLData!$C$2:$C$13999, \">=\"&fromDateI, FLData!$C$2:$C$13999, \"<=\" &toDateI, FLData!$S$2:$S$13999,$C84, FLData!$E$2:$E$13999, Sim2Types, FLData!$F$2:$F$13999, \"Rental\" )) )*24","v":0},{"$f":"SUMPRODUCT( SUMIFS( FLData!$AH$2:$AH$13999, FLData!$C$2:$C$13999, \">=\"&fromDateI, FLData!$C$2:$C$13999, \"<=\" &toDateI, FLData!$J$2:$J$13999,$C84, FLData!$E$2:$E$13999, Sim2Types, FLData!$F$2:$F$13999, \"Operation\" ))*24","v":0},0,0,0]
[null,null,"",{"$f":"( SUMPRODUCT( SUMIFS( FLData!$AH$2:$AH$13999, FLData!$C$2:$C$13999, \">=\"&fromDateI, FLData!$C$2:$C$13999, \"<=\" &toDateI, FLData!$M$2:$M$13999,$C85, FLData!$E$2:$E$13999, SingleEngineTypes, FLData!$F$2:$F$13999, \"Lesson\" )) + SUMPRODUCT( SUMIFS( FLData!$AH$2:$AH$13999, FLData!$C$2:$C$13999, \">=\"&fromDateI, FLData!$C$2:$C$13999, \"<=\" &toDateI, FLData!$S$2:$S$13999,$C85, FLData!$E$2:$E$13999, SingleEngineTypes, FLData!$F$2:$F$13999, \"Rental\" )) )*24","v":0},{"$f":"SUMPRODUCT( SUMIFS( FLData!$AH$2:$AH$13999, FLData!$C$2:$C$13999, \">=\"&fromDateI, FLData!$C$2:$C$13999, \"<=\" &toDateI, FLData!$J$2:$J$13999,$C85, FLData!$E$2:$E$13999, SingleEngineTypes, FLData!$F$2:$F$13999, \"Operation\" ))*24","v":0},{"$f":"( SUMPRODUCT( SUMIFS( FLData!$AH$2:$AH$13999, FLData!$C$2:$C$13999, \">=\"&fromDateI, FLData!$C$2:$C$13999, \"<=\" &toDateI, FLData!$M$2:$M$13999,$C85, FLData!$E$2:$E$13999, MultiEngineTypes, FLData!$F$2:$F$13999, \"Lesson\" )) + SUMPRODUCT( SUMIFS( FLData!$AH$2:$AH$13999, FLData!$C$2:$C$13999, \">=\"&fromDateI, FLData!$C$2:$C$13999, \"<=\" &toDateI, FLData!$S$2:$S$13999,$C85, FLData!$E$2:$E$13999, MultiEngineTypes, FLData!$F$2:$F$13999, \"Rental\" )) )*24","v":0},{"$f":"SUMPRODUCT( SUMIFS( FLData!$AH$2:$AH$13999, FLData!$C$2:$C$13999, \">=\"&fromDateI, FLData!$C$2:$C$13999, \"<=\" &toDateI, FLData!$J$2:$J$13999,$C85, FLData!$E$2:$E$13999, MultiEngineTypes, FLData!$F$2:$F$13999, \"Operation\" ))*24","v":0},{"$f":"( SUMPRODUCT( SUMIFS( FLData!$AH$2:$AH$13999, FLData!$C$2:$C$13999, \">=\"&fromDateI, FLData!$C$2:$C$13999, \"<=\" &toDateI, FLData!$M$2:$M$13999,$C85, FLData!$E$2:$E$13999, Sim1Types, FLData!$F$2:$F$13999, \"Lesson\" )) + SUMPRODUCT( SUMIFS( FLData!$AH$2:$AH$13999, FLData!$C$2:$C$13999, \">=\"&fromDateI, FLData!$C$2:$C$13999, \"<=\" &toDateI, FLData!$S$2:$S$13999,$C85, FLData!$E$2:$E$13999, Sim1Types, FLData!$F$2:$F$13999, \"Rental\" )) )*24","v":0},{"$f":"SUMPRODUCT( SUMIFS( FLData!$AH$2:$AH$13999, FLData!$C$2:$C$13999, \">=\"&fromDateI, FLData!$C$2:$C$13999, \"<=\" &toDateI, FLData!$J$2:$J$13999,$C85, FLData!$E$2:$E$13999, Sim1Types, FLData!$F$2:$F$13999, \"Operation\" ))*24","v":0},{"$f":"( SUMPRODUCT( SUMIFS( FLData!$AH$2:$AH$13999, FLData!$C$2:$C$13999, \">=\"&fromDateI, FLData!$C$2:$C$13999, \"<=\" &toDateI, FLData!$M$2:$M$13999,$C85, FLData!$E$2:$E$13999, Sim2Types, FLData!$F$2:$F$13999, \"Lesson\" )) + SUMPRODUCT( SUMIFS( FLData!$AH$2:$AH$13999, FLData!$C$2:$C$13999, \">=\"&fromDateI, FLData!$C$2:$C$13999, \"<=\" &toDateI, FLData!$S$2:$S$13999,$C85, FLData!$E$2:$E$13999, Sim2Types, FLData!$F$2:$F$13999, \"Rental\" )) )*24","v":0},{"$f":"SUMPRODUCT( SUMIFS( FLData!$AH$2:$AH$13999, FLData!$C$2:$C$13999, \">=\"&fromDateI, FLData!$C$2:$C$13999, \"<=\" &toDateI, FLData!$J$2:$J$13999,$C85, FLData!$E$2:$E$13999, Sim2Types, FLData!$F$2:$F$13999, \"Operation\" ))*24","v":0},0,0,0]
[null,null,"",{"$f":"( SUMPRODUCT( SUMIFS( FLData!$AH$2:$AH$13999, FLData!$C$2:$C$13999, \">=\"&fromDateI, FLData!$C$2:$C$13999, \"<=\" &toDateI, FLData!$M$2:$M$13999,$C86, FLData!$E$2:$E$13999, SingleEngineTypes, FLData!$F$2:$F$13999, \"Lesson\" )) + SUMPRODUCT( SUMIFS( FLData!$AH$2:$AH$13999, FLData!$C$2:$C$13999, \">=\"&fromDateI, FLData!$C$2:$C$13999, \"<=\" &toDateI, FLData!$S$2:$S$13999,$C86, FLData!$E$2:$E$13999, SingleEngineTypes, FLData!$F$2:$F$13999, \"Rental\" )) )*24","v":0},{"$f":"SUMPRODUCT( SUMIFS( FLData!$AH$2:$AH$13999, FLData!$C$2:$C$13999, \">=\"&fromDateI, FLData!$C$2:$C$13999, \"<=\" &toDateI, FLData!$J$2:$J$13999,$C86, FLData!$E$2:$E$13999, SingleEngineTypes, FLData!$F$2:$F$13999, \"Operation\" ))*24","v":0},{"$f":"( SUMPRODUCT( SUMIFS( FLData!$AH$2:$AH$13999, FLData!$C$2:$C$13999, \">=\"&fromDateI, FLData!$C$2:$C$13999, \"<=\" &toDateI, FLData!$M$2:$M$13999,$C86, FLData!$E$2:$E$13999, MultiEngineTypes, FLData!$F$2:$F$13999, \"Lesson\" )) + SUMPRODUCT( SUMIFS( FLData!$AH$2:$AH$13999, FLData!$C$2:$C$13999, \">=\"&fromDateI, FLData!$C$2:$C$13999, \"<=\" &toDateI, FLData!$S$2:$S$13999,$C86, FLData!$E$2:$E$13999, MultiEngineTypes, FLData!$F$2:$F$13999, \"Rental\" )) )*24","v":0},{"$f":"SUMPRODUCT( SUMIFS( FLData!$AH$2:$AH$13999, FLData!$C$2:$C$13999, \">=\"&fromDateI, FLData!$C$2:$C$13999, \"<=\" &toDateI, FLData!$J$2:$J$13999,$C86, FLData!$E$2:$E$13999, MultiEngineTypes, FLData!$F$2:$F$13999, \"Operation\" ))*24","v":0},{"$f":"( SUMPRODUCT( SUMIFS( FLData!$AH$2:$AH$13999, FLData!$C$2:$C$13999, \">=\"&fromDateI, FLData!$C$2:$C$13999, \"<=\" &toDateI, FLData!$M$2:$M$13999,$C86, FLData!$E$2:$E$13999, Sim1Types, FLData!$F$2:$F$13999, \"Lesson\" )) + SUMPRODUCT( SUMIFS( FLData!$AH$2:$AH$13999, FLData!$C$2:$C$13999, \">=\"&fromDateI, FLData!$C$2:$C$13999, \"<=\" &toDateI, FLData!$S$2:$S$13999,$C86, FLData!$E$2:$E$13999, Sim1Types, FLData!$F$2:$F$13999, \"Rental\" )) )*24","v":0},{"$f":"SUMPRODUCT( SUMIFS( FLData!$AH$2:$AH$13999, FLData!$C$2:$C$13999, \">=\"&fromDateI, FLData!$C$2:$C$13999, \"<=\" &toDateI, FLData!$J$2:$J$13999,$C86, FLData!$E$2:$E$13999, Sim1Types, FLData!$F$2:$F$13999, \"Operation\" ))*24","v":0},{"$f":"( SUMPRODUCT( SUMIFS( FLData!$AH$2:$AH$13999, FLData!$C$2:$C$13999, \">=\"&fromDateI, FLData!$C$2:$C$13999, \"<=\" &toDateI, FLData!$M$2:$M$13999,$C86, FLData!$E$2:$E$13999, Sim2Types, FLData!$F$2:$F$13999, \"Lesson\" )) + SUMPRODUCT( SUMIFS( FLData!$AH$2:$AH$13999, FLData!$C$2:$C$13999, \">=\"&fromDateI, FLData!$C$2:$C$13999, \"<=\" &toDateI, FLData!$S$2:$S$13999,$C86, FLData!$E$2:$E$13999, Sim2Types, FLData!$F$2:$F$13999, \"Rental\" )) )*24","v":0},{"$f":"SUMPRODUCT( SUMIFS( FLData!$AH$2:$AH$13999, FLData!$C$2:$C$13999, \">=\"&fromDateI, FLData!$C$2:$C$13999, \"<=\" &toDateI, FLData!$J$2:$J$13999,$C86, FLData!$E$2:$E$13999, Sim2Types, FLData!$F$2:$F$13999, \"Operation\" ))*24","v":0},0,0,0]
[null,null,"",{"$f":"( SUMPRODUCT( SUMIFS( FLData!$AH$2:$AH$13999, FLData!$C$2:$C$13999, \">=\"&fromDateI, FLData!$C$2:$C$13999, \"<=\" &toDateI, FLData!$M$2:$M$13999,$C87, FLData!$E$2:$E$13999, SingleEngineTypes, FLData!$F$2:$F$13999, \"Lesson\" )) + SUMPRODUCT( SUMIFS( FLData!$AH$2:$AH$13999, FLData!$C$2:$C$13999, \">=\"&fromDateI, FLData!$C$2:$C$13999, \"<=\" &toDateI, FLData!$S$2:$S$13999,$C87, FLData!$E$2:$E$13999, SingleEngineTypes, FLData!$F$2:$F$13999, \"Rental\" )) )*24","v":0},{"$f":"SUMPRODUCT( SUMIFS( FLData!$AH$2:$AH$13999, FLData!$C$2:$C$13999, \">=\"&fromDateI, FLData!$C$2:$C$13999, \"<=\" &toDateI, FLData!$J$2:$J$13999,$C87, FLData!$E$2:$E$13999, SingleEngineTypes, FLData!$F$2:$F$13999, \"Operation\" ))*24","v":0},{"$f":"( SUMPRODUCT( SUMIFS( FLData!$AH$2:$AH$13999, FLData!$C$2:$C$13999, \">=\"&fromDateI, FLData!$C$2:$C$13999, \"<=\" &toDateI, FLData!$M$2:$M$13999,$C87, FLData!$E$2:$E$13999, MultiEngineTypes, FLData!$F$2:$F$13999, \"Lesson\" )) + SUMPRODUCT( SUMIFS( FLData!$AH$2:$AH$13999, FLData!$C$2:$C$13999, \">=\"&fromDateI, FLData!$C$2:$C$13999, \"<=\" &toDateI, FLData!$S$2:$S$13999,$C87, FLData!$E$2:$E$13999, MultiEngineTypes, FLData!$F$2:$F$13999, \"Rental\" )) )*24","v":0},{"$f":"SUMPRODUCT( SUMIFS( FLData!$AH$2:$AH$13999, FLData!$C$2:$C$13999, \">=\"&fromDateI, FLData!$C$2:$C$13999, \"<=\" &toDateI, FLData!$J$2:$J$13999,$C87, FLData!$E$2:$E$13999, MultiEngineTypes, FLData!$F$2:$F$13999, \"Operation\" ))*24","v":0},{"$f":"( SUMPRODUCT( SUMIFS( FLData!$AH$2:$AH$13999, FLData!$C$2:$C$13999, \">=\"&fromDateI, FLData!$C$2:$C$13999, \"<=\" &toDateI, FLData!$M$2:$M$13999,$C87, FLData!$E$2:$E$13999, Sim1Types, FLData!$F$2:$F$13999, \"Lesson\" )) + SUMPRODUCT( SUMIFS( FLData!$AH$2:$AH$13999, FLData!$C$2:$C$13999, \">=\"&fromDateI, FLData!$C$2:$C$13999, \"<=\" &toDateI, FLData!$S$2:$S$13999,$C87, FLData!$E$2:$E$13999, Sim1Types, FLData!$F$2:$F$13999, \"Rental\" )) )*24","v":0},{"$f":"SUMPRODUCT( SUMIFS( FLData!$AH$2:$AH$13999, FLData!$C$2:$C$13999, \">=\"&fromDateI, FLData!$C$2:$C$13999, \"<=\" &toDateI, FLData!$J$2:$J$13999,$C87, FLData!$E$2:$E$13999, Sim1Types, FLData!$F$2:$F$13999, \"Operation\" ))*24","v":0},{"$f":"( SUMPRODUCT( SUMIFS( FLData!$AH$2:$AH$13999, FLData!$C$2:$C$13999, \">=\"&fromDateI, FLData!$C$2:$C$13999, \"<=\" &toDateI, FLData!$M$2:$M$13999,$C87, FLData!$E$2:$E$13999, Sim2Types, FLData!$F$2:$F$13999, \"Lesson\" )) + SUMPRODUCT( SUMIFS( FLData!$AH$2:$AH$13999, FLData!$C$2:$C$13999, \">=\"&fromDateI, FLData!$C$2:$C$13999, \"<=\" &toDateI, FLData!$S$2:$S$13999,$C87, FLData!$E$2:$E$13999, Sim2Types, FLData!$F$2:$F$13999, \"Rental\" )) )*24","v":0},{"$f":"SUMPRODUCT( SUMIFS( FLData!$AH$2:$AH$13999, FLData!$C$2:$C$13999, \">=\"&fromDateI, FLData!$C$2:$C$13999, \"<=\" &toDateI, FLData!$J$2:$J$13999,$C87, FLData!$E$2:$E$13999, Sim2Types, FLData!$F$2:$F$13999, \"Operation\" ))*24","v":0},0,0,0]
[null,null,"",{"$f":"( SUMPRODUCT( SUMIFS( FLData!$AH$2:$AH$13999, FLData!$C$2:$C$13999, \">=\"&fromDateI, FLData!$C$2:$C$13999, \"<=\" &toDateI, FLData!$M$2:$M$13999,$C88, FLData!$E$2:$E$13999, SingleEngineTypes, FLData!$F$2:$F$13999, \"Lesson\" )) + SUMPRODUCT( SUMIFS( FLData!$AH$2:$AH$13999, FLData!$C$2:$C$13999, \">=\"&fromDateI, FLData!$C$2:$C$13999, \"<=\" &toDateI, FLData!$S$2:$S$13999,$C88, FLData!$E$2:$E$13999, SingleEngineTypes, FLData!$F$2:$F$13999, \"Rental\" )) )*24","v":0},{"$f":"SUMPRODUCT( SUMIFS( FLData!$AH$2:$AH$13999, FLData!$C$2:$C$13999, \">=\"&fromDateI, FLData!$C$2:$C$13999, \"<=\" &toDateI, FLData!$J$2:$J$13999,$C88, FLData!$E$2:$E$13999, SingleEngineTypes, FLData!$F$2:$F$13999, \"Operation\" ))*24","v":0},{"$f":"( SUMPRODUCT( SUMIFS( FLData!$AH$2:$AH$13999, FLData!$C$2:$C$13999, \">=\"&fromDateI, FLData!$C$2:$C$13999, \"<=\" &toDateI, FLData!$M$2:$M$13999,$C88, FLData!$E$2:$E$13999, MultiEngineTypes, FLData!$F$2:$F$13999, \"Lesson\" )) + SUMPRODUCT( SUMIFS( FLData!$AH$2:$AH$13999, FLData!$C$2:$C$13999, \">=\"&fromDateI, FLData!$C$2:$C$13999, \"<=\" &toDateI, FLData!$S$2:$S$13999,$C88, FLData!$E$2:$E$13999, MultiEngineTypes, FLData!$F$2:$F$13999, \"Rental\" )) )*24","v":0},{"$f":"SUMPRODUCT( SUMIFS( FLData!$AH$2:$AH$13999, FLData!$C$2:$C$13999, \">=\"&fromDateI, FLData!$C$2:$C$13999, \"<=\" &toDateI, FLData!$J$2:$J$13999,$C88, FLData!$E$2:$E$13999, MultiEngineTypes, FLData!$F$2:$F$13999, \"Operation\" ))*24","v":0},{"$f":"( SUMPRODUCT( SUMIFS( FLData!$AH$2:$AH$13999, FLData!$C$2:$C$13999, \">=\"&fromDateI, FLData!$C$2:$C$13999, \"<=\" &toDateI, FLData!$M$2:$M$13999,$C88, FLData!$E$2:$E$13999, Sim1Types, FLData!$F$2:$F$13999, \"Lesson\" )) + SUMPRODUCT( SUMIFS( FLData!$AH$2:$AH$13999, FLData!$C$2:$C$13999, \">=\"&fromDateI, FLData!$C$2:$C$13999, \"<=\" &toDateI, FLData!$S$2:$S$13999,$C88, FLData!$E$2:$E$13999, Sim1Types, FLData!$F$2:$F$13999, \"Rental\" )) )*24","v":0},{"$f":"SUMPRODUCT( SUMIFS( FLData!$AH$2:$AH$13999, FLData!$C$2:$C$13999, \">=\"&fromDateI, FLData!$C$2:$C$13999, \"<=\" &toDateI, FLData!$J$2:$J$13999,$C88, FLData!$E$2:$E$13999, Sim1Types, FLData!$F$2:$F$13999, \"Operation\" ))*24","v":0},{"$f":"( SUMPRODUCT( SUMIFS( FLData!$AH$2:$AH$13999, FLData!$C$2:$C$13999, \">=\"&fromDateI, FLData!$C$2:$C$13999, \"<=\" &toDateI, FLData!$M$2:$M$13999,$C88, FLData!$E$2:$E$13999, Sim2Types, FLData!$F$2:$F$13999, \"Lesson\" )) + SUMPRODUCT( SUMIFS( FLData!$AH$2:$AH$13999, FLData!$C$2:$C$13999, \">=\"&fromDateI, FLData!$C$2:$C$13999, \"<=\" &toDateI, FLData!$S$2:$S$13999,$C88, FLData!$E$2:$E$13999, Sim2Types, FLData!$F$2:$F$13999, \"Rental\" )) )*24","v":0},{"$f":"SUMPRODUCT( SUMIFS( FLData!$AH$2:$AH$13999, FLData!$C$2:$C$13999, \">=\"&fromDateI, FLData!$C$2:$C$13999, \"<=\" &toDateI, FLData!$J$2:$J$13999,$C88, FLData!$E$2:$E$13999, Sim2Types, FLData!$F$2:$F$13999, \"Operation\" ))*24","v":0},0,0,0]
[null,null,"",{"$f":"( SUMPRODUCT( SUMIFS( FLData!$AH$2:$AH$13999, FLData!$C$2:$C$13999, \">=\"&fromDateI, FLData!$C$2:$C$13999, \"<=\" &toDateI, FLData!$M$2:$M$13999,$C89, FLData!$E$2:$E$13999, SingleEngineTypes, FLData!$F$2:$F$13999, \"Lesson\" )) + SUMPRODUCT( SUMIFS( FLData!$AH$2:$AH$13999, FLData!$C$2:$C$13999, \">=\"&fromDateI, FLData!$C$2:$C$13999, \"<=\" &toDateI, FLData!$S$2:$S$13999,$C89, FLData!$E$2:$E$13999, SingleEngineTypes, FLData!$F$2:$F$13999, \"Rental\" )) )*24","v":0},{"$f":"SUMPRODUCT( SUMIFS( FLData!$AH$2:$AH$13999, FLData!$C$2:$C$13999, \">=\"&fromDateI, FLData!$C$2:$C$13999, \"<=\" &toDateI, FLData!$J$2:$J$13999,$C89, FLData!$E$2:$E$13999, SingleEngineTypes, FLData!$F$2:$F$13999, \"Operation\" ))*24","v":0},{"$f":"( SUMPRODUCT( SUMIFS( FLData!$AH$2:$AH$13999, FLData!$C$2:$C$13999, \">=\"&fromDateI, FLData!$C$2:$C$13999, \"<=\" &toDateI, FLData!$M$2:$M$13999,$C89, FLData!$E$2:$E$13999, MultiEngineTypes, FLData!$F$2:$F$13999, \"Lesson\" )) + SUMPRODUCT( SUMIFS( FLData!$AH$2:$AH$13999, FLData!$C$2:$C$13999, \">=\"&fromDateI, FLData!$C$2:$C$13999, \"<=\" &toDateI, FLData!$S$2:$S$13999,$C89, FLData!$E$2:$E$13999, MultiEngineTypes, FLData!$F$2:$F$13999, \"Rental\" )) )*24","v":0},{"$f":"SUMPRODUCT( SUMIFS( FLData!$AH$2:$AH$13999, FLData!$C$2:$C$13999, \">=\"&fromDateI, FLData!$C$2:$C$13999, \"<=\" &toDateI, FLData!$J$2:$J$13999,$C89, FLData!$E$2:$E$13999, MultiEngineTypes, FLData!$F$2:$F$13999, \"Operation\" ))*24","v":0},{"$f":"( SUMPRODUCT( SUMIFS( FLData!$AH$2:$AH$13999, FLData!$C$2:$C$13999, \">=\"&fromDateI, FLData!$C$2:$C$13999, \"<=\" &toDateI, FLData!$M$2:$M$13999,$C89, FLData!$E$2:$E$13999, Sim1Types, FLData!$F$2:$F$13999, \"Lesson\" )) + SUMPRODUCT( SUMIFS( FLData!$AH$2:$AH$13999, FLData!$C$2:$C$13999, \">=\"&fromDateI, FLData!$C$2:$C$13999, \"<=\" &toDateI, FLData!$S$2:$S$13999,$C89, FLData!$E$2:$E$13999, Sim1Types, FLData!$F$2:$F$13999, \"Rental\" )) )*24","v":0},{"$f":"SUMPRODUCT( SUMIFS( FLData!$AH$2:$AH$13999, FLData!$C$2:$C$13999, \">=\"&fromDateI, FLData!$C$2:$C$13999, \"<=\" &toDateI, FLData!$J$2:$J$13999,$C89, FLData!$E$2:$E$13999, Sim1Types, FLData!$F$2:$F$13999, \"Operation\" ))*24","v":0},{"$f":"( SUMPRODUCT( SUMIFS( FLData!$AH$2:$AH$13999, FLData!$C$2:$C$13999, \">=\"&fromDateI, FLData!$C$2:$C$13999, \"<=\" &toDateI, FLData!$M$2:$M$13999,$C89, FLData!$E$2:$E$13999, Sim2Types, FLData!$F$2:$F$13999, \"Lesson\" )) + SUMPRODUCT( SUMIFS( FLData!$AH$2:$AH$13999, FLData!$C$2:$C$13999, \">=\"&fromDateI, FLData!$C$2:$C$13999, \"<=\" &toDateI, FLData!$S$2:$S$13999,$C89, FLData!$E$2:$E$13999, Sim2Types, FLData!$F$2:$F$13999, \"Rental\" )) )*24","v":0},{"$f":"SUMPRODUCT( SUMIFS( FLData!$AH$2:$AH$13999, FLData!$C$2:$C$13999, \">=\"&fromDateI, FLData!$C$2:$C$13999, \"<=\" &toDateI, FLData!$J$2:$J$13999,$C89, FLData!$E$2:$E$13999, Sim2Types, FLData!$F$2:$F$13999, \"Operation\" ))*24","v":0},0,0,0]
[null,null,"",{"$f":"( SUMPRODUCT( SUMIFS( FLData!$AH$2:$AH$13999, FLData!$C$2:$C$13999, \">=\"&fromDateI, FLData!$C$2:$C$13999, \"<=\" &toDateI, FLData!$M$2:$M$13999,$C90, FLData!$E$2:$E$13999, SingleEngineTypes, FLData!$F$2:$F$13999, \"Lesson\" )) + SUMPRODUCT( SUMIFS( FLData!$AH$2:$AH$13999, FLData!$C$2:$C$13999, \">=\"&fromDateI, FLData!$C$2:$C$13999, \"<=\" &toDateI, FLData!$S$2:$S$13999,$C90, FLData!$E$2:$E$13999, SingleEngineTypes, FLData!$F$2:$F$13999, \"Rental\" )) )*24","v":0},{"$f":"SUMPRODUCT( SUMIFS( FLData!$AH$2:$AH$13999, FLData!$C$2:$C$13999, \">=\"&fromDateI, FLData!$C$2:$C$13999, \"<=\" &toDateI, FLData!$J$2:$J$13999,$C90, FLData!$E$2:$E$13999, SingleEngineTypes, FLData!$F$2:$F$13999, \"Operation\" ))*24","v":0},{"$f":"( SUMPRODUCT( SUMIFS( FLData!$AH$2:$AH$13999, FLData!$C$2:$C$13999, \">=\"&fromDateI, FLData!$C$2:$C$13999, \"<=\" &toDateI, FLData!$M$2:$M$13999,$C90, FLData!$E$2:$E$13999, MultiEngineTypes, FLData!$F$2:$F$13999, \"Lesson\" )) + SUMPRODUCT( SUMIFS( FLData!$AH$2:$AH$13999, FLData!$C$2:$C$13999, \">=\"&fromDateI, FLData!$C$2:$C$13999, \"<=\" &toDateI, FLData!$S$2:$S$13999,$C90, FLData!$E$2:$E$13999, MultiEngineTypes, FLData!$F$2:$F$13999, \"Rental\" )) )*24","v":0},{"$f":"SUMPRODUCT( SUMIFS( FLData!$AH$2:$AH$13999, FLData!$C$2:$C$13999, \">=\"&fromDateI, FLData!$C$2:$C$13999, \"<=\" &toDateI, FLData!$J$2:$J$13999,$C90, FLData!$E$2:$E$13999, MultiEngineTypes, FLData!$F$2:$F$13999, \"Operation\" ))*24","v":0},{"$f":"( SUMPRODUCT( SUMIFS( FLData!$AH$2:$AH$13999, FLData!$C$2:$C$13999, \">=\"&fromDateI, FLData!$C$2:$C$13999, \"<=\" &toDateI, FLData!$M$2:$M$13999,$C90, FLData!$E$2:$E$13999, Sim1Types, FLData!$F$2:$F$13999, \"Lesson\" )) + SUMPRODUCT( SUMIFS( FLData!$AH$2:$AH$13999, FLData!$C$2:$C$13999, \">=\"&fromDateI, FLData!$C$2:$C$13999, \"<=\" &toDateI, FLData!$S$2:$S$13999,$C90, FLData!$E$2:$E$13999, Sim1Types, FLData!$F$2:$F$13999, \"Rental\" )) )*24","v":0},{"$f":"SUMPRODUCT( SUMIFS( FLData!$AH$2:$AH$13999, FLData!$C$2:$C$13999, \">=\"&fromDateI, FLData!$C$2:$C$13999, \"<=\" &toDateI, FLData!$J$2:$J$13999,$C90, FLData!$E$2:$E$13999, Sim1Types, FLData!$F$2:$F$13999, \"Operation\" ))*24","v":0},{"$f":"( SUMPRODUCT( SUMIFS( FLData!$AH$2:$AH$13999, FLData!$C$2:$C$13999, \">=\"&fromDateI, FLData!$C$2:$C$13999, \"<=\" &toDateI, FLData!$M$2:$M$13999,$C90, FLData!$E$2:$E$13999, Sim2Types, FLData!$F$2:$F$13999, \"Lesson\" )) + SUMPRODUCT( SUMIFS( FLData!$AH$2:$AH$13999, FLData!$C$2:$C$13999, \">=\"&fromDateI, FLData!$C$2:$C$13999, \"<=\" &toDateI, FLData!$S$2:$S$13999,$C90, FLData!$E$2:$E$13999, Sim2Types, FLData!$F$2:$F$13999, \"Rental\" )) )*24","v":0},{"$f":"SUMPRODUCT( SUMIFS( FLData!$AH$2:$AH$13999, FLData!$C$2:$C$13999, \">=\"&fromDateI, FLData!$C$2:$C$13999, \"<=\" &toDateI, FLData!$J$2:$J$13999,$C90, FLData!$E$2:$E$13999, Sim2Types, FLData!$F$2:$F$13999, \"Operation\" ))*24","v":0},0,0,0]
[null,null,"",{"$f":"( SUMPRODUCT( SUMIFS( FLData!$AH$2:$AH$13999, FLData!$C$2:$C$13999, \">=\"&fromDateI, FLData!$C$2:$C$13999, \"<=\" &toDateI, FLData!$M$2:$M$13999,$C91, FLData!$E$2:$E$13999, SingleEngineTypes, FLData!$F$2:$F$13999, \"Lesson\" )) + SUMPRODUCT( SUMIFS( FLData!$AH$2:$AH$13999, FLData!$C$2:$C$13999, \">=\"&fromDateI, FLData!$C$2:$C$13999, \"<=\" &toDateI, FLData!$S$2:$S$13999,$C91, FLData!$E$2:$E$13999, SingleEngineTypes, FLData!$F$2:$F$13999, \"Rental\" )) )*24","v":0},{"$f":"SUMPRODUCT( SUMIFS( FLData!$AH$2:$AH$13999, FLData!$C$2:$C$13999, \">=\"&fromDateI, FLData!$C$2:$C$13999, \"<=\" &toDateI, FLData!$J$2:$J$13999,$C91, FLData!$E$2:$E$13999, SingleEngineTypes, FLData!$F$2:$F$13999, \"Operation\" ))*24","v":0},{"$f":"( SUMPRODUCT( SUMIFS( FLData!$AH$2:$AH$13999, FLData!$C$2:$C$13999, \">=\"&fromDateI, FLData!$C$2:$C$13999, \"<=\" &toDateI, FLData!$M$2:$M$13999,$C91, FLData!$E$2:$E$13999, MultiEngineTypes, FLData!$F$2:$F$13999, \"Lesson\" )) + SUMPRODUCT( SUMIFS( FLData!$AH$2:$AH$13999, FLData!$C$2:$C$13999, \">=\"&fromDateI, FLData!$C$2:$C$13999, \"<=\" &toDateI, FLData!$S$2:$S$13999,$C91, FLData!$E$2:$E$13999, MultiEngineTypes, FLData!$F$2:$F$13999, \"Rental\" )) )*24","v":0},{"$f":"SUMPRODUCT( SUMIFS( FLData!$AH$2:$AH$13999, FLData!$C$2:$C$13999, \">=\"&fromDateI, FLData!$C$2:$C$13999, \"<=\" &toDateI, FLData!$J$2:$J$13999,$C91, FLData!$E$2:$E$13999, MultiEngineTypes, FLData!$F$2:$F$13999, \"Operation\" ))*24","v":0},{"$f":"( SUMPRODUCT( SUMIFS( FLData!$AH$2:$AH$13999, FLData!$C$2:$C$13999, \">=\"&fromDateI, FLData!$C$2:$C$13999, \"<=\" &toDateI, FLData!$M$2:$M$13999,$C91, FLData!$E$2:$E$13999, Sim1Types, FLData!$F$2:$F$13999, \"Lesson\" )) + SUMPRODUCT( SUMIFS( FLData!$AH$2:$AH$13999, FLData!$C$2:$C$13999, \">=\"&fromDateI, FLData!$C$2:$C$13999, \"<=\" &toDateI, FLData!$S$2:$S$13999,$C91, FLData!$E$2:$E$13999, Sim1Types, FLData!$F$2:$F$13999, \"Rental\" )) )*24","v":0},{"$f":"SUMPRODUCT( SUMIFS( FLData!$AH$2:$AH$13999, FLData!$C$2:$C$13999, \">=\"&fromDateI, FLData!$C$2:$C$13999, \"<=\" &toDateI, FLData!$J$2:$J$13999,$C91, FLData!$E$2:$E$13999, Sim1Types, FLData!$F$2:$F$13999, \"Operation\" ))*24","v":0},{"$f":"( SUMPRODUCT( SUMIFS( FLData!$AH$2:$AH$13999, FLData!$C$2:$C$13999, \">=\"&fromDateI, FLData!$C$2:$C$13999, \"<=\" &toDateI, FLData!$M$2:$M$13999,$C91, FLData!$E$2:$E$13999, Sim2Types, FLData!$F$2:$F$13999, \"Lesson\" )) + SUMPRODUCT( SUMIFS( FLData!$AH$2:$AH$13999, FLData!$C$2:$C$13999, \">=\"&fromDateI, FLData!$C$2:$C$13999, \"<=\" &toDateI, FLData!$S$2:$S$13999,$C91, FLData!$E$2:$E$13999, Sim2Types, FLData!$F$2:$F$13999, \"Rental\" )) )*24","v":0},{"$f":"SUMPRODUCT( SUMIFS( FLData!$AH$2:$AH$13999, FLData!$C$2:$C$13999, \">=\"&fromDateI, FLData!$C$2:$C$13999, \"<=\" &toDateI, FLData!$J$2:$J$13999,$C91, FLData!$E$2:$E$13999, Sim2Types, FLData!$F$2:$F$13999, \"Operation\" ))*24","v":0},0,0,0]
[null,null,"",{"$f":"( SUMPRODUCT( SUMIFS( FLData!$AH$2:$AH$13999, FLData!$C$2:$C$13999, \">=\"&fromDateI, FLData!$C$2:$C$13999, \"<=\" &toDateI, FLData!$M$2:$M$13999,$C92, FLData!$E$2:$E$13999, SingleEngineTypes, FLData!$F$2:$F$13999, \"Lesson\" )) + SUMPRODUCT( SUMIFS( FLData!$AH$2:$AH$13999, FLData!$C$2:$C$13999, \">=\"&fromDateI, FLData!$C$2:$C$13999, \"<=\" &toDateI, FLData!$S$2:$S$13999,$C92, FLData!$E$2:$E$13999, SingleEngineTypes, FLData!$F$2:$F$13999, \"Rental\" )) )*24","v":0},{"$f":"SUMPRODUCT( SUMIFS( FLData!$AH$2:$AH$13999, FLData!$C$2:$C$13999, \">=\"&fromDateI, FLData!$C$2:$C$13999, \"<=\" &toDateI, FLData!$J$2:$J$13999,$C92, FLData!$E$2:$E$13999, SingleEngineTypes, FLData!$F$2:$F$13999, \"Operation\" ))*24","v":0},{"$f":"( SUMPRODUCT( SUMIFS( FLData!$AH$2:$AH$13999, FLData!$C$2:$C$13999, \">=\"&fromDateI, FLData!$C$2:$C$13999, \"<=\" &toDateI, FLData!$M$2:$M$13999,$C92, FLData!$E$2:$E$13999, MultiEngineTypes, FLData!$F$2:$F$13999, \"Lesson\" )) + SUMPRODUCT( SUMIFS( FLData!$AH$2:$AH$13999, FLData!$C$2:$C$13999, \">=\"&fromDateI, FLData!$C$2:$C$13999, \"<=\" &toDateI, FLData!$S$2:$S$13999,$C92, FLData!$E$2:$E$13999, MultiEngineTypes, FLData!$F$2:$F$13999, \"Rental\" )) )*24","v":0},{"$f":"SUMPRODUCT( SUMIFS( FLData!$AH$2:$AH$13999, FLData!$C$2:$C$13999, \">=\"&fromDateI, FLData!$C$2:$C$13999, \"<=\" &toDateI, FLData!$J$2:$J$13999,$C92, FLData!$E$2:$E$13999, MultiEngineTypes, FLData!$F$2:$F$13999, \"Operation\" ))*24","v":0},{"$f":"( SUMPRODUCT( SUMIFS( FLData!$AH$2:$AH$13999, FLData!$C$2:$C$13999, \">=\"&fromDateI, FLData!$C$2:$C$13999, \"<=\" &toDateI, FLData!$M$2:$M$13999,$C92, FLData!$E$2:$E$13999, Sim1Types, FLData!$F$2:$F$13999, \"Lesson\" )) + SUMPRODUCT( SUMIFS( FLData!$AH$2:$AH$13999, FLData!$C$2:$C$13999, \">=\"&fromDateI, FLData!$C$2:$C$13999, \"<=\" &toDateI, FLData!$S$2:$S$13999,$C92, FLData!$E$2:$E$13999, Sim1Types, FLData!$F$2:$F$13999, \"Rental\" )) )*24","v":0},{"$f":"SUMPRODUCT( SUMIFS( FLData!$AH$2:$AH$13999, FLData!$C$2:$C$13999, \">=\"&fromDateI, FLData!$C$2:$C$13999, \"<=\" &toDateI, FLData!$J$2:$J$13999,$C92, FLData!$E$2:$E$13999, Sim1Types, FLData!$F$2:$F$13999, \"Operation\" ))*24","v":0},{"$f":"( SUMPRODUCT( SUMIFS( FLData!$AH$2:$AH$13999, FLData!$C$2:$C$13999, \">=\"&fromDateI, FLData!$C$2:$C$13999, \"<=\" &toDateI, FLData!$M$2:$M$13999,$C92, FLData!$E$2:$E$13999, Sim2Types, FLData!$F$2:$F$13999, \"Lesson\" )) + SUMPRODUCT( SUMIFS( FLData!$AH$2:$AH$13999, FLData!$C$2:$C$13999, \">=\"&fromDateI, FLData!$C$2:$C$13999, \"<=\" &toDateI, FLData!$S$2:$S$13999,$C92, FLData!$E$2:$E$13999, Sim2Types, FLData!$F$2:$F$13999, \"Rental\" )) )*24","v":0},{"$f":"SUMPRODUCT( SUMIFS( FLData!$AH$2:$AH$13999, FLData!$C$2:$C$13999, \">=\"&fromDateI, FLData!$C$2:$C$13999, \"<=\" &toDateI, FLData!$J$2:$J$13999,$C92, FLData!$E$2:$E$13999, Sim2Types, FLData!$F$2:$F$13999, \"Operation\" ))*24","v":0},0,0,0]
[null,null,"",{"$f":"( SUMPRODUCT( SUMIFS( FLData!$AH$2:$AH$13999, FLData!$C$2:$C$13999, \">=\"&fromDateI, FLData!$C$2:$C$13999, \"<=\" &toDateI, FLData!$M$2:$M$13999,$C93, FLData!$E$2:$E$13999, SingleEngineTypes, FLData!$F$2:$F$13999, \"Lesson\" )) + SUMPRODUCT( SUMIFS( FLData!$AH$2:$AH$13999, FLData!$C$2:$C$13999, \">=\"&fromDateI, FLData!$C$2:$C$13999, \"<=\" &toDateI, FLData!$S$2:$S$13999,$C93, FLData!$E$2:$E$13999, SingleEngineTypes, FLData!$F$2:$F$13999, \"Rental\" )) )*24","v":0},{"$f":"SUMPRODUCT( SUMIFS( FLData!$AH$2:$AH$13999, FLData!$C$2:$C$13999, \">=\"&fromDateI, FLData!$C$2:$C$13999, \"<=\" &toDateI, FLData!$J$2:$J$13999,$C93, FLData!$E$2:$E$13999, SingleEngineTypes, FLData!$F$2:$F$13999, \"Operation\" ))*24","v":0},{"$f":"( SUMPRODUCT( SUMIFS( FLData!$AH$2:$AH$13999, FLData!$C$2:$C$13999, \">=\"&fromDateI, FLData!$C$2:$C$13999, \"<=\" &toDateI, FLData!$M$2:$M$13999,$C93, FLData!$E$2:$E$13999, MultiEngineTypes, FLData!$F$2:$F$13999, \"Lesson\" )) + SUMPRODUCT( SUMIFS( FLData!$AH$2:$AH$13999, FLData!$C$2:$C$13999, \">=\"&fromDateI, FLData!$C$2:$C$13999, \"<=\" &toDateI, FLData!$S$2:$S$13999,$C93, FLData!$E$2:$E$13999, MultiEngineTypes, FLData!$F$2:$F$13999, \"Rental\" )) )*24","v":0},{"$f":"SUMPRODUCT( SUMIFS( FLData!$AH$2:$AH$13999, FLData!$C$2:$C$13999, \">=\"&fromDateI, FLData!$C$2:$C$13999, \"<=\" &toDateI, FLData!$J$2:$J$13999,$C93, FLData!$E$2:$E$13999, MultiEngineTypes, FLData!$F$2:$F$13999, \"Operation\" ))*24","v":0},{"$f":"( SUMPRODUCT( SUMIFS( FLData!$AH$2:$AH$13999, FLData!$C$2:$C$13999, \">=\"&fromDateI, FLData!$C$2:$C$13999, \"<=\" &toDateI, FLData!$M$2:$M$13999,$C93, FLData!$E$2:$E$13999, Sim1Types, FLData!$F$2:$F$13999, \"Lesson\" )) + SUMPRODUCT( SUMIFS( FLData!$AH$2:$AH$13999, FLData!$C$2:$C$13999, \">=\"&fromDateI, FLData!$C$2:$C$13999, \"<=\" &toDateI, FLData!$S$2:$S$13999,$C93, FLData!$E$2:$E$13999, Sim1Types, FLData!$F$2:$F$13999, \"Rental\" )) )*24","v":0},{"$f":"SUMPRODUCT( SUMIFS( FLData!$AH$2:$AH$13999, FLData!$C$2:$C$13999, \">=\"&fromDateI, FLData!$C$2:$C$13999, \"<=\" &toDateI, FLData!$J$2:$J$13999,$C93, FLData!$E$2:$E$13999, Sim1Types, FLData!$F$2:$F$13999, \"Operation\" ))*24","v":0},{"$f":"( SUMPRODUCT( SUMIFS( FLData!$AH$2:$AH$13999, FLData!$C$2:$C$13999, \">=\"&fromDateI, FLData!$C$2:$C$13999, \"<=\" &toDateI, FLData!$M$2:$M$13999,$C93, FLData!$E$2:$E$13999, Sim2Types, FLData!$F$2:$F$13999, \"Lesson\" )) + SUMPRODUCT( SUMIFS( FLData!$AH$2:$AH$13999, FLData!$C$2:$C$13999, \">=\"&fromDateI, FLData!$C$2:$C$13999, \"<=\" &toDateI, FLData!$S$2:$S$13999,$C93, FLData!$E$2:$E$13999, Sim2Types, FLData!$F$2:$F$13999, \"Rental\" )) )*24","v":0},{"$f":"SUMPRODUCT( SUMIFS( FLData!$AH$2:$AH$13999, FLData!$C$2:$C$13999, \">=\"&fromDateI, FLData!$C$2:$C$13999, \"<=\" &toDateI, FLData!$J$2:$J$13999,$C93, FLData!$E$2:$E$13999, Sim2Types, FLData!$F$2:$F$13999, \"Operation\" ))*24","v":0},0,0,0]
[null,null,"",{"$f":"( SUMPRODUCT( SUMIFS( FLData!$AH$2:$AH$13999, FLData!$C$2:$C$13999, \">=\"&fromDateI, FLData!$C$2:$C$13999, \"<=\" &toDateI, FLData!$M$2:$M$13999,$C94, FLData!$E$2:$E$13999, SingleEngineTypes, FLData!$F$2:$F$13999, \"Lesson\" )) + SUMPRODUCT( SUMIFS( FLData!$AH$2:$AH$13999, FLData!$C$2:$C$13999, \">=\"&fromDateI, FLData!$C$2:$C$13999, \"<=\" &toDateI, FLData!$S$2:$S$13999,$C94, FLData!$E$2:$E$13999, SingleEngineTypes, FLData!$F$2:$F$13999, \"Rental\" )) )*24","v":0},{"$f":"SUMPRODUCT( SUMIFS( FLData!$AH$2:$AH$13999, FLData!$C$2:$C$13999, \">=\"&fromDateI, FLData!$C$2:$C$13999, \"<=\" &toDateI, FLData!$J$2:$J$13999,$C94, FLData!$E$2:$E$13999, SingleEngineTypes, FLData!$F$2:$F$13999, \"Operation\" ))*24","v":0},{"$f":"( SUMPRODUCT( SUMIFS( FLData!$AH$2:$AH$13999, FLData!$C$2:$C$13999, \">=\"&fromDateI, FLData!$C$2:$C$13999, \"<=\" &toDateI, FLData!$M$2:$M$13999,$C94, FLData!$E$2:$E$13999, MultiEngineTypes, FLData!$F$2:$F$13999, \"Lesson\" )) + SUMPRODUCT( SUMIFS( FLData!$AH$2:$AH$13999, FLData!$C$2:$C$13999, \">=\"&fromDateI, FLData!$C$2:$C$13999, \"<=\" &toDateI, FLData!$S$2:$S$13999,$C94, FLData!$E$2:$E$13999, MultiEngineTypes, FLData!$F$2:$F$13999, \"Rental\" )) )*24","v":0},{"$f":"SUMPRODUCT( SUMIFS( FLData!$AH$2:$AH$13999, FLData!$C$2:$C$13999, \">=\"&fromDateI, FLData!$C$2:$C$13999, \"<=\" &toDateI, FLData!$J$2:$J$13999,$C94, FLData!$E$2:$E$13999, MultiEngineTypes, FLData!$F$2:$F$13999, \"Operation\" ))*24","v":0},{"$f":"( SUMPRODUCT( SUMIFS( FLData!$AH$2:$AH$13999, FLData!$C$2:$C$13999, \">=\"&fromDateI, FLData!$C$2:$C$13999, \"<=\" &toDateI, FLData!$M$2:$M$13999,$C94, FLData!$E$2:$E$13999, Sim1Types, FLData!$F$2:$F$13999, \"Lesson\" )) + SUMPRODUCT( SUMIFS( FLData!$AH$2:$AH$13999, FLData!$C$2:$C$13999, \">=\"&fromDateI, FLData!$C$2:$C$13999, \"<=\" &toDateI, FLData!$S$2:$S$13999,$C94, FLData!$E$2:$E$13999, Sim1Types, FLData!$F$2:$F$13999, \"Rental\" )) )*24","v":0},{"$f":"SUMPRODUCT( SUMIFS( FLData!$AH$2:$AH$13999, FLData!$C$2:$C$13999, \">=\"&fromDateI, FLData!$C$2:$C$13999, \"<=\" &toDateI, FLData!$J$2:$J$13999,$C94, FLData!$E$2:$E$13999, Sim1Types, FLData!$F$2:$F$13999, \"Operation\" ))*24","v":0},{"$f":"( SUMPRODUCT( SUMIFS( FLData!$AH$2:$AH$13999, FLData!$C$2:$C$13999, \">=\"&fromDateI, FLData!$C$2:$C$13999, \"<=\" &toDateI, FLData!$M$2:$M$13999,$C94, FLData!$E$2:$E$13999, Sim2Types, FLData!$F$2:$F$13999, \"Lesson\" )) + SUMPRODUCT( SUMIFS( FLData!$AH$2:$AH$13999, FLData!$C$2:$C$13999, \">=\"&fromDateI, FLData!$C$2:$C$13999, \"<=\" &toDateI, FLData!$S$2:$S$13999,$C94, FLData!$E$2:$E$13999, Sim2Types, FLData!$F$2:$F$13999, \"Rental\" )) )*24","v":0},{"$f":"SUMPRODUCT( SUMIFS( FLData!$AH$2:$AH$13999, FLData!$C$2:$C$13999, \">=\"&fromDateI, FLData!$C$2:$C$13999, \"<=\" &toDateI, FLData!$J$2:$J$13999,$C94, FLData!$E$2:$E$13999, Sim2Types, FLData!$F$2:$F$13999, \"Operation\" ))*24","v":0},0,0,0]
[null,null,"",{"$f":"( SUMPRODUCT( SUMIFS( FLData!$AH$2:$AH$13999, FLData!$C$2:$C$13999, \">=\"&fromDateI, FLData!$C$2:$C$13999, \"<=\" &toDateI, FLData!$M$2:$M$13999,$C95, FLData!$E$2:$E$13999, SingleEngineTypes, FLData!$F$2:$F$13999, \"Lesson\" )) + SUMPRODUCT( SUMIFS( FLData!$AH$2:$AH$13999, FLData!$C$2:$C$13999, \">=\"&fromDateI, FLData!$C$2:$C$13999, \"<=\" &toDateI, FLData!$S$2:$S$13999,$C95, FLData!$E$2:$E$13999, SingleEngineTypes, FLData!$F$2:$F$13999, \"Rental\" )) )*24","v":0},{"$f":"SUMPRODUCT( SUMIFS( FLData!$AH$2:$AH$13999, FLData!$C$2:$C$13999, \">=\"&fromDateI, FLData!$C$2:$C$13999, \"<=\" &toDateI, FLData!$J$2:$J$13999,$C95, FLData!$E$2:$E$13999, SingleEngineTypes, FLData!$F$2:$F$13999, \"Operation\" ))*24","v":0},{"$f":"( SUMPRODUCT( SUMIFS( FLData!$AH$2:$AH$13999, FLData!$C$2:$C$13999, \">=\"&fromDateI, FLData!$C$2:$C$13999, \"<=\" &toDateI, FLData!$M$2:$M$13999,$C95, FLData!$E$2:$E$13999, MultiEngineTypes, FLData!$F$2:$F$13999, \"Lesson\" )) + SUMPRODUCT( SUMIFS( FLData!$AH$2:$AH$13999, FLData!$C$2:$C$13999, \">=\"&fromDateI, FLData!$C$2:$C$13999, \"<=\" &toDateI, FLData!$S$2:$S$13999,$C95, FLData!$E$2:$E$13999, MultiEngineTypes, FLData!$F$2:$F$13999, \"Rental\" )) )*24","v":0},{"$f":"SUMPRODUCT( SUMIFS( FLData!$AH$2:$AH$13999, FLData!$C$2:$C$13999, \">=\"&fromDateI, FLData!$C$2:$C$13999, \"<=\" &toDateI, FLData!$J$2:$J$13999,$C95, FLData!$E$2:$E$13999, MultiEngineTypes, FLData!$F$2:$F$13999, \"Operation\" ))*24","v":0},{"$f":"( SUMPRODUCT( SUMIFS( FLData!$AH$2:$AH$13999, FLData!$C$2:$C$13999, \">=\"&fromDateI, FLData!$C$2:$C$13999, \"<=\" &toDateI, FLData!$M$2:$M$13999,$C95, FLData!$E$2:$E$13999, Sim1Types, FLData!$F$2:$F$13999, \"Lesson\" )) + SUMPRODUCT( SUMIFS( FLData!$AH$2:$AH$13999, FLData!$C$2:$C$13999, \">=\"&fromDateI, FLData!$C$2:$C$13999, \"<=\" &toDateI, FLData!$S$2:$S$13999,$C95, FLData!$E$2:$E$13999, Sim1Types, FLData!$F$2:$F$13999, \"Rental\" )) )*24","v":0},{"$f":"SUMPRODUCT( SUMIFS( FLData!$AH$2:$AH$13999, FLData!$C$2:$C$13999, \">=\"&fromDateI, FLData!$C$2:$C$13999, \"<=\" &toDateI, FLData!$J$2:$J$13999,$C95, FLData!$E$2:$E$13999, Sim1Types, FLData!$F$2:$F$13999, \"Operation\" ))*24","v":0},{"$f":"( SUMPRODUCT( SUMIFS( FLData!$AH$2:$AH$13999, FLData!$C$2:$C$13999, \">=\"&fromDateI, FLData!$C$2:$C$13999, \"<=\" &toDateI, FLData!$M$2:$M$13999,$C95, FLData!$E$2:$E$13999, Sim2Types, FLData!$F$2:$F$13999, \"Lesson\" )) + SUMPRODUCT( SUMIFS( FLData!$AH$2:$AH$13999, FLData!$C$2:$C$13999, \">=\"&fromDateI, FLData!$C$2:$C$13999, \"<=\" &toDateI, FLData!$S$2:$S$13999,$C95, FLData!$E$2:$E$13999, Sim2Types, FLData!$F$2:$F$13999, \"Rental\" )) )*24","v":0},{"$f":"SUMPRODUCT( SUMIFS( FLData!$AH$2:$AH$13999, FLData!$C$2:$C$13999, \">=\"&fromDateI, FLData!$C$2:$C$13999, \"<=\" &toDateI, FLData!$J$2:$J$13999,$C95, FLData!$E$2:$E$13999, Sim2Types, FLData!$F$2:$F$13999, \"Operation\" ))*24","v":0},0,0,0]
[null,null,"",{"$f":"( SUMPRODUCT( SUMIFS( FLData!$AH$2:$AH$13999, FLData!$C$2:$C$13999, \">=\"&fromDateI, FLData!$C$2:$C$13999, \"<=\" &toDateI, FLData!$M$2:$M$13999,$C96, FLData!$E$2:$E$13999, SingleEngineTypes, FLData!$F$2:$F$13999, \"Lesson\" )) + SUMPRODUCT( SUMIFS( FLData!$AH$2:$AH$13999, FLData!$C$2:$C$13999, \">=\"&fromDateI, FLData!$C$2:$C$13999, \"<=\" &toDateI, FLData!$S$2:$S$13999,$C96, FLData!$E$2:$E$13999, SingleEngineTypes, FLData!$F$2:$F$13999, \"Rental\" )) )*24","v":0},{"$f":"SUMPRODUCT( SUMIFS( FLData!$AH$2:$AH$13999, FLData!$C$2:$C$13999, \">=\"&fromDateI, FLData!$C$2:$C$13999, \"<=\" &toDateI, FLData!$J$2:$J$13999,$C96, FLData!$E$2:$E$13999, SingleEngineTypes, FLData!$F$2:$F$13999, \"Operation\" ))*24","v":0},{"$f":"( SUMPRODUCT( SUMIFS( FLData!$AH$2:$AH$13999, FLData!$C$2:$C$13999, \">=\"&fromDateI, FLData!$C$2:$C$13999, \"<=\" &toDateI, FLData!$M$2:$M$13999,$C96, FLData!$E$2:$E$13999, MultiEngineTypes, FLData!$F$2:$F$13999, \"Lesson\" )) + SUMPRODUCT( SUMIFS( FLData!$AH$2:$AH$13999, FLData!$C$2:$C$13999, \">=\"&fromDateI, FLData!$C$2:$C$13999, \"<=\" &toDateI, FLData!$S$2:$S$13999,$C96, FLData!$E$2:$E$13999, MultiEngineTypes, FLData!$F$2:$F$13999, \"Rental\" )) )*24","v":0},{"$f":"SUMPRODUCT( SUMIFS( FLData!$AH$2:$AH$13999, FLData!$C$2:$C$13999, \">=\"&fromDateI, FLData!$C$2:$C$13999, \"<=\" &toDateI, FLData!$J$2:$J$13999,$C96, FLData!$E$2:$E$13999, MultiEngineTypes, FLData!$F$2:$F$13999, \"Operation\" ))*24","v":0},{"$f":"( SUMPRODUCT( SUMIFS( FLData!$AH$2:$AH$13999, FLData!$C$2:$C$13999, \">=\"&fromDateI, FLData!$C$2:$C$13999, \"<=\" &toDateI, FLData!$M$2:$M$13999,$C96, FLData!$E$2:$E$13999, Sim1Types, FLData!$F$2:$F$13999, \"Lesson\" )) + SUMPRODUCT( SUMIFS( FLData!$AH$2:$AH$13999, FLData!$C$2:$C$13999, \">=\"&fromDateI, FLData!$C$2:$C$13999, \"<=\" &toDateI, FLData!$S$2:$S$13999,$C96, FLData!$E$2:$E$13999, Sim1Types, FLData!$F$2:$F$13999, \"Rental\" )) )*24","v":0},{"$f":"SUMPRODUCT( SUMIFS( FLData!$AH$2:$AH$13999, FLData!$C$2:$C$13999, \">=\"&fromDateI, FLData!$C$2:$C$13999, \"<=\" &toDateI, FLData!$J$2:$J$13999,$C96, FLData!$E$2:$E$13999, Sim1Types, FLData!$F$2:$F$13999, \"Operation\" ))*24","v":0},{"$f":"( SUMPRODUCT( SUMIFS( FLData!$AH$2:$AH$13999, FLData!$C$2:$C$13999, \">=\"&fromDateI, FLData!$C$2:$C$13999, \"<=\" &toDateI, FLData!$M$2:$M$13999,$C96, FLData!$E$2:$E$13999, Sim2Types, FLData!$F$2:$F$13999, \"Lesson\" )) + SUMPRODUCT( SUMIFS( FLData!$AH$2:$AH$13999, FLData!$C$2:$C$13999, \">=\"&fromDateI, FLData!$C$2:$C$13999, \"<=\" &toDateI, FLData!$S$2:$S$13999,$C96, FLData!$E$2:$E$13999, Sim2Types, FLData!$F$2:$F$13999, \"Rental\" )) )*24","v":0},{"$f":"SUMPRODUCT( SUMIFS( FLData!$AH$2:$AH$13999, FLData!$C$2:$C$13999, \">=\"&fromDateI, FLData!$C$2:$C$13999, \"<=\" &toDateI, FLData!$J$2:$J$13999,$C96, FLData!$E$2:$E$13999, Sim2Types, FLData!$F$2:$F$13999, \"Operation\" ))*24","v":0},0,0,0]
[null,null,"",{"$f":"( SUMPRODUCT( SUMIFS( FLData!$AH$2:$AH$13999, FLData!$C$2:$C$13999, \">=\"&fromDateI, FLData!$C$2:$C$13999, \"<=\" &toDateI, FLData!$M$2:$M$13999,$C97, FLData!$E$2:$E$13999, SingleEngineTypes, FLData!$F$2:$F$13999, \"Lesson\" )) + SUMPRODUCT( SUMIFS( FLData!$AH$2:$AH$13999, FLData!$C$2:$C$13999, \">=\"&fromDateI, FLData!$C$2:$C$13999, \"<=\" &toDateI, FLData!$S$2:$S$13999,$C97, FLData!$E$2:$E$13999, SingleEngineTypes, FLData!$F$2:$F$13999, \"Rental\" )) )*24","v":0},{"$f":"SUMPRODUCT( SUMIFS( FLData!$AH$2:$AH$13999, FLData!$C$2:$C$13999, \">=\"&fromDateI, FLData!$C$2:$C$13999, \"<=\" &toDateI, FLData!$J$2:$J$13999,$C97, FLData!$E$2:$E$13999, SingleEngineTypes, FLData!$F$2:$F$13999, \"Operation\" ))*24","v":0},{"$f":"( SUMPRODUCT( SUMIFS( FLData!$AH$2:$AH$13999, FLData!$C$2:$C$13999, \">=\"&fromDateI, FLData!$C$2:$C$13999, \"<=\" &toDateI, FLData!$M$2:$M$13999,$C97, FLData!$E$2:$E$13999, MultiEngineTypes, FLData!$F$2:$F$13999, \"Lesson\" )) + SUMPRODUCT( SUMIFS( FLData!$AH$2:$AH$13999, FLData!$C$2:$C$13999, \">=\"&fromDateI, FLData!$C$2:$C$13999, \"<=\" &toDateI, FLData!$S$2:$S$13999,$C97, FLData!$E$2:$E$13999, MultiEngineTypes, FLData!$F$2:$F$13999, \"Rental\" )) )*24","v":0},{"$f":"SUMPRODUCT( SUMIFS( FLData!$AH$2:$AH$13999, FLData!$C$2:$C$13999, \">=\"&fromDateI, FLData!$C$2:$C$13999, \"<=\" &toDateI, FLData!$J$2:$J$13999,$C97, FLData!$E$2:$E$13999, MultiEngineTypes, FLData!$F$2:$F$13999, \"Operation\" ))*24","v":0},{"$f":"( SUMPRODUCT( SUMIFS( FLData!$AH$2:$AH$13999, FLData!$C$2:$C$13999, \">=\"&fromDateI, FLData!$C$2:$C$13999, \"<=\" &toDateI, FLData!$M$2:$M$13999,$C97, FLData!$E$2:$E$13999, Sim1Types, FLData!$F$2:$F$13999, \"Lesson\" )) + SUMPRODUCT( SUMIFS( FLData!$AH$2:$AH$13999, FLData!$C$2:$C$13999, \">=\"&fromDateI, FLData!$C$2:$C$13999, \"<=\" &toDateI, FLData!$S$2:$S$13999,$C97, FLData!$E$2:$E$13999, Sim1Types, FLData!$F$2:$F$13999, \"Rental\" )) )*24","v":0},{"$f":"SUMPRODUCT( SUMIFS( FLData!$AH$2:$AH$13999, FLData!$C$2:$C$13999, \">=\"&fromDateI, FLData!$C$2:$C$13999, \"<=\" &toDateI, FLData!$J$2:$J$13999,$C97, FLData!$E$2:$E$13999, Sim1Types, FLData!$F$2:$F$13999, \"Operation\" ))*24","v":0},{"$f":"( SUMPRODUCT( SUMIFS( FLData!$AH$2:$AH$13999, FLData!$C$2:$C$13999, \">=\"&fromDateI, FLData!$C$2:$C$13999, \"<=\" &toDateI, FLData!$M$2:$M$13999,$C97, FLData!$E$2:$E$13999, Sim2Types, FLData!$F$2:$F$13999, \"Lesson\" )) + SUMPRODUCT( SUMIFS( FLData!$AH$2:$AH$13999, FLData!$C$2:$C$13999, \">=\"&fromDateI, FLData!$C$2:$C$13999, \"<=\" &toDateI, FLData!$S$2:$S$13999,$C97, FLData!$E$2:$E$13999, Sim2Types, FLData!$F$2:$F$13999, \"Rental\" )) )*24","v":0},{"$f":"SUMPRODUCT( SUMIFS( FLData!$AH$2:$AH$13999, FLData!$C$2:$C$13999, \">=\"&fromDateI, FLData!$C$2:$C$13999, \"<=\" &toDateI, FLData!$J$2:$J$13999,$C97, FLData!$E$2:$E$13999, Sim2Types, FLData!$F$2:$F$13999, \"Operation\" ))*24","v":0},0,0,0]
[null,null,"",{"$f":"( SUMPRODUCT( SUMIFS( FLData!$AH$2:$AH$13999, FLData!$C$2:$C$13999, \">=\"&fromDateI, FLData!$C$2:$C$13999, \"<=\" &toDateI, FLData!$M$2:$M$13999,$C98, FLData!$E$2:$E$13999, SingleEngineTypes, FLData!$F$2:$F$13999, \"Lesson\" )) + SUMPRODUCT( SUMIFS( FLData!$AH$2:$AH$13999, FLData!$C$2:$C$13999, \">=\"&fromDateI, FLData!$C$2:$C$13999, \"<=\" &toDateI, FLData!$S$2:$S$13999,$C98, FLData!$E$2:$E$13999, SingleEngineTypes, FLData!$F$2:$F$13999, \"Rental\" )) )*24","v":0},{"$f":"SUMPRODUCT( SUMIFS( FLData!$AH$2:$AH$13999, FLData!$C$2:$C$13999, \">=\"&fromDateI, FLData!$C$2:$C$13999, \"<=\" &toDateI, FLData!$J$2:$J$13999,$C98, FLData!$E$2:$E$13999, SingleEngineTypes, FLData!$F$2:$F$13999, \"Operation\" ))*24","v":0},{"$f":"( SUMPRODUCT( SUMIFS( FLData!$AH$2:$AH$13999, FLData!$C$2:$C$13999, \">=\"&fromDateI, FLData!$C$2:$C$13999, \"<=\" &toDateI, FLData!$M$2:$M$13999,$C98, FLData!$E$2:$E$13999, MultiEngineTypes, FLData!$F$2:$F$13999, \"Lesson\" )) + SUMPRODUCT( SUMIFS( FLData!$AH$2:$AH$13999, FLData!$C$2:$C$13999, \">=\"&fromDateI, FLData!$C$2:$C$13999, \"<=\" &toDateI, FLData!$S$2:$S$13999,$C98, FLData!$E$2:$E$13999, MultiEngineTypes, FLData!$F$2:$F$13999, \"Rental\" )) )*24","v":0},{"$f":"SUMPRODUCT( SUMIFS( FLData!$AH$2:$AH$13999, FLData!$C$2:$C$13999, \">=\"&fromDateI, FLData!$C$2:$C$13999, \"<=\" &toDateI, FLData!$J$2:$J$13999,$C98, FLData!$E$2:$E$13999, MultiEngineTypes, FLData!$F$2:$F$13999, \"Operation\" ))*24","v":0},{"$f":"( SUMPRODUCT( SUMIFS( FLData!$AH$2:$AH$13999, FLData!$C$2:$C$13999, \">=\"&fromDateI, FLData!$C$2:$C$13999, \"<=\" &toDateI, FLData!$M$2:$M$13999,$C98, FLData!$E$2:$E$13999, Sim1Types, FLData!$F$2:$F$13999, \"Lesson\" )) + SUMPRODUCT( SUMIFS( FLData!$AH$2:$AH$13999, FLData!$C$2:$C$13999, \">=\"&fromDateI, FLData!$C$2:$C$13999, \"<=\" &toDateI, FLData!$S$2:$S$13999,$C98, FLData!$E$2:$E$13999, Sim1Types, FLData!$F$2:$F$13999, \"Rental\" )) )*24","v":0},{"$f":"SUMPRODUCT( SUMIFS( FLData!$AH$2:$AH$13999, FLData!$C$2:$C$13999, \">=\"&fromDateI, FLData!$C$2:$C$13999, \"<=\" &toDateI, FLData!$J$2:$J$13999,$C98, FLData!$E$2:$E$13999, Sim1Types, FLData!$F$2:$F$13999, \"Operation\" ))*24","v":0},{"$f":"( SUMPRODUCT( SUMIFS( FLData!$AH$2:$AH$13999, FLData!$C$2:$C$13999, \">=\"&fromDateI, FLData!$C$2:$C$13999, \"<=\" &toDateI, FLData!$M$2:$M$13999,$C98, FLData!$E$2:$E$13999, Sim2Types, FLData!$F$2:$F$13999, \"Lesson\" )) + SUMPRODUCT( SUMIFS( FLData!$AH$2:$AH$13999, FLData!$C$2:$C$13999, \">=\"&fromDateI, FLData!$C$2:$C$13999, \"<=\" &toDateI, FLData!$S$2:$S$13999,$C98, FLData!$E$2:$E$13999, Sim2Types, FLData!$F$2:$F$13999, \"Rental\" )) )*24","v":0},{"$f":"SUMPRODUCT( SUMIFS( FLData!$AH$2:$AH$13999, FLData!$C$2:$C$13999, \">=\"&fromDateI, FLData!$C$2:$C$13999, \"<=\" &toDateI, FLData!$J$2:$J$13999,$C98, FLData!$E$2:$E$13999, Sim2Types, FLData!$F$2:$F$13999, \"Operation\" ))*24","v":0},0,0,0]
[null,null,"",{"$f":"( SUMPRODUCT( SUMIFS( FLData!$AH$2:$AH$13999, FLData!$C$2:$C$13999, \">=\"&fromDateI, FLData!$C$2:$C$13999, \"<=\" &toDateI, FLData!$M$2:$M$13999,$C99, FLData!$E$2:$E$13999, SingleEngineTypes, FLData!$F$2:$F$13999, \"Lesson\" )) + SUMPRODUCT( SUMIFS( FLData!$AH$2:$AH$13999, FLData!$C$2:$C$13999, \">=\"&fromDateI, FLData!$C$2:$C$13999, \"<=\" &toDateI, FLData!$S$2:$S$13999,$C99, FLData!$E$2:$E$13999, SingleEngineTypes, FLData!$F$2:$F$13999, \"Rental\" )) )*24","v":0},{"$f":"SUMPRODUCT( SUMIFS( FLData!$AH$2:$AH$13999, FLData!$C$2:$C$13999, \">=\"&fromDateI, FLData!$C$2:$C$13999, \"<=\" &toDateI, FLData!$J$2:$J$13999,$C99, FLData!$E$2:$E$13999, SingleEngineTypes, FLData!$F$2:$F$13999, \"Operation\" ))*24","v":0},{"$f":"( SUMPRODUCT( SUMIFS( FLData!$AH$2:$AH$13999, FLData!$C$2:$C$13999, \">=\"&fromDateI, FLData!$C$2:$C$13999, \"<=\" &toDateI, FLData!$M$2:$M$13999,$C99, FLData!$E$2:$E$13999, MultiEngineTypes, FLData!$F$2:$F$13999, \"Lesson\" )) + SUMPRODUCT( SUMIFS( FLData!$AH$2:$AH$13999, FLData!$C$2:$C$13999, \">=\"&fromDateI, FLData!$C$2:$C$13999, \"<=\" &toDateI, FLData!$S$2:$S$13999,$C99, FLData!$E$2:$E$13999, MultiEngineTypes, FLData!$F$2:$F$13999, \"Rental\" )) )*24","v":0},{"$f":"SUMPRODUCT( SUMIFS( FLData!$AH$2:$AH$13999, FLData!$C$2:$C$13999, \">=\"&fromDateI, FLData!$C$2:$C$13999, \"<=\" &toDateI, FLData!$J$2:$J$13999,$C99, FLData!$E$2:$E$13999, MultiEngineTypes, FLData!$F$2:$F$13999, \"Operation\" ))*24","v":0},{"$f":"( SUMPRODUCT( SUMIFS( FLData!$AH$2:$AH$13999, FLData!$C$2:$C$13999, \">=\"&fromDateI, FLData!$C$2:$C$13999, \"<=\" &toDateI, FLData!$M$2:$M$13999,$C99, FLData!$E$2:$E$13999, Sim1Types, FLData!$F$2:$F$13999, \"Lesson\" )) + SUMPRODUCT( SUMIFS( FLData!$AH$2:$AH$13999, FLData!$C$2:$C$13999, \">=\"&fromDateI, FLData!$C$2:$C$13999, \"<=\" &toDateI, FLData!$S$2:$S$13999,$C99, FLData!$E$2:$E$13999, Sim1Types, FLData!$F$2:$F$13999, \"Rental\" )) )*24","v":0},{"$f":"SUMPRODUCT( SUMIFS( FLData!$AH$2:$AH$13999, FLData!$C$2:$C$13999, \">=\"&fromDateI, FLData!$C$2:$C$13999, \"<=\" &toDateI, FLData!$J$2:$J$13999,$C99, FLData!$E$2:$E$13999, Sim1Types, FLData!$F$2:$F$13999, \"Operation\" ))*24","v":0},{"$f":"( SUMPRODUCT( SUMIFS( FLData!$AH$2:$AH$13999, FLData!$C$2:$C$13999, \">=\"&fromDateI, FLData!$C$2:$C$13999, \"<=\" &toDateI, FLData!$M$2:$M$13999,$C99, FLData!$E$2:$E$13999, Sim2Types, FLData!$F$2:$F$13999, \"Lesson\" )) + SUMPRODUCT( SUMIFS( FLData!$AH$2:$AH$13999, FLData!$C$2:$C$13999, \">=\"&fromDateI, FLData!$C$2:$C$13999, \"<=\" &toDateI, FLData!$S$2:$S$13999,$C99, FLData!$E$2:$E$13999, Sim2Types, FLData!$F$2:$F$13999, \"Rental\" )) )*24","v":0},{"$f":"SUMPRODUCT( SUMIFS( FLData!$AH$2:$AH$13999, FLData!$C$2:$C$13999, \">=\"&fromDateI, FLData!$C$2:$C$13999, \"<=\" &toDateI, FLData!$J$2:$J$13999,$C99, FLData!$E$2:$E$13999, Sim2Types, FLData!$F$2:$F$13999, \"Operation\" ))*24","v":0},0,0,0]
[null,null,"",{"$f":"( SUMPRODUCT( SUMIFS( FLData!$AH$2:$AH$13999, FLData!$C$2:$C$13999, \">=\"&fromDateI, FLData!$C$2:$C$13999, \"<=\" &toDateI, FLData!$M$2:$M$13999,$C100, FLData!$E$2:$E$13999, SingleEngineTypes, FLData!$F$2:$F$13999, \"Lesson\" )) + SUMPRODUCT( SUMIFS( FLData!$AH$2:$AH$13999, FLData!$C$2:$C$13999, \">=\"&fromDateI, FLData!$C$2:$C$13999, \"<=\" &toDateI, FLData!$S$2:$S$13999,$C100, FLData!$E$2:$E$13999, SingleEngineTypes, FLData!$F$2:$F$13999, \"Rental\" )) )*24","v":0},{"$f":"SUMPRODUCT( SUMIFS( FLData!$AH$2:$AH$13999, FLData!$C$2:$C$13999, \">=\"&fromDateI, FLData!$C$2:$C$13999, \"<=\" &toDateI, FLData!$J$2:$J$13999,$C100, FLData!$E$2:$E$13999, SingleEngineTypes, FLData!$F$2:$F$13999, \"Operation\" ))*24","v":0},{"$f":"( SUMPRODUCT( SUMIFS( FLData!$AH$2:$AH$13999, FLData!$C$2:$C$13999, \">=\"&fromDateI, FLData!$C$2:$C$13999, \"<=\" &toDateI, FLData!$M$2:$M$13999,$C100, FLData!$E$2:$E$13999, MultiEngineTypes, FLData!$F$2:$F$13999, \"Lesson\" )) + SUMPRODUCT( SUMIFS( FLData!$AH$2:$AH$13999, FLData!$C$2:$C$13999, \">=\"&fromDateI, FLData!$C$2:$C$13999, \"<=\" &toDateI, FLData!$S$2:$S$13999,$C100, FLData!$E$2:$E$13999, MultiEngineTypes, FLData!$F$2:$F$13999, \"Rental\" )) )*24","v":0},{"$f":"SUMPRODUCT( SUMIFS( FLData!$AH$2:$AH$13999, FLData!$C$2:$C$13999, \">=\"&fromDateI, FLData!$C$2:$C$13999, \"<=\" &toDateI, FLData!$J$2:$J$13999,$C100, FLData!$E$2:$E$13999, MultiEngineTypes, FLData!$F$2:$F$13999, \"Operation\" ))*24","v":0},{"$f":"( SUMPRODUCT( SUMIFS( FLData!$AH$2:$AH$13999, FLData!$C$2:$C$13999, \">=\"&fromDateI, FLData!$C$2:$C$13999, \"<=\" &toDateI, FLData!$M$2:$M$13999,$C100, FLData!$E$2:$E$13999, Sim1Types, FLData!$F$2:$F$13999, \"Lesson\" )) + SUMPRODUCT( SUMIFS( FLData!$AH$2:$AH$13999, FLData!$C$2:$C$13999, \">=\"&fromDateI, FLData!$C$2:$C$13999, \"<=\" &toDateI, FLData!$S$2:$S$13999,$C100, FLData!$E$2:$E$13999, Sim1Types, FLData!$F$2:$F$13999, \"Rental\" )) )*24","v":0},{"$f":"SUMPRODUCT( SUMIFS( FLData!$AH$2:$AH$13999, FLData!$C$2:$C$13999, \">=\"&fromDateI, FLData!$C$2:$C$13999, \"<=\" &toDateI, FLData!$J$2:$J$13999,$C100, FLData!$E$2:$E$13999, Sim1Types, FLData!$F$2:$F$13999, \"Operation\" ))*24","v":0},{"$f":"( SUMPRODUCT( SUMIFS( FLData!$AH$2:$AH$13999, FLData!$C$2:$C$13999, \">=\"&fromDateI, FLData!$C$2:$C$13999, \"<=\" &toDateI, FLData!$M$2:$M$13999,$C100, FLData!$E$2:$E$13999, Sim2Types, FLData!$F$2:$F$13999, \"Lesson\" )) + SUMPRODUCT( SUMIFS( FLData!$AH$2:$AH$13999, FLData!$C$2:$C$13999, \">=\"&fromDateI, FLData!$C$2:$C$13999, \"<=\" &toDateI, FLData!$S$2:$S$13999,$C100, FLData!$E$2:$E$13999, Sim2Types, FLData!$F$2:$F$13999, \"Rental\" )) )*24","v":0},{"$f":"SUMPRODUCT( SUMIFS( FLData!$AH$2:$AH$13999, FLData!$C$2:$C$13999, \">=\"&fromDateI, FLData!$C$2:$C$13999, \"<=\" &toDateI, FLData!$J$2:$J$13999,$C100, FLData!$E$2:$E$13999, Sim2Types, FLData!$F$2:$F$13999, \"Operation\" ))*24","v":0},0,0,0]
[null,null,"",{"$f":"( SUMPRODUCT( SUMIFS( FLData!$AH$2:$AH$13999, FLData!$C$2:$C$13999, \">=\"&fromDateI, FLData!$C$2:$C$13999, \"<=\" &toDateI, FLData!$M$2:$M$13999,$C101, FLData!$E$2:$E$13999, SingleEngineTypes, FLData!$F$2:$F$13999, \"Lesson\" )) + SUMPRODUCT( SUMIFS( FLData!$AH$2:$AH$13999, FLData!$C$2:$C$13999, \">=\"&fromDateI, FLData!$C$2:$C$13999, \"<=\" &toDateI, FLData!$S$2:$S$13999,$C101, FLData!$E$2:$E$13999, SingleEngineTypes, FLData!$F$2:$F$13999, \"Rental\" )) )*24","v":0},{"$f":"SUMPRODUCT( SUMIFS( FLData!$AH$2:$AH$13999, FLData!$C$2:$C$13999, \">=\"&fromDateI, FLData!$C$2:$C$13999, \"<=\" &toDateI, FLData!$J$2:$J$13999,$C101, FLData!$E$2:$E$13999, SingleEngineTypes, FLData!$F$2:$F$13999, \"Operation\" ))*24","v":0},{"$f":"( SUMPRODUCT( SUMIFS( FLData!$AH$2:$AH$13999, FLData!$C$2:$C$13999, \">=\"&fromDateI, FLData!$C$2:$C$13999, \"<=\" &toDateI, FLData!$M$2:$M$13999,$C101, FLData!$E$2:$E$13999, MultiEngineTypes, FLData!$F$2:$F$13999, \"Lesson\" )) + SUMPRODUCT( SUMIFS( FLData!$AH$2:$AH$13999, FLData!$C$2:$C$13999, \">=\"&fromDateI, FLData!$C$2:$C$13999, \"<=\" &toDateI, FLData!$S$2:$S$13999,$C101, FLData!$E$2:$E$13999, MultiEngineTypes, FLData!$F$2:$F$13999, \"Rental\" )) )*24","v":0},{"$f":"SUMPRODUCT( SUMIFS( FLData!$AH$2:$AH$13999, FLData!$C$2:$C$13999, \">=\"&fromDateI, FLData!$C$2:$C$13999, \"<=\" &toDateI, FLData!$J$2:$J$13999,$C101, FLData!$E$2:$E$13999, MultiEngineTypes, FLData!$F$2:$F$13999, \"Operation\" ))*24","v":0},{"$f":"( SUMPRODUCT( SUMIFS( FLData!$AH$2:$AH$13999, FLData!$C$2:$C$13999, \">=\"&fromDateI, FLData!$C$2:$C$13999, \"<=\" &toDateI, FLData!$M$2:$M$13999,$C101, FLData!$E$2:$E$13999, Sim1Types, FLData!$F$2:$F$13999, \"Lesson\" )) + SUMPRODUCT( SUMIFS( FLData!$AH$2:$AH$13999, FLData!$C$2:$C$13999, \">=\"&fromDateI, FLData!$C$2:$C$13999, \"<=\" &toDateI, FLData!$S$2:$S$13999,$C101, FLData!$E$2:$E$13999, Sim1Types, FLData!$F$2:$F$13999, \"Rental\" )) )*24","v":0},{"$f":"SUMPRODUCT( SUMIFS( FLData!$AH$2:$AH$13999, FLData!$C$2:$C$13999, \">=\"&fromDateI, FLData!$C$2:$C$13999, \"<=\" &toDateI, FLData!$J$2:$J$13999,$C101, FLData!$E$2:$E$13999, Sim1Types, FLData!$F$2:$F$13999, \"Operation\" ))*24","v":0},{"$f":"( SUMPRODUCT( SUMIFS( FLData!$AH$2:$AH$13999, FLData!$C$2:$C$13999, \">=\"&fromDateI, FLData!$C$2:$C$13999, \"<=\" &toDateI, FLData!$M$2:$M$13999,$C101, FLData!$E$2:$E$13999, Sim2Types, FLData!$F$2:$F$13999, \"Lesson\" )) + SUMPRODUCT( SUMIFS( FLData!$AH$2:$AH$13999, FLData!$C$2:$C$13999, \">=\"&fromDateI, FLData!$C$2:$C$13999, \"<=\" &toDateI, FLData!$S$2:$S$13999,$C101, FLData!$E$2:$E$13999, Sim2Types, FLData!$F$2:$F$13999, \"Rental\" )) )*24","v":0},{"$f":"SUMPRODUCT( SUMIFS( FLData!$AH$2:$AH$13999, FLData!$C$2:$C$13999, \">=\"&fromDateI, FLData!$C$2:$C$13999, \"<=\" &toDateI, FLData!$J$2:$J$13999,$C101, FLData!$E$2:$E$13999, Sim2Types, FLData!$F$2:$F$13999, \"Operation\" ))*24","v":0},0,0,0]
[null,null,"",{"$f":"( SUMPRODUCT( SUMIFS( FLData!$AH$2:$AH$13999, FLData!$C$2:$C$13999, \">=\"&fromDateI, FLData!$C$2:$C$13999, \"<=\" &toDateI, FLData!$M$2:$M$13999,$C102, FLData!$E$2:$E$13999, SingleEngineTypes, FLData!$F$2:$F$13999, \"Lesson\" )) + SUMPRODUCT( SUMIFS( FLData!$AH$2:$AH$13999, FLData!$C$2:$C$13999, \">=\"&fromDateI, FLData!$C$2:$C$13999, \"<=\" &toDateI, FLData!$S$2:$S$13999,$C102, FLData!$E$2:$E$13999, SingleEngineTypes, FLData!$F$2:$F$13999, \"Rental\" )) )*24","v":0},{"$f":"SUMPRODUCT( SUMIFS( FLData!$AH$2:$AH$13999, FLData!$C$2:$C$13999, \">=\"&fromDateI, FLData!$C$2:$C$13999, \"<=\" &toDateI, FLData!$J$2:$J$13999,$C102, FLData!$E$2:$E$13999, SingleEngineTypes, FLData!$F$2:$F$13999, \"Operation\" ))*24","v":0},{"$f":"( SUMPRODUCT( SUMIFS( FLData!$AH$2:$AH$13999, FLData!$C$2:$C$13999, \">=\"&fromDateI, FLData!$C$2:$C$13999, \"<=\" &toDateI, FLData!$M$2:$M$13999,$C102, FLData!$E$2:$E$13999, MultiEngineTypes, FLData!$F$2:$F$13999, \"Lesson\" )) + SUMPRODUCT( SUMIFS( FLData!$AH$2:$AH$13999, FLData!$C$2:$C$13999, \">=\"&fromDateI, FLData!$C$2:$C$13999, \"<=\" &toDateI, FLData!$S$2:$S$13999,$C102, FLData!$E$2:$E$13999, MultiEngineTypes, FLData!$F$2:$F$13999, \"Rental\" )) )*24","v":0},{"$f":"SUMPRODUCT( SUMIFS( FLData!$AH$2:$AH$13999, FLData!$C$2:$C$13999, \">=\"&fromDateI, FLData!$C$2:$C$13999, \"<=\" &toDateI, FLData!$J$2:$J$13999,$C102, FLData!$E$2:$E$13999, MultiEngineTypes, FLData!$F$2:$F$13999, \"Operation\" ))*24","v":0},{"$f":"( SUMPRODUCT( SUMIFS( FLData!$AH$2:$AH$13999, FLData!$C$2:$C$13999, \">=\"&fromDateI, FLData!$C$2:$C$13999, \"<=\" &toDateI, FLData!$M$2:$M$13999,$C102, FLData!$E$2:$E$13999, Sim1Types, FLData!$F$2:$F$13999, \"Lesson\" )) + SUMPRODUCT( SUMIFS( FLData!$AH$2:$AH$13999, FLData!$C$2:$C$13999, \">=\"&fromDateI, FLData!$C$2:$C$13999, \"<=\" &toDateI, FLData!$S$2:$S$13999,$C102, FLData!$E$2:$E$13999, Sim1Types, FLData!$F$2:$F$13999, \"Rental\" )) )*24","v":0},{"$f":"SUMPRODUCT( SUMIFS( FLData!$AH$2:$AH$13999, FLData!$C$2:$C$13999, \">=\"&fromDateI, FLData!$C$2:$C$13999, \"<=\" &toDateI, FLData!$J$2:$J$13999,$C102, FLData!$E$2:$E$13999, Sim1Types, FLData!$F$2:$F$13999, \"Operation\" ))*24","v":0},{"$f":"( SUMPRODUCT( SUMIFS( FLData!$AH$2:$AH$13999, FLData!$C$2:$C$13999, \">=\"&fromDateI, FLData!$C$2:$C$13999, \"<=\" &toDateI, FLData!$M$2:$M$13999,$C102, FLData!$E$2:$E$13999, Sim2Types, FLData!$F$2:$F$13999, \"Lesson\" )) + SUMPRODUCT( SUMIFS( FLData!$AH$2:$AH$13999, FLData!$C$2:$C$13999, \">=\"&fromDateI, FLData!$C$2:$C$13999, \"<=\" &toDateI, FLData!$S$2:$S$13999,$C102, FLData!$E$2:$E$13999, Sim2Types, FLData!$F$2:$F$13999, \"Rental\" )) )*24","v":0},{"$f":"SUMPRODUCT( SUMIFS( FLData!$AH$2:$AH$13999, FLData!$C$2:$C$13999, \">=\"&fromDateI, FLData!$C$2:$C$13999, \"<=\" &toDateI, FLData!$J$2:$J$13999,$C102, FLData!$E$2:$E$13999, Sim2Types, FLData!$F$2:$F$13999, \"Operation\" ))*24","v":0},0,0,0]
[null,null,"",{"$f":"( SUMPRODUCT( SUMIFS( FLData!$AH$2:$AH$13999, FLData!$C$2:$C$13999, \">=\"&fromDateI, FLData!$C$2:$C$13999, \"<=\" &toDateI, FLData!$M$2:$M$13999,$C103, FLData!$E$2:$E$13999, SingleEngineTypes, FLData!$F$2:$F$13999, \"Lesson\" )) + SUMPRODUCT( SUMIFS( FLData!$AH$2:$AH$13999, FLData!$C$2:$C$13999, \">=\"&fromDateI, FLData!$C$2:$C$13999, \"<=\" &toDateI, FLData!$S$2:$S$13999,$C103, FLData!$E$2:$E$13999, SingleEngineTypes, FLData!$F$2:$F$13999, \"Rental\" )) )*24","v":0},{"$f":"SUMPRODUCT( SUMIFS( FLData!$AH$2:$AH$13999, FLData!$C$2:$C$13999, \">=\"&fromDateI, FLData!$C$2:$C$13999, \"<=\" &toDateI, FLData!$J$2:$J$13999,$C103, FLData!$E$2:$E$13999, SingleEngineTypes, FLData!$F$2:$F$13999, \"Operation\" ))*24","v":0},{"$f":"( SUMPRODUCT( SUMIFS( FLData!$AH$2:$AH$13999, FLData!$C$2:$C$13999, \">=\"&fromDateI, FLData!$C$2:$C$13999, \"<=\" &toDateI, FLData!$M$2:$M$13999,$C103, FLData!$E$2:$E$13999, MultiEngineTypes, FLData!$F$2:$F$13999, \"Lesson\" )) + SUMPRODUCT( SUMIFS( FLData!$AH$2:$AH$13999, FLData!$C$2:$C$13999, \">=\"&fromDateI, FLData!$C$2:$C$13999, \"<=\" &toDateI, FLData!$S$2:$S$13999,$C103, FLData!$E$2:$E$13999, MultiEngineTypes, FLData!$F$2:$F$13999, \"Rental\" )) )*24","v":0},{"$f":"SUMPRODUCT( SUMIFS( FLData!$AH$2:$AH$13999, FLData!$C$2:$C$13999, \">=\"&fromDateI, FLData!$C$2:$C$13999, \"<=\" &toDateI, FLData!$J$2:$J$13999,$C103, FLData!$E$2:$E$13999, MultiEngineTypes, FLData!$F$2:$F$13999, \"Operation\" ))*24","v":0},{"$f":"( SUMPRODUCT( SUMIFS( FLData!$AH$2:$AH$13999, FLData!$C$2:$C$13999, \">=\"&fromDateI, FLData!$C$2:$C$13999, \"<=\" &toDateI, FLData!$M$2:$M$13999,$C103, FLData!$E$2:$E$13999, Sim1Types, FLData!$F$2:$F$13999, \"Lesson\" )) + SUMPRODUCT( SUMIFS( FLData!$AH$2:$AH$13999, FLData!$C$2:$C$13999, \">=\"&fromDateI, FLData!$C$2:$C$13999, \"<=\" &toDateI, FLData!$S$2:$S$13999,$C103, FLData!$E$2:$E$13999, Sim1Types, FLData!$F$2:$F$13999, \"Rental\" )) )*24","v":0},{"$f":"SUMPRODUCT( SUMIFS( FLData!$AH$2:$AH$13999, FLData!$C$2:$C$13999, \">=\"&fromDateI, FLData!$C$2:$C$13999, \"<=\" &toDateI, FLData!$J$2:$J$13999,$C103, FLData!$E$2:$E$13999, Sim1Types, FLData!$F$2:$F$13999, \"Operation\" ))*24","v":0},{"$f":"( SUMPRODUCT( SUMIFS( FLData!$AH$2:$AH$13999, FLData!$C$2:$C$13999, \">=\"&fromDateI, FLData!$C$2:$C$13999, \"<=\" &toDateI, FLData!$M$2:$M$13999,$C103, FLData!$E$2:$E$13999, Sim2Types, FLData!$F$2:$F$13999, \"Lesson\" )) + SUMPRODUCT( SUMIFS( FLData!$AH$2:$AH$13999, FLData!$C$2:$C$13999, \">=\"&fromDateI, FLData!$C$2:$C$13999, \"<=\" &toDateI, FLData!$S$2:$S$13999,$C103, FLData!$E$2:$E$13999, Sim2Types, FLData!$F$2:$F$13999, \"Rental\" )) )*24","v":0},{"$f":"SUMPRODUCT( SUMIFS( FLData!$AH$2:$AH$13999, FLData!$C$2:$C$13999, \">=\"&fromDateI, FLData!$C$2:$C$13999, \"<=\" &toDateI, FLData!$J$2:$J$13999,$C103, FLData!$E$2:$E$13999, Sim2Types, FLData!$F$2:$F$13999, \"Operation\" ))*24","v":0},0,0,0]
[null,null,"",{"$f":"( SUMPRODUCT( SUMIFS( FLData!$AH$2:$AH$13999, FLData!$C$2:$C$13999, \">=\"&fromDateI, FLData!$C$2:$C$13999, \"<=\" &toDateI, FLData!$M$2:$M$13999,$C104, FLData!$E$2:$E$13999, SingleEngineTypes, FLData!$F$2:$F$13999, \"Lesson\" )) + SUMPRODUCT( SUMIFS( FLData!$AH$2:$AH$13999, FLData!$C$2:$C$13999, \">=\"&fromDateI, FLData!$C$2:$C$13999, \"<=\" &toDateI, FLData!$S$2:$S$13999,$C104, FLData!$E$2:$E$13999, SingleEngineTypes, FLData!$F$2:$F$13999, \"Rental\" )) )*24","v":0},{"$f":"SUMPRODUCT( SUMIFS( FLData!$AH$2:$AH$13999, FLData!$C$2:$C$13999, \">=\"&fromDateI, FLData!$C$2:$C$13999, \"<=\" &toDateI, FLData!$J$2:$J$13999,$C104, FLData!$E$2:$E$13999, SingleEngineTypes, FLData!$F$2:$F$13999, \"Operation\" ))*24","v":0},{"$f":"( SUMPRODUCT( SUMIFS( FLData!$AH$2:$AH$13999, FLData!$C$2:$C$13999, \">=\"&fromDateI, FLData!$C$2:$C$13999, \"<=\" &toDateI, FLData!$M$2:$M$13999,$C104, FLData!$E$2:$E$13999, MultiEngineTypes, FLData!$F$2:$F$13999, \"Lesson\" )) + SUMPRODUCT( SUMIFS( FLData!$AH$2:$AH$13999, FLData!$C$2:$C$13999, \">=\"&fromDateI, FLData!$C$2:$C$13999, \"<=\" &toDateI, FLData!$S$2:$S$13999,$C104, FLData!$E$2:$E$13999, MultiEngineTypes, FLData!$F$2:$F$13999, \"Rental\" )) )*24","v":0},{"$f":"SUMPRODUCT( SUMIFS( FLData!$AH$2:$AH$13999, FLData!$C$2:$C$13999, \">=\"&fromDateI, FLData!$C$2:$C$13999, \"<=\" &toDateI, FLData!$J$2:$J$13999,$C104, FLData!$E$2:$E$13999, MultiEngineTypes, FLData!$F$2:$F$13999, \"Operation\" ))*24","v":0},{"$f":"( SUMPRODUCT( SUMIFS( FLData!$AH$2:$AH$13999, FLData!$C$2:$C$13999, \">=\"&fromDateI, FLData!$C$2:$C$13999, \"<=\" &toDateI, FLData!$M$2:$M$13999,$C104, FLData!$E$2:$E$13999, Sim1Types, FLData!$F$2:$F$13999, \"Lesson\" )) + SUMPRODUCT( SUMIFS( FLData!$AH$2:$AH$13999, FLData!$C$2:$C$13999, \">=\"&fromDateI, FLData!$C$2:$C$13999, \"<=\" &toDateI, FLData!$S$2:$S$13999,$C104, FLData!$E$2:$E$13999, Sim1Types, FLData!$F$2:$F$13999, \"Rental\" )) )*24","v":0},{"$f":"SUMPRODUCT( SUMIFS( FLData!$AH$2:$AH$13999, FLData!$C$2:$C$13999, \">=\"&fromDateI, FLData!$C$2:$C$13999, \"<=\" &toDateI, FLData!$J$2:$J$13999,$C104, FLData!$E$2:$E$13999, Sim1Types, FLData!$F$2:$F$13999, \"Operation\" ))*24","v":0},{"$f":"( SUMPRODUCT( SUMIFS( FLData!$AH$2:$AH$13999, FLData!$C$2:$C$13999, \">=\"&fromDateI, FLData!$C$2:$C$13999, \"<=\" &toDateI, FLData!$M$2:$M$13999,$C104, FLData!$E$2:$E$13999, Sim2Types, FLData!$F$2:$F$13999, \"Lesson\" )) + SUMPRODUCT( SUMIFS( FLData!$AH$2:$AH$13999, FLData!$C$2:$C$13999, \">=\"&fromDateI, FLData!$C$2:$C$13999, \"<=\" &toDateI, FLData!$S$2:$S$13999,$C104, FLData!$E$2:$E$13999, Sim2Types, FLData!$F$2:$F$13999, \"Rental\" )) )*24","v":0},{"$f":"SUMPRODUCT( SUMIFS( FLData!$AH$2:$AH$13999, FLData!$C$2:$C$13999, \">=\"&fromDateI, FLData!$C$2:$C$13999, \"<=\" &toDateI, FLData!$J$2:$J$13999,$C104, FLData!$E$2:$E$13999, Sim2Types, FLData!$F$2:$F$13999, \"Operation\" ))*24","v":0},0,0,0]
[null,null,"",{"$f":"( SUMPRODUCT( SUMIFS( FLData!$AH$2:$AH$13999, FLData!$C$2:$C$13999, \">=\"&fromDateI, FLData!$C$2:$C$13999, \"<=\" &toDateI, FLData!$M$2:$M$13999,$C105, FLData!$E$2:$E$13999, SingleEngineTypes, FLData!$F$2:$F$13999, \"Lesson\" )) + SUMPRODUCT( SUMIFS( FLData!$AH$2:$AH$13999, FLData!$C$2:$C$13999, \">=\"&fromDateI, FLData!$C$2:$C$13999, \"<=\" &toDateI, FLData!$S$2:$S$13999,$C105, FLData!$E$2:$E$13999, SingleEngineTypes, FLData!$F$2:$F$13999, \"Rental\" )) )*24","v":0},{"$f":"SUMPRODUCT( SUMIFS( FLData!$AH$2:$AH$13999, FLData!$C$2:$C$13999, \">=\"&fromDateI, FLData!$C$2:$C$13999, \"<=\" &toDateI, FLData!$J$2:$J$13999,$C105, FLData!$E$2:$E$13999, SingleEngineTypes, FLData!$F$2:$F$13999, \"Operation\" ))*24","v":0},{"$f":"( SUMPRODUCT( SUMIFS( FLData!$AH$2:$AH$13999, FLData!$C$2:$C$13999, \">=\"&fromDateI, FLData!$C$2:$C$13999, \"<=\" &toDateI, FLData!$M$2:$M$13999,$C105, FLData!$E$2:$E$13999, MultiEngineTypes, FLData!$F$2:$F$13999, \"Lesson\" )) + SUMPRODUCT( SUMIFS( FLData!$AH$2:$AH$13999, FLData!$C$2:$C$13999, \">=\"&fromDateI, FLData!$C$2:$C$13999, \"<=\" &toDateI, FLData!$S$2:$S$13999,$C105, FLData!$E$2:$E$13999, MultiEngineTypes, FLData!$F$2:$F$13999, \"Rental\" )) )*24","v":0},{"$f":"SUMPRODUCT( SUMIFS( FLData!$AH$2:$AH$13999, FLData!$C$2:$C$13999, \">=\"&fromDateI, FLData!$C$2:$C$13999, \"<=\" &toDateI, FLData!$J$2:$J$13999,$C105, FLData!$E$2:$E$13999, MultiEngineTypes, FLData!$F$2:$F$13999, \"Operation\" ))*24","v":0},{"$f":"( SUMPRODUCT( SUMIFS( FLData!$AH$2:$AH$13999, FLData!$C$2:$C$13999, \">=\"&fromDateI, FLData!$C$2:$C$13999, \"<=\" &toDateI, FLData!$M$2:$M$13999,$C105, FLData!$E$2:$E$13999, Sim1Types, FLData!$F$2:$F$13999, \"Lesson\" )) + SUMPRODUCT( SUMIFS( FLData!$AH$2:$AH$13999, FLData!$C$2:$C$13999, \">=\"&fromDateI, FLData!$C$2:$C$13999, \"<=\" &toDateI, FLData!$S$2:$S$13999,$C105, FLData!$E$2:$E$13999, Sim1Types, FLData!$F$2:$F$13999, \"Rental\" )) )*24","v":0},{"$f":"SUMPRODUCT( SUMIFS( FLData!$AH$2:$AH$13999, FLData!$C$2:$C$13999, \">=\"&fromDateI, FLData!$C$2:$C$13999, \"<=\" &toDateI, FLData!$J$2:$J$13999,$C105, FLData!$E$2:$E$13999, Sim1Types, FLData!$F$2:$F$13999, \"Operation\" ))*24","v":0},{"$f":"( SUMPRODUCT( SUMIFS( FLData!$AH$2:$AH$13999, FLData!$C$2:$C$13999, \">=\"&fromDateI, FLData!$C$2:$C$13999, \"<=\" &toDateI, FLData!$M$2:$M$13999,$C105, FLData!$E$2:$E$13999, Sim2Types, FLData!$F$2:$F$13999, \"Lesson\" )) + SUMPRODUCT( SUMIFS( FLData!$AH$2:$AH$13999, FLData!$C$2:$C$13999, \">=\"&fromDateI, FLData!$C$2:$C$13999, \"<=\" &toDateI, FLData!$S$2:$S$13999,$C105, FLData!$E$2:$E$13999, Sim2Types, FLData!$F$2:$F$13999, \"Rental\" )) )*24","v":0},{"$f":"SUMPRODUCT( SUMIFS( FLData!$AH$2:$AH$13999, FLData!$C$2:$C$13999, \">=\"&fromDateI, FLData!$C$2:$C$13999, \"<=\" &toDateI, FLData!$J$2:$J$13999,$C105, FLData!$E$2:$E$13999, Sim2Types, FLData!$F$2:$F$13999, \"Operation\" ))*24","v":0},0,0,0]
[null,null,"",{"$f":"( SUMPRODUCT( SUMIFS( FLData!$AH$2:$AH$13999, FLData!$C$2:$C$13999, \">=\"&fromDateI, FLData!$C$2:$C$13999, \"<=\" &toDateI, FLData!$M$2:$M$13999,$C106, FLData!$E$2:$E$13999, SingleEngineTypes, FLData!$F$2:$F$13999, \"Lesson\" )) + SUMPRODUCT( SUMIFS( FLData!$AH$2:$AH$13999, FLData!$C$2:$C$13999, \">=\"&fromDateI, FLData!$C$2:$C$13999, \"<=\" &toDateI, FLData!$S$2:$S$13999,$C106, FLData!$E$2:$E$13999, SingleEngineTypes, FLData!$F$2:$F$13999, \"Rental\" )) )*24","v":0},{"$f":"SUMPRODUCT( SUMIFS( FLData!$AH$2:$AH$13999, FLData!$C$2:$C$13999, \">=\"&fromDateI, FLData!$C$2:$C$13999, \"<=\" &toDateI, FLData!$J$2:$J$13999,$C106, FLData!$E$2:$E$13999, SingleEngineTypes, FLData!$F$2:$F$13999, \"Operation\" ))*24","v":0},{"$f":"( SUMPRODUCT( SUMIFS( FLData!$AH$2:$AH$13999, FLData!$C$2:$C$13999, \">=\"&fromDateI, FLData!$C$2:$C$13999, \"<=\" &toDateI, FLData!$M$2:$M$13999,$C106, FLData!$E$2:$E$13999, MultiEngineTypes, FLData!$F$2:$F$13999, \"Lesson\" )) + SUMPRODUCT( SUMIFS( FLData!$AH$2:$AH$13999, FLData!$C$2:$C$13999, \">=\"&fromDateI, FLData!$C$2:$C$13999, \"<=\" &toDateI, FLData!$S$2:$S$13999,$C106, FLData!$E$2:$E$13999, MultiEngineTypes, FLData!$F$2:$F$13999, \"Rental\" )) )*24","v":0},{"$f":"SUMPRODUCT( SUMIFS( FLData!$AH$2:$AH$13999, FLData!$C$2:$C$13999, \">=\"&fromDateI, FLData!$C$2:$C$13999, \"<=\" &toDateI, FLData!$J$2:$J$13999,$C106, FLData!$E$2:$E$13999, MultiEngineTypes, FLData!$F$2:$F$13999, \"Operation\" ))*24","v":0},{"$f":"( SUMPRODUCT( SUMIFS( FLData!$AH$2:$AH$13999, FLData!$C$2:$C$13999, \">=\"&fromDateI, FLData!$C$2:$C$13999, \"<=\" &toDateI, FLData!$M$2:$M$13999,$C106, FLData!$E$2:$E$13999, Sim1Types, FLData!$F$2:$F$13999, \"Lesson\" )) + SUMPRODUCT( SUMIFS( FLData!$AH$2:$AH$13999, FLData!$C$2:$C$13999, \">=\"&fromDateI, FLData!$C$2:$C$13999, \"<=\" &toDateI, FLData!$S$2:$S$13999,$C106, FLData!$E$2:$E$13999, Sim1Types, FLData!$F$2:$F$13999, \"Rental\" )) )*24","v":0},{"$f":"SUMPRODUCT( SUMIFS( FLData!$AH$2:$AH$13999, FLData!$C$2:$C$13999, \">=\"&fromDateI, FLData!$C$2:$C$13999, \"<=\" &toDateI, FLData!$J$2:$J$13999,$C106, FLData!$E$2:$E$13999, Sim1Types, FLData!$F$2:$F$13999, \"Operation\" ))*24","v":0},{"$f":"( SUMPRODUCT( SUMIFS( FLData!$AH$2:$AH$13999, FLData!$C$2:$C$13999, \">=\"&fromDateI, FLData!$C$2:$C$13999, \"<=\" &toDateI, FLData!$M$2:$M$13999,$C106, FLData!$E$2:$E$13999, Sim2Types, FLData!$F$2:$F$13999, \"Lesson\" )) + SUMPRODUCT( SUMIFS( FLData!$AH$2:$AH$13999, FLData!$C$2:$C$13999, \">=\"&fromDateI, FLData!$C$2:$C$13999, \"<=\" &toDateI, FLData!$S$2:$S$13999,$C106, FLData!$E$2:$E$13999, Sim2Types, FLData!$F$2:$F$13999, \"Rental\" )) )*24","v":0},{"$f":"SUMPRODUCT( SUMIFS( FLData!$AH$2:$AH$13999, FLData!$C$2:$C$13999, \">=\"&fromDateI, FLData!$C$2:$C$13999, \"<=\" &toDateI, FLData!$J$2:$J$13999,$C106, FLData!$E$2:$E$13999, Sim2Types, FLData!$F$2:$F$13999, \"Operation\" ))*24","v":0},0,0,0]
[null,null,"",{"$f":"( SUMPRODUCT( SUMIFS( FLData!$AH$2:$AH$13999, FLData!$C$2:$C$13999, \">=\"&fromDateI, FLData!$C$2:$C$13999, \"<=\" &toDateI, FLData!$M$2:$M$13999,$C107, FLData!$E$2:$E$13999, SingleEngineTypes, FLData!$F$2:$F$13999, \"Lesson\" )) + SUMPRODUCT( SUMIFS( FLData!$AH$2:$AH$13999, FLData!$C$2:$C$13999, \">=\"&fromDateI, FLData!$C$2:$C$13999, \"<=\" &toDateI, FLData!$S$2:$S$13999,$C107, FLData!$E$2:$E$13999, SingleEngineTypes, FLData!$F$2:$F$13999, \"Rental\" )) )*24","v":0},{"$f":"SUMPRODUCT( SUMIFS( FLData!$AH$2:$AH$13999, FLData!$C$2:$C$13999, \">=\"&fromDateI, FLData!$C$2:$C$13999, \"<=\" &toDateI, FLData!$J$2:$J$13999,$C107, FLData!$E$2:$E$13999, SingleEngineTypes, FLData!$F$2:$F$13999, \"Operation\" ))*24","v":0},{"$f":"( SUMPRODUCT( SUMIFS( FLData!$AH$2:$AH$13999, FLData!$C$2:$C$13999, \">=\"&fromDateI, FLData!$C$2:$C$13999, \"<=\" &toDateI, FLData!$M$2:$M$13999,$C107, FLData!$E$2:$E$13999, MultiEngineTypes, FLData!$F$2:$F$13999, \"Lesson\" )) + SUMPRODUCT( SUMIFS( FLData!$AH$2:$AH$13999, FLData!$C$2:$C$13999, \">=\"&fromDateI, FLData!$C$2:$C$13999, \"<=\" &toDateI, FLData!$S$2:$S$13999,$C107, FLData!$E$2:$E$13999, MultiEngineTypes, FLData!$F$2:$F$13999, \"Rental\" )) )*24","v":0},{"$f":"SUMPRODUCT( SUMIFS( FLData!$AH$2:$AH$13999, FLData!$C$2:$C$13999, \">=\"&fromDateI, FLData!$C$2:$C$13999, \"<=\" &toDateI, FLData!$J$2:$J$13999,$C107, FLData!$E$2:$E$13999, MultiEngineTypes, FLData!$F$2:$F$13999, \"Operation\" ))*24","v":0},{"$f":"( SUMPRODUCT( SUMIFS( FLData!$AH$2:$AH$13999, FLData!$C$2:$C$13999, \">=\"&fromDateI, FLData!$C$2:$C$13999, \"<=\" &toDateI, FLData!$M$2:$M$13999,$C107, FLData!$E$2:$E$13999, Sim1Types, FLData!$F$2:$F$13999, \"Lesson\" )) + SUMPRODUCT( SUMIFS( FLData!$AH$2:$AH$13999, FLData!$C$2:$C$13999, \">=\"&fromDateI, FLData!$C$2:$C$13999, \"<=\" &toDateI, FLData!$S$2:$S$13999,$C107, FLData!$E$2:$E$13999, Sim1Types, FLData!$F$2:$F$13999, \"Rental\" )) )*24","v":0},{"$f":"SUMPRODUCT( SUMIFS( FLData!$AH$2:$AH$13999, FLData!$C$2:$C$13999, \">=\"&fromDateI, FLData!$C$2:$C$13999, \"<=\" &toDateI, FLData!$J$2:$J$13999,$C107, FLData!$E$2:$E$13999, Sim1Types, FLData!$F$2:$F$13999, \"Operation\" ))*24","v":0},{"$f":"( SUMPRODUCT( SUMIFS( FLData!$AH$2:$AH$13999, FLData!$C$2:$C$13999, \">=\"&fromDateI, FLData!$C$2:$C$13999, \"<=\" &toDateI, FLData!$M$2:$M$13999,$C107, FLData!$E$2:$E$13999, Sim2Types, FLData!$F$2:$F$13999, \"Lesson\" )) + SUMPRODUCT( SUMIFS( FLData!$AH$2:$AH$13999, FLData!$C$2:$C$13999, \">=\"&fromDateI, FLData!$C$2:$C$13999, \"<=\" &toDateI, FLData!$S$2:$S$13999,$C107, FLData!$E$2:$E$13999, Sim2Types, FLData!$F$2:$F$13999, \"Rental\" )) )*24","v":0},{"$f":"SUMPRODUCT( SUMIFS( FLData!$AH$2:$AH$13999, FLData!$C$2:$C$13999, \">=\"&fromDateI, FLData!$C$2:$C$13999, \"<=\" &toDateI, FLData!$J$2:$J$13999,$C107, FLData!$E$2:$E$13999, Sim2Types, FLData!$F$2:$F$13999, \"Operation\" ))*24","v":0},0,0,0]
[null,null,"",{"$f":"( SUMPRODUCT( SUMIFS( FLData!$AH$2:$AH$13999, FLData!$C$2:$C$13999, \">=\"&fromDateI, FLData!$C$2:$C$13999, \"<=\" &toDateI, FLData!$M$2:$M$13999,$C108, FLData!$E$2:$E$13999, SingleEngineTypes, FLData!$F$2:$F$13999, \"Lesson\" )) + SUMPRODUCT( SUMIFS( FLData!$AH$2:$AH$13999, FLData!$C$2:$C$13999, \">=\"&fromDateI, FLData!$C$2:$C$13999, \"<=\" &toDateI, FLData!$S$2:$S$13999,$C108, FLData!$E$2:$E$13999, SingleEngineTypes, FLData!$F$2:$F$13999, \"Rental\" )) )*24","v":0},{"$f":"SUMPRODUCT( SUMIFS( FLData!$AH$2:$AH$13999, FLData!$C$2:$C$13999, \">=\"&fromDateI, FLData!$C$2:$C$13999, \"<=\" &toDateI, FLData!$J$2:$J$13999,$C108, FLData!$E$2:$E$13999, SingleEngineTypes, FLData!$F$2:$F$13999, \"Operation\" ))*24","v":0},{"$f":"( SUMPRODUCT( SUMIFS( FLData!$AH$2:$AH$13999, FLData!$C$2:$C$13999, \">=\"&fromDateI, FLData!$C$2:$C$13999, \"<=\" &toDateI, FLData!$M$2:$M$13999,$C108, FLData!$E$2:$E$13999, MultiEngineTypes, FLData!$F$2:$F$13999, \"Lesson\" )) + SUMPRODUCT( SUMIFS( FLData!$AH$2:$AH$13999, FLData!$C$2:$C$13999, \">=\"&fromDateI, FLData!$C$2:$C$13999, \"<=\" &toDateI, FLData!$S$2:$S$13999,$C108, FLData!$E$2:$E$13999, MultiEngineTypes, FLData!$F$2:$F$13999, \"Rental\" )) )*24","v":0},{"$f":"SUMPRODUCT( SUMIFS( FLData!$AH$2:$AH$13999, FLData!$C$2:$C$13999, \">=\"&fromDateI, FLData!$C$2:$C$13999, \"<=\" &toDateI, FLData!$J$2:$J$13999,$C108, FLData!$E$2:$E$13999, MultiEngineTypes, FLData!$F$2:$F$13999, \"Operation\" ))*24","v":0},{"$f":"( SUMPRODUCT( SUMIFS( FLData!$AH$2:$AH$13999, FLData!$C$2:$C$13999, \">=\"&fromDateI, FLData!$C$2:$C$13999, \"<=\" &toDateI, FLData!$M$2:$M$13999,$C108, FLData!$E$2:$E$13999, Sim1Types, FLData!$F$2:$F$13999, \"Lesson\" )) + SUMPRODUCT( SUMIFS( FLData!$AH$2:$AH$13999, FLData!$C$2:$C$13999, \">=\"&fromDateI, FLData!$C$2:$C$13999, \"<=\" &toDateI, FLData!$S$2:$S$13999,$C108, FLData!$E$2:$E$13999, Sim1Types, FLData!$F$2:$F$13999, \"Rental\" )) )*24","v":0},{"$f":"SUMPRODUCT( SUMIFS( FLData!$AH$2:$AH$13999, FLData!$C$2:$C$13999, \">=\"&fromDateI, FLData!$C$2:$C$13999, \"<=\" &toDateI, FLData!$J$2:$J$13999,$C108, FLData!$E$2:$E$13999, Sim1Types, FLData!$F$2:$F$13999, \"Operation\" ))*24","v":0},{"$f":"( SUMPRODUCT( SUMIFS( FLData!$AH$2:$AH$13999, FLData!$C$2:$C$13999, \">=\"&fromDateI, FLData!$C$2:$C$13999, \"<=\" &toDateI, FLData!$M$2:$M$13999,$C108, FLData!$E$2:$E$13999, Sim2Types, FLData!$F$2:$F$13999, \"Lesson\" )) + SUMPRODUCT( SUMIFS( FLData!$AH$2:$AH$13999, FLData!$C$2:$C$13999, \">=\"&fromDateI, FLData!$C$2:$C$13999, \"<=\" &toDateI, FLData!$S$2:$S$13999,$C108, FLData!$E$2:$E$13999, Sim2Types, FLData!$F$2:$F$13999, \"Rental\" )) )*24","v":0},{"$f":"SUMPRODUCT( SUMIFS( FLData!$AH$2:$AH$13999, FLData!$C$2:$C$13999, \">=\"&fromDateI, FLData!$C$2:$C$13999, \"<=\" &toDateI, FLData!$J$2:$J$13999,$C108, FLData!$E$2:$E$13999, Sim2Types, FLData!$F$2:$F$13999, \"Operation\" ))*24","v":0},0,0,0]
[null,null,"",{"$f":"( SUMPRODUCT( SUMIFS( FLData!$AH$2:$AH$13999, FLData!$C$2:$C$13999, \">=\"&fromDateI, FLData!$C$2:$C$13999, \"<=\" &toDateI, FLData!$M$2:$M$13999,$C109, FLData!$E$2:$E$13999, SingleEngineTypes, FLData!$F$2:$F$13999, \"Lesson\" )) + SUMPRODUCT( SUMIFS( FLData!$AH$2:$AH$13999, FLData!$C$2:$C$13999, \">=\"&fromDateI, FLData!$C$2:$C$13999, \"<=\" &toDateI, FLData!$S$2:$S$13999,$C109, FLData!$E$2:$E$13999, SingleEngineTypes, FLData!$F$2:$F$13999, \"Rental\" )) )*24","v":0},{"$f":"SUMPRODUCT( SUMIFS( FLData!$AH$2:$AH$13999, FLData!$C$2:$C$13999, \">=\"&fromDateI, FLData!$C$2:$C$13999, \"<=\" &toDateI, FLData!$J$2:$J$13999,$C109, FLData!$E$2:$E$13999, SingleEngineTypes, FLData!$F$2:$F$13999, \"Operation\" ))*24","v":0},{"$f":"( SUMPRODUCT( SUMIFS( FLData!$AH$2:$AH$13999, FLData!$C$2:$C$13999, \">=\"&fromDateI, FLData!$C$2:$C$13999, \"<=\" &toDateI, FLData!$M$2:$M$13999,$C109, FLData!$E$2:$E$13999, MultiEngineTypes, FLData!$F$2:$F$13999, \"Lesson\" )) + SUMPRODUCT( SUMIFS( FLData!$AH$2:$AH$13999, FLData!$C$2:$C$13999, \">=\"&fromDateI, FLData!$C$2:$C$13999, \"<=\" &toDateI, FLData!$S$2:$S$13999,$C109, FLData!$E$2:$E$13999, MultiEngineTypes, FLData!$F$2:$F$13999, \"Rental\" )) )*24","v":0},{"$f":"SUMPRODUCT( SUMIFS( FLData!$AH$2:$AH$13999, FLData!$C$2:$C$13999, \">=\"&fromDateI, FLData!$C$2:$C$13999, \"<=\" &toDateI, FLData!$J$2:$J$13999,$C109, FLData!$E$2:$E$13999, MultiEngineTypes, FLData!$F$2:$F$13999, \"Operation\" ))*24","v":0},{"$f":"( SUMPRODUCT( SUMIFS( FLData!$AH$2:$AH$13999, FLData!$C$2:$C$13999, \">=\"&fromDateI, FLData!$C$2:$C$13999, \"<=\" &toDateI, FLData!$M$2:$M$13999,$C109, FLData!$E$2:$E$13999, Sim1Types, FLData!$F$2:$F$13999, \"Lesson\" )) + SUMPRODUCT( SUMIFS( FLData!$AH$2:$AH$13999, FLData!$C$2:$C$13999, \">=\"&fromDateI, FLData!$C$2:$C$13999, \"<=\" &toDateI, FLData!$S$2:$S$13999,$C109, FLData!$E$2:$E$13999, Sim1Types, FLData!$F$2:$F$13999, \"Rental\" )) )*24","v":0},{"$f":"SUMPRODUCT( SUMIFS( FLData!$AH$2:$AH$13999, FLData!$C$2:$C$13999, \">=\"&fromDateI, FLData!$C$2:$C$13999, \"<=\" &toDateI, FLData!$J$2:$J$13999,$C109, FLData!$E$2:$E$13999, Sim1Types, FLData!$F$2:$F$13999, \"Operation\" ))*24","v":0},{"$f":"( SUMPRODUCT( SUMIFS( FLData!$AH$2:$AH$13999, FLData!$C$2:$C$13999, \">=\"&fromDateI, FLData!$C$2:$C$13999, \"<=\" &toDateI, FLData!$M$2:$M$13999,$C109, FLData!$E$2:$E$13999, Sim2Types, FLData!$F$2:$F$13999, \"Lesson\" )) + SUMPRODUCT( SUMIFS( FLData!$AH$2:$AH$13999, FLData!$C$2:$C$13999, \">=\"&fromDateI, FLData!$C$2:$C$13999, \"<=\" &toDateI, FLData!$S$2:$S$13999,$C109, FLData!$E$2:$E$13999, Sim2Types, FLData!$F$2:$F$13999, \"Rental\" )) )*24","v":0},{"$f":"SUMPRODUCT( SUMIFS( FLData!$AH$2:$AH$13999, FLData!$C$2:$C$13999, \">=\"&fromDateI, FLData!$C$2:$C$13999, \"<=\" &toDateI, FLData!$J$2:$J$13999,$C109, FLData!$E$2:$E$13999, Sim2Types, FLData!$F$2:$F$13999, \"Operation\" ))*24","v":0},0,0,0]
[null,null,"",{"$f":"( SUMPRODUCT( SUMIFS( FLData!$AH$2:$AH$13999, FLData!$C$2:$C$13999, \">=\"&fromDateI, FLData!$C$2:$C$13999, \"<=\" &toDateI, FLData!$M$2:$M$13999,$C110, FLData!$E$2:$E$13999, SingleEngineTypes, FLData!$F$2:$F$13999, \"Lesson\" )) + SUMPRODUCT( SUMIFS( FLData!$AH$2:$AH$13999, FLData!$C$2:$C$13999, \">=\"&fromDateI, FLData!$C$2:$C$13999, \"<=\" &toDateI, FLData!$S$2:$S$13999,$C110, FLData!$E$2:$E$13999, SingleEngineTypes, FLData!$F$2:$F$13999, \"Rental\" )) )*24","v":0},{"$f":"SUMPRODUCT( SUMIFS( FLData!$AH$2:$AH$13999, FLData!$C$2:$C$13999, \">=\"&fromDateI, FLData!$C$2:$C$13999, \"<=\" &toDateI, FLData!$J$2:$J$13999,$C110, FLData!$E$2:$E$13999, SingleEngineTypes, FLData!$F$2:$F$13999, \"Operation\" ))*24","v":0},{"$f":"( SUMPRODUCT( SUMIFS( FLData!$AH$2:$AH$13999, FLData!$C$2:$C$13999, \">=\"&fromDateI, FLData!$C$2:$C$13999, \"<=\" &toDateI, FLData!$M$2:$M$13999,$C110, FLData!$E$2:$E$13999, MultiEngineTypes, FLData!$F$2:$F$13999, \"Lesson\" )) + SUMPRODUCT( SUMIFS( FLData!$AH$2:$AH$13999, FLData!$C$2:$C$13999, \">=\"&fromDateI, FLData!$C$2:$C$13999, \"<=\" &toDateI, FLData!$S$2:$S$13999,$C110, FLData!$E$2:$E$13999, MultiEngineTypes, FLData!$F$2:$F$13999, \"Rental\" )) )*24","v":0},{"$f":"SUMPRODUCT( SUMIFS( FLData!$AH$2:$AH$13999, FLData!$C$2:$C$13999, \">=\"&fromDateI, FLData!$C$2:$C$13999, \"<=\" &toDateI, FLData!$J$2:$J$13999,$C110, FLData!$E$2:$E$13999, MultiEngineTypes, FLData!$F$2:$F$13999, \"Operation\" ))*24","v":0},{"$f":"( SUMPRODUCT( SUMIFS( FLData!$AH$2:$AH$13999, FLData!$C$2:$C$13999, \">=\"&fromDateI, FLData!$C$2:$C$13999, \"<=\" &toDateI, FLData!$M$2:$M$13999,$C110, FLData!$E$2:$E$13999, Sim1Types, FLData!$F$2:$F$13999, \"Lesson\" )) + SUMPRODUCT( SUMIFS( FLData!$AH$2:$AH$13999, FLData!$C$2:$C$13999, \">=\"&fromDateI, FLData!$C$2:$C$13999, \"<=\" &toDateI, FLData!$S$2:$S$13999,$C110, FLData!$E$2:$E$13999, Sim1Types, FLData!$F$2:$F$13999, \"Rental\" )) )*24","v":0},{"$f":"SUMPRODUCT( SUMIFS( FLData!$AH$2:$AH$13999, FLData!$C$2:$C$13999, \">=\"&fromDateI, FLData!$C$2:$C$13999, \"<=\" &toDateI, FLData!$J$2:$J$13999,$C110, FLData!$E$2:$E$13999, Sim1Types, FLData!$F$2:$F$13999, \"Operation\" ))*24","v":0},{"$f":"( SUMPRODUCT( SUMIFS( FLData!$AH$2:$AH$13999, FLData!$C$2:$C$13999, \">=\"&fromDateI, FLData!$C$2:$C$13999, \"<=\" &toDateI, FLData!$M$2:$M$13999,$C110, FLData!$E$2:$E$13999, Sim2Types, FLData!$F$2:$F$13999, \"Lesson\" )) + SUMPRODUCT( SUMIFS( FLData!$AH$2:$AH$13999, FLData!$C$2:$C$13999, \">=\"&fromDateI, FLData!$C$2:$C$13999, \"<=\" &toDateI, FLData!$S$2:$S$13999,$C110, FLData!$E$2:$E$13999, Sim2Types, FLData!$F$2:$F$13999, \"Rental\" )) )*24","v":0},{"$f":"SUMPRODUCT( SUMIFS( FLData!$AH$2:$AH$13999, FLData!$C$2:$C$13999, \">=\"&fromDateI, FLData!$C$2:$C$13999, \"<=\" &toDateI, FLData!$J$2:$J$13999,$C110, FLData!$E$2:$E$13999, Sim2Types, FLData!$F$2:$F$13999, \"Operation\" ))*24","v":0},0,0,0]
[null,null,"",{"$f":"( SUMPRODUCT( SUMIFS( FLData!$AH$2:$AH$13999, FLData!$C$2:$C$13999, \">=\"&fromDateI, FLData!$C$2:$C$13999, \"<=\" &toDateI, FLData!$M$2:$M$13999,$C111, FLData!$E$2:$E$13999, SingleEngineTypes, FLData!$F$2:$F$13999, \"Lesson\" )) + SUMPRODUCT( SUMIFS( FLData!$AH$2:$AH$13999, FLData!$C$2:$C$13999, \">=\"&fromDateI, FLData!$C$2:$C$13999, \"<=\" &toDateI, FLData!$S$2:$S$13999,$C111, FLData!$E$2:$E$13999, SingleEngineTypes, FLData!$F$2:$F$13999, \"Rental\" )) )*24","v":0},{"$f":"SUMPRODUCT( SUMIFS( FLData!$AH$2:$AH$13999, FLData!$C$2:$C$13999, \">=\"&fromDateI, FLData!$C$2:$C$13999, \"<=\" &toDateI, FLData!$J$2:$J$13999,$C111, FLData!$E$2:$E$13999, SingleEngineTypes, FLData!$F$2:$F$13999, \"Operation\" ))*24","v":0},{"$f":"( SUMPRODUCT( SUMIFS( FLData!$AH$2:$AH$13999, FLData!$C$2:$C$13999, \">=\"&fromDateI, FLData!$C$2:$C$13999, \"<=\" &toDateI, FLData!$M$2:$M$13999,$C111, FLData!$E$2:$E$13999, MultiEngineTypes, FLData!$F$2:$F$13999, \"Lesson\" )) + SUMPRODUCT( SUMIFS( FLData!$AH$2:$AH$13999, FLData!$C$2:$C$13999, \">=\"&fromDateI, FLData!$C$2:$C$13999, \"<=\" &toDateI, FLData!$S$2:$S$13999,$C111, FLData!$E$2:$E$13999, MultiEngineTypes, FLData!$F$2:$F$13999, \"Rental\" )) )*24","v":0},{"$f":"SUMPRODUCT( SUMIFS( FLData!$AH$2:$AH$13999, FLData!$C$2:$C$13999, \">=\"&fromDateI, FLData!$C$2:$C$13999, \"<=\" &toDateI, FLData!$J$2:$J$13999,$C111, FLData!$E$2:$E$13999, MultiEngineTypes, FLData!$F$2:$F$13999, \"Operation\" ))*24","v":0},{"$f":"( SUMPRODUCT( SUMIFS( FLData!$AH$2:$AH$13999, FLData!$C$2:$C$13999, \">=\"&fromDateI, FLData!$C$2:$C$13999, \"<=\" &toDateI, FLData!$M$2:$M$13999,$C111, FLData!$E$2:$E$13999, Sim1Types, FLData!$F$2:$F$13999, \"Lesson\" )) + SUMPRODUCT( SUMIFS( FLData!$AH$2:$AH$13999, FLData!$C$2:$C$13999, \">=\"&fromDateI, FLData!$C$2:$C$13999, \"<=\" &toDateI, FLData!$S$2:$S$13999,$C111, FLData!$E$2:$E$13999, Sim1Types, FLData!$F$2:$F$13999, \"Rental\" )) )*24","v":0},{"$f":"SUMPRODUCT( SUMIFS( FLData!$AH$2:$AH$13999, FLData!$C$2:$C$13999, \">=\"&fromDateI, FLData!$C$2:$C$13999, \"<=\" &toDateI, FLData!$J$2:$J$13999,$C111, FLData!$E$2:$E$13999, Sim1Types, FLData!$F$2:$F$13999, \"Operation\" ))*24","v":0},{"$f":"( SUMPRODUCT( SUMIFS( FLData!$AH$2:$AH$13999, FLData!$C$2:$C$13999, \">=\"&fromDateI, FLData!$C$2:$C$13999, \"<=\" &toDateI, FLData!$M$2:$M$13999,$C111, FLData!$E$2:$E$13999, Sim2Types, FLData!$F$2:$F$13999, \"Lesson\" )) + SUMPRODUCT( SUMIFS( FLData!$AH$2:$AH$13999, FLData!$C$2:$C$13999, \">=\"&fromDateI, FLData!$C$2:$C$13999, \"<=\" &toDateI, FLData!$S$2:$S$13999,$C111, FLData!$E$2:$E$13999, Sim2Types, FLData!$F$2:$F$13999, \"Rental\" )) )*24","v":0},{"$f":"SUMPRODUCT( SUMIFS( FLData!$AH$2:$AH$13999, FLData!$C$2:$C$13999, \">=\"&fromDateI, FLData!$C$2:$C$13999, \"<=\" &toDateI, FLData!$J$2:$J$13999,$C111, FLData!$E$2:$E$13999, Sim2Types, FLData!$F$2:$F$13999, \"Operation\" ))*24","v":0},0,0,0]
[null,null,"",{"$f":"( SUMPRODUCT( SUMIFS( FLData!$AH$2:$AH$13999, FLData!$C$2:$C$13999, \">=\"&fromDateI, FLData!$C$2:$C$13999, \"<=\" &toDateI, FLData!$M$2:$M$13999,$C112, FLData!$E$2:$E$13999, SingleEngineTypes, FLData!$F$2:$F$13999, \"Lesson\" )) + SUMPRODUCT( SUMIFS( FLData!$AH$2:$AH$13999, FLData!$C$2:$C$13999, \">=\"&fromDateI, FLData!$C$2:$C$13999, \"<=\" &toDateI, FLData!$S$2:$S$13999,$C112, FLData!$E$2:$E$13999, SingleEngineTypes, FLData!$F$2:$F$13999, \"Rental\" )) )*24","v":0},{"$f":"SUMPRODUCT( SUMIFS( FLData!$AH$2:$AH$13999, FLData!$C$2:$C$13999, \">=\"&fromDateI, FLData!$C$2:$C$13999, \"<=\" &toDateI, FLData!$J$2:$J$13999,$C112, FLData!$E$2:$E$13999, SingleEngineTypes, FLData!$F$2:$F$13999, \"Operation\" ))*24","v":0},{"$f":"( SUMPRODUCT( SUMIFS( FLData!$AH$2:$AH$13999, FLData!$C$2:$C$13999, \">=\"&fromDateI, FLData!$C$2:$C$13999, \"<=\" &toDateI, FLData!$M$2:$M$13999,$C112, FLData!$E$2:$E$13999, MultiEngineTypes, FLData!$F$2:$F$13999, \"Lesson\" )) + SUMPRODUCT( SUMIFS( FLData!$AH$2:$AH$13999, FLData!$C$2:$C$13999, \">=\"&fromDateI, FLData!$C$2:$C$13999, \"<=\" &toDateI, FLData!$S$2:$S$13999,$C112, FLData!$E$2:$E$13999, MultiEngineTypes, FLData!$F$2:$F$13999, \"Rental\" )) )*24","v":0},{"$f":"SUMPRODUCT( SUMIFS( FLData!$AH$2:$AH$13999, FLData!$C$2:$C$13999, \">=\"&fromDateI, FLData!$C$2:$C$13999, \"<=\" &toDateI, FLData!$J$2:$J$13999,$C112, FLData!$E$2:$E$13999, MultiEngineTypes, FLData!$F$2:$F$13999, \"Operation\" ))*24","v":0},{"$f":"( SUMPRODUCT( SUMIFS( FLData!$AH$2:$AH$13999, FLData!$C$2:$C$13999, \">=\"&fromDateI, FLData!$C$2:$C$13999, \"<=\" &toDateI, FLData!$M$2:$M$13999,$C112, FLData!$E$2:$E$13999, Sim1Types, FLData!$F$2:$F$13999, \"Lesson\" )) + SUMPRODUCT( SUMIFS( FLData!$AH$2:$AH$13999, FLData!$C$2:$C$13999, \">=\"&fromDateI, FLData!$C$2:$C$13999, \"<=\" &toDateI, FLData!$S$2:$S$13999,$C112, FLData!$E$2:$E$13999, Sim1Types, FLData!$F$2:$F$13999, \"Rental\" )) )*24","v":0},{"$f":"SUMPRODUCT( SUMIFS( FLData!$AH$2:$AH$13999, FLData!$C$2:$C$13999, \">=\"&fromDateI, FLData!$C$2:$C$13999, \"<=\" &toDateI, FLData!$J$2:$J$13999,$C112, FLData!$E$2:$E$13999, Sim1Types, FLData!$F$2:$F$13999, \"Operation\" ))*24","v":0},{"$f":"( SUMPRODUCT( SUMIFS( FLData!$AH$2:$AH$13999, FLData!$C$2:$C$13999, \">=\"&fromDateI, FLData!$C$2:$C$13999, \"<=\" &toDateI, FLData!$M$2:$M$13999,$C112, FLData!$E$2:$E$13999, Sim2Types, FLData!$F$2:$F$13999, \"Lesson\" )) + SUMPRODUCT( SUMIFS( FLData!$AH$2:$AH$13999, FLData!$C$2:$C$13999, \">=\"&fromDateI, FLData!$C$2:$C$13999, \"<=\" &toDateI, FLData!$S$2:$S$13999,$C112, FLData!$E$2:$E$13999, Sim2Types, FLData!$F$2:$F$13999, \"Rental\" )) )*24","v":0},{"$f":"SUMPRODUCT( SUMIFS( FLData!$AH$2:$AH$13999, FLData!$C$2:$C$13999, \">=\"&fromDateI, FLData!$C$2:$C$13999, \"<=\" &toDateI, FLData!$J$2:$J$13999,$C112, FLData!$E$2:$E$13999, Sim2Types, FLData!$F$2:$F$13999, \"Operation\" ))*24","v":0},0,0,0]
[null,null,"",{"$f":"( SUMPRODUCT( SUMIFS( FLData!$AH$2:$AH$13999, FLData!$C$2:$C$13999, \">=\"&fromDateI, FLData!$C$2:$C$13999, \"<=\" &toDateI, FLData!$M$2:$M$13999,$C113, FLData!$E$2:$E$13999, SingleEngineTypes, FLData!$F$2:$F$13999, \"Lesson\" )) + SUMPRODUCT( SUMIFS( FLData!$AH$2:$AH$13999, FLData!$C$2:$C$13999, \">=\"&fromDateI, FLData!$C$2:$C$13999, \"<=\" &toDateI, FLData!$S$2:$S$13999,$C113, FLData!$E$2:$E$13999, SingleEngineTypes, FLData!$F$2:$F$13999, \"Rental\" )) )*24","v":0},{"$f":"SUMPRODUCT( SUMIFS( FLData!$AH$2:$AH$13999, FLData!$C$2:$C$13999, \">=\"&fromDateI, FLData!$C$2:$C$13999, \"<=\" &toDateI, FLData!$J$2:$J$13999,$C113, FLData!$E$2:$E$13999, SingleEngineTypes, FLData!$F$2:$F$13999, \"Operation\" ))*24","v":0},{"$f":"( SUMPRODUCT( SUMIFS( FLData!$AH$2:$AH$13999, FLData!$C$2:$C$13999, \">=\"&fromDateI, FLData!$C$2:$C$13999, \"<=\" &toDateI, FLData!$M$2:$M$13999,$C113, FLData!$E$2:$E$13999, MultiEngineTypes, FLData!$F$2:$F$13999, \"Lesson\" )) + SUMPRODUCT( SUMIFS( FLData!$AH$2:$AH$13999, FLData!$C$2:$C$13999, \">=\"&fromDateI, FLData!$C$2:$C$13999, \"<=\" &toDateI, FLData!$S$2:$S$13999,$C113, FLData!$E$2:$E$13999, MultiEngineTypes, FLData!$F$2:$F$13999, \"Rental\" )) )*24","v":0},{"$f":"SUMPRODUCT( SUMIFS( FLData!$AH$2:$AH$13999, FLData!$C$2:$C$13999, \">=\"&fromDateI, FLData!$C$2:$C$13999, \"<=\" &toDateI, FLData!$J$2:$J$13999,$C113, FLData!$E$2:$E$13999, MultiEngineTypes, FLData!$F$2:$F$13999, \"Operation\" ))*24","v":0},{"$f":"( SUMPRODUCT( SUMIFS( FLData!$AH$2:$AH$13999, FLData!$C$2:$C$13999, \">=\"&fromDateI, FLData!$C$2:$C$13999, \"<=\" &toDateI, FLData!$M$2:$M$13999,$C113, FLData!$E$2:$E$13999, Sim1Types, FLData!$F$2:$F$13999, \"Lesson\" )) + SUMPRODUCT( SUMIFS( FLData!$AH$2:$AH$13999, FLData!$C$2:$C$13999, \">=\"&fromDateI, FLData!$C$2:$C$13999, \"<=\" &toDateI, FLData!$S$2:$S$13999,$C113, FLData!$E$2:$E$13999, Sim1Types, FLData!$F$2:$F$13999, \"Rental\" )) )*24","v":0},{"$f":"SUMPRODUCT( SUMIFS( FLData!$AH$2:$AH$13999, FLData!$C$2:$C$13999, \">=\"&fromDateI, FLData!$C$2:$C$13999, \"<=\" &toDateI, FLData!$J$2:$J$13999,$C113, FLData!$E$2:$E$13999, Sim1Types, FLData!$F$2:$F$13999, \"Operation\" ))*24","v":0},{"$f":"( SUMPRODUCT( SUMIFS( FLData!$AH$2:$AH$13999, FLData!$C$2:$C$13999, \">=\"&fromDateI, FLData!$C$2:$C$13999, \"<=\" &toDateI, FLData!$M$2:$M$13999,$C113, FLData!$E$2:$E$13999, Sim2Types, FLData!$F$2:$F$13999, \"Lesson\" )) + SUMPRODUCT( SUMIFS( FLData!$AH$2:$AH$13999, FLData!$C$2:$C$13999, \">=\"&fromDateI, FLData!$C$2:$C$13999, \"<=\" &toDateI, FLData!$S$2:$S$13999,$C113, FLData!$E$2:$E$13999, Sim2Types, FLData!$F$2:$F$13999, \"Rental\" )) )*24","v":0},{"$f":"SUMPRODUCT( SUMIFS( FLData!$AH$2:$AH$13999, FLData!$C$2:$C$13999, \">=\"&fromDateI, FLData!$C$2:$C$13999, \"<=\" &toDateI, FLData!$J$2:$J$13999,$C113, FLData!$E$2:$E$13999, Sim2Types, FLData!$F$2:$F$13999, \"Operation\" ))*24","v":0},0,0,0]
[null,null,"",{"$f":"( SUMPRODUCT( SUMIFS( FLData!$AH$2:$AH$13999, FLData!$C$2:$C$13999, \">=\"&fromDateI, FLData!$C$2:$C$13999, \"<=\" &toDateI, FLData!$M$2:$M$13999,$C114, FLData!$E$2:$E$13999, SingleEngineTypes, FLData!$F$2:$F$13999, \"Lesson\" )) + SUMPRODUCT( SUMIFS( FLData!$AH$2:$AH$13999, FLData!$C$2:$C$13999, \">=\"&fromDateI, FLData!$C$2:$C$13999, \"<=\" &toDateI, FLData!$S$2:$S$13999,$C114, FLData!$E$2:$E$13999, SingleEngineTypes, FLData!$F$2:$F$13999, \"Rental\" )) )*24","v":0},{"$f":"SUMPRODUCT( SUMIFS( FLData!$AH$2:$AH$13999, FLData!$C$2:$C$13999, \">=\"&fromDateI, FLData!$C$2:$C$13999, \"<=\" &toDateI, FLData!$J$2:$J$13999,$C114, FLData!$E$2:$E$13999, SingleEngineTypes, FLData!$F$2:$F$13999, \"Operation\" ))*24","v":0},{"$f":"( SUMPRODUCT( SUMIFS( FLData!$AH$2:$AH$13999, FLData!$C$2:$C$13999, \">=\"&fromDateI, FLData!$C$2:$C$13999, \"<=\" &toDateI, FLData!$M$2:$M$13999,$C114, FLData!$E$2:$E$13999, MultiEngineTypes, FLData!$F$2:$F$13999, \"Lesson\" )) + SUMPRODUCT( SUMIFS( FLData!$AH$2:$AH$13999, FLData!$C$2:$C$13999, \">=\"&fromDateI, FLData!$C$2:$C$13999, \"<=\" &toDateI, FLData!$S$2:$S$13999,$C114, FLData!$E$2:$E$13999, MultiEngineTypes, FLData!$F$2:$F$13999, \"Rental\" )) )*24","v":0},{"$f":"SUMPRODUCT( SUMIFS( FLData!$AH$2:$AH$13999, FLData!$C$2:$C$13999, \">=\"&fromDateI, FLData!$C$2:$C$13999, \"<=\" &toDateI, FLData!$J$2:$J$13999,$C114, FLData!$E$2:$E$13999, MultiEngineTypes, FLData!$F$2:$F$13999, \"Operation\" ))*24","v":0},{"$f":"( SUMPRODUCT( SUMIFS( FLData!$AH$2:$AH$13999, FLData!$C$2:$C$13999, \">=\"&fromDateI, FLData!$C$2:$C$13999, \"<=\" &toDateI, FLData!$M$2:$M$13999,$C114, FLData!$E$2:$E$13999, Sim1Types, FLData!$F$2:$F$13999, \"Lesson\" )) + SUMPRODUCT( SUMIFS( FLData!$AH$2:$AH$13999, FLData!$C$2:$C$13999, \">=\"&fromDateI, FLData!$C$2:$C$13999, \"<=\" &toDateI, FLData!$S$2:$S$13999,$C114, FLData!$E$2:$E$13999, Sim1Types, FLData!$F$2:$F$13999, \"Rental\" )) )*24","v":0},{"$f":"SUMPRODUCT( SUMIFS( FLData!$AH$2:$AH$13999, FLData!$C$2:$C$13999, \">=\"&fromDateI, FLData!$C$2:$C$13999, \"<=\" &toDateI, FLData!$J$2:$J$13999,$C114, FLData!$E$2:$E$13999, Sim1Types, FLData!$F$2:$F$13999, \"Operation\" ))*24","v":0},{"$f":"( SUMPRODUCT( SUMIFS( FLData!$AH$2:$AH$13999, FLData!$C$2:$C$13999, \">=\"&fromDateI, FLData!$C$2:$C$13999, \"<=\" &toDateI, FLData!$M$2:$M$13999,$C114, FLData!$E$2:$E$13999, Sim2Types, FLData!$F$2:$F$13999, \"Lesson\" )) + SUMPRODUCT( SUMIFS( FLData!$AH$2:$AH$13999, FLData!$C$2:$C$13999, \">=\"&fromDateI, FLData!$C$2:$C$13999, \"<=\" &toDateI, FLData!$S$2:$S$13999,$C114, FLData!$E$2:$E$13999, Sim2Types, FLData!$F$2:$F$13999, \"Rental\" )) )*24","v":0},{"$f":"SUMPRODUCT( SUMIFS( FLData!$AH$2:$AH$13999, FLData!$C$2:$C$13999, \">=\"&fromDateI, FLData!$C$2:$C$13999, \"<=\" &toDateI, FLData!$J$2:$J$13999,$C114, FLData!$E$2:$E$13999, Sim2Types, FLData!$F$2:$F$13999, \"Operation\" ))*24","v":0},0,0,0]
[null,null,"",{"$f":"( SUMPRODUCT( SUMIFS( FLData!$AH$2:$AH$13999, FLData!$C$2:$C$13999, \">=\"&fromDateI, FLData!$C$2:$C$13999, \"<=\" &toDateI, FLData!$M$2:$M$13999,$C115, FLData!$E$2:$E$13999, SingleEngineTypes, FLData!$F$2:$F$13999, \"Lesson\" )) + SUMPRODUCT( SUMIFS( FLData!$AH$2:$AH$13999, FLData!$C$2:$C$13999, \">=\"&fromDateI, FLData!$C$2:$C$13999, \"<=\" &toDateI, FLData!$S$2:$S$13999,$C115, FLData!$E$2:$E$13999, SingleEngineTypes, FLData!$F$2:$F$13999, \"Rental\" )) )*24","v":0},{"$f":"SUMPRODUCT( SUMIFS( FLData!$AH$2:$AH$13999, FLData!$C$2:$C$13999, \">=\"&fromDateI, FLData!$C$2:$C$13999, \"<=\" &toDateI, FLData!$J$2:$J$13999,$C115, FLData!$E$2:$E$13999, SingleEngineTypes, FLData!$F$2:$F$13999, \"Operation\" ))*24","v":0},{"$f":"( SUMPRODUCT( SUMIFS( FLData!$AH$2:$AH$13999, FLData!$C$2:$C$13999, \">=\"&fromDateI, FLData!$C$2:$C$13999, \"<=\" &toDateI, FLData!$M$2:$M$13999,$C115, FLData!$E$2:$E$13999, MultiEngineTypes, FLData!$F$2:$F$13999, \"Lesson\" )) + SUMPRODUCT( SUMIFS( FLData!$AH$2:$AH$13999, FLData!$C$2:$C$13999, \">=\"&fromDateI, FLData!$C$2:$C$13999, \"<=\" &toDateI, FLData!$S$2:$S$13999,$C115, FLData!$E$2:$E$13999, MultiEngineTypes, FLData!$F$2:$F$13999, \"Rental\" )) )*24","v":0},{"$f":"SUMPRODUCT( SUMIFS( FLData!$AH$2:$AH$13999, FLData!$C$2:$C$13999, \">=\"&fromDateI, FLData!$C$2:$C$13999, \"<=\" &toDateI, FLData!$J$2:$J$13999,$C115, FLData!$E$2:$E$13999, MultiEngineTypes, FLData!$F$2:$F$13999, \"Operation\" ))*24","v":0},{"$f":"( SUMPRODUCT( SUMIFS( FLData!$AH$2:$AH$13999, FLData!$C$2:$C$13999, \">=\"&fromDateI, FLData!$C$2:$C$13999, \"<=\" &toDateI, FLData!$M$2:$M$13999,$C115, FLData!$E$2:$E$13999, Sim1Types, FLData!$F$2:$F$13999, \"Lesson\" )) + SUMPRODUCT( SUMIFS( FLData!$AH$2:$AH$13999, FLData!$C$2:$C$13999, \">=\"&fromDateI, FLData!$C$2:$C$13999, \"<=\" &toDateI, FLData!$S$2:$S$13999,$C115, FLData!$E$2:$E$13999, Sim1Types, FLData!$F$2:$F$13999, \"Rental\" )) )*24","v":0},{"$f":"SUMPRODUCT( SUMIFS( FLData!$AH$2:$AH$13999, FLData!$C$2:$C$13999, \">=\"&fromDateI, FLData!$C$2:$C$13999, \"<=\" &toDateI, FLData!$J$2:$J$13999,$C115, FLData!$E$2:$E$13999, Sim1Types, FLData!$F$2:$F$13999, \"Operation\" ))*24","v":0},{"$f":"( SUMPRODUCT( SUMIFS( FLData!$AH$2:$AH$13999, FLData!$C$2:$C$13999, \">=\"&fromDateI, FLData!$C$2:$C$13999, \"<=\" &toDateI, FLData!$M$2:$M$13999,$C115, FLData!$E$2:$E$13999, Sim2Types, FLData!$F$2:$F$13999, \"Lesson\" )) + SUMPRODUCT( SUMIFS( FLData!$AH$2:$AH$13999, FLData!$C$2:$C$13999, \">=\"&fromDateI, FLData!$C$2:$C$13999, \"<=\" &toDateI, FLData!$S$2:$S$13999,$C115, FLData!$E$2:$E$13999, Sim2Types, FLData!$F$2:$F$13999, \"Rental\" )) )*24","v":0},{"$f":"SUMPRODUCT( SUMIFS( FLData!$AH$2:$AH$13999, FLData!$C$2:$C$13999, \">=\"&fromDateI, FLData!$C$2:$C$13999, \"<=\" &toDateI, FLData!$J$2:$J$13999,$C115, FLData!$E$2:$E$13999, Sim2Types, FLData!$F$2:$F$13999, \"Operation\" ))*24","v":0},0,0,0]
[null,null,"",{"$f":"( SUMPRODUCT( SUMIFS( FLData!$AH$2:$AH$13999, FLData!$C$2:$C$13999, \">=\"&fromDateI, FLData!$C$2:$C$13999, \"<=\" &toDateI, FLData!$M$2:$M$13999,$C116, FLData!$E$2:$E$13999, SingleEngineTypes, FLData!$F$2:$F$13999, \"Lesson\" )) + SUMPRODUCT( SUMIFS( FLData!$AH$2:$AH$13999, FLData!$C$2:$C$13999, \">=\"&fromDateI, FLData!$C$2:$C$13999, \"<=\" &toDateI, FLData!$S$2:$S$13999,$C116, FLData!$E$2:$E$13999, SingleEngineTypes, FLData!$F$2:$F$13999, \"Rental\" )) )*24","v":0},{"$f":"SUMPRODUCT( SUMIFS( FLData!$AH$2:$AH$13999, FLData!$C$2:$C$13999, \">=\"&fromDateI, FLData!$C$2:$C$13999, \"<=\" &toDateI, FLData!$J$2:$J$13999,$C116, FLData!$E$2:$E$13999, SingleEngineTypes, FLData!$F$2:$F$13999, \"Operation\" ))*24","v":0},{"$f":"( SUMPRODUCT( SUMIFS( FLData!$AH$2:$AH$13999, FLData!$C$2:$C$13999, \">=\"&fromDateI, FLData!$C$2:$C$13999, \"<=\" &toDateI, FLData!$M$2:$M$13999,$C116, FLData!$E$2:$E$13999, MultiEngineTypes, FLData!$F$2:$F$13999, \"Lesson\" )) + SUMPRODUCT( SUMIFS( FLData!$AH$2:$AH$13999, FLData!$C$2:$C$13999, \">=\"&fromDateI, FLData!$C$2:$C$13999, \"<=\" &toDateI, FLData!$S$2:$S$13999,$C116, FLData!$E$2:$E$13999, MultiEngineTypes, FLData!$F$2:$F$13999, \"Rental\" )) )*24","v":0},{"$f":"SUMPRODUCT( SUMIFS( FLData!$AH$2:$AH$13999, FLData!$C$2:$C$13999, \">=\"&fromDateI, FLData!$C$2:$C$13999, \"<=\" &toDateI, FLData!$J$2:$J$13999,$C116, FLData!$E$2:$E$13999, MultiEngineTypes, FLData!$F$2:$F$13999, \"Operation\" ))*24","v":0},{"$f":"( SUMPRODUCT( SUMIFS( FLData!$AH$2:$AH$13999, FLData!$C$2:$C$13999, \">=\"&fromDateI, FLData!$C$2:$C$13999, \"<=\" &toDateI, FLData!$M$2:$M$13999,$C116, FLData!$E$2:$E$13999, Sim1Types, FLData!$F$2:$F$13999, \"Lesson\" )) + SUMPRODUCT( SUMIFS( FLData!$AH$2:$AH$13999, FLData!$C$2:$C$13999, \">=\"&fromDateI, FLData!$C$2:$C$13999, \"<=\" &toDateI, FLData!$S$2:$S$13999,$C116, FLData!$E$2:$E$13999, Sim1Types, FLData!$F$2:$F$13999, \"Rental\" )) )*24","v":0},{"$f":"SUMPRODUCT( SUMIFS( FLData!$AH$2:$AH$13999, FLData!$C$2:$C$13999, \">=\"&fromDateI, FLData!$C$2:$C$13999, \"<=\" &toDateI, FLData!$J$2:$J$13999,$C116, FLData!$E$2:$E$13999, Sim1Types, FLData!$F$2:$F$13999, \"Operation\" ))*24","v":0},{"$f":"( SUMPRODUCT( SUMIFS( FLData!$AH$2:$AH$13999, FLData!$C$2:$C$13999, \">=\"&fromDateI, FLData!$C$2:$C$13999, \"<=\" &toDateI, FLData!$M$2:$M$13999,$C116, FLData!$E$2:$E$13999, Sim2Types, FLData!$F$2:$F$13999, \"Lesson\" )) + SUMPRODUCT( SUMIFS( FLData!$AH$2:$AH$13999, FLData!$C$2:$C$13999, \">=\"&fromDateI, FLData!$C$2:$C$13999, \"<=\" &toDateI, FLData!$S$2:$S$13999,$C116, FLData!$E$2:$E$13999, Sim2Types, FLData!$F$2:$F$13999, \"Rental\" )) )*24","v":0},{"$f":"SUMPRODUCT( SUMIFS( FLData!$AH$2:$AH$13999, FLData!$C$2:$C$13999, \">=\"&fromDateI, FLData!$C$2:$C$13999, \"<=\" &toDateI, FLData!$J$2:$J$13999,$C116, FLData!$E$2:$E$13999, Sim2Types, FLData!$F$2:$F$13999, \"Operation\" ))*24","v":0},0,0,0]
[null,null,"",{"$f":"( SUMPRODUCT( SUMIFS( FLData!$AH$2:$AH$13999, FLData!$C$2:$C$13999, \">=\"&fromDateI, FLData!$C$2:$C$13999, \"<=\" &toDateI, FLData!$M$2:$M$13999,$C117, FLData!$E$2:$E$13999, SingleEngineTypes, FLData!$F$2:$F$13999, \"Lesson\" )) + SUMPRODUCT( SUMIFS( FLData!$AH$2:$AH$13999, FLData!$C$2:$C$13999, \">=\"&fromDateI, FLData!$C$2:$C$13999, \"<=\" &toDateI, FLData!$S$2:$S$13999,$C117, FLData!$E$2:$E$13999, SingleEngineTypes, FLData!$F$2:$F$13999, \"Rental\" )) )*24","v":0},{"$f":"SUMPRODUCT( SUMIFS( FLData!$AH$2:$AH$13999, FLData!$C$2:$C$13999, \">=\"&fromDateI, FLData!$C$2:$C$13999, \"<=\" &toDateI, FLData!$J$2:$J$13999,$C117, FLData!$E$2:$E$13999, SingleEngineTypes, FLData!$F$2:$F$13999, \"Operation\" ))*24","v":0},{"$f":"( SUMPRODUCT( SUMIFS( FLData!$AH$2:$AH$13999, FLData!$C$2:$C$13999, \">=\"&fromDateI, FLData!$C$2:$C$13999, \"<=\" &toDateI, FLData!$M$2:$M$13999,$C117, FLData!$E$2:$E$13999, MultiEngineTypes, FLData!$F$2:$F$13999, \"Lesson\" )) + SUMPRODUCT( SUMIFS( FLData!$AH$2:$AH$13999, FLData!$C$2:$C$13999, \">=\"&fromDateI, FLData!$C$2:$C$13999, \"<=\" &toDateI, FLData!$S$2:$S$13999,$C117, FLData!$E$2:$E$13999, MultiEngineTypes, FLData!$F$2:$F$13999, \"Rental\" )) )*24","v":0},{"$f":"SUMPRODUCT( SUMIFS( FLData!$AH$2:$AH$13999, FLData!$C$2:$C$13999, \">=\"&fromDateI, FLData!$C$2:$C$13999, \"<=\" &toDateI, FLData!$J$2:$J$13999,$C117, FLData!$E$2:$E$13999, MultiEngineTypes, FLData!$F$2:$F$13999, \"Operation\" ))*24","v":0},{"$f":"( SUMPRODUCT( SUMIFS( FLData!$AH$2:$AH$13999, FLData!$C$2:$C$13999, \">=\"&fromDateI, FLData!$C$2:$C$13999, \"<=\" &toDateI, FLData!$M$2:$M$13999,$C117, FLData!$E$2:$E$13999, Sim1Types, FLData!$F$2:$F$13999, \"Lesson\" )) + SUMPRODUCT( SUMIFS( FLData!$AH$2:$AH$13999, FLData!$C$2:$C$13999, \">=\"&fromDateI, FLData!$C$2:$C$13999, \"<=\" &toDateI, FLData!$S$2:$S$13999,$C117, FLData!$E$2:$E$13999, Sim1Types, FLData!$F$2:$F$13999, \"Rental\" )) )*24","v":0},{"$f":"SUMPRODUCT( SUMIFS( FLData!$AH$2:$AH$13999, FLData!$C$2:$C$13999, \">=\"&fromDateI, FLData!$C$2:$C$13999, \"<=\" &toDateI, FLData!$J$2:$J$13999,$C117, FLData!$E$2:$E$13999, Sim1Types, FLData!$F$2:$F$13999, \"Operation\" ))*24","v":0},{"$f":"( SUMPRODUCT( SUMIFS( FLData!$AH$2:$AH$13999, FLData!$C$2:$C$13999, \">=\"&fromDateI, FLData!$C$2:$C$13999, \"<=\" &toDateI, FLData!$M$2:$M$13999,$C117, FLData!$E$2:$E$13999, Sim2Types, FLData!$F$2:$F$13999, \"Lesson\" )) + SUMPRODUCT( SUMIFS( FLData!$AH$2:$AH$13999, FLData!$C$2:$C$13999, \">=\"&fromDateI, FLData!$C$2:$C$13999, \"<=\" &toDateI, FLData!$S$2:$S$13999,$C117, FLData!$E$2:$E$13999, Sim2Types, FLData!$F$2:$F$13999, \"Rental\" )) )*24","v":0},{"$f":"SUMPRODUCT( SUMIFS( FLData!$AH$2:$AH$13999, FLData!$C$2:$C$13999, \">=\"&fromDateI, FLData!$C$2:$C$13999, \"<=\" &toDateI, FLData!$J$2:$J$13999,$C117, FLData!$E$2:$E$13999, Sim2Types, FLData!$F$2:$F$13999, \"Operation\" ))*24","v":0},0,0,0]
[null,null,"",{"$f":"( SUMPRODUCT( SUMIFS( FLData!$AH$2:$AH$13999, FLData!$C$2:$C$13999, \">=\"&fromDateI, FLData!$C$2:$C$13999, \"<=\" &toDateI, FLData!$M$2:$M$13999,$C118, FLData!$E$2:$E$13999, SingleEngineTypes, FLData!$F$2:$F$13999, \"Lesson\" )) + SUMPRODUCT( SUMIFS( FLData!$AH$2:$AH$13999, FLData!$C$2:$C$13999, \">=\"&fromDateI, FLData!$C$2:$C$13999, \"<=\" &toDateI, FLData!$S$2:$S$13999,$C118, FLData!$E$2:$E$13999, SingleEngineTypes, FLData!$F$2:$F$13999, \"Rental\" )) )*24","v":0},{"$f":"SUMPRODUCT( SUMIFS( FLData!$AH$2:$AH$13999, FLData!$C$2:$C$13999, \">=\"&fromDateI, FLData!$C$2:$C$13999, \"<=\" &toDateI, FLData!$J$2:$J$13999,$C118, FLData!$E$2:$E$13999, SingleEngineTypes, FLData!$F$2:$F$13999, \"Operation\" ))*24","v":0},{"$f":"( SUMPRODUCT( SUMIFS( FLData!$AH$2:$AH$13999, FLData!$C$2:$C$13999, \">=\"&fromDateI, FLData!$C$2:$C$13999, \"<=\" &toDateI, FLData!$M$2:$M$13999,$C118, FLData!$E$2:$E$13999, MultiEngineTypes, FLData!$F$2:$F$13999, \"Lesson\" )) + SUMPRODUCT( SUMIFS( FLData!$AH$2:$AH$13999, FLData!$C$2:$C$13999, \">=\"&fromDateI, FLData!$C$2:$C$13999, \"<=\" &toDateI, FLData!$S$2:$S$13999,$C118, FLData!$E$2:$E$13999, MultiEngineTypes, FLData!$F$2:$F$13999, \"Rental\" )) )*24","v":0},{"$f":"SUMPRODUCT( SUMIFS( FLData!$AH$2:$AH$13999, FLData!$C$2:$C$13999, \">=\"&fromDateI, FLData!$C$2:$C$13999, \"<=\" &toDateI, FLData!$J$2:$J$13999,$C118, FLData!$E$2:$E$13999, MultiEngineTypes, FLData!$F$2:$F$13999, \"Operation\" ))*24","v":0},{"$f":"( SUMPRODUCT( SUMIFS( FLData!$AH$2:$AH$13999, FLData!$C$2:$C$13999, \">=\"&fromDateI, FLData!$C$2:$C$13999, \"<=\" &toDateI, FLData!$M$2:$M$13999,$C118, FLData!$E$2:$E$13999, Sim1Types, FLData!$F$2:$F$13999, \"Lesson\" )) + SUMPRODUCT( SUMIFS( FLData!$AH$2:$AH$13999, FLData!$C$2:$C$13999, \">=\"&fromDateI, FLData!$C$2:$C$13999, \"<=\" &toDateI, FLData!$S$2:$S$13999,$C118, FLData!$E$2:$E$13999, Sim1Types, FLData!$F$2:$F$13999, \"Rental\" )) )*24","v":0},{"$f":"SUMPRODUCT( SUMIFS( FLData!$AH$2:$AH$13999, FLData!$C$2:$C$13999, \">=\"&fromDateI, FLData!$C$2:$C$13999, \"<=\" &toDateI, FLData!$J$2:$J$13999,$C118, FLData!$E$2:$E$13999, Sim1Types, FLData!$F$2:$F$13999, \"Operation\" ))*24","v":0},{"$f":"( SUMPRODUCT( SUMIFS( FLData!$AH$2:$AH$13999, FLData!$C$2:$C$13999, \">=\"&fromDateI, FLData!$C$2:$C$13999, \"<=\" &toDateI, FLData!$M$2:$M$13999,$C118, FLData!$E$2:$E$13999, Sim2Types, FLData!$F$2:$F$13999, \"Lesson\" )) + SUMPRODUCT( SUMIFS( FLData!$AH$2:$AH$13999, FLData!$C$2:$C$13999, \">=\"&fromDateI, FLData!$C$2:$C$13999, \"<=\" &toDateI, FLData!$S$2:$S$13999,$C118, FLData!$E$2:$E$13999, Sim2Types, FLData!$F$2:$F$13999, \"Rental\" )) )*24","v":0},{"$f":"SUMPRODUCT( SUMIFS( FLData!$AH$2:$AH$13999, FLData!$C$2:$C$13999, \">=\"&fromDateI, FLData!$C$2:$C$13999, \"<=\" &toDateI, FLData!$J$2:$J$13999,$C118, FLData!$E$2:$E$13999, Sim2Types, FLData!$F$2:$F$13999, \"Operation\" ))*24","v":0},0,0,0]
[null,null,"",{"$f":"( SUMPRODUCT( SUMIFS( FLData!$AH$2:$AH$13999, FLData!$C$2:$C$13999, \">=\"&fromDateI, FLData!$C$2:$C$13999, \"<=\" &toDateI, FLData!$M$2:$M$13999,$C119, FLData!$E$2:$E$13999, SingleEngineTypes, FLData!$F$2:$F$13999, \"Lesson\" )) + SUMPRODUCT( SUMIFS( FLData!$AH$2:$AH$13999, FLData!$C$2:$C$13999, \">=\"&fromDateI, FLData!$C$2:$C$13999, \"<=\" &toDateI, FLData!$S$2:$S$13999,$C119, FLData!$E$2:$E$13999, SingleEngineTypes, FLData!$F$2:$F$13999, \"Rental\" )) )*24","v":0},{"$f":"SUMPRODUCT( SUMIFS( FLData!$AH$2:$AH$13999, FLData!$C$2:$C$13999, \">=\"&fromDateI, FLData!$C$2:$C$13999, \"<=\" &toDateI, FLData!$J$2:$J$13999,$C119, FLData!$E$2:$E$13999, SingleEngineTypes, FLData!$F$2:$F$13999, \"Operation\" ))*24","v":0},{"$f":"( SUMPRODUCT( SUMIFS( FLData!$AH$2:$AH$13999, FLData!$C$2:$C$13999, \">=\"&fromDateI, FLData!$C$2:$C$13999, \"<=\" &toDateI, FLData!$M$2:$M$13999,$C119, FLData!$E$2:$E$13999, MultiEngineTypes, FLData!$F$2:$F$13999, \"Lesson\" )) + SUMPRODUCT( SUMIFS( FLData!$AH$2:$AH$13999, FLData!$C$2:$C$13999, \">=\"&fromDateI, FLData!$C$2:$C$13999, \"<=\" &toDateI, FLData!$S$2:$S$13999,$C119, FLData!$E$2:$E$13999, MultiEngineTypes, FLData!$F$2:$F$13999, \"Rental\" )) )*24","v":0},{"$f":"SUMPRODUCT( SUMIFS( FLData!$AH$2:$AH$13999, FLData!$C$2:$C$13999, \">=\"&fromDateI, FLData!$C$2:$C$13999, \"<=\" &toDateI, FLData!$J$2:$J$13999,$C119, FLData!$E$2:$E$13999, MultiEngineTypes, FLData!$F$2:$F$13999, \"Operation\" ))*24","v":0},{"$f":"( SUMPRODUCT( SUMIFS( FLData!$AH$2:$AH$13999, FLData!$C$2:$C$13999, \">=\"&fromDateI, FLData!$C$2:$C$13999, \"<=\" &toDateI, FLData!$M$2:$M$13999,$C119, FLData!$E$2:$E$13999, Sim1Types, FLData!$F$2:$F$13999, \"Lesson\" )) + SUMPRODUCT( SUMIFS( FLData!$AH$2:$AH$13999, FLData!$C$2:$C$13999, \">=\"&fromDateI, FLData!$C$2:$C$13999, \"<=\" &toDateI, FLData!$S$2:$S$13999,$C119, FLData!$E$2:$E$13999, Sim1Types, FLData!$F$2:$F$13999, \"Rental\" )) )*24","v":0},{"$f":"SUMPRODUCT( SUMIFS( FLData!$AH$2:$AH$13999, FLData!$C$2:$C$13999, \">=\"&fromDateI, FLData!$C$2:$C$13999, \"<=\" &toDateI, FLData!$J$2:$J$13999,$C119, FLData!$E$2:$E$13999, Sim1Types, FLData!$F$2:$F$13999, \"Operation\" ))*24","v":0},{"$f":"( SUMPRODUCT( SUMIFS( FLData!$AH$2:$AH$13999, FLData!$C$2:$C$13999, \">=\"&fromDateI, FLData!$C$2:$C$13999, \"<=\" &toDateI, FLData!$M$2:$M$13999,$C119, FLData!$E$2:$E$13999, Sim2Types, FLData!$F$2:$F$13999, \"Lesson\" )) + SUMPRODUCT( SUMIFS( FLData!$AH$2:$AH$13999, FLData!$C$2:$C$13999, \">=\"&fromDateI, FLData!$C$2:$C$13999, \"<=\" &toDateI, FLData!$S$2:$S$13999,$C119, FLData!$E$2:$E$13999, Sim2Types, FLData!$F$2:$F$13999, \"Rental\" )) )*24","v":0},{"$f":"SUMPRODUCT( SUMIFS( FLData!$AH$2:$AH$13999, FLData!$C$2:$C$13999, \">=\"&fromDateI, FLData!$C$2:$C$13999, \"<=\" &toDateI, FLData!$J$2:$J$13999,$C119, FLData!$E$2:$E$13999, Sim2Types, FLData!$F$2:$F$13999, \"Operation\" ))*24","v":0},0,0,0]
[null,null,"",{"$f":"( SUMPRODUCT( SUMIFS( FLData!$AH$2:$AH$13999, FLData!$C$2:$C$13999, \">=\"&fromDateI, FLData!$C$2:$C$13999, \"<=\" &toDateI, FLData!$M$2:$M$13999,$C120, FLData!$E$2:$E$13999, SingleEngineTypes, FLData!$F$2:$F$13999, \"Lesson\" )) + SUMPRODUCT( SUMIFS( FLData!$AH$2:$AH$13999, FLData!$C$2:$C$13999, \">=\"&fromDateI, FLData!$C$2:$C$13999, \"<=\" &toDateI, FLData!$S$2:$S$13999,$C120, FLData!$E$2:$E$13999, SingleEngineTypes, FLData!$F$2:$F$13999, \"Rental\" )) )*24","v":0},{"$f":"SUMPRODUCT( SUMIFS( FLData!$AH$2:$AH$13999, FLData!$C$2:$C$13999, \">=\"&fromDateI, FLData!$C$2:$C$13999, \"<=\" &toDateI, FLData!$J$2:$J$13999,$C120, FLData!$E$2:$E$13999, SingleEngineTypes, FLData!$F$2:$F$13999, \"Operation\" ))*24","v":0},{"$f":"( SUMPRODUCT( SUMIFS( FLData!$AH$2:$AH$13999, FLData!$C$2:$C$13999, \">=\"&fromDateI, FLData!$C$2:$C$13999, \"<=\" &toDateI, FLData!$M$2:$M$13999,$C120, FLData!$E$2:$E$13999, MultiEngineTypes, FLData!$F$2:$F$13999, \"Lesson\" )) + SUMPRODUCT( SUMIFS( FLData!$AH$2:$AH$13999, FLData!$C$2:$C$13999, \">=\"&fromDateI, FLData!$C$2:$C$13999, \"<=\" &toDateI, FLData!$S$2:$S$13999,$C120, FLData!$E$2:$E$13999, MultiEngineTypes, FLData!$F$2:$F$13999, \"Rental\" )) )*24","v":0},{"$f":"SUMPRODUCT( SUMIFS( FLData!$AH$2:$AH$13999, FLData!$C$2:$C$13999, \">=\"&fromDateI, FLData!$C$2:$C$13999, \"<=\" &toDateI, FLData!$J$2:$J$13999,$C120, FLData!$E$2:$E$13999, MultiEngineTypes, FLData!$F$2:$F$13999, \"Operation\" ))*24","v":0},{"$f":"( SUMPRODUCT( SUMIFS( FLData!$AH$2:$AH$13999, FLData!$C$2:$C$13999, \">=\"&fromDateI, FLData!$C$2:$C$13999, \"<=\" &toDateI, FLData!$M$2:$M$13999,$C120, FLData!$E$2:$E$13999, Sim1Types, FLData!$F$2:$F$13999, \"Lesson\" )) + SUMPRODUCT( SUMIFS( FLData!$AH$2:$AH$13999, FLData!$C$2:$C$13999, \">=\"&fromDateI, FLData!$C$2:$C$13999, \"<=\" &toDateI, FLData!$S$2:$S$13999,$C120, FLData!$E$2:$E$13999, Sim1Types, FLData!$F$2:$F$13999, \"Rental\" )) )*24","v":0},{"$f":"SUMPRODUCT( SUMIFS( FLData!$AH$2:$AH$13999, FLData!$C$2:$C$13999, \">=\"&fromDateI, FLData!$C$2:$C$13999, \"<=\" &toDateI, FLData!$J$2:$J$13999,$C120, FLData!$E$2:$E$13999, Sim1Types, FLData!$F$2:$F$13999, \"Operation\" ))*24","v":0},{"$f":"( SUMPRODUCT( SUMIFS( FLData!$AH$2:$AH$13999, FLData!$C$2:$C$13999, \">=\"&fromDateI, FLData!$C$2:$C$13999, \"<=\" &toDateI, FLData!$M$2:$M$13999,$C120, FLData!$E$2:$E$13999, Sim2Types, FLData!$F$2:$F$13999, \"Lesson\" )) + SUMPRODUCT( SUMIFS( FLData!$AH$2:$AH$13999, FLData!$C$2:$C$13999, \">=\"&fromDateI, FLData!$C$2:$C$13999, \"<=\" &toDateI, FLData!$S$2:$S$13999,$C120, FLData!$E$2:$E$13999, Sim2Types, FLData!$F$2:$F$13999, \"Rental\" )) )*24","v":0},{"$f":"SUMPRODUCT( SUMIFS( FLData!$AH$2:$AH$13999, FLData!$C$2:$C$13999, \">=\"&fromDateI, FLData!$C$2:$C$13999, \"<=\" &toDateI, FLData!$J$2:$J$13999,$C120, FLData!$E$2:$E$13999, Sim2Types, FLData!$F$2:$F$13999, \"Operation\" ))*24","v":0},0,0,0]
[null,null,"",{"$f":"( SUMPRODUCT( SUMIFS( FLData!$AH$2:$AH$13999, FLData!$C$2:$C$13999, \">=\"&fromDateI, FLData!$C$2:$C$13999, \"<=\" &toDateI, FLData!$M$2:$M$13999,$C121, FLData!$E$2:$E$13999, SingleEngineTypes, FLData!$F$2:$F$13999, \"Lesson\" )) + SUMPRODUCT( SUMIFS( FLData!$AH$2:$AH$13999, FLData!$C$2:$C$13999, \">=\"&fromDateI, FLData!$C$2:$C$13999, \"<=\" &toDateI, FLData!$S$2:$S$13999,$C121, FLData!$E$2:$E$13999, SingleEngineTypes, FLData!$F$2:$F$13999, \"Rental\" )) )*24","v":0},{"$f":"SUMPRODUCT( SUMIFS( FLData!$AH$2:$AH$13999, FLData!$C$2:$C$13999, \">=\"&fromDateI, FLData!$C$2:$C$13999, \"<=\" &toDateI, FLData!$J$2:$J$13999,$C121, FLData!$E$2:$E$13999, SingleEngineTypes, FLData!$F$2:$F$13999, \"Operation\" ))*24","v":0},{"$f":"( SUMPRODUCT( SUMIFS( FLData!$AH$2:$AH$13999, FLData!$C$2:$C$13999, \">=\"&fromDateI, FLData!$C$2:$C$13999, \"<=\" &toDateI, FLData!$M$2:$M$13999,$C121, FLData!$E$2:$E$13999, MultiEngineTypes, FLData!$F$2:$F$13999, \"Lesson\" )) + SUMPRODUCT( SUMIFS( FLData!$AH$2:$AH$13999, FLData!$C$2:$C$13999, \">=\"&fromDateI, FLData!$C$2:$C$13999, \"<=\" &toDateI, FLData!$S$2:$S$13999,$C121, FLData!$E$2:$E$13999, MultiEngineTypes, FLData!$F$2:$F$13999, \"Rental\" )) )*24","v":0},{"$f":"SUMPRODUCT( SUMIFS( FLData!$AH$2:$AH$13999, FLData!$C$2:$C$13999, \">=\"&fromDateI, FLData!$C$2:$C$13999, \"<=\" &toDateI, FLData!$J$2:$J$13999,$C121, FLData!$E$2:$E$13999, MultiEngineTypes, FLData!$F$2:$F$13999, \"Operation\" ))*24","v":0},{"$f":"( SUMPRODUCT( SUMIFS( FLData!$AH$2:$AH$13999, FLData!$C$2:$C$13999, \">=\"&fromDateI, FLData!$C$2:$C$13999, \"<=\" &toDateI, FLData!$M$2:$M$13999,$C121, FLData!$E$2:$E$13999, Sim1Types, FLData!$F$2:$F$13999, \"Lesson\" )) + SUMPRODUCT( SUMIFS( FLData!$AH$2:$AH$13999, FLData!$C$2:$C$13999, \">=\"&fromDateI, FLData!$C$2:$C$13999, \"<=\" &toDateI, FLData!$S$2:$S$13999,$C121, FLData!$E$2:$E$13999, Sim1Types, FLData!$F$2:$F$13999, \"Rental\" )) )*24","v":0},{"$f":"SUMPRODUCT( SUMIFS( FLData!$AH$2:$AH$13999, FLData!$C$2:$C$13999, \">=\"&fromDateI, FLData!$C$2:$C$13999, \"<=\" &toDateI, FLData!$J$2:$J$13999,$C121, FLData!$E$2:$E$13999, Sim1Types, FLData!$F$2:$F$13999, \"Operation\" ))*24","v":0},{"$f":"( SUMPRODUCT( SUMIFS( FLData!$AH$2:$AH$13999, FLData!$C$2:$C$13999, \">=\"&fromDateI, FLData!$C$2:$C$13999, \"<=\" &toDateI, FLData!$M$2:$M$13999,$C121, FLData!$E$2:$E$13999, Sim2Types, FLData!$F$2:$F$13999, \"Lesson\" )) + SUMPRODUCT( SUMIFS( FLData!$AH$2:$AH$13999, FLData!$C$2:$C$13999, \">=\"&fromDateI, FLData!$C$2:$C$13999, \"<=\" &toDateI, FLData!$S$2:$S$13999,$C121, FLData!$E$2:$E$13999, Sim2Types, FLData!$F$2:$F$13999, \"Rental\" )) )*24","v":0},{"$f":"SUMPRODUCT( SUMIFS( FLData!$AH$2:$AH$13999, FLData!$C$2:$C$13999, \">=\"&fromDateI, FLData!$C$2:$C$13999, \"<=\" &toDateI, FLData!$J$2:$J$13999,$C121, FLData!$E$2:$E$13999, Sim2Types, FLData!$F$2:$F$13999, \"Operation\" ))*24","v":0},0,0,0]
[null,null,"",{"$f":"( SUMPRODUCT( SUMIFS( FLData!$AH$2:$AH$13999, FLData!$C$2:$C$13999, \">=\"&fromDateI, FLData!$C$2:$C$13999, \"<=\" &toDateI, FLData!$M$2:$M$13999,$C122, FLData!$E$2:$E$13999, SingleEngineTypes, FLData!$F$2:$F$13999, \"Lesson\" )) + SUMPRODUCT( SUMIFS( FLData!$AH$2:$AH$13999, FLData!$C$2:$C$13999, \">=\"&fromDateI, FLData!$C$2:$C$13999, \"<=\" &toDateI, FLData!$S$2:$S$13999,$C122, FLData!$E$2:$E$13999, SingleEngineTypes, FLData!$F$2:$F$13999, \"Rental\" )) )*24","v":0},{"$f":"SUMPRODUCT( SUMIFS( FLData!$AH$2:$AH$13999, FLData!$C$2:$C$13999, \">=\"&fromDateI, FLData!$C$2:$C$13999, \"<=\" &toDateI, FLData!$J$2:$J$13999,$C122, FLData!$E$2:$E$13999, SingleEngineTypes, FLData!$F$2:$F$13999, \"Operation\" ))*24","v":0},{"$f":"( SUMPRODUCT( SUMIFS( FLData!$AH$2:$AH$13999, FLData!$C$2:$C$13999, \">=\"&fromDateI, FLData!$C$2:$C$13999, \"<=\" &toDateI, FLData!$M$2:$M$13999,$C122, FLData!$E$2:$E$13999, MultiEngineTypes, FLData!$F$2:$F$13999, \"Lesson\" )) + SUMPRODUCT( SUMIFS( FLData!$AH$2:$AH$13999, FLData!$C$2:$C$13999, \">=\"&fromDateI, FLData!$C$2:$C$13999, \"<=\" &toDateI, FLData!$S$2:$S$13999,$C122, FLData!$E$2:$E$13999, MultiEngineTypes, FLData!$F$2:$F$13999, \"Rental\" )) )*24","v":0},{"$f":"SUMPRODUCT( SUMIFS( FLData!$AH$2:$AH$13999, FLData!$C$2:$C$13999, \">=\"&fromDateI, FLData!$C$2:$C$13999, \"<=\" &toDateI, FLData!$J$2:$J$13999,$C122, FLData!$E$2:$E$13999, MultiEngineTypes, FLData!$F$2:$F$13999, \"Operation\" ))*24","v":0},{"$f":"( SUMPRODUCT( SUMIFS( FLData!$AH$2:$AH$13999, FLData!$C$2:$C$13999, \">=\"&fromDateI, FLData!$C$2:$C$13999, \"<=\" &toDateI, FLData!$M$2:$M$13999,$C122, FLData!$E$2:$E$13999, Sim1Types, FLData!$F$2:$F$13999, \"Lesson\" )) + SUMPRODUCT( SUMIFS( FLData!$AH$2:$AH$13999, FLData!$C$2:$C$13999, \">=\"&fromDateI, FLData!$C$2:$C$13999, \"<=\" &toDateI, FLData!$S$2:$S$13999,$C122, FLData!$E$2:$E$13999, Sim1Types, FLData!$F$2:$F$13999, \"Rental\" )) )*24","v":0},{"$f":"SUMPRODUCT( SUMIFS( FLData!$AH$2:$AH$13999, FLData!$C$2:$C$13999, \">=\"&fromDateI, FLData!$C$2:$C$13999, \"<=\" &toDateI, FLData!$J$2:$J$13999,$C122, FLData!$E$2:$E$13999, Sim1Types, FLData!$F$2:$F$13999, \"Operation\" ))*24","v":0},{"$f":"( SUMPRODUCT( SUMIFS( FLData!$AH$2:$AH$13999, FLData!$C$2:$C$13999, \">=\"&fromDateI, FLData!$C$2:$C$13999, \"<=\" &toDateI, FLData!$M$2:$M$13999,$C122, FLData!$E$2:$E$13999, Sim2Types, FLData!$F$2:$F$13999, \"Lesson\" )) + SUMPRODUCT( SUMIFS( FLData!$AH$2:$AH$13999, FLData!$C$2:$C$13999, \">=\"&fromDateI, FLData!$C$2:$C$13999, \"<=\" &toDateI, FLData!$S$2:$S$13999,$C122, FLData!$E$2:$E$13999, Sim2Types, FLData!$F$2:$F$13999, \"Rental\" )) )*24","v":0},{"$f":"SUMPRODUCT( SUMIFS( FLData!$AH$2:$AH$13999, FLData!$C$2:$C$13999, \">=\"&fromDateI, FLData!$C$2:$C$13999, \"<=\" &toDateI, FLData!$J$2:$J$13999,$C122, FLData!$E$2:$E$13999, Sim2Types, FLData!$F$2:$F$13999, \"Operation\" ))*24","v":0},0,0,0]
[null,null,"",{"$f":"( SUMPRODUCT( SUMIFS( FLData!$AH$2:$AH$13999, FLData!$C$2:$C$13999, \">=\"&fromDateI, FLData!$C$2:$C$13999, \"<=\" &toDateI, FLData!$M$2:$M$13999,$C123, FLData!$E$2:$E$13999, SingleEngineTypes, FLData!$F$2:$F$13999, \"Lesson\" )) + SUMPRODUCT( SUMIFS( FLData!$AH$2:$AH$13999, FLData!$C$2:$C$13999, \">=\"&fromDateI, FLData!$C$2:$C$13999, \"<=\" &toDateI, FLData!$S$2:$S$13999,$C123, FLData!$E$2:$E$13999, SingleEngineTypes, FLData!$F$2:$F$13999, \"Rental\" )) )*24","v":0},{"$f":"SUMPRODUCT( SUMIFS( FLData!$AH$2:$AH$13999, FLData!$C$2:$C$13999, \">=\"&fromDateI, FLData!$C$2:$C$13999, \"<=\" &toDateI, FLData!$J$2:$J$13999,$C123, FLData!$E$2:$E$13999, SingleEngineTypes, FLData!$F$2:$F$13999, \"Operation\" ))*24","v":0},{"$f":"( SUMPRODUCT( SUMIFS( FLData!$AH$2:$AH$13999, FLData!$C$2:$C$13999, \">=\"&fromDateI, FLData!$C$2:$C$13999, \"<=\" &toDateI, FLData!$M$2:$M$13999,$C123, FLData!$E$2:$E$13999, MultiEngineTypes, FLData!$F$2:$F$13999, \"Lesson\" )) + SUMPRODUCT( SUMIFS( FLData!$AH$2:$AH$13999, FLData!$C$2:$C$13999, \">=\"&fromDateI, FLData!$C$2:$C$13999, \"<=\" &toDateI, FLData!$S$2:$S$13999,$C123, FLData!$E$2:$E$13999, MultiEngineTypes, FLData!$F$2:$F$13999, \"Rental\" )) )*24","v":0},{"$f":"SUMPRODUCT( SUMIFS( FLData!$AH$2:$AH$13999, FLData!$C$2:$C$13999, \">=\"&fromDateI, FLData!$C$2:$C$13999, \"<=\" &toDateI, FLData!$J$2:$J$13999,$C123, FLData!$E$2:$E$13999, MultiEngineTypes, FLData!$F$2:$F$13999, \"Operation\" ))*24","v":0},{"$f":"( SUMPRODUCT( SUMIFS( FLData!$AH$2:$AH$13999, FLData!$C$2:$C$13999, \">=\"&fromDateI, FLData!$C$2:$C$13999, \"<=\" &toDateI, FLData!$M$2:$M$13999,$C123, FLData!$E$2:$E$13999, Sim1Types, FLData!$F$2:$F$13999, \"Lesson\" )) + SUMPRODUCT( SUMIFS( FLData!$AH$2:$AH$13999, FLData!$C$2:$C$13999, \">=\"&fromDateI, FLData!$C$2:$C$13999, \"<=\" &toDateI, FLData!$S$2:$S$13999,$C123, FLData!$E$2:$E$13999, Sim1Types, FLData!$F$2:$F$13999, \"Rental\" )) )*24","v":0},{"$f":"SUMPRODUCT( SUMIFS( FLData!$AH$2:$AH$13999, FLData!$C$2:$C$13999, \">=\"&fromDateI, FLData!$C$2:$C$13999, \"<=\" &toDateI, FLData!$J$2:$J$13999,$C123, FLData!$E$2:$E$13999, Sim1Types, FLData!$F$2:$F$13999, \"Operation\" ))*24","v":0},{"$f":"( SUMPRODUCT( SUMIFS( FLData!$AH$2:$AH$13999, FLData!$C$2:$C$13999, \">=\"&fromDateI, FLData!$C$2:$C$13999, \"<=\" &toDateI, FLData!$M$2:$M$13999,$C123, FLData!$E$2:$E$13999, Sim2Types, FLData!$F$2:$F$13999, \"Lesson\" )) + SUMPRODUCT( SUMIFS( FLData!$AH$2:$AH$13999, FLData!$C$2:$C$13999, \">=\"&fromDateI, FLData!$C$2:$C$13999, \"<=\" &toDateI, FLData!$S$2:$S$13999,$C123, FLData!$E$2:$E$13999, Sim2Types, FLData!$F$2:$F$13999, \"Rental\" )) )*24","v":0},{"$f":"SUMPRODUCT( SUMIFS( FLData!$AH$2:$AH$13999, FLData!$C$2:$C$13999, \">=\"&fromDateI, FLData!$C$2:$C$13999, \"<=\" &toDateI, FLData!$J$2:$J$13999,$C123, FLData!$E$2:$E$13999, Sim2Types, FLData!$F$2:$F$13999, \"Operation\" ))*24","v":0},0,0,0]
[null,null,"",{"$f":"( SUMPRODUCT( SUMIFS( FLData!$AH$2:$AH$13999, FLData!$C$2:$C$13999, \">=\"&fromDateI, FLData!$C$2:$C$13999, \"<=\" &toDateI, FLData!$M$2:$M$13999,$C124, FLData!$E$2:$E$13999, SingleEngineTypes, FLData!$F$2:$F$13999, \"Lesson\" )) + SUMPRODUCT( SUMIFS( FLData!$AH$2:$AH$13999, FLData!$C$2:$C$13999, \">=\"&fromDateI, FLData!$C$2:$C$13999, \"<=\" &toDateI, FLData!$S$2:$S$13999,$C124, FLData!$E$2:$E$13999, SingleEngineTypes, FLData!$F$2:$F$13999, \"Rental\" )) )*24","v":0},{"$f":"SUMPRODUCT( SUMIFS( FLData!$AH$2:$AH$13999, FLData!$C$2:$C$13999, \">=\"&fromDateI, FLData!$C$2:$C$13999, \"<=\" &toDateI, FLData!$J$2:$J$13999,$C124, FLData!$E$2:$E$13999, SingleEngineTypes, FLData!$F$2:$F$13999, \"Operation\" ))*24","v":0},{"$f":"( SUMPRODUCT( SUMIFS( FLData!$AH$2:$AH$13999, FLData!$C$2:$C$13999, \">=\"&fromDateI, FLData!$C$2:$C$13999, \"<=\" &toDateI, FLData!$M$2:$M$13999,$C124, FLData!$E$2:$E$13999, MultiEngineTypes, FLData!$F$2:$F$13999, \"Lesson\" )) + SUMPRODUCT( SUMIFS( FLData!$AH$2:$AH$13999, FLData!$C$2:$C$13999, \">=\"&fromDateI, FLData!$C$2:$C$13999, \"<=\" &toDateI, FLData!$S$2:$S$13999,$C124, FLData!$E$2:$E$13999, MultiEngineTypes, FLData!$F$2:$F$13999, \"Rental\" )) )*24","v":0},{"$f":"SUMPRODUCT( SUMIFS( FLData!$AH$2:$AH$13999, FLData!$C$2:$C$13999, \">=\"&fromDateI, FLData!$C$2:$C$13999, \"<=\" &toDateI, FLData!$J$2:$J$13999,$C124, FLData!$E$2:$E$13999, MultiEngineTypes, FLData!$F$2:$F$13999, \"Operation\" ))*24","v":0},{"$f":"( SUMPRODUCT( SUMIFS( FLData!$AH$2:$AH$13999, FLData!$C$2:$C$13999, \">=\"&fromDateI, FLData!$C$2:$C$13999, \"<=\" &toDateI, FLData!$M$2:$M$13999,$C124, FLData!$E$2:$E$13999, Sim1Types, FLData!$F$2:$F$13999, \"Lesson\" )) + SUMPRODUCT( SUMIFS( FLData!$AH$2:$AH$13999, FLData!$C$2:$C$13999, \">=\"&fromDateI, FLData!$C$2:$C$13999, \"<=\" &toDateI, FLData!$S$2:$S$13999,$C124, FLData!$E$2:$E$13999, Sim1Types, FLData!$F$2:$F$13999, \"Rental\" )) )*24","v":0},{"$f":"SUMPRODUCT( SUMIFS( FLData!$AH$2:$AH$13999, FLData!$C$2:$C$13999, \">=\"&fromDateI, FLData!$C$2:$C$13999, \"<=\" &toDateI, FLData!$J$2:$J$13999,$C124, FLData!$E$2:$E$13999, Sim1Types, FLData!$F$2:$F$13999, \"Operation\" ))*24","v":0},{"$f":"( SUMPRODUCT( SUMIFS( FLData!$AH$2:$AH$13999, FLData!$C$2:$C$13999, \">=\"&fromDateI, FLData!$C$2:$C$13999, \"<=\" &toDateI, FLData!$M$2:$M$13999,$C124, FLData!$E$2:$E$13999, Sim2Types, FLData!$F$2:$F$13999, \"Lesson\" )) + SUMPRODUCT( SUMIFS( FLData!$AH$2:$AH$13999, FLData!$C$2:$C$13999, \">=\"&fromDateI, FLData!$C$2:$C$13999, \"<=\" &toDateI, FLData!$S$2:$S$13999,$C124, FLData!$E$2:$E$13999, Sim2Types, FLData!$F$2:$F$13999, \"Rental\" )) )*24","v":0},{"$f":"SUMPRODUCT( SUMIFS( FLData!$AH$2:$AH$13999, FLData!$C$2:$C$13999, \">=\"&fromDateI, FLData!$C$2:$C$13999, \"<=\" &toDateI, FLData!$J$2:$J$13999,$C124, FLData!$E$2:$E$13999, Sim2Types, FLData!$F$2:$F$13999, \"Operation\" ))*24","v":0},0,0,0]
[null,null,"",{"$f":"( SUMPRODUCT( SUMIFS( FLData!$AH$2:$AH$13999, FLData!$C$2:$C$13999, \">=\"&fromDateI, FLData!$C$2:$C$13999, \"<=\" &toDateI, FLData!$M$2:$M$13999,$C125, FLData!$E$2:$E$13999, SingleEngineTypes, FLData!$F$2:$F$13999, \"Lesson\" )) + SUMPRODUCT( SUMIFS( FLData!$AH$2:$AH$13999, FLData!$C$2:$C$13999, \">=\"&fromDateI, FLData!$C$2:$C$13999, \"<=\" &toDateI, FLData!$S$2:$S$13999,$C125, FLData!$E$2:$E$13999, SingleEngineTypes, FLData!$F$2:$F$13999, \"Rental\" )) )*24","v":0},{"$f":"SUMPRODUCT( SUMIFS( FLData!$AH$2:$AH$13999, FLData!$C$2:$C$13999, \">=\"&fromDateI, FLData!$C$2:$C$13999, \"<=\" &toDateI, FLData!$J$2:$J$13999,$C125, FLData!$E$2:$E$13999, SingleEngineTypes, FLData!$F$2:$F$13999, \"Operation\" ))*24","v":0},{"$f":"( SUMPRODUCT( SUMIFS( FLData!$AH$2:$AH$13999, FLData!$C$2:$C$13999, \">=\"&fromDateI, FLData!$C$2:$C$13999, \"<=\" &toDateI, FLData!$M$2:$M$13999,$C125, FLData!$E$2:$E$13999, MultiEngineTypes, FLData!$F$2:$F$13999, \"Lesson\" )) + SUMPRODUCT( SUMIFS( FLData!$AH$2:$AH$13999, FLData!$C$2:$C$13999, \">=\"&fromDateI, FLData!$C$2:$C$13999, \"<=\" &toDateI, FLData!$S$2:$S$13999,$C125, FLData!$E$2:$E$13999, MultiEngineTypes, FLData!$F$2:$F$13999, \"Rental\" )) )*24","v":0},{"$f":"SUMPRODUCT( SUMIFS( FLData!$AH$2:$AH$13999, FLData!$C$2:$C$13999, \">=\"&fromDateI, FLData!$C$2:$C$13999, \"<=\" &toDateI, FLData!$J$2:$J$13999,$C125, FLData!$E$2:$E$13999, MultiEngineTypes, FLData!$F$2:$F$13999, \"Operation\" ))*24","v":0},{"$f":"( SUMPRODUCT( SUMIFS( FLData!$AH$2:$AH$13999, FLData!$C$2:$C$13999, \">=\"&fromDateI, FLData!$C$2:$C$13999, \"<=\" &toDateI, FLData!$M$2:$M$13999,$C125, FLData!$E$2:$E$13999, Sim1Types, FLData!$F$2:$F$13999, \"Lesson\" )) + SUMPRODUCT( SUMIFS( FLData!$AH$2:$AH$13999, FLData!$C$2:$C$13999, \">=\"&fromDateI, FLData!$C$2:$C$13999, \"<=\" &toDateI, FLData!$S$2:$S$13999,$C125, FLData!$E$2:$E$13999, Sim1Types, FLData!$F$2:$F$13999, \"Rental\" )) )*24","v":0},{"$f":"SUMPRODUCT( SUMIFS( FLData!$AH$2:$AH$13999, FLData!$C$2:$C$13999, \">=\"&fromDateI, FLData!$C$2:$C$13999, \"<=\" &toDateI, FLData!$J$2:$J$13999,$C125, FLData!$E$2:$E$13999, Sim1Types, FLData!$F$2:$F$13999, \"Operation\" ))*24","v":0},{"$f":"( SUMPRODUCT( SUMIFS( FLData!$AH$2:$AH$13999, FLData!$C$2:$C$13999, \">=\"&fromDateI, FLData!$C$2:$C$13999, \"<=\" &toDateI, FLData!$M$2:$M$13999,$C125, FLData!$E$2:$E$13999, Sim2Types, FLData!$F$2:$F$13999, \"Lesson\" )) + SUMPRODUCT( SUMIFS( FLData!$AH$2:$AH$13999, FLData!$C$2:$C$13999, \">=\"&fromDateI, FLData!$C$2:$C$13999, \"<=\" &toDateI, FLData!$S$2:$S$13999,$C125, FLData!$E$2:$E$13999, Sim2Types, FLData!$F$2:$F$13999, \"Rental\" )) )*24","v":0},{"$f":"SUMPRODUCT( SUMIFS( FLData!$AH$2:$AH$13999, FLData!$C$2:$C$13999, \">=\"&fromDateI, FLData!$C$2:$C$13999, \"<=\" &toDateI, FLData!$J$2:$J$13999,$C125, FLData!$E$2:$E$13999, Sim2Types, FLData!$F$2:$F$13999, \"Operation\" ))*24","v":0},0,0,0]
[null,null,"",{"$f":"( SUMPRODUCT( SUMIFS( FLData!$AH$2:$AH$13999, FLData!$C$2:$C$13999, \">=\"&fromDateI, FLData!$C$2:$C$13999, \"<=\" &toDateI, FLData!$M$2:$M$13999,$C126, FLData!$E$2:$E$13999, SingleEngineTypes, FLData!$F$2:$F$13999, \"Lesson\" )) + SUMPRODUCT( SUMIFS( FLData!$AH$2:$AH$13999, FLData!$C$2:$C$13999, \">=\"&fromDateI, FLData!$C$2:$C$13999, \"<=\" &toDateI, FLData!$S$2:$S$13999,$C126, FLData!$E$2:$E$13999, SingleEngineTypes, FLData!$F$2:$F$13999, \"Rental\" )) )*24","v":0},{"$f":"SUMPRODUCT( SUMIFS( FLData!$AH$2:$AH$13999, FLData!$C$2:$C$13999, \">=\"&fromDateI, FLData!$C$2:$C$13999, \"<=\" &toDateI, FLData!$J$2:$J$13999,$C126, FLData!$E$2:$E$13999, SingleEngineTypes, FLData!$F$2:$F$13999, \"Operation\" ))*24","v":0},{"$f":"( SUMPRODUCT( SUMIFS( FLData!$AH$2:$AH$13999, FLData!$C$2:$C$13999, \">=\"&fromDateI, FLData!$C$2:$C$13999, \"<=\" &toDateI, FLData!$M$2:$M$13999,$C126, FLData!$E$2:$E$13999, MultiEngineTypes, FLData!$F$2:$F$13999, \"Lesson\" )) + SUMPRODUCT( SUMIFS( FLData!$AH$2:$AH$13999, FLData!$C$2:$C$13999, \">=\"&fromDateI, FLData!$C$2:$C$13999, \"<=\" &toDateI, FLData!$S$2:$S$13999,$C126, FLData!$E$2:$E$13999, MultiEngineTypes, FLData!$F$2:$F$13999, \"Rental\" )) )*24","v":0},{"$f":"SUMPRODUCT( SUMIFS( FLData!$AH$2:$AH$13999, FLData!$C$2:$C$13999, \">=\"&fromDateI, FLData!$C$2:$C$13999, \"<=\" &toDateI, FLData!$J$2:$J$13999,$C126, FLData!$E$2:$E$13999, MultiEngineTypes, FLData!$F$2:$F$13999, \"Operation\" ))*24","v":0},{"$f":"( SUMPRODUCT( SUMIFS( FLData!$AH$2:$AH$13999, FLData!$C$2:$C$13999, \">=\"&fromDateI, FLData!$C$2:$C$13999, \"<=\" &toDateI, FLData!$M$2:$M$13999,$C126, FLData!$E$2:$E$13999, Sim1Types, FLData!$F$2:$F$13999, \"Lesson\" )) + SUMPRODUCT( SUMIFS( FLData!$AH$2:$AH$13999, FLData!$C$2:$C$13999, \">=\"&fromDateI, FLData!$C$2:$C$13999, \"<=\" &toDateI, FLData!$S$2:$S$13999,$C126, FLData!$E$2:$E$13999, Sim1Types, FLData!$F$2:$F$13999, \"Rental\" )) )*24","v":0},{"$f":"SUMPRODUCT( SUMIFS( FLData!$AH$2:$AH$13999, FLData!$C$2:$C$13999, \">=\"&fromDateI, FLData!$C$2:$C$13999, \"<=\" &toDateI, FLData!$J$2:$J$13999,$C126, FLData!$E$2:$E$13999, Sim1Types, FLData!$F$2:$F$13999, \"Operation\" ))*24","v":0},{"$f":"( SUMPRODUCT( SUMIFS( FLData!$AH$2:$AH$13999, FLData!$C$2:$C$13999, \">=\"&fromDateI, FLData!$C$2:$C$13999, \"<=\" &toDateI, FLData!$M$2:$M$13999,$C126, FLData!$E$2:$E$13999, Sim2Types, FLData!$F$2:$F$13999, \"Lesson\" )) + SUMPRODUCT( SUMIFS( FLData!$AH$2:$AH$13999, FLData!$C$2:$C$13999, \">=\"&fromDateI, FLData!$C$2:$C$13999, \"<=\" &toDateI, FLData!$S$2:$S$13999,$C126, FLData!$E$2:$E$13999, Sim2Types, FLData!$F$2:$F$13999, \"Rental\" )) )*24","v":0},{"$f":"SUMPRODUCT( SUMIFS( FLData!$AH$2:$AH$13999, FLData!$C$2:$C$13999, \">=\"&fromDateI, FLData!$C$2:$C$13999, \"<=\" &toDateI, FLData!$J$2:$J$13999,$C126, FLData!$E$2:$E$13999, Sim2Types, FLData!$F$2:$F$13999, \"Operation\" ))*24","v":0},0,0,0]
[null,null,"",{"$f":"( SUMPRODUCT( SUMIFS( FLData!$AH$2:$AH$13999, FLData!$C$2:$C$13999, \">=\"&fromDateI, FLData!$C$2:$C$13999, \"<=\" &toDateI, FLData!$M$2:$M$13999,$C127, FLData!$E$2:$E$13999, SingleEngineTypes, FLData!$F$2:$F$13999, \"Lesson\" )) + SUMPRODUCT( SUMIFS( FLData!$AH$2:$AH$13999, FLData!$C$2:$C$13999, \">=\"&fromDateI, FLData!$C$2:$C$13999, \"<=\" &toDateI, FLData!$S$2:$S$13999,$C127, FLData!$E$2:$E$13999, SingleEngineTypes, FLData!$F$2:$F$13999, \"Rental\" )) )*24","v":0},{"$f":"SUMPRODUCT( SUMIFS( FLData!$AH$2:$AH$13999, FLData!$C$2:$C$13999, \">=\"&fromDateI, FLData!$C$2:$C$13999, \"<=\" &toDateI, FLData!$J$2:$J$13999,$C127, FLData!$E$2:$E$13999, SingleEngineTypes, FLData!$F$2:$F$13999, \"Operation\" ))*24","v":0},{"$f":"( SUMPRODUCT( SUMIFS( FLData!$AH$2:$AH$13999, FLData!$C$2:$C$13999, \">=\"&fromDateI, FLData!$C$2:$C$13999, \"<=\" &toDateI, FLData!$M$2:$M$13999,$C127, FLData!$E$2:$E$13999, MultiEngineTypes, FLData!$F$2:$F$13999, \"Lesson\" )) + SUMPRODUCT( SUMIFS( FLData!$AH$2:$AH$13999, FLData!$C$2:$C$13999, \">=\"&fromDateI, FLData!$C$2:$C$13999, \"<=\" &toDateI, FLData!$S$2:$S$13999,$C127, FLData!$E$2:$E$13999, MultiEngineTypes, FLData!$F$2:$F$13999, \"Rental\" )) )*24","v":0},{"$f":"SUMPRODUCT( SUMIFS( FLData!$AH$2:$AH$13999, FLData!$C$2:$C$13999, \">=\"&fromDateI, FLData!$C$2:$C$13999, \"<=\" &toDateI, FLData!$J$2:$J$13999,$C127, FLData!$E$2:$E$13999, MultiEngineTypes, FLData!$F$2:$F$13999, \"Operation\" ))*24","v":0},{"$f":"( SUMPRODUCT( SUMIFS( FLData!$AH$2:$AH$13999, FLData!$C$2:$C$13999, \">=\"&fromDateI, FLData!$C$2:$C$13999, \"<=\" &toDateI, FLData!$M$2:$M$13999,$C127, FLData!$E$2:$E$13999, Sim1Types, FLData!$F$2:$F$13999, \"Lesson\" )) + SUMPRODUCT( SUMIFS( FLData!$AH$2:$AH$13999, FLData!$C$2:$C$13999, \">=\"&fromDateI, FLData!$C$2:$C$13999, \"<=\" &toDateI, FLData!$S$2:$S$13999,$C127, FLData!$E$2:$E$13999, Sim1Types, FLData!$F$2:$F$13999, \"Rental\" )) )*24","v":0},{"$f":"SUMPRODUCT( SUMIFS( FLData!$AH$2:$AH$13999, FLData!$C$2:$C$13999, \">=\"&fromDateI, FLData!$C$2:$C$13999, \"<=\" &toDateI, FLData!$J$2:$J$13999,$C127, FLData!$E$2:$E$13999, Sim1Types, FLData!$F$2:$F$13999, \"Operation\" ))*24","v":0},{"$f":"( SUMPRODUCT( SUMIFS( FLData!$AH$2:$AH$13999, FLData!$C$2:$C$13999, \">=\"&fromDateI, FLData!$C$2:$C$13999, \"<=\" &toDateI, FLData!$M$2:$M$13999,$C127, FLData!$E$2:$E$13999, Sim2Types, FLData!$F$2:$F$13999, \"Lesson\" )) + SUMPRODUCT( SUMIFS( FLData!$AH$2:$AH$13999, FLData!$C$2:$C$13999, \">=\"&fromDateI, FLData!$C$2:$C$13999, \"<=\" &toDateI, FLData!$S$2:$S$13999,$C127, FLData!$E$2:$E$13999, Sim2Types, FLData!$F$2:$F$13999, \"Rental\" )) )*24","v":0},{"$f":"SUMPRODUCT( SUMIFS( FLData!$AH$2:$AH$13999, FLData!$C$2:$C$13999, \">=\"&fromDateI, FLData!$C$2:$C$13999, \"<=\" &toDateI, FLData!$J$2:$J$13999,$C127, FLData!$E$2:$E$13999, Sim2Types, FLData!$F$2:$F$13999, \"Operation\" ))*24","v":0},0,0,0]
[null,null,"",{"$f":"( SUMPRODUCT( SUMIFS( FLData!$AH$2:$AH$13999, FLData!$C$2:$C$13999, \">=\"&fromDateI, FLData!$C$2:$C$13999, \"<=\" &toDateI, FLData!$M$2:$M$13999,$C128, FLData!$E$2:$E$13999, SingleEngineTypes, FLData!$F$2:$F$13999, \"Lesson\" )) + SUMPRODUCT( SUMIFS( FLData!$AH$2:$AH$13999, FLData!$C$2:$C$13999, \">=\"&fromDateI, FLData!$C$2:$C$13999, \"<=\" &toDateI, FLData!$S$2:$S$13999,$C128, FLData!$E$2:$E$13999, SingleEngineTypes, FLData!$F$2:$F$13999, \"Rental\" )) )*24","v":0},{"$f":"SUMPRODUCT( SUMIFS( FLData!$AH$2:$AH$13999, FLData!$C$2:$C$13999, \">=\"&fromDateI, FLData!$C$2:$C$13999, \"<=\" &toDateI, FLData!$J$2:$J$13999,$C128, FLData!$E$2:$E$13999, SingleEngineTypes, FLData!$F$2:$F$13999, \"Operation\" ))*24","v":0},{"$f":"( SUMPRODUCT( SUMIFS( FLData!$AH$2:$AH$13999, FLData!$C$2:$C$13999, \">=\"&fromDateI, FLData!$C$2:$C$13999, \"<=\" &toDateI, FLData!$M$2:$M$13999,$C128, FLData!$E$2:$E$13999, MultiEngineTypes, FLData!$F$2:$F$13999, \"Lesson\" )) + SUMPRODUCT( SUMIFS( FLData!$AH$2:$AH$13999, FLData!$C$2:$C$13999, \">=\"&fromDateI, FLData!$C$2:$C$13999, \"<=\" &toDateI, FLData!$S$2:$S$13999,$C128, FLData!$E$2:$E$13999, MultiEngineTypes, FLData!$F$2:$F$13999, \"Rental\" )) )*24","v":0},{"$f":"SUMPRODUCT( SUMIFS( FLData!$AH$2:$AH$13999, FLData!$C$2:$C$13999, \">=\"&fromDateI, FLData!$C$2:$C$13999, \"<=\" &toDateI, FLData!$J$2:$J$13999,$C128, FLData!$E$2:$E$13999, MultiEngineTypes, FLData!$F$2:$F$13999, \"Operation\" ))*24","v":0},{"$f":"( SUMPRODUCT( SUMIFS( FLData!$AH$2:$AH$13999, FLData!$C$2:$C$13999, \">=\"&fromDateI, FLData!$C$2:$C$13999, \"<=\" &toDateI, FLData!$M$2:$M$13999,$C128, FLData!$E$2:$E$13999, Sim1Types, FLData!$F$2:$F$13999, \"Lesson\" )) + SUMPRODUCT( SUMIFS( FLData!$AH$2:$AH$13999, FLData!$C$2:$C$13999, \">=\"&fromDateI, FLData!$C$2:$C$13999, \"<=\" &toDateI, FLData!$S$2:$S$13999,$C128, FLData!$E$2:$E$13999, Sim1Types, FLData!$F$2:$F$13999, \"Rental\" )) )*24","v":0},{"$f":"SUMPRODUCT( SUMIFS( FLData!$AH$2:$AH$13999, FLData!$C$2:$C$13999, \">=\"&fromDateI, FLData!$C$2:$C$13999, \"<=\" &toDateI, FLData!$J$2:$J$13999,$C128, FLData!$E$2:$E$13999, Sim1Types, FLData!$F$2:$F$13999, \"Operation\" ))*24","v":0},{"$f":"( SUMPRODUCT( SUMIFS( FLData!$AH$2:$AH$13999, FLData!$C$2:$C$13999, \">=\"&fromDateI, FLData!$C$2:$C$13999, \"<=\" &toDateI, FLData!$M$2:$M$13999,$C128, FLData!$E$2:$E$13999, Sim2Types, FLData!$F$2:$F$13999, \"Lesson\" )) + SUMPRODUCT( SUMIFS( FLData!$AH$2:$AH$13999, FLData!$C$2:$C$13999, \">=\"&fromDateI, FLData!$C$2:$C$13999, \"<=\" &toDateI, FLData!$S$2:$S$13999,$C128, FLData!$E$2:$E$13999, Sim2Types, FLData!$F$2:$F$13999, \"Rental\" )) )*24","v":0},{"$f":"SUMPRODUCT( SUMIFS( FLData!$AH$2:$AH$13999, FLData!$C$2:$C$13999, \">=\"&fromDateI, FLData!$C$2:$C$13999, \"<=\" &toDateI, FLData!$J$2:$J$13999,$C128, FLData!$E$2:$E$13999, Sim2Types, FLData!$F$2:$F$13999, \"Operation\" ))*24","v":0},0,0,0]
[null,null,"",{"$f":"( SUMPRODUCT( SUMIFS( FLData!$AH$2:$AH$13999, FLData!$C$2:$C$13999, \">=\"&fromDateI, FLData!$C$2:$C$13999, \"<=\" &toDateI, FLData!$M$2:$M$13999,$C129, FLData!$E$2:$E$13999, SingleEngineTypes, FLData!$F$2:$F$13999, \"Lesson\" )) + SUMPRODUCT( SUMIFS( FLData!$AH$2:$AH$13999, FLData!$C$2:$C$13999, \">=\"&fromDateI, FLData!$C$2:$C$13999, \"<=\" &toDateI, FLData!$S$2:$S$13999,$C129, FLData!$E$2:$E$13999, SingleEngineTypes, FLData!$F$2:$F$13999, \"Rental\" )) )*24","v":0},{"$f":"SUMPRODUCT( SUMIFS( FLData!$AH$2:$AH$13999, FLData!$C$2:$C$13999, \">=\"&fromDateI, FLData!$C$2:$C$13999, \"<=\" &toDateI, FLData!$J$2:$J$13999,$C129, FLData!$E$2:$E$13999, SingleEngineTypes, FLData!$F$2:$F$13999, \"Operation\" ))*24","v":0},{"$f":"( SUMPRODUCT( SUMIFS( FLData!$AH$2:$AH$13999, FLData!$C$2:$C$13999, \">=\"&fromDateI, FLData!$C$2:$C$13999, \"<=\" &toDateI, FLData!$M$2:$M$13999,$C129, FLData!$E$2:$E$13999, MultiEngineTypes, FLData!$F$2:$F$13999, \"Lesson\" )) + SUMPRODUCT( SUMIFS( FLData!$AH$2:$AH$13999, FLData!$C$2:$C$13999, \">=\"&fromDateI, FLData!$C$2:$C$13999, \"<=\" &toDateI, FLData!$S$2:$S$13999,$C129, FLData!$E$2:$E$13999, MultiEngineTypes, FLData!$F$2:$F$13999, \"Rental\" )) )*24","v":0},{"$f":"SUMPRODUCT( SUMIFS( FLData!$AH$2:$AH$13999, FLData!$C$2:$C$13999, \">=\"&fromDateI, FLData!$C$2:$C$13999, \"<=\" &toDateI, FLData!$J$2:$J$13999,$C129, FLData!$E$2:$E$13999, MultiEngineTypes, FLData!$F$2:$F$13999, \"Operation\" ))*24","v":0},{"$f":"( SUMPRODUCT( SUMIFS( FLData!$AH$2:$AH$13999, FLData!$C$2:$C$13999, \">=\"&fromDateI, FLData!$C$2:$C$13999, \"<=\" &toDateI, FLData!$M$2:$M$13999,$C129, FLData!$E$2:$E$13999, Sim1Types, FLData!$F$2:$F$13999, \"Lesson\" )) + SUMPRODUCT( SUMIFS( FLData!$AH$2:$AH$13999, FLData!$C$2:$C$13999, \">=\"&fromDateI, FLData!$C$2:$C$13999, \"<=\" &toDateI, FLData!$S$2:$S$13999,$C129, FLData!$E$2:$E$13999, Sim1Types, FLData!$F$2:$F$13999, \"Rental\" )) )*24","v":0},{"$f":"SUMPRODUCT( SUMIFS( FLData!$AH$2:$AH$13999, FLData!$C$2:$C$13999, \">=\"&fromDateI, FLData!$C$2:$C$13999, \"<=\" &toDateI, FLData!$J$2:$J$13999,$C129, FLData!$E$2:$E$13999, Sim1Types, FLData!$F$2:$F$13999, \"Operation\" ))*24","v":0},{"$f":"( SUMPRODUCT( SUMIFS( FLData!$AH$2:$AH$13999, FLData!$C$2:$C$13999, \">=\"&fromDateI, FLData!$C$2:$C$13999, \"<=\" &toDateI, FLData!$M$2:$M$13999,$C129, FLData!$E$2:$E$13999, Sim2Types, FLData!$F$2:$F$13999, \"Lesson\" )) + SUMPRODUCT( SUMIFS( FLData!$AH$2:$AH$13999, FLData!$C$2:$C$13999, \">=\"&fromDateI, FLData!$C$2:$C$13999, \"<=\" &toDateI, FLData!$S$2:$S$13999,$C129, FLData!$E$2:$E$13999, Sim2Types, FLData!$F$2:$F$13999, \"Rental\" )) )*24","v":0},{"$f":"SUMPRODUCT( SUMIFS( FLData!$AH$2:$AH$13999, FLData!$C$2:$C$13999, \">=\"&fromDateI, FLData!$C$2:$C$13999, \"<=\" &toDateI, FLData!$J$2:$J$13999,$C129, FLData!$E$2:$E$13999, Sim2Types, FLData!$F$2:$F$13999, \"Operation\" ))*24","v":0},0,0,0]
[null,null,"",{"$f":"( SUMPRODUCT( SUMIFS( FLData!$AH$2:$AH$13999, FLData!$C$2:$C$13999, \">=\"&fromDateI, FLData!$C$2:$C$13999, \"<=\" &toDateI, FLData!$M$2:$M$13999,$C130, FLData!$E$2:$E$13999, SingleEngineTypes, FLData!$F$2:$F$13999, \"Lesson\" )) + SUMPRODUCT( SUMIFS( FLData!$AH$2:$AH$13999, FLData!$C$2:$C$13999, \">=\"&fromDateI, FLData!$C$2:$C$13999, \"<=\" &toDateI, FLData!$S$2:$S$13999,$C130, FLData!$E$2:$E$13999, SingleEngineTypes, FLData!$F$2:$F$13999, \"Rental\" )) )*24","v":0},{"$f":"SUMPRODUCT( SUMIFS( FLData!$AH$2:$AH$13999, FLData!$C$2:$C$13999, \">=\"&fromDateI, FLData!$C$2:$C$13999, \"<=\" &toDateI, FLData!$J$2:$J$13999,$C130, FLData!$E$2:$E$13999, SingleEngineTypes, FLData!$F$2:$F$13999, \"Operation\" ))*24","v":0},{"$f":"( SUMPRODUCT( SUMIFS( FLData!$AH$2:$AH$13999, FLData!$C$2:$C$13999, \">=\"&fromDateI, FLData!$C$2:$C$13999, \"<=\" &toDateI, FLData!$M$2:$M$13999,$C130, FLData!$E$2:$E$13999, MultiEngineTypes, FLData!$F$2:$F$13999, \"Lesson\" )) + SUMPRODUCT( SUMIFS( FLData!$AH$2:$AH$13999, FLData!$C$2:$C$13999, \">=\"&fromDateI, FLData!$C$2:$C$13999, \"<=\" &toDateI, FLData!$S$2:$S$13999,$C130, FLData!$E$2:$E$13999, MultiEngineTypes, FLData!$F$2:$F$13999, \"Rental\" )) )*24","v":0},{"$f":"SUMPRODUCT( SUMIFS( FLData!$AH$2:$AH$13999, FLData!$C$2:$C$13999, \">=\"&fromDateI, FLData!$C$2:$C$13999, \"<=\" &toDateI, FLData!$J$2:$J$13999,$C130, FLData!$E$2:$E$13999, MultiEngineTypes, FLData!$F$2:$F$13999, \"Operation\" ))*24","v":0},{"$f":"( SUMPRODUCT( SUMIFS( FLData!$AH$2:$AH$13999, FLData!$C$2:$C$13999, \">=\"&fromDateI, FLData!$C$2:$C$13999, \"<=\" &toDateI, FLData!$M$2:$M$13999,$C130, FLData!$E$2:$E$13999, Sim1Types, FLData!$F$2:$F$13999, \"Lesson\" )) + SUMPRODUCT( SUMIFS( FLData!$AH$2:$AH$13999, FLData!$C$2:$C$13999, \">=\"&fromDateI, FLData!$C$2:$C$13999, \"<=\" &toDateI, FLData!$S$2:$S$13999,$C130, FLData!$E$2:$E$13999, Sim1Types, FLData!$F$2:$F$13999, \"Rental\" )) )*24","v":0},{"$f":"SUMPRODUCT( SUMIFS( FLData!$AH$2:$AH$13999, FLData!$C$2:$C$13999, \">=\"&fromDateI, FLData!$C$2:$C$13999, \"<=\" &toDateI, FLData!$J$2:$J$13999,$C130, FLData!$E$2:$E$13999, Sim1Types, FLData!$F$2:$F$13999, \"Operation\" ))*24","v":0},{"$f":"( SUMPRODUCT( SUMIFS( FLData!$AH$2:$AH$13999, FLData!$C$2:$C$13999, \">=\"&fromDateI, FLData!$C$2:$C$13999, \"<=\" &toDateI, FLData!$M$2:$M$13999,$C130, FLData!$E$2:$E$13999, Sim2Types, FLData!$F$2:$F$13999, \"Lesson\" )) + SUMPRODUCT( SUMIFS( FLData!$AH$2:$AH$13999, FLData!$C$2:$C$13999, \">=\"&fromDateI, FLData!$C$2:$C$13999, \"<=\" &toDateI, FLData!$S$2:$S$13999,$C130, FLData!$E$2:$E$13999, Sim2Types, FLData!$F$2:$F$13999, \"Rental\" )) )*24","v":0},{"$f":"SUMPRODUCT( SUMIFS( FLData!$AH$2:$AH$13999, FLData!$C$2:$C$13999, \">=\"&fromDateI, FLData!$C$2:$C$13999, \"<=\" &toDateI, FLData!$J$2:$J$13999,$C130, FLData!$E$2:$E$13999, Sim2Types, FLData!$F$2:$F$13999, \"Operation\" ))*24","v":0},0,0,0]
[null,null,"",{"$f":"( SUMPRODUCT( SUMIFS( FLData!$AH$2:$AH$13999, FLData!$C$2:$C$13999, \">=\"&fromDateI, FLData!$C$2:$C$13999, \"<=\" &toDateI, FLData!$M$2:$M$13999,$C131, FLData!$E$2:$E$13999, SingleEngineTypes, FLData!$F$2:$F$13999, \"Lesson\" )) + SUMPRODUCT( SUMIFS( FLData!$AH$2:$AH$13999, FLData!$C$2:$C$13999, \">=\"&fromDateI, FLData!$C$2:$C$13999, \"<=\" &toDateI, FLData!$S$2:$S$13999,$C131, FLData!$E$2:$E$13999, SingleEngineTypes, FLData!$F$2:$F$13999, \"Rental\" )) )*24","v":0},{"$f":"SUMPRODUCT( SUMIFS( FLData!$AH$2:$AH$13999, FLData!$C$2:$C$13999, \">=\"&fromDateI, FLData!$C$2:$C$13999, \"<=\" &toDateI, FLData!$J$2:$J$13999,$C131, FLData!$E$2:$E$13999, SingleEngineTypes, FLData!$F$2:$F$13999, \"Operation\" ))*24","v":0},{"$f":"( SUMPRODUCT( SUMIFS( FLData!$AH$2:$AH$13999, FLData!$C$2:$C$13999, \">=\"&fromDateI, FLData!$C$2:$C$13999, \"<=\" &toDateI, FLData!$M$2:$M$13999,$C131, FLData!$E$2:$E$13999, MultiEngineTypes, FLData!$F$2:$F$13999, \"Lesson\" )) + SUMPRODUCT( SUMIFS( FLData!$AH$2:$AH$13999, FLData!$C$2:$C$13999, \">=\"&fromDateI, FLData!$C$2:$C$13999, \"<=\" &toDateI, FLData!$S$2:$S$13999,$C131, FLData!$E$2:$E$13999, MultiEngineTypes, FLData!$F$2:$F$13999, \"Rental\" )) )*24","v":0},{"$f":"SUMPRODUCT( SUMIFS( FLData!$AH$2:$AH$13999, FLData!$C$2:$C$13999, \">=\"&fromDateI, FLData!$C$2:$C$13999, \"<=\" &toDateI, FLData!$J$2:$J$13999,$C131, FLData!$E$2:$E$13999, MultiEngineTypes, FLData!$F$2:$F$13999, \"Operation\" ))*24","v":0},{"$f":"( SUMPRODUCT( SUMIFS( FLData!$AH$2:$AH$13999, FLData!$C$2:$C$13999, \">=\"&fromDateI, FLData!$C$2:$C$13999, \"<=\" &toDateI, FLData!$M$2:$M$13999,$C131, FLData!$E$2:$E$13999, Sim1Types, FLData!$F$2:$F$13999, \"Lesson\" )) + SUMPRODUCT( SUMIFS( FLData!$AH$2:$AH$13999, FLData!$C$2:$C$13999, \">=\"&fromDateI, FLData!$C$2:$C$13999, \"<=\" &toDateI, FLData!$S$2:$S$13999,$C131, FLData!$E$2:$E$13999, Sim1Types, FLData!$F$2:$F$13999, \"Rental\" )) )*24","v":0},{"$f":"SUMPRODUCT( SUMIFS( FLData!$AH$2:$AH$13999, FLData!$C$2:$C$13999, \">=\"&fromDateI, FLData!$C$2:$C$13999, \"<=\" &toDateI, FLData!$J$2:$J$13999,$C131, FLData!$E$2:$E$13999, Sim1Types, FLData!$F$2:$F$13999, \"Operation\" ))*24","v":0},{"$f":"( SUMPRODUCT( SUMIFS( FLData!$AH$2:$AH$13999, FLData!$C$2:$C$13999, \">=\"&fromDateI, FLData!$C$2:$C$13999, \"<=\" &toDateI, FLData!$M$2:$M$13999,$C131, FLData!$E$2:$E$13999, Sim2Types, FLData!$F$2:$F$13999, \"Lesson\" )) + SUMPRODUCT( SUMIFS( FLData!$AH$2:$AH$13999, FLData!$C$2:$C$13999, \">=\"&fromDateI, FLData!$C$2:$C$13999, \"<=\" &toDateI, FLData!$S$2:$S$13999,$C131, FLData!$E$2:$E$13999, Sim2Types, FLData!$F$2:$F$13999, \"Rental\" )) )*24","v":0},{"$f":"SUMPRODUCT( SUMIFS( FLData!$AH$2:$AH$13999, FLData!$C$2:$C$13999, \">=\"&fromDateI, FLData!$C$2:$C$13999, \"<=\" &toDateI, FLData!$J$2:$J$13999,$C131, FLData!$E$2:$E$13999, Sim2Types, FLData!$F$2:$F$13999, \"Operation\" ))*24","v":0},0,0,0]
[null,null,"",{"$f":"( SUMPRODUCT( SUMIFS( FLData!$AH$2:$AH$13999, FLData!$C$2:$C$13999, \">=\"&fromDateI, FLData!$C$2:$C$13999, \"<=\" &toDateI, FLData!$M$2:$M$13999,$C132, FLData!$E$2:$E$13999, SingleEngineTypes, FLData!$F$2:$F$13999, \"Lesson\" )) + SUMPRODUCT( SUMIFS( FLData!$AH$2:$AH$13999, FLData!$C$2:$C$13999, \">=\"&fromDateI, FLData!$C$2:$C$13999, \"<=\" &toDateI, FLData!$S$2:$S$13999,$C132, FLData!$E$2:$E$13999, SingleEngineTypes, FLData!$F$2:$F$13999, \"Rental\" )) )*24","v":0},{"$f":"SUMPRODUCT( SUMIFS( FLData!$AH$2:$AH$13999, FLData!$C$2:$C$13999, \">=\"&fromDateI, FLData!$C$2:$C$13999, \"<=\" &toDateI, FLData!$J$2:$J$13999,$C132, FLData!$E$2:$E$13999, SingleEngineTypes, FLData!$F$2:$F$13999, \"Operation\" ))*24","v":0},{"$f":"( SUMPRODUCT( SUMIFS( FLData!$AH$2:$AH$13999, FLData!$C$2:$C$13999, \">=\"&fromDateI, FLData!$C$2:$C$13999, \"<=\" &toDateI, FLData!$M$2:$M$13999,$C132, FLData!$E$2:$E$13999, MultiEngineTypes, FLData!$F$2:$F$13999, \"Lesson\" )) + SUMPRODUCT( SUMIFS( FLData!$AH$2:$AH$13999, FLData!$C$2:$C$13999, \">=\"&fromDateI, FLData!$C$2:$C$13999, \"<=\" &toDateI, FLData!$S$2:$S$13999,$C132, FLData!$E$2:$E$13999, MultiEngineTypes, FLData!$F$2:$F$13999, \"Rental\" )) )*24","v":0},{"$f":"SUMPRODUCT( SUMIFS( FLData!$AH$2:$AH$13999, FLData!$C$2:$C$13999, \">=\"&fromDateI, FLData!$C$2:$C$13999, \"<=\" &toDateI, FLData!$J$2:$J$13999,$C132, FLData!$E$2:$E$13999, MultiEngineTypes, FLData!$F$2:$F$13999, \"Operation\" ))*24","v":0},{"$f":"( SUMPRODUCT( SUMIFS( FLData!$AH$2:$AH$13999, FLData!$C$2:$C$13999, \">=\"&fromDateI, FLData!$C$2:$C$13999, \"<=\" &toDateI, FLData!$M$2:$M$13999,$C132, FLData!$E$2:$E$13999, Sim1Types, FLData!$F$2:$F$13999, \"Lesson\" )) + SUMPRODUCT( SUMIFS( FLData!$AH$2:$AH$13999, FLData!$C$2:$C$13999, \">=\"&fromDateI, FLData!$C$2:$C$13999, \"<=\" &toDateI, FLData!$S$2:$S$13999,$C132, FLData!$E$2:$E$13999, Sim1Types, FLData!$F$2:$F$13999, \"Rental\" )) )*24","v":0},{"$f":"SUMPRODUCT( SUMIFS( FLData!$AH$2:$AH$13999, FLData!$C$2:$C$13999, \">=\"&fromDateI, FLData!$C$2:$C$13999, \"<=\" &toDateI, FLData!$J$2:$J$13999,$C132, FLData!$E$2:$E$13999, Sim1Types, FLData!$F$2:$F$13999, \"Operation\" ))*24","v":0},{"$f":"( SUMPRODUCT( SUMIFS( FLData!$AH$2:$AH$13999, FLData!$C$2:$C$13999, \">=\"&fromDateI, FLData!$C$2:$C$13999, \"<=\" &toDateI, FLData!$M$2:$M$13999,$C132, FLData!$E$2:$E$13999, Sim2Types, FLData!$F$2:$F$13999, \"Lesson\" )) + SUMPRODUCT( SUMIFS( FLData!$AH$2:$AH$13999, FLData!$C$2:$C$13999, \">=\"&fromDateI, FLData!$C$2:$C$13999, \"<=\" &toDateI, FLData!$S$2:$S$13999,$C132, FLData!$E$2:$E$13999, Sim2Types, FLData!$F$2:$F$13999, \"Rental\" )) )*24","v":0},{"$f":"SUMPRODUCT( SUMIFS( FLData!$AH$2:$AH$13999, FLData!$C$2:$C$13999, \">=\"&fromDateI, FLData!$C$2:$C$13999, \"<=\" &toDateI, FLData!$J$2:$J$13999,$C132, FLData!$E$2:$E$13999, Sim2Types, FLData!$F$2:$F$13999, \"Operation\" ))*24","v":0},0,0,0]
[null,null,"",{"$f":"( SUMPRODUCT( SUMIFS( FLData!$AH$2:$AH$13999, FLData!$C$2:$C$13999, \">=\"&fromDateI, FLData!$C$2:$C$13999, \"<=\" &toDateI, FLData!$M$2:$M$13999,$C133, FLData!$E$2:$E$13999, SingleEngineTypes, FLData!$F$2:$F$13999, \"Lesson\" )) + SUMPRODUCT( SUMIFS( FLData!$AH$2:$AH$13999, FLData!$C$2:$C$13999, \">=\"&fromDateI, FLData!$C$2:$C$13999, \"<=\" &toDateI, FLData!$S$2:$S$13999,$C133, FLData!$E$2:$E$13999, SingleEngineTypes, FLData!$F$2:$F$13999, \"Rental\" )) )*24","v":0},{"$f":"SUMPRODUCT( SUMIFS( FLData!$AH$2:$AH$13999, FLData!$C$2:$C$13999, \">=\"&fromDateI, FLData!$C$2:$C$13999, \"<=\" &toDateI, FLData!$J$2:$J$13999,$C133, FLData!$E$2:$E$13999, SingleEngineTypes, FLData!$F$2:$F$13999, \"Operation\" ))*24","v":0},{"$f":"( SUMPRODUCT( SUMIFS( FLData!$AH$2:$AH$13999, FLData!$C$2:$C$13999, \">=\"&fromDateI, FLData!$C$2:$C$13999, \"<=\" &toDateI, FLData!$M$2:$M$13999,$C133, FLData!$E$2:$E$13999, MultiEngineTypes, FLData!$F$2:$F$13999, \"Lesson\" )) + SUMPRODUCT( SUMIFS( FLData!$AH$2:$AH$13999, FLData!$C$2:$C$13999, \">=\"&fromDateI, FLData!$C$2:$C$13999, \"<=\" &toDateI, FLData!$S$2:$S$13999,$C133, FLData!$E$2:$E$13999, MultiEngineTypes, FLData!$F$2:$F$13999, \"Rental\" )) )*24","v":0},{"$f":"SUMPRODUCT( SUMIFS( FLData!$AH$2:$AH$13999, FLData!$C$2:$C$13999, \">=\"&fromDateI, FLData!$C$2:$C$13999, \"<=\" &toDateI, FLData!$J$2:$J$13999,$C133, FLData!$E$2:$E$13999, MultiEngineTypes, FLData!$F$2:$F$13999, \"Operation\" ))*24","v":0},{"$f":"( SUMPRODUCT( SUMIFS( FLData!$AH$2:$AH$13999, FLData!$C$2:$C$13999, \">=\"&fromDateI, FLData!$C$2:$C$13999, \"<=\" &toDateI, FLData!$M$2:$M$13999,$C133, FLData!$E$2:$E$13999, Sim1Types, FLData!$F$2:$F$13999, \"Lesson\" )) + SUMPRODUCT( SUMIFS( FLData!$AH$2:$AH$13999, FLData!$C$2:$C$13999, \">=\"&fromDateI, FLData!$C$2:$C$13999, \"<=\" &toDateI, FLData!$S$2:$S$13999,$C133, FLData!$E$2:$E$13999, Sim1Types, FLData!$F$2:$F$13999, \"Rental\" )) )*24","v":0},{"$f":"SUMPRODUCT( SUMIFS( FLData!$AH$2:$AH$13999, FLData!$C$2:$C$13999, \">=\"&fromDateI, FLData!$C$2:$C$13999, \"<=\" &toDateI, FLData!$J$2:$J$13999,$C133, FLData!$E$2:$E$13999, Sim1Types, FLData!$F$2:$F$13999, \"Operation\" ))*24","v":0},{"$f":"( SUMPRODUCT( SUMIFS( FLData!$AH$2:$AH$13999, FLData!$C$2:$C$13999, \">=\"&fromDateI, FLData!$C$2:$C$13999, \"<=\" &toDateI, FLData!$M$2:$M$13999,$C133, FLData!$E$2:$E$13999, Sim2Types, FLData!$F$2:$F$13999, \"Lesson\" )) + SUMPRODUCT( SUMIFS( FLData!$AH$2:$AH$13999, FLData!$C$2:$C$13999, \">=\"&fromDateI, FLData!$C$2:$C$13999, \"<=\" &toDateI, FLData!$S$2:$S$13999,$C133, FLData!$E$2:$E$13999, Sim2Types, FLData!$F$2:$F$13999, \"Rental\" )) )*24","v":0},{"$f":"SUMPRODUCT( SUMIFS( FLData!$AH$2:$AH$13999, FLData!$C$2:$C$13999, \">=\"&fromDateI, FLData!$C$2:$C$13999, \"<=\" &toDateI, FLData!$J$2:$J$13999,$C133, FLData!$E$2:$E$13999, Sim2Types, FLData!$F$2:$F$13999, \"Operation\" ))*24","v":0},0,0,0]
[null,null,"",{"$f":"( SUMPRODUCT( SUMIFS( FLData!$AH$2:$AH$13999, FLData!$C$2:$C$13999, \">=\"&fromDateI, FLData!$C$2:$C$13999, \"<=\" &toDateI, FLData!$M$2:$M$13999,$C134, FLData!$E$2:$E$13999, SingleEngineTypes, FLData!$F$2:$F$13999, \"Lesson\" )) + SUMPRODUCT( SUMIFS( FLData!$AH$2:$AH$13999, FLData!$C$2:$C$13999, \">=\"&fromDateI, FLData!$C$2:$C$13999, \"<=\" &toDateI, FLData!$S$2:$S$13999,$C134, FLData!$E$2:$E$13999, SingleEngineTypes, FLData!$F$2:$F$13999, \"Rental\" )) )*24","v":0},{"$f":"SUMPRODUCT( SUMIFS( FLData!$AH$2:$AH$13999, FLData!$C$2:$C$13999, \">=\"&fromDateI, FLData!$C$2:$C$13999, \"<=\" &toDateI, FLData!$J$2:$J$13999,$C134, FLData!$E$2:$E$13999, SingleEngineTypes, FLData!$F$2:$F$13999, \"Operation\" ))*24","v":0},{"$f":"( SUMPRODUCT( SUMIFS( FLData!$AH$2:$AH$13999, FLData!$C$2:$C$13999, \">=\"&fromDateI, FLData!$C$2:$C$13999, \"<=\" &toDateI, FLData!$M$2:$M$13999,$C134, FLData!$E$2:$E$13999, MultiEngineTypes, FLData!$F$2:$F$13999, \"Lesson\" )) + SUMPRODUCT( SUMIFS( FLData!$AH$2:$AH$13999, FLData!$C$2:$C$13999, \">=\"&fromDateI, FLData!$C$2:$C$13999, \"<=\" &toDateI, FLData!$S$2:$S$13999,$C134, FLData!$E$2:$E$13999, MultiEngineTypes, FLData!$F$2:$F$13999, \"Rental\" )) )*24","v":0},{"$f":"SUMPRODUCT( SUMIFS( FLData!$AH$2:$AH$13999, FLData!$C$2:$C$13999, \">=\"&fromDateI, FLData!$C$2:$C$13999, \"<=\" &toDateI, FLData!$J$2:$J$13999,$C134, FLData!$E$2:$E$13999, MultiEngineTypes, FLData!$F$2:$F$13999, \"Operation\" ))*24","v":0},{"$f":"( SUMPRODUCT( SUMIFS( FLData!$AH$2:$AH$13999, FLData!$C$2:$C$13999, \">=\"&fromDateI, FLData!$C$2:$C$13999, \"<=\" &toDateI, FLData!$M$2:$M$13999,$C134, FLData!$E$2:$E$13999, Sim1Types, FLData!$F$2:$F$13999, \"Lesson\" )) + SUMPRODUCT( SUMIFS( FLData!$AH$2:$AH$13999, FLData!$C$2:$C$13999, \">=\"&fromDateI, FLData!$C$2:$C$13999, \"<=\" &toDateI, FLData!$S$2:$S$13999,$C134, FLData!$E$2:$E$13999, Sim1Types, FLData!$F$2:$F$13999, \"Rental\" )) )*24","v":0},{"$f":"SUMPRODUCT( SUMIFS( FLData!$AH$2:$AH$13999, FLData!$C$2:$C$13999, \">=\"&fromDateI, FLData!$C$2:$C$13999, \"<=\" &toDateI, FLData!$J$2:$J$13999,$C134, FLData!$E$2:$E$13999, Sim1Types, FLData!$F$2:$F$13999, \"Operation\" ))*24","v":0},{"$f":"( SUMPRODUCT( SUMIFS( FLData!$AH$2:$AH$13999, FLData!$C$2:$C$13999, \">=\"&fromDateI, FLData!$C$2:$C$13999, \"<=\" &toDateI, FLData!$M$2:$M$13999,$C134, FLData!$E$2:$E$13999, Sim2Types, FLData!$F$2:$F$13999, \"Lesson\" )) + SUMPRODUCT( SUMIFS( FLData!$AH$2:$AH$13999, FLData!$C$2:$C$13999, \">=\"&fromDateI, FLData!$C$2:$C$13999, \"<=\" &toDateI, FLData!$S$2:$S$13999,$C134, FLData!$E$2:$E$13999, Sim2Types, FLData!$F$2:$F$13999, \"Rental\" )) )*24","v":0},{"$f":"SUMPRODUCT( SUMIFS( FLData!$AH$2:$AH$13999, FLData!$C$2:$C$13999, \">=\"&fromDateI, FLData!$C$2:$C$13999, \"<=\" &toDateI, FLData!$J$2:$J$13999,$C134, FLData!$E$2:$E$13999, Sim2Types, FLData!$F$2:$F$13999, \"Operation\" ))*24","v":0},0,0,0]
[null,null,"",{"$f":"( SUMPRODUCT( SUMIFS( FLData!$AH$2:$AH$13999, FLData!$C$2:$C$13999, \">=\"&fromDateI, FLData!$C$2:$C$13999, \"<=\" &toDateI, FLData!$M$2:$M$13999,$C135, FLData!$E$2:$E$13999, SingleEngineTypes, FLData!$F$2:$F$13999, \"Lesson\" )) + SUMPRODUCT( SUMIFS( FLData!$AH$2:$AH$13999, FLData!$C$2:$C$13999, \">=\"&fromDateI, FLData!$C$2:$C$13999, \"<=\" &toDateI, FLData!$S$2:$S$13999,$C135, FLData!$E$2:$E$13999, SingleEngineTypes, FLData!$F$2:$F$13999, \"Rental\" )) )*24","v":0},{"$f":"SUMPRODUCT( SUMIFS( FLData!$AH$2:$AH$13999, FLData!$C$2:$C$13999, \">=\"&fromDateI, FLData!$C$2:$C$13999, \"<=\" &toDateI, FLData!$J$2:$J$13999,$C135, FLData!$E$2:$E$13999, SingleEngineTypes, FLData!$F$2:$F$13999, \"Operation\" ))*24","v":0},{"$f":"( SUMPRODUCT( SUMIFS( FLData!$AH$2:$AH$13999, FLData!$C$2:$C$13999, \">=\"&fromDateI, FLData!$C$2:$C$13999, \"<=\" &toDateI, FLData!$M$2:$M$13999,$C135, FLData!$E$2:$E$13999, MultiEngineTypes, FLData!$F$2:$F$13999, \"Lesson\" )) + SUMPRODUCT( SUMIFS( FLData!$AH$2:$AH$13999, FLData!$C$2:$C$13999, \">=\"&fromDateI, FLData!$C$2:$C$13999, \"<=\" &toDateI, FLData!$S$2:$S$13999,$C135, FLData!$E$2:$E$13999, MultiEngineTypes, FLData!$F$2:$F$13999, \"Rental\" )) )*24","v":0},{"$f":"SUMPRODUCT( SUMIFS( FLData!$AH$2:$AH$13999, FLData!$C$2:$C$13999, \">=\"&fromDateI, FLData!$C$2:$C$13999, \"<=\" &toDateI, FLData!$J$2:$J$13999,$C135, FLData!$E$2:$E$13999, MultiEngineTypes, FLData!$F$2:$F$13999, \"Operation\" ))*24","v":0},{"$f":"( SUMPRODUCT( SUMIFS( FLData!$AH$2:$AH$13999, FLData!$C$2:$C$13999, \">=\"&fromDateI, FLData!$C$2:$C$13999, \"<=\" &toDateI, FLData!$M$2:$M$13999,$C135, FLData!$E$2:$E$13999, Sim1Types, FLData!$F$2:$F$13999, \"Lesson\" )) + SUMPRODUCT( SUMIFS( FLData!$AH$2:$AH$13999, FLData!$C$2:$C$13999, \">=\"&fromDateI, FLData!$C$2:$C$13999, \"<=\" &toDateI, FLData!$S$2:$S$13999,$C135, FLData!$E$2:$E$13999, Sim1Types, FLData!$F$2:$F$13999, \"Rental\" )) )*24","v":0},{"$f":"SUMPRODUCT( SUMIFS( FLData!$AH$2:$AH$13999, FLData!$C$2:$C$13999, \">=\"&fromDateI, FLData!$C$2:$C$13999, \"<=\" &toDateI, FLData!$J$2:$J$13999,$C135, FLData!$E$2:$E$13999, Sim1Types, FLData!$F$2:$F$13999, \"Operation\" ))*24","v":0},{"$f":"( SUMPRODUCT( SUMIFS( FLData!$AH$2:$AH$13999, FLData!$C$2:$C$13999, \">=\"&fromDateI, FLData!$C$2:$C$13999, \"<=\" &toDateI, FLData!$M$2:$M$13999,$C135, FLData!$E$2:$E$13999, Sim2Types, FLData!$F$2:$F$13999, \"Lesson\" )) + SUMPRODUCT( SUMIFS( FLData!$AH$2:$AH$13999, FLData!$C$2:$C$13999, \">=\"&fromDateI, FLData!$C$2:$C$13999, \"<=\" &toDateI, FLData!$S$2:$S$13999,$C135, FLData!$E$2:$E$13999, Sim2Types, FLData!$F$2:$F$13999, \"Rental\" )) )*24","v":0},{"$f":"SUMPRODUCT( SUMIFS( FLData!$AH$2:$AH$13999, FLData!$C$2:$C$13999, \">=\"&fromDateI, FLData!$C$2:$C$13999, \"<=\" &toDateI, FLData!$J$2:$J$13999,$C135, FLData!$E$2:$E$13999, Sim2Types, FLData!$F$2:$F$13999, \"Operation\" ))*24","v":0},0,0,0]
[null,null,"",{"$f":"( SUMPRODUCT( SUMIFS( FLData!$AH$2:$AH$13999, FLData!$C$2:$C$13999, \">=\"&fromDateI, FLData!$C$2:$C$13999, \"<=\" &toDateI, FLData!$M$2:$M$13999,$C136, FLData!$E$2:$E$13999, SingleEngineTypes, FLData!$F$2:$F$13999, \"Lesson\" )) + SUMPRODUCT( SUMIFS( FLData!$AH$2:$AH$13999, FLData!$C$2:$C$13999, \">=\"&fromDateI, FLData!$C$2:$C$13999, \"<=\" &toDateI, FLData!$S$2:$S$13999,$C136, FLData!$E$2:$E$13999, SingleEngineTypes, FLData!$F$2:$F$13999, \"Rental\" )) )*24","v":0},{"$f":"SUMPRODUCT( SUMIFS( FLData!$AH$2:$AH$13999, FLData!$C$2:$C$13999, \">=\"&fromDateI, FLData!$C$2:$C$13999, \"<=\" &toDateI, FLData!$J$2:$J$13999,$C136, FLData!$E$2:$E$13999, SingleEngineTypes, FLData!$F$2:$F$13999, \"Operation\" ))*24","v":0},{"$f":"( SUMPRODUCT( SUMIFS( FLData!$AH$2:$AH$13999, FLData!$C$2:$C$13999, \">=\"&fromDateI, FLData!$C$2:$C$13999, \"<=\" &toDateI, FLData!$M$2:$M$13999,$C136, FLData!$E$2:$E$13999, MultiEngineTypes, FLData!$F$2:$F$13999, \"Lesson\" )) + SUMPRODUCT( SUMIFS( FLData!$AH$2:$AH$13999, FLData!$C$2:$C$13999, \">=\"&fromDateI, FLData!$C$2:$C$13999, \"<=\" &toDateI, FLData!$S$2:$S$13999,$C136, FLData!$E$2:$E$13999, MultiEngineTypes, FLData!$F$2:$F$13999, \"Rental\" )) )*24","v":0},{"$f":"SUMPRODUCT( SUMIFS( FLData!$AH$2:$AH$13999, FLData!$C$2:$C$13999, \">=\"&fromDateI, FLData!$C$2:$C$13999, \"<=\" &toDateI, FLData!$J$2:$J$13999,$C136, FLData!$E$2:$E$13999, MultiEngineTypes, FLData!$F$2:$F$13999, \"Operation\" ))*24","v":0},{"$f":"( SUMPRODUCT( SUMIFS( FLData!$AH$2:$AH$13999, FLData!$C$2:$C$13999, \">=\"&fromDateI, FLData!$C$2:$C$13999, \"<=\" &toDateI, FLData!$M$2:$M$13999,$C136, FLData!$E$2:$E$13999, Sim1Types, FLData!$F$2:$F$13999, \"Lesson\" )) + SUMPRODUCT( SUMIFS( FLData!$AH$2:$AH$13999, FLData!$C$2:$C$13999, \">=\"&fromDateI, FLData!$C$2:$C$13999, \"<=\" &toDateI, FLData!$S$2:$S$13999,$C136, FLData!$E$2:$E$13999, Sim1Types, FLData!$F$2:$F$13999, \"Rental\" )) )*24","v":0},{"$f":"SUMPRODUCT( SUMIFS( FLData!$AH$2:$AH$13999, FLData!$C$2:$C$13999, \">=\"&fromDateI, FLData!$C$2:$C$13999, \"<=\" &toDateI, FLData!$J$2:$J$13999,$C136, FLData!$E$2:$E$13999, Sim1Types, FLData!$F$2:$F$13999, \"Operation\" ))*24","v":0},{"$f":"( SUMPRODUCT( SUMIFS( FLData!$AH$2:$AH$13999, FLData!$C$2:$C$13999, \">=\"&fromDateI, FLData!$C$2:$C$13999, \"<=\" &toDateI, FLData!$M$2:$M$13999,$C136, FLData!$E$2:$E$13999, Sim2Types, FLData!$F$2:$F$13999, \"Lesson\" )) + SUMPRODUCT( SUMIFS( FLData!$AH$2:$AH$13999, FLData!$C$2:$C$13999, \">=\"&fromDateI, FLData!$C$2:$C$13999, \"<=\" &toDateI, FLData!$S$2:$S$13999,$C136, FLData!$E$2:$E$13999, Sim2Types, FLData!$F$2:$F$13999, \"Rental\" )) )*24","v":0},{"$f":"SUMPRODUCT( SUMIFS( FLData!$AH$2:$AH$13999, FLData!$C$2:$C$13999, \">=\"&fromDateI, FLData!$C$2:$C$13999, \"<=\" &toDateI, FLData!$J$2:$J$13999,$C136, FLData!$E$2:$E$13999, Sim2Types, FLData!$F$2:$F$13999, \"Operation\" ))*24","v":0},0,0,0]
[null,null,"",{"$f":"( SUMPRODUCT( SUMIFS( FLData!$AH$2:$AH$13999, FLData!$C$2:$C$13999, \">=\"&fromDateI, FLData!$C$2:$C$13999, \"<=\" &toDateI, FLData!$M$2:$M$13999,$C137, FLData!$E$2:$E$13999, SingleEngineTypes, FLData!$F$2:$F$13999, \"Lesson\" )) + SUMPRODUCT( SUMIFS( FLData!$AH$2:$AH$13999, FLData!$C$2:$C$13999, \">=\"&fromDateI, FLData!$C$2:$C$13999, \"<=\" &toDateI, FLData!$S$2:$S$13999,$C137, FLData!$E$2:$E$13999, SingleEngineTypes, FLData!$F$2:$F$13999, \"Rental\" )) )*24","v":0},{"$f":"SUMPRODUCT( SUMIFS( FLData!$AH$2:$AH$13999, FLData!$C$2:$C$13999, \">=\"&fromDateI, FLData!$C$2:$C$13999, \"<=\" &toDateI, FLData!$J$2:$J$13999,$C137, FLData!$E$2:$E$13999, SingleEngineTypes, FLData!$F$2:$F$13999, \"Operation\" ))*24","v":0},{"$f":"( SUMPRODUCT( SUMIFS( FLData!$AH$2:$AH$13999, FLData!$C$2:$C$13999, \">=\"&fromDateI, FLData!$C$2:$C$13999, \"<=\" &toDateI, FLData!$M$2:$M$13999,$C137, FLData!$E$2:$E$13999, MultiEngineTypes, FLData!$F$2:$F$13999, \"Lesson\" )) + SUMPRODUCT( SUMIFS( FLData!$AH$2:$AH$13999, FLData!$C$2:$C$13999, \">=\"&fromDateI, FLData!$C$2:$C$13999, \"<=\" &toDateI, FLData!$S$2:$S$13999,$C137, FLData!$E$2:$E$13999, MultiEngineTypes, FLData!$F$2:$F$13999, \"Rental\" )) )*24","v":0},{"$f":"SUMPRODUCT( SUMIFS( FLData!$AH$2:$AH$13999, FLData!$C$2:$C$13999, \">=\"&fromDateI, FLData!$C$2:$C$13999, \"<=\" &toDateI, FLData!$J$2:$J$13999,$C137, FLData!$E$2:$E$13999, MultiEngineTypes, FLData!$F$2:$F$13999, \"Operation\" ))*24","v":0},{"$f":"( SUMPRODUCT( SUMIFS( FLData!$AH$2:$AH$13999, FLData!$C$2:$C$13999, \">=\"&fromDateI, FLData!$C$2:$C$13999, \"<=\" &toDateI, FLData!$M$2:$M$13999,$C137, FLData!$E$2:$E$13999, Sim1Types, FLData!$F$2:$F$13999, \"Lesson\" )) + SUMPRODUCT( SUMIFS( FLData!$AH$2:$AH$13999, FLData!$C$2:$C$13999, \">=\"&fromDateI, FLData!$C$2:$C$13999, \"<=\" &toDateI, FLData!$S$2:$S$13999,$C137, FLData!$E$2:$E$13999, Sim1Types, FLData!$F$2:$F$13999, \"Rental\" )) )*24","v":0},{"$f":"SUMPRODUCT( SUMIFS( FLData!$AH$2:$AH$13999, FLData!$C$2:$C$13999, \">=\"&fromDateI, FLData!$C$2:$C$13999, \"<=\" &toDateI, FLData!$J$2:$J$13999,$C137, FLData!$E$2:$E$13999, Sim1Types, FLData!$F$2:$F$13999, \"Operation\" ))*24","v":0},{"$f":"( SUMPRODUCT( SUMIFS( FLData!$AH$2:$AH$13999, FLData!$C$2:$C$13999, \">=\"&fromDateI, FLData!$C$2:$C$13999, \"<=\" &toDateI, FLData!$M$2:$M$13999,$C137, FLData!$E$2:$E$13999, Sim2Types, FLData!$F$2:$F$13999, \"Lesson\" )) + SUMPRODUCT( SUMIFS( FLData!$AH$2:$AH$13999, FLData!$C$2:$C$13999, \">=\"&fromDateI, FLData!$C$2:$C$13999, \"<=\" &toDateI, FLData!$S$2:$S$13999,$C137, FLData!$E$2:$E$13999, Sim2Types, FLData!$F$2:$F$13999, \"Rental\" )) )*24","v":0},{"$f":"SUMPRODUCT( SUMIFS( FLData!$AH$2:$AH$13999, FLData!$C$2:$C$13999, \">=\"&fromDateI, FLData!$C$2:$C$13999, \"<=\" &toDateI, FLData!$J$2:$J$13999,$C137, FLData!$E$2:$E$13999, Sim2Types, FLData!$F$2:$F$13999, \"Operation\" ))*24","v":0},0,0,0]
[null,null,"",{"$f":"( SUMPRODUCT( SUMIFS( FLData!$AH$2:$AH$13999, FLData!$C$2:$C$13999, \">=\"&fromDateI, FLData!$C$2:$C$13999, \"<=\" &toDateI, FLData!$M$2:$M$13999,$C138, FLData!$E$2:$E$13999, SingleEngineTypes, FLData!$F$2:$F$13999, \"Lesson\" )) + SUMPRODUCT( SUMIFS( FLData!$AH$2:$AH$13999, FLData!$C$2:$C$13999, \">=\"&fromDateI, FLData!$C$2:$C$13999, \"<=\" &toDateI, FLData!$S$2:$S$13999,$C138, FLData!$E$2:$E$13999, SingleEngineTypes, FLData!$F$2:$F$13999, \"Rental\" )) )*24","v":0},{"$f":"SUMPRODUCT( SUMIFS( FLData!$AH$2:$AH$13999, FLData!$C$2:$C$13999, \">=\"&fromDateI, FLData!$C$2:$C$13999, \"<=\" &toDateI, FLData!$J$2:$J$13999,$C138, FLData!$E$2:$E$13999, SingleEngineTypes, FLData!$F$2:$F$13999, \"Operation\" ))*24","v":0},{"$f":"( SUMPRODUCT( SUMIFS( FLData!$AH$2:$AH$13999, FLData!$C$2:$C$13999, \">=\"&fromDateI, FLData!$C$2:$C$13999, \"<=\" &toDateI, FLData!$M$2:$M$13999,$C138, FLData!$E$2:$E$13999, MultiEngineTypes, FLData!$F$2:$F$13999, \"Lesson\" )) + SUMPRODUCT( SUMIFS( FLData!$AH$2:$AH$13999, FLData!$C$2:$C$13999, \">=\"&fromDateI, FLData!$C$2:$C$13999, \"<=\" &toDateI, FLData!$S$2:$S$13999,$C138, FLData!$E$2:$E$13999, MultiEngineTypes, FLData!$F$2:$F$13999, \"Rental\" )) )*24","v":0},{"$f":"SUMPRODUCT( SUMIFS( FLData!$AH$2:$AH$13999, FLData!$C$2:$C$13999, \">=\"&fromDateI, FLData!$C$2:$C$13999, \"<=\" &toDateI, FLData!$J$2:$J$13999,$C138, FLData!$E$2:$E$13999, MultiEngineTypes, FLData!$F$2:$F$13999, \"Operation\" ))*24","v":0},{"$f":"( SUMPRODUCT( SUMIFS( FLData!$AH$2:$AH$13999, FLData!$C$2:$C$13999, \">=\"&fromDateI, FLData!$C$2:$C$13999, \"<=\" &toDateI, FLData!$M$2:$M$13999,$C138, FLData!$E$2:$E$13999, Sim1Types, FLData!$F$2:$F$13999, \"Lesson\" )) + SUMPRODUCT( SUMIFS( FLData!$AH$2:$AH$13999, FLData!$C$2:$C$13999, \">=\"&fromDateI, FLData!$C$2:$C$13999, \"<=\" &toDateI, FLData!$S$2:$S$13999,$C138, FLData!$E$2:$E$13999, Sim1Types, FLData!$F$2:$F$13999, \"Rental\" )) )*24","v":0},{"$f":"SUMPRODUCT( SUMIFS( FLData!$AH$2:$AH$13999, FLData!$C$2:$C$13999, \">=\"&fromDateI, FLData!$C$2:$C$13999, \"<=\" &toDateI, FLData!$J$2:$J$13999,$C138, FLData!$E$2:$E$13999, Sim1Types, FLData!$F$2:$F$13999, \"Operation\" ))*24","v":0},{"$f":"( SUMPRODUCT( SUMIFS( FLData!$AH$2:$AH$13999, FLData!$C$2:$C$13999, \">=\"&fromDateI, FLData!$C$2:$C$13999, \"<=\" &toDateI, FLData!$M$2:$M$13999,$C138, FLData!$E$2:$E$13999, Sim2Types, FLData!$F$2:$F$13999, \"Lesson\" )) + SUMPRODUCT( SUMIFS( FLData!$AH$2:$AH$13999, FLData!$C$2:$C$13999, \">=\"&fromDateI, FLData!$C$2:$C$13999, \"<=\" &toDateI, FLData!$S$2:$S$13999,$C138, FLData!$E$2:$E$13999, Sim2Types, FLData!$F$2:$F$13999, \"Rental\" )) )*24","v":0},{"$f":"SUMPRODUCT( SUMIFS( FLData!$AH$2:$AH$13999, FLData!$C$2:$C$13999, \">=\"&fromDateI, FLData!$C$2:$C$13999, \"<=\" &toDateI, FLData!$J$2:$J$13999,$C138, FLData!$E$2:$E$13999, Sim2Types, FLData!$F$2:$F$13999, \"Operation\" ))*24","v":0},0,0,0]
[null,null,"",{"$f":"( SUMPRODUCT( SUMIFS( FLData!$AH$2:$AH$13999, FLData!$C$2:$C$13999, \">=\"&fromDateI, FLData!$C$2:$C$13999, \"<=\" &toDateI, FLData!$M$2:$M$13999,$C139, FLData!$E$2:$E$13999, SingleEngineTypes, FLData!$F$2:$F$13999, \"Lesson\" )) + SUMPRODUCT( SUMIFS( FLData!$AH$2:$AH$13999, FLData!$C$2:$C$13999, \">=\"&fromDateI, FLData!$C$2:$C$13999, \"<=\" &toDateI, FLData!$S$2:$S$13999,$C139, FLData!$E$2:$E$13999, SingleEngineTypes, FLData!$F$2:$F$13999, \"Rental\" )) )*24","v":0},{"$f":"SUMPRODUCT( SUMIFS( FLData!$AH$2:$AH$13999, FLData!$C$2:$C$13999, \">=\"&fromDateI, FLData!$C$2:$C$13999, \"<=\" &toDateI, FLData!$J$2:$J$13999,$C139, FLData!$E$2:$E$13999, SingleEngineTypes, FLData!$F$2:$F$13999, \"Operation\" ))*24","v":0},{"$f":"( SUMPRODUCT( SUMIFS( FLData!$AH$2:$AH$13999, FLData!$C$2:$C$13999, \">=\"&fromDateI, FLData!$C$2:$C$13999, \"<=\" &toDateI, FLData!$M$2:$M$13999,$C139, FLData!$E$2:$E$13999, MultiEngineTypes, FLData!$F$2:$F$13999, \"Lesson\" )) + SUMPRODUCT( SUMIFS( FLData!$AH$2:$AH$13999, FLData!$C$2:$C$13999, \">=\"&fromDateI, FLData!$C$2:$C$13999, \"<=\" &toDateI, FLData!$S$2:$S$13999,$C139, FLData!$E$2:$E$13999, MultiEngineTypes, FLData!$F$2:$F$13999, \"Rental\" )) )*24","v":0},{"$f":"SUMPRODUCT( SUMIFS( FLData!$AH$2:$AH$13999, FLData!$C$2:$C$13999, \">=\"&fromDateI, FLData!$C$2:$C$13999, \"<=\" &toDateI, FLData!$J$2:$J$13999,$C139, FLData!$E$2:$E$13999, MultiEngineTypes, FLData!$F$2:$F$13999, \"Operation\" ))*24","v":0},{"$f":"( SUMPRODUCT( SUMIFS( FLData!$AH$2:$AH$13999, FLData!$C$2:$C$13999, \">=\"&fromDateI, FLData!$C$2:$C$13999, \"<=\" &toDateI, FLData!$M$2:$M$13999,$C139, FLData!$E$2:$E$13999, Sim1Types, FLData!$F$2:$F$13999, \"Lesson\" )) + SUMPRODUCT( SUMIFS( FLData!$AH$2:$AH$13999, FLData!$C$2:$C$13999, \">=\"&fromDateI, FLData!$C$2:$C$13999, \"<=\" &toDateI, FLData!$S$2:$S$13999,$C139, FLData!$E$2:$E$13999, Sim1Types, FLData!$F$2:$F$13999, \"Rental\" )) )*24","v":0},{"$f":"SUMPRODUCT( SUMIFS( FLData!$AH$2:$AH$13999, FLData!$C$2:$C$13999, \">=\"&fromDateI, FLData!$C$2:$C$13999, \"<=\" &toDateI, FLData!$J$2:$J$13999,$C139, FLData!$E$2:$E$13999, Sim1Types, FLData!$F$2:$F$13999, \"Operation\" ))*24","v":0},{"$f":"( SUMPRODUCT( SUMIFS( FLData!$AH$2:$AH$13999, FLData!$C$2:$C$13999, \">=\"&fromDateI, FLData!$C$2:$C$13999, \"<=\" &toDateI, FLData!$M$2:$M$13999,$C139, FLData!$E$2:$E$13999, Sim2Types, FLData!$F$2:$F$13999, \"Lesson\" )) + SUMPRODUCT( SUMIFS( FLData!$AH$2:$AH$13999, FLData!$C$2:$C$13999, \">=\"&fromDateI, FLData!$C$2:$C$13999, \"<=\" &toDateI, FLData!$S$2:$S$13999,$C139, FLData!$E$2:$E$13999, Sim2Types, FLData!$F$2:$F$13999, \"Rental\" )) )*24","v":0},{"$f":"SUMPRODUCT( SUMIFS( FLData!$AH$2:$AH$13999, FLData!$C$2:$C$13999, \">=\"&fromDateI, FLData!$C$2:$C$13999, \"<=\" &toDateI, FLData!$J$2:$J$13999,$C139, FLData!$E$2:$E$13999, Sim2Types, FLData!$F$2:$F$13999, \"Operation\" ))*24","v":0},0,0,0]
[null,null,{"$f":"IF( OR(ISERROR(INDEX(InstructorNames,ROW($C140)-ROW($C$12)+1 )), LEN(INDEX(InstructorNames,ROW($C140)-ROW($C$12)+1))<=0),\"\",  INDEX(InstructorNames,ROW($C140)-ROW($C$12)+1))","v":""},{"$f":"( SUMPRODUCT( SUMIFS( FLData!$AH$2:$AH$13999, FLData!$C$2:$C$13999, \">=\"&fromDateI, FLData!$C$2:$C$13999, \"<=\" &toDateI, FLData!$M$2:$M$13999,$C140, FLData!$E$2:$E$13999, SingleEngineTypes, FLData!$F$2:$F$13999, \"Lesson\" )) + SUMPRODUCT( SUMIFS( FLData!$AH$2:$AH$13999, FLData!$C$2:$C$13999, \">=\"&fromDateI, FLData!$C$2:$C$13999, \"<=\" &toDateI, FLData!$S$2:$S$13999,$C140, FLData!$E$2:$E$13999, SingleEngineTypes, FLData!$F$2:$F$13999, \"Rental\" )) )*24","v":0},{"$f":"SUMPRODUCT( SUMIFS( FLData!$AH$2:$AH$13999, FLData!$C$2:$C$13999, \">=\"&fromDateI, FLData!$C$2:$C$13999, \"<=\" &toDateI, FLData!$J$2:$J$13999,$C140, FLData!$E$2:$E$13999, SingleEngineTypes, FLData!$F$2:$F$13999, \"Operation\" ))*24","v":0},{"$f":"( SUMPRODUCT( SUMIFS( FLData!$AH$2:$AH$13999, FLData!$C$2:$C$13999, \">=\"&fromDateI, FLData!$C$2:$C$13999, \"<=\" &toDateI, FLData!$M$2:$M$13999,$C140, FLData!$E$2:$E$13999, MultiEngineTypes, FLData!$F$2:$F$13999, \"Lesson\" )) + SUMPRODUCT( SUMIFS( FLData!$AH$2:$AH$13999, FLData!$C$2:$C$13999, \">=\"&fromDateI, FLData!$C$2:$C$13999, \"<=\" &toDateI, FLData!$S$2:$S$13999,$C140, FLData!$E$2:$E$13999, MultiEngineTypes, FLData!$F$2:$F$13999, \"Rental\" )) )*24","v":0},{"$f":"SUMPRODUCT( SUMIFS( FLData!$AH$2:$AH$13999, FLData!$C$2:$C$13999, \">=\"&fromDateI, FLData!$C$2:$C$13999, \"<=\" &toDateI, FLData!$J$2:$J$13999,$C140, FLData!$E$2:$E$13999, MultiEngineTypes, FLData!$F$2:$F$13999, \"Operation\" ))*24","v":0},{"$f":"( SUMPRODUCT( SUMIFS( FLData!$AH$2:$AH$13999, FLData!$C$2:$C$13999, \">=\"&fromDateI, FLData!$C$2:$C$13999, \"<=\" &toDateI, FLData!$M$2:$M$13999,$C140, FLData!$E$2:$E$13999, Sim1Types, FLData!$F$2:$F$13999, \"Lesson\" )) + SUMPRODUCT( SUMIFS( FLData!$AH$2:$AH$13999, FLData!$C$2:$C$13999, \">=\"&fromDateI, FLData!$C$2:$C$13999, \"<=\" &toDateI, FLData!$S$2:$S$13999,$C140, FLData!$E$2:$E$13999, Sim1Types, FLData!$F$2:$F$13999, \"Rental\" )) )*24","v":0},{"$f":"SUMPRODUCT( SUMIFS( FLData!$AH$2:$AH$13999, FLData!$C$2:$C$13999, \">=\"&fromDateI, FLData!$C$2:$C$13999, \"<=\" &toDateI, FLData!$J$2:$J$13999,$C140, FLData!$E$2:$E$13999, Sim1Types, FLData!$F$2:$F$13999, \"Operation\" ))*24","v":0},{"$f":"( SUMPRODUCT( SUMIFS( FLData!$AH$2:$AH$13999, FLData!$C$2:$C$13999, \">=\"&fromDateI, FLData!$C$2:$C$13999, \"<=\" &toDateI, FLData!$M$2:$M$13999,$C140, FLData!$E$2:$E$13999, Sim2Types, FLData!$F$2:$F$13999, \"Lesson\" )) + SUMPRODUCT( SUMIFS( FLData!$AH$2:$AH$13999, FLData!$C$2:$C$13999, \">=\"&fromDateI, FLData!$C$2:$C$13999, \"<=\" &toDateI, FLData!$S$2:$S$13999,$C140, FLData!$E$2:$E$13999, Sim2Types, FLData!$F$2:$F$13999, \"Rental\" )) )*24","v":0},{"$f":"SUMPRODUCT( SUMIFS( FLData!$AH$2:$AH$13999, FLData!$C$2:$C$13999, \">=\"&fromDateI, FLData!$C$2:$C$13999, \"<=\" &toDateI, FLData!$J$2:$J$13999,$C140, FLData!$E$2:$E$13999, Sim2Types, FLData!$F$2:$F$13999, \"Operation\" ))*24","v":0},0,0,0]
[null,null,"",{"$f":"( SUMPRODUCT( SUMIFS( FLData!$AH$2:$AH$13999, FLData!$C$2:$C$13999, \">=\"&fromDateI, FLData!$C$2:$C$13999, \"<=\" &toDateI, FLData!$M$2:$M$13999,$C141, FLData!$E$2:$E$13999, SingleEngineTypes, FLData!$F$2:$F$13999, \"Lesson\" )) + SUMPRODUCT( SUMIFS( FLData!$AH$2:$AH$13999, FLData!$C$2:$C$13999, \">=\"&fromDateI, FLData!$C$2:$C$13999, \"<=\" &toDateI, FLData!$S$2:$S$13999,$C141, FLData!$E$2:$E$13999, SingleEngineTypes, FLData!$F$2:$F$13999, \"Rental\" )) )*24","v":0},{"$f":"SUMPRODUCT( SUMIFS( FLData!$AH$2:$AH$13999, FLData!$C$2:$C$13999, \">=\"&fromDateI, FLData!$C$2:$C$13999, \"<=\" &toDateI, FLData!$J$2:$J$13999,$C141, FLData!$E$2:$E$13999, SingleEngineTypes, FLData!$F$2:$F$13999, \"Operation\" ))*24","v":0},{"$f":"( SUMPRODUCT( SUMIFS( FLData!$AH$2:$AH$13999, FLData!$C$2:$C$13999, \">=\"&fromDateI, FLData!$C$2:$C$13999, \"<=\" &toDateI, FLData!$M$2:$M$13999,$C141, FLData!$E$2:$E$13999, MultiEngineTypes, FLData!$F$2:$F$13999, \"Lesson\" )) + SUMPRODUCT( SUMIFS( FLData!$AH$2:$AH$13999, FLData!$C$2:$C$13999, \">=\"&fromDateI, FLData!$C$2:$C$13999, \"<=\" &toDateI, FLData!$S$2:$S$13999,$C141, FLData!$E$2:$E$13999, MultiEngineTypes, FLData!$F$2:$F$13999, \"Rental\" )) )*24","v":0},{"$f":"SUMPRODUCT( SUMIFS( FLData!$AH$2:$AH$13999, FLData!$C$2:$C$13999, \">=\"&fromDateI, FLData!$C$2:$C$13999, \"<=\" &toDateI, FLData!$J$2:$J$13999,$C141, FLData!$E$2:$E$13999, MultiEngineTypes, FLData!$F$2:$F$13999, \"Operation\" ))*24","v":0},{"$f":"( SUMPRODUCT( SUMIFS( FLData!$AH$2:$AH$13999, FLData!$C$2:$C$13999, \">=\"&fromDateI, FLData!$C$2:$C$13999, \"<=\" &toDateI, FLData!$M$2:$M$13999,$C141, FLData!$E$2:$E$13999, Sim1Types, FLData!$F$2:$F$13999, \"Lesson\" )) + SUMPRODUCT( SUMIFS( FLData!$AH$2:$AH$13999, FLData!$C$2:$C$13999, \">=\"&fromDateI, FLData!$C$2:$C$13999, \"<=\" &toDateI, FLData!$S$2:$S$13999,$C141, FLData!$E$2:$E$13999, Sim1Types, FLData!$F$2:$F$13999, \"Rental\" )) )*24","v":0},{"$f":"SUMPRODUCT( SUMIFS( FLData!$AH$2:$AH$13999, FLData!$C$2:$C$13999, \">=\"&fromDateI, FLData!$C$2:$C$13999, \"<=\" &toDateI, FLData!$J$2:$J$13999,$C141, FLData!$E$2:$E$13999, Sim1Types, FLData!$F$2:$F$13999, \"Operation\" ))*24","v":0},{"$f":"( SUMPRODUCT( SUMIFS( FLData!$AH$2:$AH$13999, FLData!$C$2:$C$13999, \">=\"&fromDateI, FLData!$C$2:$C$13999, \"<=\" &toDateI, FLData!$M$2:$M$13999,$C141, FLData!$E$2:$E$13999, Sim2Types, FLData!$F$2:$F$13999, \"Lesson\" )) + SUMPRODUCT( SUMIFS( FLData!$AH$2:$AH$13999, FLData!$C$2:$C$13999, \">=\"&fromDateI, FLData!$C$2:$C$13999, \"<=\" &toDateI, FLData!$S$2:$S$13999,$C141, FLData!$E$2:$E$13999, Sim2Types, FLData!$F$2:$F$13999, \"Rental\" )) )*24","v":0},{"$f":"SUMPRODUCT( SUMIFS( FLData!$AH$2:$AH$13999, FLData!$C$2:$C$13999, \">=\"&fromDateI, FLData!$C$2:$C$13999, \"<=\" &toDateI, FLData!$J$2:$J$13999,$C141, FLData!$E$2:$E$13999, Sim2Types, FLData!$F$2:$F$13999, \"Operation\" ))*24","v":0},{"$f":"D141+F141+H141+J141","v":0},{"$f":"E141+G141+I141+K141","v":0},{"$f":"L141+M141","v":0}]
[null,null,"",{"$f":"( SUMPRODUCT( SUMIFS( FLData!$AH$2:$AH$13999, FLData!$C$2:$C$13999, \">=\"&fromDateI, FLData!$C$2:$C$13999, \"<=\" &toDateI, FLData!$M$2:$M$13999,$C142, FLData!$E$2:$E$13999, SingleEngineTypes, FLData!$F$2:$F$13999, \"Lesson\" )) + SUMPRODUCT( SUMIFS( FLData!$AH$2:$AH$13999, FLData!$C$2:$C$13999, \">=\"&fromDateI, FLData!$C$2:$C$13999, \"<=\" &toDateI, FLData!$S$2:$S$13999,$C142, FLData!$E$2:$E$13999, SingleEngineTypes, FLData!$F$2:$F$13999, \"Rental\" )) )*24","v":0},{"$f":"SUMPRODUCT( SUMIFS( FLData!$AH$2:$AH$13999, FLData!$C$2:$C$13999, \">=\"&fromDateI, FLData!$C$2:$C$13999, \"<=\" &toDateI, FLData!$J$2:$J$13999,$C142, FLData!$E$2:$E$13999, SingleEngineTypes, FLData!$F$2:$F$13999, \"Operation\" ))*24","v":0},{"$f":"( SUMPRODUCT( SUMIFS( FLData!$AH$2:$AH$13999, FLData!$C$2:$C$13999, \">=\"&fromDateI, FLData!$C$2:$C$13999, \"<=\" &toDateI, FLData!$M$2:$M$13999,$C142, FLData!$E$2:$E$13999, MultiEngineTypes, FLData!$F$2:$F$13999, \"Lesson\" )) + SUMPRODUCT( SUMIFS( FLData!$AH$2:$AH$13999, FLData!$C$2:$C$13999, \">=\"&fromDateI, FLData!$C$2:$C$13999, \"<=\" &toDateI, FLData!$S$2:$S$13999,$C142, FLData!$E$2:$E$13999, MultiEngineTypes, FLData!$F$2:$F$13999, \"Rental\" )) )*24","v":0},{"$f":"SUMPRODUCT( SUMIFS( FLData!$AH$2:$AH$13999, FLData!$C$2:$C$13999, \">=\"&fromDateI, FLData!$C$2:$C$13999, \"<=\" &toDateI, FLData!$J$2:$J$13999,$C142, FLData!$E$2:$E$13999, MultiEngineTypes, FLData!$F$2:$F$13999, \"Operation\" ))*24","v":0},{"$f":"( SUMPRODUCT( SUMIFS( FLData!$AH$2:$AH$13999, FLData!$C$2:$C$13999, \">=\"&fromDateI, FLData!$C$2:$C$13999, \"<=\" &toDateI, FLData!$M$2:$M$13999,$C142, FLData!$E$2:$E$13999, Sim1Types, FLData!$F$2:$F$13999, \"Lesson\" )) + SUMPRODUCT( SUMIFS( FLData!$AH$2:$AH$13999, FLData!$C$2:$C$13999, \">=\"&fromDateI, FLData!$C$2:$C$13999, \"<=\" &toDateI, FLData!$S$2:$S$13999,$C142, FLData!$E$2:$E$13999, Sim1Types, FLData!$F$2:$F$13999, \"Rental\" )) )*24","v":0},{"$f":"SUMPRODUCT( SUMIFS( FLData!$AH$2:$AH$13999, FLData!$C$2:$C$13999, \">=\"&fromDateI, FLData!$C$2:$C$13999, \"<=\" &toDateI, FLData!$J$2:$J$13999,$C142, FLData!$E$2:$E$13999, Sim1Types, FLData!$F$2:$F$13999, \"Operation\" ))*24","v":0},{"$f":"( SUMPRODUCT( SUMIFS( FLData!$AH$2:$AH$13999, FLData!$C$2:$C$13999, \">=\"&fromDateI, FLData!$C$2:$C$13999, \"<=\" &toDateI, FLData!$M$2:$M$13999,$C142, FLData!$E$2:$E$13999, Sim2Types, FLData!$F$2:$F$13999, \"Lesson\" )) + SUMPRODUCT( SUMIFS( FLData!$AH$2:$AH$13999, FLData!$C$2:$C$13999, \">=\"&fromDateI, FLData!$C$2:$C$13999, \"<=\" &toDateI, FLData!$S$2:$S$13999,$C142, FLData!$E$2:$E$13999, Sim2Types, FLData!$F$2:$F$13999, \"Rental\" )) )*24","v":0},{"$f":"SUMPRODUCT( SUMIFS( FLData!$AH$2:$AH$13999, FLData!$C$2:$C$13999, \">=\"&fromDateI, FLData!$C$2:$C$13999, \"<=\" &toDateI, FLData!$J$2:$J$13999,$C142, FLData!$E$2:$E$13999, Sim2Types, FLData!$F$2:$F$13999, \"Operation\" ))*24","v":0},0,0,0]
[null,null,"",{"$f":"( SUMPRODUCT( SUMIFS( FLData!$AH$2:$AH$13999, FLData!$C$2:$C$13999, \">=\"&fromDateI, FLData!$C$2:$C$13999, \"<=\" &toDateI, FLData!$M$2:$M$13999,$C143, FLData!$E$2:$E$13999, SingleEngineTypes, FLData!$F$2:$F$13999, \"Lesson\" )) + SUMPRODUCT( SUMIFS( FLData!$AH$2:$AH$13999, FLData!$C$2:$C$13999, \">=\"&fromDateI, FLData!$C$2:$C$13999, \"<=\" &toDateI, FLData!$S$2:$S$13999,$C143, FLData!$E$2:$E$13999, SingleEngineTypes, FLData!$F$2:$F$13999, \"Rental\" )) )*24","v":0},{"$f":"SUMPRODUCT( SUMIFS( FLData!$AH$2:$AH$13999, FLData!$C$2:$C$13999, \">=\"&fromDateI, FLData!$C$2:$C$13999, \"<=\" &toDateI, FLData!$J$2:$J$13999,$C143, FLData!$E$2:$E$13999, SingleEngineTypes, FLData!$F$2:$F$13999, \"Operation\" ))*24","v":0},{"$f":"( SUMPRODUCT( SUMIFS( FLData!$AH$2:$AH$13999, FLData!$C$2:$C$13999, \">=\"&fromDateI, FLData!$C$2:$C$13999, \"<=\" &toDateI, FLData!$M$2:$M$13999,$C143, FLData!$E$2:$E$13999, MultiEngineTypes, FLData!$F$2:$F$13999, \"Lesson\" )) + SUMPRODUCT( SUMIFS( FLData!$AH$2:$AH$13999, FLData!$C$2:$C$13999, \">=\"&fromDateI, FLData!$C$2:$C$13999, \"<=\" &toDateI, FLData!$S$2:$S$13999,$C143, FLData!$E$2:$E$13999, MultiEngineTypes, FLData!$F$2:$F$13999, \"Rental\" )) )*24","v":0},{"$f":"SUMPRODUCT( SUMIFS( FLData!$AH$2:$AH$13999, FLData!$C$2:$C$13999, \">=\"&fromDateI, FLData!$C$2:$C$13999, \"<=\" &toDateI, FLData!$J$2:$J$13999,$C143, FLData!$E$2:$E$13999, MultiEngineTypes, FLData!$F$2:$F$13999, \"Operation\" ))*24","v":0},{"$f":"( SUMPRODUCT( SUMIFS( FLData!$AH$2:$AH$13999, FLData!$C$2:$C$13999, \">=\"&fromDateI, FLData!$C$2:$C$13999, \"<=\" &toDateI, FLData!$M$2:$M$13999,$C143, FLData!$E$2:$E$13999, Sim1Types, FLData!$F$2:$F$13999, \"Lesson\" )) + SUMPRODUCT( SUMIFS( FLData!$AH$2:$AH$13999, FLData!$C$2:$C$13999, \">=\"&fromDateI, FLData!$C$2:$C$13999, \"<=\" &toDateI, FLData!$S$2:$S$13999,$C143, FLData!$E$2:$E$13999, Sim1Types, FLData!$F$2:$F$13999, \"Rental\" )) )*24","v":0},{"$f":"SUMPRODUCT( SUMIFS( FLData!$AH$2:$AH$13999, FLData!$C$2:$C$13999, \">=\"&fromDateI, FLData!$C$2:$C$13999, \"<=\" &toDateI, FLData!$J$2:$J$13999,$C143, FLData!$E$2:$E$13999, Sim1Types, FLData!$F$2:$F$13999, \"Operation\" ))*24","v":0},{"$f":"( SUMPRODUCT( SUMIFS( FLData!$AH$2:$AH$13999, FLData!$C$2:$C$13999, \">=\"&fromDateI, FLData!$C$2:$C$13999, \"<=\" &toDateI, FLData!$M$2:$M$13999,$C143, FLData!$E$2:$E$13999, Sim2Types, FLData!$F$2:$F$13999, \"Lesson\" )) + SUMPRODUCT( SUMIFS( FLData!$AH$2:$AH$13999, FLData!$C$2:$C$13999, \">=\"&fromDateI, FLData!$C$2:$C$13999, \"<=\" &toDateI, FLData!$S$2:$S$13999,$C143, FLData!$E$2:$E$13999, Sim2Types, FLData!$F$2:$F$13999, \"Rental\" )) )*24","v":0},{"$f":"SUMPRODUCT( SUMIFS( FLData!$AH$2:$AH$13999, FLData!$C$2:$C$13999, \">=\"&fromDateI, FLData!$C$2:$C$13999, \"<=\" &toDateI, FLData!$J$2:$J$13999,$C143, FLData!$E$2:$E$13999, Sim2Types, FLData!$F$2:$F$13999, \"Operation\" ))*24","v":0},0,0,0]
[null,null,"",{"$f":"( SUMPRODUCT( SUMIFS( FLData!$AH$2:$AH$13999, FLData!$C$2:$C$13999, \">=\"&fromDateI, FLData!$C$2:$C$13999, \"<=\" &toDateI, FLData!$M$2:$M$13999,$C144, FLData!$E$2:$E$13999, SingleEngineTypes, FLData!$F$2:$F$13999, \"Lesson\" )) + SUMPRODUCT( SUMIFS( FLData!$AH$2:$AH$13999, FLData!$C$2:$C$13999, \">=\"&fromDateI, FLData!$C$2:$C$13999, \"<=\" &toDateI, FLData!$S$2:$S$13999,$C144, FLData!$E$2:$E$13999, SingleEngineTypes, FLData!$F$2:$F$13999, \"Rental\" )) )*24","v":0},{"$f":"SUMPRODUCT( SUMIFS( FLData!$AH$2:$AH$13999, FLData!$C$2:$C$13999, \">=\"&fromDateI, FLData!$C$2:$C$13999, \"<=\" &toDateI, FLData!$J$2:$J$13999,$C144, FLData!$E$2:$E$13999, SingleEngineTypes, FLData!$F$2:$F$13999, \"Operation\" ))*24","v":0},{"$f":"( SUMPRODUCT( SUMIFS( FLData!$AH$2:$AH$13999, FLData!$C$2:$C$13999, \">=\"&fromDateI, FLData!$C$2:$C$13999, \"<=\" &toDateI, FLData!$M$2:$M$13999,$C144, FLData!$E$2:$E$13999, MultiEngineTypes, FLData!$F$2:$F$13999, \"Lesson\" )) + SUMPRODUCT( SUMIFS( FLData!$AH$2:$AH$13999, FLData!$C$2:$C$13999, \">=\"&fromDateI, FLData!$C$2:$C$13999, \"<=\" &toDateI, FLData!$S$2:$S$13999,$C144, FLData!$E$2:$E$13999, MultiEngineTypes, FLData!$F$2:$F$13999, \"Rental\" )) )*24","v":0},{"$f":"SUMPRODUCT( SUMIFS( FLData!$AH$2:$AH$13999, FLData!$C$2:$C$13999, \">=\"&fromDateI, FLData!$C$2:$C$13999, \"<=\" &toDateI, FLData!$J$2:$J$13999,$C144, FLData!$E$2:$E$13999, MultiEngineTypes, FLData!$F$2:$F$13999, \"Operation\" ))*24","v":0},{"$f":"( SUMPRODUCT( SUMIFS( FLData!$AH$2:$AH$13999, FLData!$C$2:$C$13999, \">=\"&fromDateI, FLData!$C$2:$C$13999, \"<=\" &toDateI, FLData!$M$2:$M$13999,$C144, FLData!$E$2:$E$13999, Sim1Types, FLData!$F$2:$F$13999, \"Lesson\" )) + SUMPRODUCT( SUMIFS( FLData!$AH$2:$AH$13999, FLData!$C$2:$C$13999, \">=\"&fromDateI, FLData!$C$2:$C$13999, \"<=\" &toDateI, FLData!$S$2:$S$13999,$C144, FLData!$E$2:$E$13999, Sim1Types, FLData!$F$2:$F$13999, \"Rental\" )) )*24","v":0},{"$f":"SUMPRODUCT( SUMIFS( FLData!$AH$2:$AH$13999, FLData!$C$2:$C$13999, \">=\"&fromDateI, FLData!$C$2:$C$13999, \"<=\" &toDateI, FLData!$J$2:$J$13999,$C144, FLData!$E$2:$E$13999, Sim1Types, FLData!$F$2:$F$13999, \"Operation\" ))*24","v":0},{"$f":"( SUMPRODUCT( SUMIFS( FLData!$AH$2:$AH$13999, FLData!$C$2:$C$13999, \">=\"&fromDateI, FLData!$C$2:$C$13999, \"<=\" &toDateI, FLData!$M$2:$M$13999,$C144, FLData!$E$2:$E$13999, Sim2Types, FLData!$F$2:$F$13999, \"Lesson\" )) + SUMPRODUCT( SUMIFS( FLData!$AH$2:$AH$13999, FLData!$C$2:$C$13999, \">=\"&fromDateI, FLData!$C$2:$C$13999, \"<=\" &toDateI, FLData!$S$2:$S$13999,$C144, FLData!$E$2:$E$13999, Sim2Types, FLData!$F$2:$F$13999, \"Rental\" )) )*24","v":0},{"$f":"SUMPRODUCT( SUMIFS( FLData!$AH$2:$AH$13999, FLData!$C$2:$C$13999, \">=\"&fromDateI, FLData!$C$2:$C$13999, \"<=\" &toDateI, FLData!$J$2:$J$13999,$C144, FLData!$E$2:$E$13999, Sim2Types, FLData!$F$2:$F$13999, \"Operation\" ))*24","v":0},0,0,0]
[null,null,"",{"$f":"( SUMPRODUCT( SUMIFS( FLData!$AH$2:$AH$13999, FLData!$C$2:$C$13999, \">=\"&fromDateI, FLData!$C$2:$C$13999, \"<=\" &toDateI, FLData!$M$2:$M$13999,$C145, FLData!$E$2:$E$13999, SingleEngineTypes, FLData!$F$2:$F$13999, \"Lesson\" )) + SUMPRODUCT( SUMIFS( FLData!$AH$2:$AH$13999, FLData!$C$2:$C$13999, \">=\"&fromDateI, FLData!$C$2:$C$13999, \"<=\" &toDateI, FLData!$S$2:$S$13999,$C145, FLData!$E$2:$E$13999, SingleEngineTypes, FLData!$F$2:$F$13999, \"Rental\" )) )*24","v":0},{"$f":"SUMPRODUCT( SUMIFS( FLData!$AH$2:$AH$13999, FLData!$C$2:$C$13999, \">=\"&fromDateI, FLData!$C$2:$C$13999, \"<=\" &toDateI, FLData!$J$2:$J$13999,$C145, FLData!$E$2:$E$13999, SingleEngineTypes, FLData!$F$2:$F$13999, \"Operation\" ))*24","v":0},{"$f":"( SUMPRODUCT( SUMIFS( FLData!$AH$2:$AH$13999, FLData!$C$2:$C$13999, \">=\"&fromDateI, FLData!$C$2:$C$13999, \"<=\" &toDateI, FLData!$M$2:$M$13999,$C145, FLData!$E$2:$E$13999, MultiEngineTypes, FLData!$F$2:$F$13999, \"Lesson\" )) + SUMPRODUCT( SUMIFS( FLData!$AH$2:$AH$13999, FLData!$C$2:$C$13999, \">=\"&fromDateI, FLData!$C$2:$C$13999, \"<=\" &toDateI, FLData!$S$2:$S$13999,$C145, FLData!$E$2:$E$13999, MultiEngineTypes, FLData!$F$2:$F$13999, \"Rental\" )) )*24","v":0},{"$f":"SUMPRODUCT( SUMIFS( FLData!$AH$2:$AH$13999, FLData!$C$2:$C$13999, \">=\"&fromDateI, FLData!$C$2:$C$13999, \"<=\" &toDateI, FLData!$J$2:$J$13999,$C145, FLData!$E$2:$E$13999, MultiEngineTypes, FLData!$F$2:$F$13999, \"Operation\" ))*24","v":0},{"$f":"( SUMPRODUCT( SUMIFS( FLData!$AH$2:$AH$13999, FLData!$C$2:$C$13999, \">=\"&fromDateI, FLData!$C$2:$C$13999, \"<=\" &toDateI, FLData!$M$2:$M$13999,$C145, FLData!$E$2:$E$13999, Sim1Types, FLData!$F$2:$F$13999, \"Lesson\" )) + SUMPRODUCT( SUMIFS( FLData!$AH$2:$AH$13999, FLData!$C$2:$C$13999, \">=\"&fromDateI, FLData!$C$2:$C$13999, \"<=\" &toDateI, FLData!$S$2:$S$13999,$C145, FLData!$E$2:$E$13999, Sim1Types, FLData!$F$2:$F$13999, \"Rental\" )) )*24","v":0},{"$f":"SUMPRODUCT( SUMIFS( FLData!$AH$2:$AH$13999, FLData!$C$2:$C$13999, \">=\"&fromDateI, FLData!$C$2:$C$13999, \"<=\" &toDateI, FLData!$J$2:$J$13999,$C145, FLData!$E$2:$E$13999, Sim1Types, FLData!$F$2:$F$13999, \"Operation\" ))*24","v":0},{"$f":"( SUMPRODUCT( SUMIFS( FLData!$AH$2:$AH$13999, FLData!$C$2:$C$13999, \">=\"&fromDateI, FLData!$C$2:$C$13999, \"<=\" &toDateI, FLData!$M$2:$M$13999,$C145, FLData!$E$2:$E$13999, Sim2Types, FLData!$F$2:$F$13999, \"Lesson\" )) + SUMPRODUCT( SUMIFS( FLData!$AH$2:$AH$13999, FLData!$C$2:$C$13999, \">=\"&fromDateI, FLData!$C$2:$C$13999, \"<=\" &toDateI, FLData!$S$2:$S$13999,$C145, FLData!$E$2:$E$13999, Sim2Types, FLData!$F$2:$F$13999, \"Rental\" )) )*24","v":0},{"$f":"SUMPRODUCT( SUMIFS( FLData!$AH$2:$AH$13999, FLData!$C$2:$C$13999, \">=\"&fromDateI, FLData!$C$2:$C$13999, \"<=\" &toDateI, FLData!$J$2:$J$13999,$C145, FLData!$E$2:$E$13999, Sim2Types, FLData!$F$2:$F$13999, \"Operation\" ))*24","v":0},0,0,0]
[null,null,"",{"$f":"( SUMPRODUCT( SUMIFS( FLData!$AH$2:$AH$13999, FLData!$C$2:$C$13999, \">=\"&fromDateI, FLData!$C$2:$C$13999, \"<=\" &toDateI, FLData!$M$2:$M$13999,$C146, FLData!$E$2:$E$13999, SingleEngineTypes, FLData!$F$2:$F$13999, \"Lesson\" )) + SUMPRODUCT( SUMIFS( FLData!$AH$2:$AH$13999, FLData!$C$2:$C$13999, \">=\"&fromDateI, FLData!$C$2:$C$13999, \"<=\" &toDateI, FLData!$S$2:$S$13999,$C146, FLData!$E$2:$E$13999, SingleEngineTypes, FLData!$F$2:$F$13999, \"Rental\" )) )*24","v":0},{"$f":"SUMPRODUCT( SUMIFS( FLData!$AH$2:$AH$13999, FLData!$C$2:$C$13999, \">=\"&fromDateI, FLData!$C$2:$C$13999, \"<=\" &toDateI, FLData!$J$2:$J$13999,$C146, FLData!$E$2:$E$13999, SingleEngineTypes, FLData!$F$2:$F$13999, \"Operation\" ))*24","v":0},{"$f":"( SUMPRODUCT( SUMIFS( FLData!$AH$2:$AH$13999, FLData!$C$2:$C$13999, \">=\"&fromDateI, FLData!$C$2:$C$13999, \"<=\" &toDateI, FLData!$M$2:$M$13999,$C146, FLData!$E$2:$E$13999, MultiEngineTypes, FLData!$F$2:$F$13999, \"Lesson\" )) + SUMPRODUCT( SUMIFS( FLData!$AH$2:$AH$13999, FLData!$C$2:$C$13999, \">=\"&fromDateI, FLData!$C$2:$C$13999, \"<=\" &toDateI, FLData!$S$2:$S$13999,$C146, FLData!$E$2:$E$13999, MultiEngineTypes, FLData!$F$2:$F$13999, \"Rental\" )) )*24","v":0},{"$f":"SUMPRODUCT( SUMIFS( FLData!$AH$2:$AH$13999, FLData!$C$2:$C$13999, \">=\"&fromDateI, FLData!$C$2:$C$13999, \"<=\" &toDateI, FLData!$J$2:$J$13999,$C146, FLData!$E$2:$E$13999, MultiEngineTypes, FLData!$F$2:$F$13999, \"Operation\" ))*24","v":0},{"$f":"( SUMPRODUCT( SUMIFS( FLData!$AH$2:$AH$13999, FLData!$C$2:$C$13999, \">=\"&fromDateI, FLData!$C$2:$C$13999, \"<=\" &toDateI, FLData!$M$2:$M$13999,$C146, FLData!$E$2:$E$13999, Sim1Types, FLData!$F$2:$F$13999, \"Lesson\" )) + SUMPRODUCT( SUMIFS( FLData!$AH$2:$AH$13999, FLData!$C$2:$C$13999, \">=\"&fromDateI, FLData!$C$2:$C$13999, \"<=\" &toDateI, FLData!$S$2:$S$13999,$C146, FLData!$E$2:$E$13999, Sim1Types, FLData!$F$2:$F$13999, \"Rental\" )) )*24","v":0},{"$f":"SUMPRODUCT( SUMIFS( FLData!$AH$2:$AH$13999, FLData!$C$2:$C$13999, \">=\"&fromDateI, FLData!$C$2:$C$13999, \"<=\" &toDateI, FLData!$J$2:$J$13999,$C146, FLData!$E$2:$E$13999, Sim1Types, FLData!$F$2:$F$13999, \"Operation\" ))*24","v":0},{"$f":"( SUMPRODUCT( SUMIFS( FLData!$AH$2:$AH$13999, FLData!$C$2:$C$13999, \">=\"&fromDateI, FLData!$C$2:$C$13999, \"<=\" &toDateI, FLData!$M$2:$M$13999,$C146, FLData!$E$2:$E$13999, Sim2Types, FLData!$F$2:$F$13999, \"Lesson\" )) + SUMPRODUCT( SUMIFS( FLData!$AH$2:$AH$13999, FLData!$C$2:$C$13999, \">=\"&fromDateI, FLData!$C$2:$C$13999, \"<=\" &toDateI, FLData!$S$2:$S$13999,$C146, FLData!$E$2:$E$13999, Sim2Types, FLData!$F$2:$F$13999, \"Rental\" )) )*24","v":0},{"$f":"SUMPRODUCT( SUMIFS( FLData!$AH$2:$AH$13999, FLData!$C$2:$C$13999, \">=\"&fromDateI, FLData!$C$2:$C$13999, \"<=\" &toDateI, FLData!$J$2:$J$13999,$C146, FLData!$E$2:$E$13999, Sim2Types, FLData!$F$2:$F$13999, \"Operation\" ))*24","v":0},0,0,0]
[null,null,"",{"$f":"( SUMPRODUCT( SUMIFS( FLData!$AH$2:$AH$13999, FLData!$C$2:$C$13999, \">=\"&fromDateI, FLData!$C$2:$C$13999, \"<=\" &toDateI, FLData!$M$2:$M$13999,$C147, FLData!$E$2:$E$13999, SingleEngineTypes, FLData!$F$2:$F$13999, \"Lesson\" )) + SUMPRODUCT( SUMIFS( FLData!$AH$2:$AH$13999, FLData!$C$2:$C$13999, \">=\"&fromDateI, FLData!$C$2:$C$13999, \"<=\" &toDateI, FLData!$S$2:$S$13999,$C147, FLData!$E$2:$E$13999, SingleEngineTypes, FLData!$F$2:$F$13999, \"Rental\" )) )*24","v":0},{"$f":"SUMPRODUCT( SUMIFS( FLData!$AH$2:$AH$13999, FLData!$C$2:$C$13999, \">=\"&fromDateI, FLData!$C$2:$C$13999, \"<=\" &toDateI, FLData!$J$2:$J$13999,$C147, FLData!$E$2:$E$13999, SingleEngineTypes, FLData!$F$2:$F$13999, \"Operation\" ))*24","v":0},{"$f":"( SUMPRODUCT( SUMIFS( FLData!$AH$2:$AH$13999, FLData!$C$2:$C$13999, \">=\"&fromDateI, FLData!$C$2:$C$13999, \"<=\" &toDateI, FLData!$M$2:$M$13999,$C147, FLData!$E$2:$E$13999, MultiEngineTypes, FLData!$F$2:$F$13999, \"Lesson\" )) + SUMPRODUCT( SUMIFS( FLData!$AH$2:$AH$13999, FLData!$C$2:$C$13999, \">=\"&fromDateI, FLData!$C$2:$C$13999, \"<=\" &toDateI, FLData!$S$2:$S$13999,$C147, FLData!$E$2:$E$13999, MultiEngineTypes, FLData!$F$2:$F$13999, \"Rental\" )) )*24","v":0},{"$f":"SUMPRODUCT( SUMIFS( FLData!$AH$2:$AH$13999, FLData!$C$2:$C$13999, \">=\"&fromDateI, FLData!$C$2:$C$13999, \"<=\" &toDateI, FLData!$J$2:$J$13999,$C147, FLData!$E$2:$E$13999, MultiEngineTypes, FLData!$F$2:$F$13999, \"Operation\" ))*24","v":0},{"$f":"( SUMPRODUCT( SUMIFS( FLData!$AH$2:$AH$13999, FLData!$C$2:$C$13999, \">=\"&fromDateI, FLData!$C$2:$C$13999, \"<=\" &toDateI, FLData!$M$2:$M$13999,$C147, FLData!$E$2:$E$13999, Sim1Types, FLData!$F$2:$F$13999, \"Lesson\" )) + SUMPRODUCT( SUMIFS( FLData!$AH$2:$AH$13999, FLData!$C$2:$C$13999, \">=\"&fromDateI, FLData!$C$2:$C$13999, \"<=\" &toDateI, FLData!$S$2:$S$13999,$C147, FLData!$E$2:$E$13999, Sim1Types, FLData!$F$2:$F$13999, \"Rental\" )) )*24","v":0},{"$f":"SUMPRODUCT( SUMIFS( FLData!$AH$2:$AH$13999, FLData!$C$2:$C$13999, \">=\"&fromDateI, FLData!$C$2:$C$13999, \"<=\" &toDateI, FLData!$J$2:$J$13999,$C147, FLData!$E$2:$E$13999, Sim1Types, FLData!$F$2:$F$13999, \"Operation\" ))*24","v":0},{"$f":"( SUMPRODUCT( SUMIFS( FLData!$AH$2:$AH$13999, FLData!$C$2:$C$13999, \">=\"&fromDateI, FLData!$C$2:$C$13999, \"<=\" &toDateI, FLData!$M$2:$M$13999,$C147, FLData!$E$2:$E$13999, Sim2Types, FLData!$F$2:$F$13999, \"Lesson\" )) + SUMPRODUCT( SUMIFS( FLData!$AH$2:$AH$13999, FLData!$C$2:$C$13999, \">=\"&fromDateI, FLData!$C$2:$C$13999, \"<=\" &toDateI, FLData!$S$2:$S$13999,$C147, FLData!$E$2:$E$13999, Sim2Types, FLData!$F$2:$F$13999, \"Rental\" )) )*24","v":0},{"$f":"SUMPRODUCT( SUMIFS( FLData!$AH$2:$AH$13999, FLData!$C$2:$C$13999, \">=\"&fromDateI, FLData!$C$2:$C$13999, \"<=\" &toDateI, FLData!$J$2:$J$13999,$C147, FLData!$E$2:$E$13999, Sim2Types, FLData!$F$2:$F$13999, \"Operation\" ))*24","v":0},0,0,0]
[null,null,"",{"$f":"( SUMPRODUCT( SUMIFS( FLData!$AH$2:$AH$13999, FLData!$C$2:$C$13999, \">=\"&fromDateI, FLData!$C$2:$C$13999, \"<=\" &toDateI, FLData!$M$2:$M$13999,$C148, FLData!$E$2:$E$13999, SingleEngineTypes, FLData!$F$2:$F$13999, \"Lesson\" )) + SUMPRODUCT( SUMIFS( FLData!$AH$2:$AH$13999, FLData!$C$2:$C$13999, \">=\"&fromDateI, FLData!$C$2:$C$13999, \"<=\" &toDateI, FLData!$S$2:$S$13999,$C148, FLData!$E$2:$E$13999, SingleEngineTypes, FLData!$F$2:$F$13999, \"Rental\" )) )*24","v":0},{"$f":"SUMPRODUCT( SUMIFS( FLData!$AH$2:$AH$13999, FLData!$C$2:$C$13999, \">=\"&fromDateI, FLData!$C$2:$C$13999, \"<=\" &toDateI, FLData!$J$2:$J$13999,$C148, FLData!$E$2:$E$13999, SingleEngineTypes, FLData!$F$2:$F$13999, \"Operation\" ))*24","v":0},{"$f":"( SUMPRODUCT( SUMIFS( FLData!$AH$2:$AH$13999, FLData!$C$2:$C$13999, \">=\"&fromDateI, FLData!$C$2:$C$13999, \"<=\" &toDateI, FLData!$M$2:$M$13999,$C148, FLData!$E$2:$E$13999, MultiEngineTypes, FLData!$F$2:$F$13999, \"Lesson\" )) + SUMPRODUCT( SUMIFS( FLData!$AH$2:$AH$13999, FLData!$C$2:$C$13999, \">=\"&fromDateI, FLData!$C$2:$C$13999, \"<=\" &toDateI, FLData!$S$2:$S$13999,$C148, FLData!$E$2:$E$13999, MultiEngineTypes, FLData!$F$2:$F$13999, \"Rental\" )) )*24","v":0},{"$f":"SUMPRODUCT( SUMIFS( FLData!$AH$2:$AH$13999, FLData!$C$2:$C$13999, \">=\"&fromDateI, FLData!$C$2:$C$13999, \"<=\" &toDateI, FLData!$J$2:$J$13999,$C148, FLData!$E$2:$E$13999, MultiEngineTypes, FLData!$F$2:$F$13999, \"Operation\" ))*24","v":0},{"$f":"( SUMPRODUCT( SUMIFS( FLData!$AH$2:$AH$13999, FLData!$C$2:$C$13999, \">=\"&fromDateI, FLData!$C$2:$C$13999, \"<=\" &toDateI, FLData!$M$2:$M$13999,$C148, FLData!$E$2:$E$13999, Sim1Types, FLData!$F$2:$F$13999, \"Lesson\" )) + SUMPRODUCT( SUMIFS( FLData!$AH$2:$AH$13999, FLData!$C$2:$C$13999, \">=\"&fromDateI, FLData!$C$2:$C$13999, \"<=\" &toDateI, FLData!$S$2:$S$13999,$C148, FLData!$E$2:$E$13999, Sim1Types, FLData!$F$2:$F$13999, \"Rental\" )) )*24","v":0},{"$f":"SUMPRODUCT( SUMIFS( FLData!$AH$2:$AH$13999, FLData!$C$2:$C$13999, \">=\"&fromDateI, FLData!$C$2:$C$13999, \"<=\" &toDateI, FLData!$J$2:$J$13999,$C148, FLData!$E$2:$E$13999, Sim1Types, FLData!$F$2:$F$13999, \"Operation\" ))*24","v":0},{"$f":"( SUMPRODUCT( SUMIFS( FLData!$AH$2:$AH$13999, FLData!$C$2:$C$13999, \">=\"&fromDateI, FLData!$C$2:$C$13999, \"<=\" &toDateI, FLData!$M$2:$M$13999,$C148, FLData!$E$2:$E$13999, Sim2Types, FLData!$F$2:$F$13999, \"Lesson\" )) + SUMPRODUCT( SUMIFS( FLData!$AH$2:$AH$13999, FLData!$C$2:$C$13999, \">=\"&fromDateI, FLData!$C$2:$C$13999, \"<=\" &toDateI, FLData!$S$2:$S$13999,$C148, FLData!$E$2:$E$13999, Sim2Types, FLData!$F$2:$F$13999, \"Rental\" )) )*24","v":0},{"$f":"SUMPRODUCT( SUMIFS( FLData!$AH$2:$AH$13999, FLData!$C$2:$C$13999, \">=\"&fromDateI, FLData!$C$2:$C$13999, \"<=\" &toDateI, FLData!$J$2:$J$13999,$C148, FLData!$E$2:$E$13999, Sim2Types, FLData!$F$2:$F$13999, \"Operation\" ))*24","v":0},0,0,0]
[null,null,"",{"$f":"( SUMPRODUCT( SUMIFS( FLData!$AH$2:$AH$13999, FLData!$C$2:$C$13999, \">=\"&fromDateI, FLData!$C$2:$C$13999, \"<=\" &toDateI, FLData!$M$2:$M$13999,$C149, FLData!$E$2:$E$13999, SingleEngineTypes, FLData!$F$2:$F$13999, \"Lesson\" )) + SUMPRODUCT( SUMIFS( FLData!$AH$2:$AH$13999, FLData!$C$2:$C$13999, \">=\"&fromDateI, FLData!$C$2:$C$13999, \"<=\" &toDateI, FLData!$S$2:$S$13999,$C149, FLData!$E$2:$E$13999, SingleEngineTypes, FLData!$F$2:$F$13999, \"Rental\" )) )*24","v":0},{"$f":"SUMPRODUCT( SUMIFS( FLData!$AH$2:$AH$13999, FLData!$C$2:$C$13999, \">=\"&fromDateI, FLData!$C$2:$C$13999, \"<=\" &toDateI, FLData!$J$2:$J$13999,$C149, FLData!$E$2:$E$13999, SingleEngineTypes, FLData!$F$2:$F$13999, \"Operation\" ))*24","v":0},{"$f":"( SUMPRODUCT( SUMIFS( FLData!$AH$2:$AH$13999, FLData!$C$2:$C$13999, \">=\"&fromDateI, FLData!$C$2:$C$13999, \"<=\" &toDateI, FLData!$M$2:$M$13999,$C149, FLData!$E$2:$E$13999, MultiEngineTypes, FLData!$F$2:$F$13999, \"Lesson\" )) + SUMPRODUCT( SUMIFS( FLData!$AH$2:$AH$13999, FLData!$C$2:$C$13999, \">=\"&fromDateI, FLData!$C$2:$C$13999, \"<=\" &toDateI, FLData!$S$2:$S$13999,$C149, FLData!$E$2:$E$13999, MultiEngineTypes, FLData!$F$2:$F$13999, \"Rental\" )) )*24","v":0},{"$f":"SUMPRODUCT( SUMIFS( FLData!$AH$2:$AH$13999, FLData!$C$2:$C$13999, \">=\"&fromDateI, FLData!$C$2:$C$13999, \"<=\" &toDateI, FLData!$J$2:$J$13999,$C149, FLData!$E$2:$E$13999, MultiEngineTypes, FLData!$F$2:$F$13999, \"Operation\" ))*24","v":0},{"$f":"( SUMPRODUCT( SUMIFS( FLData!$AH$2:$AH$13999, FLData!$C$2:$C$13999, \">=\"&fromDateI, FLData!$C$2:$C$13999, \"<=\" &toDateI, FLData!$M$2:$M$13999,$C149, FLData!$E$2:$E$13999, Sim1Types, FLData!$F$2:$F$13999, \"Lesson\" )) + SUMPRODUCT( SUMIFS( FLData!$AH$2:$AH$13999, FLData!$C$2:$C$13999, \">=\"&fromDateI, FLData!$C$2:$C$13999, \"<=\" &toDateI, FLData!$S$2:$S$13999,$C149, FLData!$E$2:$E$13999, Sim1Types, FLData!$F$2:$F$13999, \"Rental\" )) )*24","v":0},{"$f":"SUMPRODUCT( SUMIFS( FLData!$AH$2:$AH$13999, FLData!$C$2:$C$13999, \">=\"&fromDateI, FLData!$C$2:$C$13999, \"<=\" &toDateI, FLData!$J$2:$J$13999,$C149, FLData!$E$2:$E$13999, Sim1Types, FLData!$F$2:$F$13999, \"Operation\" ))*24","v":0},{"$f":"( SUMPRODUCT( SUMIFS( FLData!$AH$2:$AH$13999, FLData!$C$2:$C$13999, \">=\"&fromDateI, FLData!$C$2:$C$13999, \"<=\" &toDateI, FLData!$M$2:$M$13999,$C149, FLData!$E$2:$E$13999, Sim2Types, FLData!$F$2:$F$13999, \"Lesson\" )) + SUMPRODUCT( SUMIFS( FLData!$AH$2:$AH$13999, FLData!$C$2:$C$13999, \">=\"&fromDateI, FLData!$C$2:$C$13999, \"<=\" &toDateI, FLData!$S$2:$S$13999,$C149, FLData!$E$2:$E$13999, Sim2Types, FLData!$F$2:$F$13999, \"Rental\" )) )*24","v":0},{"$f":"SUMPRODUCT( SUMIFS( FLData!$AH$2:$AH$13999, FLData!$C$2:$C$13999, \">=\"&fromDateI, FLData!$C$2:$C$13999, \"<=\" &toDateI, FLData!$J$2:$J$13999,$C149, FLData!$E$2:$E$13999, Sim2Types, FLData!$F$2:$F$13999, \"Operation\" ))*24","v":0},0,0,0]
[null,null,"",{"$f":"( SUMPRODUCT( SUMIFS( FLData!$AH$2:$AH$13999, FLData!$C$2:$C$13999, \">=\"&fromDateI, FLData!$C$2:$C$13999, \"<=\" &toDateI, FLData!$M$2:$M$13999,$C150, FLData!$E$2:$E$13999, SingleEngineTypes, FLData!$F$2:$F$13999, \"Lesson\" )) + SUMPRODUCT( SUMIFS( FLData!$AH$2:$AH$13999, FLData!$C$2:$C$13999, \">=\"&fromDateI, FLData!$C$2:$C$13999, \"<=\" &toDateI, FLData!$S$2:$S$13999,$C150, FLData!$E$2:$E$13999, SingleEngineTypes, FLData!$F$2:$F$13999, \"Rental\" )) )*24","v":0},{"$f":"SUMPRODUCT( SUMIFS( FLData!$AH$2:$AH$13999, FLData!$C$2:$C$13999, \">=\"&fromDateI, FLData!$C$2:$C$13999, \"<=\" &toDateI, FLData!$J$2:$J$13999,$C150, FLData!$E$2:$E$13999, SingleEngineTypes, FLData!$F$2:$F$13999, \"Operation\" ))*24","v":0},{"$f":"( SUMPRODUCT( SUMIFS( FLData!$AH$2:$AH$13999, FLData!$C$2:$C$13999, \">=\"&fromDateI, FLData!$C$2:$C$13999, \"<=\" &toDateI, FLData!$M$2:$M$13999,$C150, FLData!$E$2:$E$13999, MultiEngineTypes, FLData!$F$2:$F$13999, \"Lesson\" )) + SUMPRODUCT( SUMIFS( FLData!$AH$2:$AH$13999, FLData!$C$2:$C$13999, \">=\"&fromDateI, FLData!$C$2:$C$13999, \"<=\" &toDateI, FLData!$S$2:$S$13999,$C150, FLData!$E$2:$E$13999, MultiEngineTypes, FLData!$F$2:$F$13999, \"Rental\" )) )*24","v":0},{"$f":"SUMPRODUCT( SUMIFS( FLData!$AH$2:$AH$13999, FLData!$C$2:$C$13999, \">=\"&fromDateI, FLData!$C$2:$C$13999, \"<=\" &toDateI, FLData!$J$2:$J$13999,$C150, FLData!$E$2:$E$13999, MultiEngineTypes, FLData!$F$2:$F$13999, \"Operation\" ))*24","v":0},{"$f":"( SUMPRODUCT( SUMIFS( FLData!$AH$2:$AH$13999, FLData!$C$2:$C$13999, \">=\"&fromDateI, FLData!$C$2:$C$13999, \"<=\" &toDateI, FLData!$M$2:$M$13999,$C150, FLData!$E$2:$E$13999, Sim1Types, FLData!$F$2:$F$13999, \"Lesson\" )) + SUMPRODUCT( SUMIFS( FLData!$AH$2:$AH$13999, FLData!$C$2:$C$13999, \">=\"&fromDateI, FLData!$C$2:$C$13999, \"<=\" &toDateI, FLData!$S$2:$S$13999,$C150, FLData!$E$2:$E$13999, Sim1Types, FLData!$F$2:$F$13999, \"Rental\" )) )*24","v":0},{"$f":"SUMPRODUCT( SUMIFS( FLData!$AH$2:$AH$13999, FLData!$C$2:$C$13999, \">=\"&fromDateI, FLData!$C$2:$C$13999, \"<=\" &toDateI, FLData!$J$2:$J$13999,$C150, FLData!$E$2:$E$13999, Sim1Types, FLData!$F$2:$F$13999, \"Operation\" ))*24","v":0},{"$f":"( SUMPRODUCT( SUMIFS( FLData!$AH$2:$AH$13999, FLData!$C$2:$C$13999, \">=\"&fromDateI, FLData!$C$2:$C$13999, \"<=\" &toDateI, FLData!$M$2:$M$13999,$C150, FLData!$E$2:$E$13999, Sim2Types, FLData!$F$2:$F$13999, \"Lesson\" )) + SUMPRODUCT( SUMIFS( FLData!$AH$2:$AH$13999, FLData!$C$2:$C$13999, \">=\"&fromDateI, FLData!$C$2:$C$13999, \"<=\" &toDateI, FLData!$S$2:$S$13999,$C150, FLData!$E$2:$E$13999, Sim2Types, FLData!$F$2:$F$13999, \"Rental\" )) )*24","v":0},{"$f":"SUMPRODUCT( SUMIFS( FLData!$AH$2:$AH$13999, FLData!$C$2:$C$13999, \">=\"&fromDateI, FLData!$C$2:$C$13999, \"<=\" &toDateI, FLData!$J$2:$J$13999,$C150, FLData!$E$2:$E$13999, Sim2Types, FLData!$F$2:$F$13999, \"Operation\" ))*24","v":0},0,0,0]
[null,null,"",{"$f":"( SUMPRODUCT( SUMIFS( FLData!$AH$2:$AH$13999, FLData!$C$2:$C$13999, \">=\"&fromDateI, FLData!$C$2:$C$13999, \"<=\" &toDateI, FLData!$M$2:$M$13999,$C151, FLData!$E$2:$E$13999, SingleEngineTypes, FLData!$F$2:$F$13999, \"Lesson\" )) + SUMPRODUCT( SUMIFS( FLData!$AH$2:$AH$13999, FLData!$C$2:$C$13999, \">=\"&fromDateI, FLData!$C$2:$C$13999, \"<=\" &toDateI, FLData!$S$2:$S$13999,$C151, FLData!$E$2:$E$13999, SingleEngineTypes, FLData!$F$2:$F$13999, \"Rental\" )) )*24","v":0},{"$f":"SUMPRODUCT( SUMIFS( FLData!$AH$2:$AH$13999, FLData!$C$2:$C$13999, \">=\"&fromDateI, FLData!$C$2:$C$13999, \"<=\" &toDateI, FLData!$J$2:$J$13999,$C151, FLData!$E$2:$E$13999, SingleEngineTypes, FLData!$F$2:$F$13999, \"Operation\" ))*24","v":0},{"$f":"( SUMPRODUCT( SUMIFS( FLData!$AH$2:$AH$13999, FLData!$C$2:$C$13999, \">=\"&fromDateI, FLData!$C$2:$C$13999, \"<=\" &toDateI, FLData!$M$2:$M$13999,$C151, FLData!$E$2:$E$13999, MultiEngineTypes, FLData!$F$2:$F$13999, \"Lesson\" )) + SUMPRODUCT( SUMIFS( FLData!$AH$2:$AH$13999, FLData!$C$2:$C$13999, \">=\"&fromDateI, FLData!$C$2:$C$13999, \"<=\" &toDateI, FLData!$S$2:$S$13999,$C151, FLData!$E$2:$E$13999, MultiEngineTypes, FLData!$F$2:$F$13999, \"Rental\" )) )*24","v":0},{"$f":"SUMPRODUCT( SUMIFS( FLData!$AH$2:$AH$13999, FLData!$C$2:$C$13999, \">=\"&fromDateI, FLData!$C$2:$C$13999, \"<=\" &toDateI, FLData!$J$2:$J$13999,$C151, FLData!$E$2:$E$13999, MultiEngineTypes, FLData!$F$2:$F$13999, \"Operation\" ))*24","v":0},{"$f":"( SUMPRODUCT( SUMIFS( FLData!$AH$2:$AH$13999, FLData!$C$2:$C$13999, \">=\"&fromDateI, FLData!$C$2:$C$13999, \"<=\" &toDateI, FLData!$M$2:$M$13999,$C151, FLData!$E$2:$E$13999, Sim1Types, FLData!$F$2:$F$13999, \"Lesson\" )) + SUMPRODUCT( SUMIFS( FLData!$AH$2:$AH$13999, FLData!$C$2:$C$13999, \">=\"&fromDateI, FLData!$C$2:$C$13999, \"<=\" &toDateI, FLData!$S$2:$S$13999,$C151, FLData!$E$2:$E$13999, Sim1Types, FLData!$F$2:$F$13999, \"Rental\" )) )*24","v":0},{"$f":"SUMPRODUCT( SUMIFS( FLData!$AH$2:$AH$13999, FLData!$C$2:$C$13999, \">=\"&fromDateI, FLData!$C$2:$C$13999, \"<=\" &toDateI, FLData!$J$2:$J$13999,$C151, FLData!$E$2:$E$13999, Sim1Types, FLData!$F$2:$F$13999, \"Operation\" ))*24","v":0},{"$f":"( SUMPRODUCT( SUMIFS( FLData!$AH$2:$AH$13999, FLData!$C$2:$C$13999, \">=\"&fromDateI, FLData!$C$2:$C$13999, \"<=\" &toDateI, FLData!$M$2:$M$13999,$C151, FLData!$E$2:$E$13999, Sim2Types, FLData!$F$2:$F$13999, \"Lesson\" )) + SUMPRODUCT( SUMIFS( FLData!$AH$2:$AH$13999, FLData!$C$2:$C$13999, \">=\"&fromDateI, FLData!$C$2:$C$13999, \"<=\" &toDateI, FLData!$S$2:$S$13999,$C151, FLData!$E$2:$E$13999, Sim2Types, FLData!$F$2:$F$13999, \"Rental\" )) )*24","v":0},{"$f":"SUMPRODUCT( SUMIFS( FLData!$AH$2:$AH$13999, FLData!$C$2:$C$13999, \">=\"&fromDateI, FLData!$C$2:$C$13999, \"<=\" &toDateI, FLData!$J$2:$J$13999,$C151, FLData!$E$2:$E$13999, Sim2Types, FLData!$F$2:$F$13999, \"Operation\" ))*24","v":0},0,0,0]
[null,null,"",{"$f":"( SUMPRODUCT( SUMIFS( FLData!$AH$2:$AH$13999, FLData!$C$2:$C$13999, \">=\"&fromDateI, FLData!$C$2:$C$13999, \"<=\" &toDateI, FLData!$M$2:$M$13999,$C152, FLData!$E$2:$E$13999, SingleEngineTypes, FLData!$F$2:$F$13999, \"Lesson\" )) + SUMPRODUCT( SUMIFS( FLData!$AH$2:$AH$13999, FLData!$C$2:$C$13999, \">=\"&fromDateI, FLData!$C$2:$C$13999, \"<=\" &toDateI, FLData!$S$2:$S$13999,$C152, FLData!$E$2:$E$13999, SingleEngineTypes, FLData!$F$2:$F$13999, \"Rental\" )) )*24","v":0},{"$f":"SUMPRODUCT( SUMIFS( FLData!$AH$2:$AH$13999, FLData!$C$2:$C$13999, \">=\"&fromDateI, FLData!$C$2:$C$13999, \"<=\" &toDateI, FLData!$J$2:$J$13999,$C152, FLData!$E$2:$E$13999, SingleEngineTypes, FLData!$F$2:$F$13999, \"Operation\" ))*24","v":0},{"$f":"( SUMPRODUCT( SUMIFS( FLData!$AH$2:$AH$13999, FLData!$C$2:$C$13999, \">=\"&fromDateI, FLData!$C$2:$C$13999, \"<=\" &toDateI, FLData!$M$2:$M$13999,$C152, FLData!$E$2:$E$13999, MultiEngineTypes, FLData!$F$2:$F$13999, \"Lesson\" )) + SUMPRODUCT( SUMIFS( FLData!$AH$2:$AH$13999, FLData!$C$2:$C$13999, \">=\"&fromDateI, FLData!$C$2:$C$13999, \"<=\" &toDateI, FLData!$S$2:$S$13999,$C152, FLData!$E$2:$E$13999, MultiEngineTypes, FLData!$F$2:$F$13999, \"Rental\" )) )*24","v":0},{"$f":"SUMPRODUCT( SUMIFS( FLData!$AH$2:$AH$13999, FLData!$C$2:$C$13999, \">=\"&fromDateI, FLData!$C$2:$C$13999, \"<=\" &toDateI, FLData!$J$2:$J$13999,$C152, FLData!$E$2:$E$13999, MultiEngineTypes, FLData!$F$2:$F$13999, \"Operation\" ))*24","v":0},{"$f":"( SUMPRODUCT( SUMIFS( FLData!$AH$2:$AH$13999, FLData!$C$2:$C$13999, \">=\"&fromDateI, FLData!$C$2:$C$13999, \"<=\" &toDateI, FLData!$M$2:$M$13999,$C152, FLData!$E$2:$E$13999, Sim1Types, FLData!$F$2:$F$13999, \"Lesson\" )) + SUMPRODUCT( SUMIFS( FLData!$AH$2:$AH$13999, FLData!$C$2:$C$13999, \">=\"&fromDateI, FLData!$C$2:$C$13999, \"<=\" &toDateI, FLData!$S$2:$S$13999,$C152, FLData!$E$2:$E$13999, Sim1Types, FLData!$F$2:$F$13999, \"Rental\" )) )*24","v":0},{"$f":"SUMPRODUCT( SUMIFS( FLData!$AH$2:$AH$13999, FLData!$C$2:$C$13999, \">=\"&fromDateI, FLData!$C$2:$C$13999, \"<=\" &toDateI, FLData!$J$2:$J$13999,$C152, FLData!$E$2:$E$13999, Sim1Types, FLData!$F$2:$F$13999, \"Operation\" ))*24","v":0},{"$f":"( SUMPRODUCT( SUMIFS( FLData!$AH$2:$AH$13999, FLData!$C$2:$C$13999, \">=\"&fromDateI, FLData!$C$2:$C$13999, \"<=\" &toDateI, FLData!$M$2:$M$13999,$C152, FLData!$E$2:$E$13999, Sim2Types, FLData!$F$2:$F$13999, \"Lesson\" )) + SUMPRODUCT( SUMIFS( FLData!$AH$2:$AH$13999, FLData!$C$2:$C$13999, \">=\"&fromDateI, FLData!$C$2:$C$13999, \"<=\" &toDateI, FLData!$S$2:$S$13999,$C152, FLData!$E$2:$E$13999, Sim2Types, FLData!$F$2:$F$13999, \"Rental\" )) )*24","v":0},{"$f":"SUMPRODUCT( SUMIFS( FLData!$AH$2:$AH$13999, FLData!$C$2:$C$13999, \">=\"&fromDateI, FLData!$C$2:$C$13999, \"<=\" &toDateI, FLData!$J$2:$J$13999,$C152, FLData!$E$2:$E$13999, Sim2Types, FLData!$F$2:$F$13999, \"Operation\" ))*24","v":0},0,0,0]
[null,null,"",{"$f":"( SUMPRODUCT( SUMIFS( FLData!$AH$2:$AH$13999, FLData!$C$2:$C$13999, \">=\"&fromDateI, FLData!$C$2:$C$13999, \"<=\" &toDateI, FLData!$M$2:$M$13999,$C153, FLData!$E$2:$E$13999, SingleEngineTypes, FLData!$F$2:$F$13999, \"Lesson\" )) + SUMPRODUCT( SUMIFS( FLData!$AH$2:$AH$13999, FLData!$C$2:$C$13999, \">=\"&fromDateI, FLData!$C$2:$C$13999, \"<=\" &toDateI, FLData!$S$2:$S$13999,$C153, FLData!$E$2:$E$13999, SingleEngineTypes, FLData!$F$2:$F$13999, \"Rental\" )) )*24","v":0},{"$f":"SUMPRODUCT( SUMIFS( FLData!$AH$2:$AH$13999, FLData!$C$2:$C$13999, \">=\"&fromDateI, FLData!$C$2:$C$13999, \"<=\" &toDateI, FLData!$J$2:$J$13999,$C153, FLData!$E$2:$E$13999, SingleEngineTypes, FLData!$F$2:$F$13999, \"Operation\" ))*24","v":0},{"$f":"( SUMPRODUCT( SUMIFS( FLData!$AH$2:$AH$13999, FLData!$C$2:$C$13999, \">=\"&fromDateI, FLData!$C$2:$C$13999, \"<=\" &toDateI, FLData!$M$2:$M$13999,$C153, FLData!$E$2:$E$13999, MultiEngineTypes, FLData!$F$2:$F$13999, \"Lesson\" )) + SUMPRODUCT( SUMIFS( FLData!$AH$2:$AH$13999, FLData!$C$2:$C$13999, \">=\"&fromDateI, FLData!$C$2:$C$13999, \"<=\" &toDateI, FLData!$S$2:$S$13999,$C153, FLData!$E$2:$E$13999, MultiEngineTypes, FLData!$F$2:$F$13999, \"Rental\" )) )*24","v":0},{"$f":"SUMPRODUCT( SUMIFS( FLData!$AH$2:$AH$13999, FLData!$C$2:$C$13999, \">=\"&fromDateI, FLData!$C$2:$C$13999, \"<=\" &toDateI, FLData!$J$2:$J$13999,$C153, FLData!$E$2:$E$13999, MultiEngineTypes, FLData!$F$2:$F$13999, \"Operation\" ))*24","v":0},{"$f":"( SUMPRODUCT( SUMIFS( FLData!$AH$2:$AH$13999, FLData!$C$2:$C$13999, \">=\"&fromDateI, FLData!$C$2:$C$13999, \"<=\" &toDateI, FLData!$M$2:$M$13999,$C153, FLData!$E$2:$E$13999, Sim1Types, FLData!$F$2:$F$13999, \"Lesson\" )) + SUMPRODUCT( SUMIFS( FLData!$AH$2:$AH$13999, FLData!$C$2:$C$13999, \">=\"&fromDateI, FLData!$C$2:$C$13999, \"<=\" &toDateI, FLData!$S$2:$S$13999,$C153, FLData!$E$2:$E$13999, Sim1Types, FLData!$F$2:$F$13999, \"Rental\" )) )*24","v":0},{"$f":"SUMPRODUCT( SUMIFS( FLData!$AH$2:$AH$13999, FLData!$C$2:$C$13999, \">=\"&fromDateI, FLData!$C$2:$C$13999, \"<=\" &toDateI, FLData!$J$2:$J$13999,$C153, FLData!$E$2:$E$13999, Sim1Types, FLData!$F$2:$F$13999, \"Operation\" ))*24","v":0},{"$f":"( SUMPRODUCT( SUMIFS( FLData!$AH$2:$AH$13999, FLData!$C$2:$C$13999, \">=\"&fromDateI, FLData!$C$2:$C$13999, \"<=\" &toDateI, FLData!$M$2:$M$13999,$C153, FLData!$E$2:$E$13999, Sim2Types, FLData!$F$2:$F$13999, \"Lesson\" )) + SUMPRODUCT( SUMIFS( FLData!$AH$2:$AH$13999, FLData!$C$2:$C$13999, \">=\"&fromDateI, FLData!$C$2:$C$13999, \"<=\" &toDateI, FLData!$S$2:$S$13999,$C153, FLData!$E$2:$E$13999, Sim2Types, FLData!$F$2:$F$13999, \"Rental\" )) )*24","v":0},{"$f":"SUMPRODUCT( SUMIFS( FLData!$AH$2:$AH$13999, FLData!$C$2:$C$13999, \">=\"&fromDateI, FLData!$C$2:$C$13999, \"<=\" &toDateI, FLData!$J$2:$J$13999,$C153, FLData!$E$2:$E$13999, Sim2Types, FLData!$F$2:$F$13999, \"Operation\" ))*24","v":0},0,0,0]
[null,null,"",{"$f":"( SUMPRODUCT( SUMIFS( FLData!$AH$2:$AH$13999, FLData!$C$2:$C$13999, \">=\"&fromDateI, FLData!$C$2:$C$13999, \"<=\" &toDateI, FLData!$M$2:$M$13999,$C154, FLData!$E$2:$E$13999, SingleEngineTypes, FLData!$F$2:$F$13999, \"Lesson\" )) + SUMPRODUCT( SUMIFS( FLData!$AH$2:$AH$13999, FLData!$C$2:$C$13999, \">=\"&fromDateI, FLData!$C$2:$C$13999, \"<=\" &toDateI, FLData!$S$2:$S$13999,$C154, FLData!$E$2:$E$13999, SingleEngineTypes, FLData!$F$2:$F$13999, \"Rental\" )) )*24","v":0},{"$f":"SUMPRODUCT( SUMIFS( FLData!$AH$2:$AH$13999, FLData!$C$2:$C$13999, \">=\"&fromDateI, FLData!$C$2:$C$13999, \"<=\" &toDateI, FLData!$J$2:$J$13999,$C154, FLData!$E$2:$E$13999, SingleEngineTypes, FLData!$F$2:$F$13999, \"Operation\" ))*24","v":0},{"$f":"( SUMPRODUCT( SUMIFS( FLData!$AH$2:$AH$13999, FLData!$C$2:$C$13999, \">=\"&fromDateI, FLData!$C$2:$C$13999, \"<=\" &toDateI, FLData!$M$2:$M$13999,$C154, FLData!$E$2:$E$13999, MultiEngineTypes, FLData!$F$2:$F$13999, \"Lesson\" )) + SUMPRODUCT( SUMIFS( FLData!$AH$2:$AH$13999, FLData!$C$2:$C$13999, \">=\"&fromDateI, FLData!$C$2:$C$13999, \"<=\" &toDateI, FLData!$S$2:$S$13999,$C154, FLData!$E$2:$E$13999, MultiEngineTypes, FLData!$F$2:$F$13999, \"Rental\" )) )*24","v":0},{"$f":"SUMPRODUCT( SUMIFS( FLData!$AH$2:$AH$13999, FLData!$C$2:$C$13999, \">=\"&fromDateI, FLData!$C$2:$C$13999, \"<=\" &toDateI, FLData!$J$2:$J$13999,$C154, FLData!$E$2:$E$13999, MultiEngineTypes, FLData!$F$2:$F$13999, \"Operation\" ))*24","v":0},{"$f":"( SUMPRODUCT( SUMIFS( FLData!$AH$2:$AH$13999, FLData!$C$2:$C$13999, \">=\"&fromDateI, FLData!$C$2:$C$13999, \"<=\" &toDateI, FLData!$M$2:$M$13999,$C154, FLData!$E$2:$E$13999, Sim1Types, FLData!$F$2:$F$13999, \"Lesson\" )) + SUMPRODUCT( SUMIFS( FLData!$AH$2:$AH$13999, FLData!$C$2:$C$13999, \">=\"&fromDateI, FLData!$C$2:$C$13999, \"<=\" &toDateI, FLData!$S$2:$S$13999,$C154, FLData!$E$2:$E$13999, Sim1Types, FLData!$F$2:$F$13999, \"Rental\" )) )*24","v":0},{"$f":"SUMPRODUCT( SUMIFS( FLData!$AH$2:$AH$13999, FLData!$C$2:$C$13999, \">=\"&fromDateI, FLData!$C$2:$C$13999, \"<=\" &toDateI, FLData!$J$2:$J$13999,$C154, FLData!$E$2:$E$13999, Sim1Types, FLData!$F$2:$F$13999, \"Operation\" ))*24","v":0},{"$f":"( SUMPRODUCT( SUMIFS( FLData!$AH$2:$AH$13999, FLData!$C$2:$C$13999, \">=\"&fromDateI, FLData!$C$2:$C$13999, \"<=\" &toDateI, FLData!$M$2:$M$13999,$C154, FLData!$E$2:$E$13999, Sim2Types, FLData!$F$2:$F$13999, \"Lesson\" )) + SUMPRODUCT( SUMIFS( FLData!$AH$2:$AH$13999, FLData!$C$2:$C$13999, \">=\"&fromDateI, FLData!$C$2:$C$13999, \"<=\" &toDateI, FLData!$S$2:$S$13999,$C154, FLData!$E$2:$E$13999, Sim2Types, FLData!$F$2:$F$13999, \"Rental\" )) )*24","v":0},{"$f":"SUMPRODUCT( SUMIFS( FLData!$AH$2:$AH$13999, FLData!$C$2:$C$13999, \">=\"&fromDateI, FLData!$C$2:$C$13999, \"<=\" &toDateI, FLData!$J$2:$J$13999,$C154, FLData!$E$2:$E$13999, Sim2Types, FLData!$F$2:$F$13999, \"Operation\" ))*24","v":0},0,0,0]
[null,null,"",{"$f":"( SUMPRODUCT( SUMIFS( FLData!$AH$2:$AH$13999, FLData!$C$2:$C$13999, \">=\"&fromDateI, FLData!$C$2:$C$13999, \"<=\" &toDateI, FLData!$M$2:$M$13999,$C155, FLData!$E$2:$E$13999, SingleEngineTypes, FLData!$F$2:$F$13999, \"Lesson\" )) + SUMPRODUCT( SUMIFS( FLData!$AH$2:$AH$13999, FLData!$C$2:$C$13999, \">=\"&fromDateI, FLData!$C$2:$C$13999, \"<=\" &toDateI, FLData!$S$2:$S$13999,$C155, FLData!$E$2:$E$13999, SingleEngineTypes, FLData!$F$2:$F$13999, \"Rental\" )) )*24","v":0},{"$f":"SUMPRODUCT( SUMIFS( FLData!$AH$2:$AH$13999, FLData!$C$2:$C$13999, \">=\"&fromDateI, FLData!$C$2:$C$13999, \"<=\" &toDateI, FLData!$J$2:$J$13999,$C155, FLData!$E$2:$E$13999, SingleEngineTypes, FLData!$F$2:$F$13999, \"Operation\" ))*24","v":0},{"$f":"( SUMPRODUCT( SUMIFS( FLData!$AH$2:$AH$13999, FLData!$C$2:$C$13999, \">=\"&fromDateI, FLData!$C$2:$C$13999, \"<=\" &toDateI, FLData!$M$2:$M$13999,$C155, FLData!$E$2:$E$13999, MultiEngineTypes, FLData!$F$2:$F$13999, \"Lesson\" )) + SUMPRODUCT( SUMIFS( FLData!$AH$2:$AH$13999, FLData!$C$2:$C$13999, \">=\"&fromDateI, FLData!$C$2:$C$13999, \"<=\" &toDateI, FLData!$S$2:$S$13999,$C155, FLData!$E$2:$E$13999, MultiEngineTypes, FLData!$F$2:$F$13999, \"Rental\" )) )*24","v":0},{"$f":"SUMPRODUCT( SUMIFS( FLData!$AH$2:$AH$13999, FLData!$C$2:$C$13999, \">=\"&fromDateI, FLData!$C$2:$C$13999, \"<=\" &toDateI, FLData!$J$2:$J$13999,$C155, FLData!$E$2:$E$13999, MultiEngineTypes, FLData!$F$2:$F$13999, \"Operation\" ))*24","v":0},{"$f":"( SUMPRODUCT( SUMIFS( FLData!$AH$2:$AH$13999, FLData!$C$2:$C$13999, \">=\"&fromDateI, FLData!$C$2:$C$13999, \"<=\" &toDateI, FLData!$M$2:$M$13999,$C155, FLData!$E$2:$E$13999, Sim1Types, FLData!$F$2:$F$13999, \"Lesson\" )) + SUMPRODUCT( SUMIFS( FLData!$AH$2:$AH$13999, FLData!$C$2:$C$13999, \">=\"&fromDateI, FLData!$C$2:$C$13999, \"<=\" &toDateI, FLData!$S$2:$S$13999,$C155, FLData!$E$2:$E$13999, Sim1Types, FLData!$F$2:$F$13999, \"Rental\" )) )*24","v":0},{"$f":"SUMPRODUCT( SUMIFS( FLData!$AH$2:$AH$13999, FLData!$C$2:$C$13999, \">=\"&fromDateI, FLData!$C$2:$C$13999, \"<=\" &toDateI, FLData!$J$2:$J$13999,$C155, FLData!$E$2:$E$13999, Sim1Types, FLData!$F$2:$F$13999, \"Operation\" ))*24","v":0},{"$f":"( SUMPRODUCT( SUMIFS( FLData!$AH$2:$AH$13999, FLData!$C$2:$C$13999, \">=\"&fromDateI, FLData!$C$2:$C$13999, \"<=\" &toDateI, FLData!$M$2:$M$13999,$C155, FLData!$E$2:$E$13999, Sim2Types, FLData!$F$2:$F$13999, \"Lesson\" )) + SUMPRODUCT( SUMIFS( FLData!$AH$2:$AH$13999, FLData!$C$2:$C$13999, \">=\"&fromDateI, FLData!$C$2:$C$13999, \"<=\" &toDateI, FLData!$S$2:$S$13999,$C155, FLData!$E$2:$E$13999, Sim2Types, FLData!$F$2:$F$13999, \"Rental\" )) )*24","v":0},{"$f":"SUMPRODUCT( SUMIFS( FLData!$AH$2:$AH$13999, FLData!$C$2:$C$13999, \">=\"&fromDateI, FLData!$C$2:$C$13999, \"<=\" &toDateI, FLData!$J$2:$J$13999,$C155, FLData!$E$2:$E$13999, Sim2Types, FLData!$F$2:$F$13999, \"Operation\" ))*24","v":0},0,0,0]
[null,null,"",{"$f":"( SUMPRODUCT( SUMIFS( FLData!$AH$2:$AH$13999, FLData!$C$2:$C$13999, \">=\"&fromDateI, FLData!$C$2:$C$13999, \"<=\" &toDateI, FLData!$M$2:$M$13999,$C156, FLData!$E$2:$E$13999, SingleEngineTypes, FLData!$F$2:$F$13999, \"Lesson\" )) + SUMPRODUCT( SUMIFS( FLData!$AH$2:$AH$13999, FLData!$C$2:$C$13999, \">=\"&fromDateI, FLData!$C$2:$C$13999, \"<=\" &toDateI, FLData!$S$2:$S$13999,$C156, FLData!$E$2:$E$13999, SingleEngineTypes, FLData!$F$2:$F$13999, \"Rental\" )) )*24","v":0},{"$f":"SUMPRODUCT( SUMIFS( FLData!$AH$2:$AH$13999, FLData!$C$2:$C$13999, \">=\"&fromDateI, FLData!$C$2:$C$13999, \"<=\" &toDateI, FLData!$J$2:$J$13999,$C156, FLData!$E$2:$E$13999, SingleEngineTypes, FLData!$F$2:$F$13999, \"Operation\" ))*24","v":0},{"$f":"( SUMPRODUCT( SUMIFS( FLData!$AH$2:$AH$13999, FLData!$C$2:$C$13999, \">=\"&fromDateI, FLData!$C$2:$C$13999, \"<=\" &toDateI, FLData!$M$2:$M$13999,$C156, FLData!$E$2:$E$13999, MultiEngineTypes, FLData!$F$2:$F$13999, \"Lesson\" )) + SUMPRODUCT( SUMIFS( FLData!$AH$2:$AH$13999, FLData!$C$2:$C$13999, \">=\"&fromDateI, FLData!$C$2:$C$13999, \"<=\" &toDateI, FLData!$S$2:$S$13999,$C156, FLData!$E$2:$E$13999, MultiEngineTypes, FLData!$F$2:$F$13999, \"Rental\" )) )*24","v":0},{"$f":"SUMPRODUCT( SUMIFS( FLData!$AH$2:$AH$13999, FLData!$C$2:$C$13999, \">=\"&fromDateI, FLData!$C$2:$C$13999, \"<=\" &toDateI, FLData!$J$2:$J$13999,$C156, FLData!$E$2:$E$13999, MultiEngineTypes, FLData!$F$2:$F$13999, \"Operation\" ))*24","v":0},{"$f":"( SUMPRODUCT( SUMIFS( FLData!$AH$2:$AH$13999, FLData!$C$2:$C$13999, \">=\"&fromDateI, FLData!$C$2:$C$13999, \"<=\" &toDateI, FLData!$M$2:$M$13999,$C156, FLData!$E$2:$E$13999, Sim1Types, FLData!$F$2:$F$13999, \"Lesson\" )) + SUMPRODUCT( SUMIFS( FLData!$AH$2:$AH$13999, FLData!$C$2:$C$13999, \">=\"&fromDateI, FLData!$C$2:$C$13999, \"<=\" &toDateI, FLData!$S$2:$S$13999,$C156, FLData!$E$2:$E$13999, Sim1Types, FLData!$F$2:$F$13999, \"Rental\" )) )*24","v":0},{"$f":"SUMPRODUCT( SUMIFS( FLData!$AH$2:$AH$13999, FLData!$C$2:$C$13999, \">=\"&fromDateI, FLData!$C$2:$C$13999, \"<=\" &toDateI, FLData!$J$2:$J$13999,$C156, FLData!$E$2:$E$13999, Sim1Types, FLData!$F$2:$F$13999, \"Operation\" ))*24","v":0},{"$f":"( SUMPRODUCT( SUMIFS( FLData!$AH$2:$AH$13999, FLData!$C$2:$C$13999, \">=\"&fromDateI, FLData!$C$2:$C$13999, \"<=\" &toDateI, FLData!$M$2:$M$13999,$C156, FLData!$E$2:$E$13999, Sim2Types, FLData!$F$2:$F$13999, \"Lesson\" )) + SUMPRODUCT( SUMIFS( FLData!$AH$2:$AH$13999, FLData!$C$2:$C$13999, \">=\"&fromDateI, FLData!$C$2:$C$13999, \"<=\" &toDateI, FLData!$S$2:$S$13999,$C156, FLData!$E$2:$E$13999, Sim2Types, FLData!$F$2:$F$13999, \"Rental\" )) )*24","v":0},{"$f":"SUMPRODUCT( SUMIFS( FLData!$AH$2:$AH$13999, FLData!$C$2:$C$13999, \">=\"&fromDateI, FLData!$C$2:$C$13999, \"<=\" &toDateI, FLData!$J$2:$J$13999,$C156, FLData!$E$2:$E$13999, Sim2Types, FLData!$F$2:$F$13999, \"Operation\" ))*24","v":0},0,0,0]
[null,null,"",{"$f":"( SUMPRODUCT( SUMIFS( FLData!$AH$2:$AH$13999, FLData!$C$2:$C$13999, \">=\"&fromDateI, FLData!$C$2:$C$13999, \"<=\" &toDateI, FLData!$M$2:$M$13999,$C157, FLData!$E$2:$E$13999, SingleEngineTypes, FLData!$F$2:$F$13999, \"Lesson\" )) + SUMPRODUCT( SUMIFS( FLData!$AH$2:$AH$13999, FLData!$C$2:$C$13999, \">=\"&fromDateI, FLData!$C$2:$C$13999, \"<=\" &toDateI, FLData!$S$2:$S$13999,$C157, FLData!$E$2:$E$13999, SingleEngineTypes, FLData!$F$2:$F$13999, \"Rental\" )) )*24","v":0},{"$f":"SUMPRODUCT( SUMIFS( FLData!$AH$2:$AH$13999, FLData!$C$2:$C$13999, \">=\"&fromDateI, FLData!$C$2:$C$13999, \"<=\" &toDateI, FLData!$J$2:$J$13999,$C157, FLData!$E$2:$E$13999, SingleEngineTypes, FLData!$F$2:$F$13999, \"Operation\" ))*24","v":0},{"$f":"( SUMPRODUCT( SUMIFS( FLData!$AH$2:$AH$13999, FLData!$C$2:$C$13999, \">=\"&fromDateI, FLData!$C$2:$C$13999, \"<=\" &toDateI, FLData!$M$2:$M$13999,$C157, FLData!$E$2:$E$13999, MultiEngineTypes, FLData!$F$2:$F$13999, \"Lesson\" )) + SUMPRODUCT( SUMIFS( FLData!$AH$2:$AH$13999, FLData!$C$2:$C$13999, \">=\"&fromDateI, FLData!$C$2:$C$13999, \"<=\" &toDateI, FLData!$S$2:$S$13999,$C157, FLData!$E$2:$E$13999, MultiEngineTypes, FLData!$F$2:$F$13999, \"Rental\" )) )*24","v":0},{"$f":"SUMPRODUCT( SUMIFS( FLData!$AH$2:$AH$13999, FLData!$C$2:$C$13999, \">=\"&fromDateI, FLData!$C$2:$C$13999, \"<=\" &toDateI, FLData!$J$2:$J$13999,$C157, FLData!$E$2:$E$13999, MultiEngineTypes, FLData!$F$2:$F$13999, \"Operation\" ))*24","v":0},{"$f":"( SUMPRODUCT( SUMIFS( FLData!$AH$2:$AH$13999, FLData!$C$2:$C$13999, \">=\"&fromDateI, FLData!$C$2:$C$13999, \"<=\" &toDateI, FLData!$M$2:$M$13999,$C157, FLData!$E$2:$E$13999, Sim1Types, FLData!$F$2:$F$13999, \"Lesson\" )) + SUMPRODUCT( SUMIFS( FLData!$AH$2:$AH$13999, FLData!$C$2:$C$13999, \">=\"&fromDateI, FLData!$C$2:$C$13999, \"<=\" &toDateI, FLData!$S$2:$S$13999,$C157, FLData!$E$2:$E$13999, Sim1Types, FLData!$F$2:$F$13999, \"Rental\" )) )*24","v":0},{"$f":"SUMPRODUCT( SUMIFS( FLData!$AH$2:$AH$13999, FLData!$C$2:$C$13999, \">=\"&fromDateI, FLData!$C$2:$C$13999, \"<=\" &toDateI, FLData!$J$2:$J$13999,$C157, FLData!$E$2:$E$13999, Sim1Types, FLData!$F$2:$F$13999, \"Operation\" ))*24","v":0},{"$f":"( SUMPRODUCT( SUMIFS( FLData!$AH$2:$AH$13999, FLData!$C$2:$C$13999, \">=\"&fromDateI, FLData!$C$2:$C$13999, \"<=\" &toDateI, FLData!$M$2:$M$13999,$C157, FLData!$E$2:$E$13999, Sim2Types, FLData!$F$2:$F$13999, \"Lesson\" )) + SUMPRODUCT( SUMIFS( FLData!$AH$2:$AH$13999, FLData!$C$2:$C$13999, \">=\"&fromDateI, FLData!$C$2:$C$13999, \"<=\" &toDateI, FLData!$S$2:$S$13999,$C157, FLData!$E$2:$E$13999, Sim2Types, FLData!$F$2:$F$13999, \"Rental\" )) )*24","v":0},{"$f":"SUMPRODUCT( SUMIFS( FLData!$AH$2:$AH$13999, FLData!$C$2:$C$13999, \">=\"&fromDateI, FLData!$C$2:$C$13999, \"<=\" &toDateI, FLData!$J$2:$J$13999,$C157, FLData!$E$2:$E$13999, Sim2Types, FLData!$F$2:$F$13999, \"Operation\" ))*24","v":0},0,0,0]
[null,null,"",{"$f":"( SUMPRODUCT( SUMIFS( FLData!$AH$2:$AH$13999, FLData!$C$2:$C$13999, \">=\"&fromDateI, FLData!$C$2:$C$13999, \"<=\" &toDateI, FLData!$M$2:$M$13999,$C158, FLData!$E$2:$E$13999, SingleEngineTypes, FLData!$F$2:$F$13999, \"Lesson\" )) + SUMPRODUCT( SUMIFS( FLData!$AH$2:$AH$13999, FLData!$C$2:$C$13999, \">=\"&fromDateI, FLData!$C$2:$C$13999, \"<=\" &toDateI, FLData!$S$2:$S$13999,$C158, FLData!$E$2:$E$13999, SingleEngineTypes, FLData!$F$2:$F$13999, \"Rental\" )) )*24","v":0},{"$f":"SUMPRODUCT( SUMIFS( FLData!$AH$2:$AH$13999, FLData!$C$2:$C$13999, \">=\"&fromDateI, FLData!$C$2:$C$13999, \"<=\" &toDateI, FLData!$J$2:$J$13999,$C158, FLData!$E$2:$E$13999, SingleEngineTypes, FLData!$F$2:$F$13999, \"Operation\" ))*24","v":0},{"$f":"( SUMPRODUCT( SUMIFS( FLData!$AH$2:$AH$13999, FLData!$C$2:$C$13999, \">=\"&fromDateI, FLData!$C$2:$C$13999, \"<=\" &toDateI, FLData!$M$2:$M$13999,$C158, FLData!$E$2:$E$13999, MultiEngineTypes, FLData!$F$2:$F$13999, \"Lesson\" )) + SUMPRODUCT( SUMIFS( FLData!$AH$2:$AH$13999, FLData!$C$2:$C$13999, \">=\"&fromDateI, FLData!$C$2:$C$13999, \"<=\" &toDateI, FLData!$S$2:$S$13999,$C158, FLData!$E$2:$E$13999, MultiEngineTypes, FLData!$F$2:$F$13999, \"Rental\" )) )*24","v":0},{"$f":"SUMPRODUCT( SUMIFS( FLData!$AH$2:$AH$13999, FLData!$C$2:$C$13999, \">=\"&fromDateI, FLData!$C$2:$C$13999, \"<=\" &toDateI, FLData!$J$2:$J$13999,$C158, FLData!$E$2:$E$13999, MultiEngineTypes, FLData!$F$2:$F$13999, \"Operation\" ))*24","v":0},{"$f":"( SUMPRODUCT( SUMIFS( FLData!$AH$2:$AH$13999, FLData!$C$2:$C$13999, \">=\"&fromDateI, FLData!$C$2:$C$13999, \"<=\" &toDateI, FLData!$M$2:$M$13999,$C158, FLData!$E$2:$E$13999, Sim1Types, FLData!$F$2:$F$13999, \"Lesson\" )) + SUMPRODUCT( SUMIFS( FLData!$AH$2:$AH$13999, FLData!$C$2:$C$13999, \">=\"&fromDateI, FLData!$C$2:$C$13999, \"<=\" &toDateI, FLData!$S$2:$S$13999,$C158, FLData!$E$2:$E$13999, Sim1Types, FLData!$F$2:$F$13999, \"Rental\" )) )*24","v":0},{"$f":"SUMPRODUCT( SUMIFS( FLData!$AH$2:$AH$13999, FLData!$C$2:$C$13999, \">=\"&fromDateI, FLData!$C$2:$C$13999, \"<=\" &toDateI, FLData!$J$2:$J$13999,$C158, FLData!$E$2:$E$13999, Sim1Types, FLData!$F$2:$F$13999, \"Operation\" ))*24","v":0},{"$f":"( SUMPRODUCT( SUMIFS( FLData!$AH$2:$AH$13999, FLData!$C$2:$C$13999, \">=\"&fromDateI, FLData!$C$2:$C$13999, \"<=\" &toDateI, FLData!$M$2:$M$13999,$C158, FLData!$E$2:$E$13999, Sim2Types, FLData!$F$2:$F$13999, \"Lesson\" )) + SUMPRODUCT( SUMIFS( FLData!$AH$2:$AH$13999, FLData!$C$2:$C$13999, \">=\"&fromDateI, FLData!$C$2:$C$13999, \"<=\" &toDateI, FLData!$S$2:$S$13999,$C158, FLData!$E$2:$E$13999, Sim2Types, FLData!$F$2:$F$13999, \"Rental\" )) )*24","v":0},{"$f":"SUMPRODUCT( SUMIFS( FLData!$AH$2:$AH$13999, FLData!$C$2:$C$13999, \">=\"&fromDateI, FLData!$C$2:$C$13999, \"<=\" &toDateI, FLData!$J$2:$J$13999,$C158, FLData!$E$2:$E$13999, Sim2Types, FLData!$F$2:$F$13999, \"Operation\" ))*24","v":0},0,0,0]
[null,null,"",{"$f":"( SUMPRODUCT( SUMIFS( FLData!$AH$2:$AH$13999, FLData!$C$2:$C$13999, \">=\"&fromDateI, FLData!$C$2:$C$13999, \"<=\" &toDateI, FLData!$M$2:$M$13999,$C159, FLData!$E$2:$E$13999, SingleEngineTypes, FLData!$F$2:$F$13999, \"Lesson\" )) + SUMPRODUCT( SUMIFS( FLData!$AH$2:$AH$13999, FLData!$C$2:$C$13999, \">=\"&fromDateI, FLData!$C$2:$C$13999, \"<=\" &toDateI, FLData!$S$2:$S$13999,$C159, FLData!$E$2:$E$13999, SingleEngineTypes, FLData!$F$2:$F$13999, \"Rental\" )) )*24","v":0},{"$f":"SUMPRODUCT( SUMIFS( FLData!$AH$2:$AH$13999, FLData!$C$2:$C$13999, \">=\"&fromDateI, FLData!$C$2:$C$13999, \"<=\" &toDateI, FLData!$J$2:$J$13999,$C159, FLData!$E$2:$E$13999, SingleEngineTypes, FLData!$F$2:$F$13999, \"Operation\" ))*24","v":0},{"$f":"( SUMPRODUCT( SUMIFS( FLData!$AH$2:$AH$13999, FLData!$C$2:$C$13999, \">=\"&fromDateI, FLData!$C$2:$C$13999, \"<=\" &toDateI, FLData!$M$2:$M$13999,$C159, FLData!$E$2:$E$13999, MultiEngineTypes, FLData!$F$2:$F$13999, \"Lesson\" )) + SUMPRODUCT( SUMIFS( FLData!$AH$2:$AH$13999, FLData!$C$2:$C$13999, \">=\"&fromDateI, FLData!$C$2:$C$13999, \"<=\" &toDateI, FLData!$S$2:$S$13999,$C159, FLData!$E$2:$E$13999, MultiEngineTypes, FLData!$F$2:$F$13999, \"Rental\" )) )*24","v":0},{"$f":"SUMPRODUCT( SUMIFS( FLData!$AH$2:$AH$13999, FLData!$C$2:$C$13999, \">=\"&fromDateI, FLData!$C$2:$C$13999, \"<=\" &toDateI, FLData!$J$2:$J$13999,$C159, FLData!$E$2:$E$13999, MultiEngineTypes, FLData!$F$2:$F$13999, \"Operation\" ))*24","v":0},{"$f":"( SUMPRODUCT( SUMIFS( FLData!$AH$2:$AH$13999, FLData!$C$2:$C$13999, \">=\"&fromDateI, FLData!$C$2:$C$13999, \"<=\" &toDateI, FLData!$M$2:$M$13999,$C159, FLData!$E$2:$E$13999, Sim1Types, FLData!$F$2:$F$13999, \"Lesson\" )) + SUMPRODUCT( SUMIFS( FLData!$AH$2:$AH$13999, FLData!$C$2:$C$13999, \">=\"&fromDateI, FLData!$C$2:$C$13999, \"<=\" &toDateI, FLData!$S$2:$S$13999,$C159, FLData!$E$2:$E$13999, Sim1Types, FLData!$F$2:$F$13999, \"Rental\" )) )*24","v":0},{"$f":"SUMPRODUCT( SUMIFS( FLData!$AH$2:$AH$13999, FLData!$C$2:$C$13999, \">=\"&fromDateI, FLData!$C$2:$C$13999, \"<=\" &toDateI, FLData!$J$2:$J$13999,$C159, FLData!$E$2:$E$13999, Sim1Types, FLData!$F$2:$F$13999, \"Operation\" ))*24","v":0},{"$f":"( SUMPRODUCT( SUMIFS( FLData!$AH$2:$AH$13999, FLData!$C$2:$C$13999, \">=\"&fromDateI, FLData!$C$2:$C$13999, \"<=\" &toDateI, FLData!$M$2:$M$13999,$C159, FLData!$E$2:$E$13999, Sim2Types, FLData!$F$2:$F$13999, \"Lesson\" )) + SUMPRODUCT( SUMIFS( FLData!$AH$2:$AH$13999, FLData!$C$2:$C$13999, \">=\"&fromDateI, FLData!$C$2:$C$13999, \"<=\" &toDateI, FLData!$S$2:$S$13999,$C159, FLData!$E$2:$E$13999, Sim2Types, FLData!$F$2:$F$13999, \"Rental\" )) )*24","v":0},{"$f":"SUMPRODUCT( SUMIFS( FLData!$AH$2:$AH$13999, FLData!$C$2:$C$13999, \">=\"&fromDateI, FLData!$C$2:$C$13999, \"<=\" &toDateI, FLData!$J$2:$J$13999,$C159, FLData!$E$2:$E$13999, Sim2Types, FLData!$F$2:$F$13999, \"Operation\" ))*24","v":0},0,0,0]
[null,null,"",{"$f":"( SUMPRODUCT( SUMIFS( FLData!$AH$2:$AH$13999, FLData!$C$2:$C$13999, \">=\"&fromDateI, FLData!$C$2:$C$13999, \"<=\" &toDateI, FLData!$M$2:$M$13999,$C160, FLData!$E$2:$E$13999, SingleEngineTypes, FLData!$F$2:$F$13999, \"Lesson\" )) + SUMPRODUCT( SUMIFS( FLData!$AH$2:$AH$13999, FLData!$C$2:$C$13999, \">=\"&fromDateI, FLData!$C$2:$C$13999, \"<=\" &toDateI, FLData!$S$2:$S$13999,$C160, FLData!$E$2:$E$13999, SingleEngineTypes, FLData!$F$2:$F$13999, \"Rental\" )) )*24","v":0},{"$f":"SUMPRODUCT( SUMIFS( FLData!$AH$2:$AH$13999, FLData!$C$2:$C$13999, \">=\"&fromDateI, FLData!$C$2:$C$13999, \"<=\" &toDateI, FLData!$J$2:$J$13999,$C160, FLData!$E$2:$E$13999, SingleEngineTypes, FLData!$F$2:$F$13999, \"Operation\" ))*24","v":0},{"$f":"( SUMPRODUCT( SUMIFS( FLData!$AH$2:$AH$13999, FLData!$C$2:$C$13999, \">=\"&fromDateI, FLData!$C$2:$C$13999, \"<=\" &toDateI, FLData!$M$2:$M$13999,$C160, FLData!$E$2:$E$13999, MultiEngineTypes, FLData!$F$2:$F$13999, \"Lesson\" )) + SUMPRODUCT( SUMIFS( FLData!$AH$2:$AH$13999, FLData!$C$2:$C$13999, \">=\"&fromDateI, FLData!$C$2:$C$13999, \"<=\" &toDateI, FLData!$S$2:$S$13999,$C160, FLData!$E$2:$E$13999, MultiEngineTypes, FLData!$F$2:$F$13999, \"Rental\" )) )*24","v":0},{"$f":"SUMPRODUCT( SUMIFS( FLData!$AH$2:$AH$13999, FLData!$C$2:$C$13999, \">=\"&fromDateI, FLData!$C$2:$C$13999, \"<=\" &toDateI, FLData!$J$2:$J$13999,$C160, FLData!$E$2:$E$13999, MultiEngineTypes, FLData!$F$2:$F$13999, \"Operation\" ))*24","v":0},{"$f":"( SUMPRODUCT( SUMIFS( FLData!$AH$2:$AH$13999, FLData!$C$2:$C$13999, \">=\"&fromDateI, FLData!$C$2:$C$13999, \"<=\" &toDateI, FLData!$M$2:$M$13999,$C160, FLData!$E$2:$E$13999, Sim1Types, FLData!$F$2:$F$13999, \"Lesson\" )) + SUMPRODUCT( SUMIFS( FLData!$AH$2:$AH$13999, FLData!$C$2:$C$13999, \">=\"&fromDateI, FLData!$C$2:$C$13999, \"<=\" &toDateI, FLData!$S$2:$S$13999,$C160, FLData!$E$2:$E$13999, Sim1Types, FLData!$F$2:$F$13999, \"Rental\" )) )*24","v":0},{"$f":"SUMPRODUCT( SUMIFS( FLData!$AH$2:$AH$13999, FLData!$C$2:$C$13999, \">=\"&fromDateI, FLData!$C$2:$C$13999, \"<=\" &toDateI, FLData!$J$2:$J$13999,$C160, FLData!$E$2:$E$13999, Sim1Types, FLData!$F$2:$F$13999, \"Operation\" ))*24","v":0},{"$f":"( SUMPRODUCT( SUMIFS( FLData!$AH$2:$AH$13999, FLData!$C$2:$C$13999, \">=\"&fromDateI, FLData!$C$2:$C$13999, \"<=\" &toDateI, FLData!$M$2:$M$13999,$C160, FLData!$E$2:$E$13999, Sim2Types, FLData!$F$2:$F$13999, \"Lesson\" )) + SUMPRODUCT( SUMIFS( FLData!$AH$2:$AH$13999, FLData!$C$2:$C$13999, \">=\"&fromDateI, FLData!$C$2:$C$13999, \"<=\" &toDateI, FLData!$S$2:$S$13999,$C160, FLData!$E$2:$E$13999, Sim2Types, FLData!$F$2:$F$13999, \"Rental\" )) )*24","v":0},{"$f":"SUMPRODUCT( SUMIFS( FLData!$AH$2:$AH$13999, FLData!$C$2:$C$13999, \">=\"&fromDateI, FLData!$C$2:$C$13999, \"<=\" &toDateI, FLData!$J$2:$J$13999,$C160, FLData!$E$2:$E$13999, Sim2Types, FLData!$F$2:$F$13999, \"Operation\" ))*24","v":0},0,0,0]
[null,null,"",{"$f":"( SUMPRODUCT( SUMIFS( FLData!$AH$2:$AH$13999, FLData!$C$2:$C$13999, \">=\"&fromDateI, FLData!$C$2:$C$13999, \"<=\" &toDateI, FLData!$M$2:$M$13999,$C161, FLData!$E$2:$E$13999, SingleEngineTypes, FLData!$F$2:$F$13999, \"Lesson\" )) + SUMPRODUCT( SUMIFS( FLData!$AH$2:$AH$13999, FLData!$C$2:$C$13999, \">=\"&fromDateI, FLData!$C$2:$C$13999, \"<=\" &toDateI, FLData!$S$2:$S$13999,$C161, FLData!$E$2:$E$13999, SingleEngineTypes, FLData!$F$2:$F$13999, \"Rental\" )) )*24","v":0},{"$f":"SUMPRODUCT( SUMIFS( FLData!$AH$2:$AH$13999, FLData!$C$2:$C$13999, \">=\"&fromDateI, FLData!$C$2:$C$13999, \"<=\" &toDateI, FLData!$J$2:$J$13999,$C161, FLData!$E$2:$E$13999, SingleEngineTypes, FLData!$F$2:$F$13999, \"Operation\" ))*24","v":0},{"$f":"( SUMPRODUCT( SUMIFS( FLData!$AH$2:$AH$13999, FLData!$C$2:$C$13999, \">=\"&fromDateI, FLData!$C$2:$C$13999, \"<=\" &toDateI, FLData!$M$2:$M$13999,$C161, FLData!$E$2:$E$13999, MultiEngineTypes, FLData!$F$2:$F$13999, \"Lesson\" )) + SUMPRODUCT( SUMIFS( FLData!$AH$2:$AH$13999, FLData!$C$2:$C$13999, \">=\"&fromDateI, FLData!$C$2:$C$13999, \"<=\" &toDateI, FLData!$S$2:$S$13999,$C161, FLData!$E$2:$E$13999, MultiEngineTypes, FLData!$F$2:$F$13999, \"Rental\" )) )*24","v":0},{"$f":"SUMPRODUCT( SUMIFS( FLData!$AH$2:$AH$13999, FLData!$C$2:$C$13999, \">=\"&fromDateI, FLData!$C$2:$C$13999, \"<=\" &toDateI, FLData!$J$2:$J$13999,$C161, FLData!$E$2:$E$13999, MultiEngineTypes, FLData!$F$2:$F$13999, \"Operation\" ))*24","v":0},{"$f":"( SUMPRODUCT( SUMIFS( FLData!$AH$2:$AH$13999, FLData!$C$2:$C$13999, \">=\"&fromDateI, FLData!$C$2:$C$13999, \"<=\" &toDateI, FLData!$M$2:$M$13999,$C161, FLData!$E$2:$E$13999, Sim1Types, FLData!$F$2:$F$13999, \"Lesson\" )) + SUMPRODUCT( SUMIFS( FLData!$AH$2:$AH$13999, FLData!$C$2:$C$13999, \">=\"&fromDateI, FLData!$C$2:$C$13999, \"<=\" &toDateI, FLData!$S$2:$S$13999,$C161, FLData!$E$2:$E$13999, Sim1Types, FLData!$F$2:$F$13999, \"Rental\" )) )*24","v":0},{"$f":"SUMPRODUCT( SUMIFS( FLData!$AH$2:$AH$13999, FLData!$C$2:$C$13999, \">=\"&fromDateI, FLData!$C$2:$C$13999, \"<=\" &toDateI, FLData!$J$2:$J$13999,$C161, FLData!$E$2:$E$13999, Sim1Types, FLData!$F$2:$F$13999, \"Operation\" ))*24","v":0},{"$f":"( SUMPRODUCT( SUMIFS( FLData!$AH$2:$AH$13999, FLData!$C$2:$C$13999, \">=\"&fromDateI, FLData!$C$2:$C$13999, \"<=\" &toDateI, FLData!$M$2:$M$13999,$C161, FLData!$E$2:$E$13999, Sim2Types, FLData!$F$2:$F$13999, \"Lesson\" )) + SUMPRODUCT( SUMIFS( FLData!$AH$2:$AH$13999, FLData!$C$2:$C$13999, \">=\"&fromDateI, FLData!$C$2:$C$13999, \"<=\" &toDateI, FLData!$S$2:$S$13999,$C161, FLData!$E$2:$E$13999, Sim2Types, FLData!$F$2:$F$13999, \"Rental\" )) )*24","v":0},{"$f":"SUMPRODUCT( SUMIFS( FLData!$AH$2:$AH$13999, FLData!$C$2:$C$13999, \">=\"&fromDateI, FLData!$C$2:$C$13999, \"<=\" &toDateI, FLData!$J$2:$J$13999,$C161, FLData!$E$2:$E$13999, Sim2Types, FLData!$F$2:$F$13999, \"Operation\" ))*24","v":0},0,0,0]
[null,null,"",{"$f":"( SUMPRODUCT( SUMIFS( FLData!$AH$2:$AH$13999, FLData!$C$2:$C$13999, \">=\"&fromDateI, FLData!$C$2:$C$13999, \"<=\" &toDateI, FLData!$M$2:$M$13999,$C162, FLData!$E$2:$E$13999, SingleEngineTypes, FLData!$F$2:$F$13999, \"Lesson\" )) + SUMPRODUCT( SUMIFS( FLData!$AH$2:$AH$13999, FLData!$C$2:$C$13999, \">=\"&fromDateI, FLData!$C$2:$C$13999, \"<=\" &toDateI, FLData!$S$2:$S$13999,$C162, FLData!$E$2:$E$13999, SingleEngineTypes, FLData!$F$2:$F$13999, \"Rental\" )) )*24","v":0},{"$f":"SUMPRODUCT( SUMIFS( FLData!$AH$2:$AH$13999, FLData!$C$2:$C$13999, \">=\"&fromDateI, FLData!$C$2:$C$13999, \"<=\" &toDateI, FLData!$J$2:$J$13999,$C162, FLData!$E$2:$E$13999, SingleEngineTypes, FLData!$F$2:$F$13999, \"Operation\" ))*24","v":0},{"$f":"( SUMPRODUCT( SUMIFS( FLData!$AH$2:$AH$13999, FLData!$C$2:$C$13999, \">=\"&fromDateI, FLData!$C$2:$C$13999, \"<=\" &toDateI, FLData!$M$2:$M$13999,$C162, FLData!$E$2:$E$13999, MultiEngineTypes, FLData!$F$2:$F$13999, \"Lesson\" )) + SUMPRODUCT( SUMIFS( FLData!$AH$2:$AH$13999, FLData!$C$2:$C$13999, \">=\"&fromDateI, FLData!$C$2:$C$13999, \"<=\" &toDateI, FLData!$S$2:$S$13999,$C162, FLData!$E$2:$E$13999, MultiEngineTypes, FLData!$F$2:$F$13999, \"Rental\" )) )*24","v":0},{"$f":"SUMPRODUCT( SUMIFS( FLData!$AH$2:$AH$13999, FLData!$C$2:$C$13999, \">=\"&fromDateI, FLData!$C$2:$C$13999, \"<=\" &toDateI, FLData!$J$2:$J$13999,$C162, FLData!$E$2:$E$13999, MultiEngineTypes, FLData!$F$2:$F$13999, \"Operation\" ))*24","v":0},{"$f":"( SUMPRODUCT( SUMIFS( FLData!$AH$2:$AH$13999, FLData!$C$2:$C$13999, \">=\"&fromDateI, FLData!$C$2:$C$13999, \"<=\" &toDateI, FLData!$M$2:$M$13999,$C162, FLData!$E$2:$E$13999, Sim1Types, FLData!$F$2:$F$13999, \"Lesson\" )) + SUMPRODUCT( SUMIFS( FLData!$AH$2:$AH$13999, FLData!$C$2:$C$13999, \">=\"&fromDateI, FLData!$C$2:$C$13999, \"<=\" &toDateI, FLData!$S$2:$S$13999,$C162, FLData!$E$2:$E$13999, Sim1Types, FLData!$F$2:$F$13999, \"Rental\" )) )*24","v":0},{"$f":"SUMPRODUCT( SUMIFS( FLData!$AH$2:$AH$13999, FLData!$C$2:$C$13999, \">=\"&fromDateI, FLData!$C$2:$C$13999, \"<=\" &toDateI, FLData!$J$2:$J$13999,$C162, FLData!$E$2:$E$13999, Sim1Types, FLData!$F$2:$F$13999, \"Operation\" ))*24","v":0},{"$f":"( SUMPRODUCT( SUMIFS( FLData!$AH$2:$AH$13999, FLData!$C$2:$C$13999, \">=\"&fromDateI, FLData!$C$2:$C$13999, \"<=\" &toDateI, FLData!$M$2:$M$13999,$C162, FLData!$E$2:$E$13999, Sim2Types, FLData!$F$2:$F$13999, \"Lesson\" )) + SUMPRODUCT( SUMIFS( FLData!$AH$2:$AH$13999, FLData!$C$2:$C$13999, \">=\"&fromDateI, FLData!$C$2:$C$13999, \"<=\" &toDateI, FLData!$S$2:$S$13999,$C162, FLData!$E$2:$E$13999, Sim2Types, FLData!$F$2:$F$13999, \"Rental\" )) )*24","v":0},{"$f":"SUMPRODUCT( SUMIFS( FLData!$AH$2:$AH$13999, FLData!$C$2:$C$13999, \">=\"&fromDateI, FLData!$C$2:$C$13999, \"<=\" &toDateI, FLData!$J$2:$J$13999,$C162, FLData!$E$2:$E$13999, Sim2Types, FLData!$F$2:$F$13999, \"Operation\" ))*24","v":0},0,0,0]
[null,null,"",{"$f":"( SUMPRODUCT( SUMIFS( FLData!$AH$2:$AH$13999, FLData!$C$2:$C$13999, \">=\"&fromDateI, FLData!$C$2:$C$13999, \"<=\" &toDateI, FLData!$M$2:$M$13999,$C163, FLData!$E$2:$E$13999, SingleEngineTypes, FLData!$F$2:$F$13999, \"Lesson\" )) + SUMPRODUCT( SUMIFS( FLData!$AH$2:$AH$13999, FLData!$C$2:$C$13999, \">=\"&fromDateI, FLData!$C$2:$C$13999, \"<=\" &toDateI, FLData!$S$2:$S$13999,$C163, FLData!$E$2:$E$13999, SingleEngineTypes, FLData!$F$2:$F$13999, \"Rental\" )) )*24","v":0},{"$f":"SUMPRODUCT( SUMIFS( FLData!$AH$2:$AH$13999, FLData!$C$2:$C$13999, \">=\"&fromDateI, FLData!$C$2:$C$13999, \"<=\" &toDateI, FLData!$J$2:$J$13999,$C163, FLData!$E$2:$E$13999, SingleEngineTypes, FLData!$F$2:$F$13999, \"Operation\" ))*24","v":0},{"$f":"( SUMPRODUCT( SUMIFS( FLData!$AH$2:$AH$13999, FLData!$C$2:$C$13999, \">=\"&fromDateI, FLData!$C$2:$C$13999, \"<=\" &toDateI, FLData!$M$2:$M$13999,$C163, FLData!$E$2:$E$13999, MultiEngineTypes, FLData!$F$2:$F$13999, \"Lesson\" )) + SUMPRODUCT( SUMIFS( FLData!$AH$2:$AH$13999, FLData!$C$2:$C$13999, \">=\"&fromDateI, FLData!$C$2:$C$13999, \"<=\" &toDateI, FLData!$S$2:$S$13999,$C163, FLData!$E$2:$E$13999, MultiEngineTypes, FLData!$F$2:$F$13999, \"Rental\" )) )*24","v":0},{"$f":"SUMPRODUCT( SUMIFS( FLData!$AH$2:$AH$13999, FLData!$C$2:$C$13999, \">=\"&fromDateI, FLData!$C$2:$C$13999, \"<=\" &toDateI, FLData!$J$2:$J$13999,$C163, FLData!$E$2:$E$13999, MultiEngineTypes, FLData!$F$2:$F$13999, \"Operation\" ))*24","v":0},{"$f":"( SUMPRODUCT( SUMIFS( FLData!$AH$2:$AH$13999, FLData!$C$2:$C$13999, \">=\"&fromDateI, FLData!$C$2:$C$13999, \"<=\" &toDateI, FLData!$M$2:$M$13999,$C163, FLData!$E$2:$E$13999, Sim1Types, FLData!$F$2:$F$13999, \"Lesson\" )) + SUMPRODUCT( SUMIFS( FLData!$AH$2:$AH$13999, FLData!$C$2:$C$13999, \">=\"&fromDateI, FLData!$C$2:$C$13999, \"<=\" &toDateI, FLData!$S$2:$S$13999,$C163, FLData!$E$2:$E$13999, Sim1Types, FLData!$F$2:$F$13999, \"Rental\" )) )*24","v":0},{"$f":"SUMPRODUCT( SUMIFS( FLData!$AH$2:$AH$13999, FLData!$C$2:$C$13999, \">=\"&fromDateI, FLData!$C$2:$C$13999, \"<=\" &toDateI, FLData!$J$2:$J$13999,$C163, FLData!$E$2:$E$13999, Sim1Types, FLData!$F$2:$F$13999, \"Operation\" ))*24","v":0},{"$f":"( SUMPRODUCT( SUMIFS( FLData!$AH$2:$AH$13999, FLData!$C$2:$C$13999, \">=\"&fromDateI, FLData!$C$2:$C$13999, \"<=\" &toDateI, FLData!$M$2:$M$13999,$C163, FLData!$E$2:$E$13999, Sim2Types, FLData!$F$2:$F$13999, \"Lesson\" )) + SUMPRODUCT( SUMIFS( FLData!$AH$2:$AH$13999, FLData!$C$2:$C$13999, \">=\"&fromDateI, FLData!$C$2:$C$13999, \"<=\" &toDateI, FLData!$S$2:$S$13999,$C163, FLData!$E$2:$E$13999, Sim2Types, FLData!$F$2:$F$13999, \"Rental\" )) )*24","v":0},{"$f":"SUMPRODUCT( SUMIFS( FLData!$AH$2:$AH$13999, FLData!$C$2:$C$13999, \">=\"&fromDateI, FLData!$C$2:$C$13999, \"<=\" &toDateI, FLData!$J$2:$J$13999,$C163, FLData!$E$2:$E$13999, Sim2Types, FLData!$F$2:$F$13999, \"Operation\" ))*24","v":0},0,0,0]
[null,null,"",{"$f":"( SUMPRODUCT( SUMIFS( FLData!$AH$2:$AH$13999, FLData!$C$2:$C$13999, \">=\"&fromDateI, FLData!$C$2:$C$13999, \"<=\" &toDateI, FLData!$M$2:$M$13999,$C164, FLData!$E$2:$E$13999, SingleEngineTypes, FLData!$F$2:$F$13999, \"Lesson\" )) + SUMPRODUCT( SUMIFS( FLData!$AH$2:$AH$13999, FLData!$C$2:$C$13999, \">=\"&fromDateI, FLData!$C$2:$C$13999, \"<=\" &toDateI, FLData!$S$2:$S$13999,$C164, FLData!$E$2:$E$13999, SingleEngineTypes, FLData!$F$2:$F$13999, \"Rental\" )) )*24","v":0},{"$f":"SUMPRODUCT( SUMIFS( FLData!$AH$2:$AH$13999, FLData!$C$2:$C$13999, \">=\"&fromDateI, FLData!$C$2:$C$13999, \"<=\" &toDateI, FLData!$J$2:$J$13999,$C164, FLData!$E$2:$E$13999, SingleEngineTypes, FLData!$F$2:$F$13999, \"Operation\" ))*24","v":0},{"$f":"( SUMPRODUCT( SUMIFS( FLData!$AH$2:$AH$13999, FLData!$C$2:$C$13999, \">=\"&fromDateI, FLData!$C$2:$C$13999, \"<=\" &toDateI, FLData!$M$2:$M$13999,$C164, FLData!$E$2:$E$13999, MultiEngineTypes, FLData!$F$2:$F$13999, \"Lesson\" )) + SUMPRODUCT( SUMIFS( FLData!$AH$2:$AH$13999, FLData!$C$2:$C$13999, \">=\"&fromDateI, FLData!$C$2:$C$13999, \"<=\" &toDateI, FLData!$S$2:$S$13999,$C164, FLData!$E$2:$E$13999, MultiEngineTypes, FLData!$F$2:$F$13999, \"Rental\" )) )*24","v":0},{"$f":"SUMPRODUCT( SUMIFS( FLData!$AH$2:$AH$13999, FLData!$C$2:$C$13999, \">=\"&fromDateI, FLData!$C$2:$C$13999, \"<=\" &toDateI, FLData!$J$2:$J$13999,$C164, FLData!$E$2:$E$13999, MultiEngineTypes, FLData!$F$2:$F$13999, \"Operation\" ))*24","v":0},{"$f":"( SUMPRODUCT( SUMIFS( FLData!$AH$2:$AH$13999, FLData!$C$2:$C$13999, \">=\"&fromDateI, FLData!$C$2:$C$13999, \"<=\" &toDateI, FLData!$M$2:$M$13999,$C164, FLData!$E$2:$E$13999, Sim1Types, FLData!$F$2:$F$13999, \"Lesson\" )) + SUMPRODUCT( SUMIFS( FLData!$AH$2:$AH$13999, FLData!$C$2:$C$13999, \">=\"&fromDateI, FLData!$C$2:$C$13999, \"<=\" &toDateI, FLData!$S$2:$S$13999,$C164, FLData!$E$2:$E$13999, Sim1Types, FLData!$F$2:$F$13999, \"Rental\" )) )*24","v":0},{"$f":"SUMPRODUCT( SUMIFS( FLData!$AH$2:$AH$13999, FLData!$C$2:$C$13999, \">=\"&fromDateI, FLData!$C$2:$C$13999, \"<=\" &toDateI, FLData!$J$2:$J$13999,$C164, FLData!$E$2:$E$13999, Sim1Types, FLData!$F$2:$F$13999, \"Operation\" ))*24","v":0},{"$f":"( SUMPRODUCT( SUMIFS( FLData!$AH$2:$AH$13999, FLData!$C$2:$C$13999, \">=\"&fromDateI, FLData!$C$2:$C$13999, \"<=\" &toDateI, FLData!$M$2:$M$13999,$C164, FLData!$E$2:$E$13999, Sim2Types, FLData!$F$2:$F$13999, \"Lesson\" )) + SUMPRODUCT( SUMIFS( FLData!$AH$2:$AH$13999, FLData!$C$2:$C$13999, \">=\"&fromDateI, FLData!$C$2:$C$13999, \"<=\" &toDateI, FLData!$S$2:$S$13999,$C164, FLData!$E$2:$E$13999, Sim2Types, FLData!$F$2:$F$13999, \"Rental\" )) )*24","v":0},{"$f":"SUMPRODUCT( SUMIFS( FLData!$AH$2:$AH$13999, FLData!$C$2:$C$13999, \">=\"&fromDateI, FLData!$C$2:$C$13999, \"<=\" &toDateI, FLData!$J$2:$J$13999,$C164, FLData!$E$2:$E$13999, Sim2Types, FLData!$F$2:$F$13999, \"Operation\" ))*24","v":0},0,0,0]
[null,null,"",{"$f":"( SUMPRODUCT( SUMIFS( FLData!$AH$2:$AH$13999, FLData!$C$2:$C$13999, \">=\"&fromDateI, FLData!$C$2:$C$13999, \"<=\" &toDateI, FLData!$M$2:$M$13999,$C165, FLData!$E$2:$E$13999, SingleEngineTypes, FLData!$F$2:$F$13999, \"Lesson\" )) + SUMPRODUCT( SUMIFS( FLData!$AH$2:$AH$13999, FLData!$C$2:$C$13999, \">=\"&fromDateI, FLData!$C$2:$C$13999, \"<=\" &toDateI, FLData!$S$2:$S$13999,$C165, FLData!$E$2:$E$13999, SingleEngineTypes, FLData!$F$2:$F$13999, \"Rental\" )) )*24","v":0},{"$f":"SUMPRODUCT( SUMIFS( FLData!$AH$2:$AH$13999, FLData!$C$2:$C$13999, \">=\"&fromDateI, FLData!$C$2:$C$13999, \"<=\" &toDateI, FLData!$J$2:$J$13999,$C165, FLData!$E$2:$E$13999, SingleEngineTypes, FLData!$F$2:$F$13999, \"Operation\" ))*24","v":0},{"$f":"( SUMPRODUCT( SUMIFS( FLData!$AH$2:$AH$13999, FLData!$C$2:$C$13999, \">=\"&fromDateI, FLData!$C$2:$C$13999, \"<=\" &toDateI, FLData!$M$2:$M$13999,$C165, FLData!$E$2:$E$13999, MultiEngineTypes, FLData!$F$2:$F$13999, \"Lesson\" )) + SUMPRODUCT( SUMIFS( FLData!$AH$2:$AH$13999, FLData!$C$2:$C$13999, \">=\"&fromDateI, FLData!$C$2:$C$13999, \"<=\" &toDateI, FLData!$S$2:$S$13999,$C165, FLData!$E$2:$E$13999, MultiEngineTypes, FLData!$F$2:$F$13999, \"Rental\" )) )*24","v":0},{"$f":"SUMPRODUCT( SUMIFS( FLData!$AH$2:$AH$13999, FLData!$C$2:$C$13999, \">=\"&fromDateI, FLData!$C$2:$C$13999, \"<=\" &toDateI, FLData!$J$2:$J$13999,$C165, FLData!$E$2:$E$13999, MultiEngineTypes, FLData!$F$2:$F$13999, \"Operation\" ))*24","v":0},{"$f":"( SUMPRODUCT( SUMIFS( FLData!$AH$2:$AH$13999, FLData!$C$2:$C$13999, \">=\"&fromDateI, FLData!$C$2:$C$13999, \"<=\" &toDateI, FLData!$M$2:$M$13999,$C165, FLData!$E$2:$E$13999, Sim1Types, FLData!$F$2:$F$13999, \"Lesson\" )) + SUMPRODUCT( SUMIFS( FLData!$AH$2:$AH$13999, FLData!$C$2:$C$13999, \">=\"&fromDateI, FLData!$C$2:$C$13999, \"<=\" &toDateI, FLData!$S$2:$S$13999,$C165, FLData!$E$2:$E$13999, Sim1Types, FLData!$F$2:$F$13999, \"Rental\" )) )*24","v":0},{"$f":"SUMPRODUCT( SUMIFS( FLData!$AH$2:$AH$13999, FLData!$C$2:$C$13999, \">=\"&fromDateI, FLData!$C$2:$C$13999, \"<=\" &toDateI, FLData!$J$2:$J$13999,$C165, FLData!$E$2:$E$13999, Sim1Types, FLData!$F$2:$F$13999, \"Operation\" ))*24","v":0},{"$f":"( SUMPRODUCT( SUMIFS( FLData!$AH$2:$AH$13999, FLData!$C$2:$C$13999, \">=\"&fromDateI, FLData!$C$2:$C$13999, \"<=\" &toDateI, FLData!$M$2:$M$13999,$C165, FLData!$E$2:$E$13999, Sim2Types, FLData!$F$2:$F$13999, \"Lesson\" )) + SUMPRODUCT( SUMIFS( FLData!$AH$2:$AH$13999, FLData!$C$2:$C$13999, \">=\"&fromDateI, FLData!$C$2:$C$13999, \"<=\" &toDateI, FLData!$S$2:$S$13999,$C165, FLData!$E$2:$E$13999, Sim2Types, FLData!$F$2:$F$13999, \"Rental\" )) )*24","v":0},{"$f":"SUMPRODUCT( SUMIFS( FLData!$AH$2:$AH$13999, FLData!$C$2:$C$13999, \">=\"&fromDateI, FLData!$C$2:$C$13999, \"<=\" &toDateI, FLData!$J$2:$J$13999,$C165, FLData!$E$2:$E$13999, Sim2Types, FLData!$F$2:$F$13999, \"Operation\" ))*24","v":0},0,0,0]
[null,null,"",{"$f":"( SUMPRODUCT( SUMIFS( FLData!$AH$2:$AH$13999, FLData!$C$2:$C$13999, \">=\"&fromDateI, FLData!$C$2:$C$13999, \"<=\" &toDateI, FLData!$M$2:$M$13999,$C166, FLData!$E$2:$E$13999, SingleEngineTypes, FLData!$F$2:$F$13999, \"Lesson\" )) + SUMPRODUCT( SUMIFS( FLData!$AH$2:$AH$13999, FLData!$C$2:$C$13999, \">=\"&fromDateI, FLData!$C$2:$C$13999, \"<=\" &toDateI, FLData!$S$2:$S$13999,$C166, FLData!$E$2:$E$13999, SingleEngineTypes, FLData!$F$2:$F$13999, \"Rental\" )) )*24","v":0},{"$f":"SUMPRODUCT( SUMIFS( FLData!$AH$2:$AH$13999, FLData!$C$2:$C$13999, \">=\"&fromDateI, FLData!$C$2:$C$13999, \"<=\" &toDateI, FLData!$J$2:$J$13999,$C166, FLData!$E$2:$E$13999, SingleEngineTypes, FLData!$F$2:$F$13999, \"Operation\" ))*24","v":0},{"$f":"( SUMPRODUCT( SUMIFS( FLData!$AH$2:$AH$13999, FLData!$C$2:$C$13999, \">=\"&fromDateI, FLData!$C$2:$C$13999, \"<=\" &toDateI, FLData!$M$2:$M$13999,$C166, FLData!$E$2:$E$13999, MultiEngineTypes, FLData!$F$2:$F$13999, \"Lesson\" )) + SUMPRODUCT( SUMIFS( FLData!$AH$2:$AH$13999, FLData!$C$2:$C$13999, \">=\"&fromDateI, FLData!$C$2:$C$13999, \"<=\" &toDateI, FLData!$S$2:$S$13999,$C166, FLData!$E$2:$E$13999, MultiEngineTypes, FLData!$F$2:$F$13999, \"Rental\" )) )*24","v":0},{"$f":"SUMPRODUCT( SUMIFS( FLData!$AH$2:$AH$13999, FLData!$C$2:$C$13999, \">=\"&fromDateI, FLData!$C$2:$C$13999, \"<=\" &toDateI, FLData!$J$2:$J$13999,$C166, FLData!$E$2:$E$13999, MultiEngineTypes, FLData!$F$2:$F$13999, \"Operation\" ))*24","v":0},{"$f":"( SUMPRODUCT( SUMIFS( FLData!$AH$2:$AH$13999, FLData!$C$2:$C$13999, \">=\"&fromDateI, FLData!$C$2:$C$13999, \"<=\" &toDateI, FLData!$M$2:$M$13999,$C166, FLData!$E$2:$E$13999, Sim1Types, FLData!$F$2:$F$13999, \"Lesson\" )) + SUMPRODUCT( SUMIFS( FLData!$AH$2:$AH$13999, FLData!$C$2:$C$13999, \">=\"&fromDateI, FLData!$C$2:$C$13999, \"<=\" &toDateI, FLData!$S$2:$S$13999,$C166, FLData!$E$2:$E$13999, Sim1Types, FLData!$F$2:$F$13999, \"Rental\" )) )*24","v":0},{"$f":"SUMPRODUCT( SUMIFS( FLData!$AH$2:$AH$13999, FLData!$C$2:$C$13999, \">=\"&fromDateI, FLData!$C$2:$C$13999, \"<=\" &toDateI, FLData!$J$2:$J$13999,$C166, FLData!$E$2:$E$13999, Sim1Types, FLData!$F$2:$F$13999, \"Operation\" ))*24","v":0},{"$f":"( SUMPRODUCT( SUMIFS( FLData!$AH$2:$AH$13999, FLData!$C$2:$C$13999, \">=\"&fromDateI, FLData!$C$2:$C$13999, \"<=\" &toDateI, FLData!$M$2:$M$13999,$C166, FLData!$E$2:$E$13999, Sim2Types, FLData!$F$2:$F$13999, \"Lesson\" )) + SUMPRODUCT( SUMIFS( FLData!$AH$2:$AH$13999, FLData!$C$2:$C$13999, \">=\"&fromDateI, FLData!$C$2:$C$13999, \"<=\" &toDateI, FLData!$S$2:$S$13999,$C166, FLData!$E$2:$E$13999, Sim2Types, FLData!$F$2:$F$13999, \"Rental\" )) )*24","v":0},{"$f":"SUMPRODUCT( SUMIFS( FLData!$AH$2:$AH$13999, FLData!$C$2:$C$13999, \">=\"&fromDateI, FLData!$C$2:$C$13999, \"<=\" &toDateI, FLData!$J$2:$J$13999,$C166, FLData!$E$2:$E$13999, Sim2Types, FLData!$F$2:$F$13999, \"Operation\" ))*24","v":0},0,0,0]
[null,null,"",{"$f":"( SUMPRODUCT( SUMIFS( FLData!$AH$2:$AH$13999, FLData!$C$2:$C$13999, \">=\"&fromDateI, FLData!$C$2:$C$13999, \"<=\" &toDateI, FLData!$M$2:$M$13999,$C167, FLData!$E$2:$E$13999, SingleEngineTypes, FLData!$F$2:$F$13999, \"Lesson\" )) + SUMPRODUCT( SUMIFS( FLData!$AH$2:$AH$13999, FLData!$C$2:$C$13999, \">=\"&fromDateI, FLData!$C$2:$C$13999, \"<=\" &toDateI, FLData!$S$2:$S$13999,$C167, FLData!$E$2:$E$13999, SingleEngineTypes, FLData!$F$2:$F$13999, \"Rental\" )) )*24","v":0},{"$f":"SUMPRODUCT( SUMIFS( FLData!$AH$2:$AH$13999, FLData!$C$2:$C$13999, \">=\"&fromDateI, FLData!$C$2:$C$13999, \"<=\" &toDateI, FLData!$J$2:$J$13999,$C167, FLData!$E$2:$E$13999, SingleEngineTypes, FLData!$F$2:$F$13999, \"Operation\" ))*24","v":0},{"$f":"( SUMPRODUCT( SUMIFS( FLData!$AH$2:$AH$13999, FLData!$C$2:$C$13999, \">=\"&fromDateI, FLData!$C$2:$C$13999, \"<=\" &toDateI, FLData!$M$2:$M$13999,$C167, FLData!$E$2:$E$13999, MultiEngineTypes, FLData!$F$2:$F$13999, \"Lesson\" )) + SUMPRODUCT( SUMIFS( FLData!$AH$2:$AH$13999, FLData!$C$2:$C$13999, \">=\"&fromDateI, FLData!$C$2:$C$13999, \"<=\" &toDateI, FLData!$S$2:$S$13999,$C167, FLData!$E$2:$E$13999, MultiEngineTypes, FLData!$F$2:$F$13999, \"Rental\" )) )*24","v":0},{"$f":"SUMPRODUCT( SUMIFS( FLData!$AH$2:$AH$13999, FLData!$C$2:$C$13999, \">=\"&fromDateI, FLData!$C$2:$C$13999, \"<=\" &toDateI, FLData!$J$2:$J$13999,$C167, FLData!$E$2:$E$13999, MultiEngineTypes, FLData!$F$2:$F$13999, \"Operation\" ))*24","v":0},{"$f":"( SUMPRODUCT( SUMIFS( FLData!$AH$2:$AH$13999, FLData!$C$2:$C$13999, \">=\"&fromDateI, FLData!$C$2:$C$13999, \"<=\" &toDateI, FLData!$M$2:$M$13999,$C167, FLData!$E$2:$E$13999, Sim1Types, FLData!$F$2:$F$13999, \"Lesson\" )) + SUMPRODUCT( SUMIFS( FLData!$AH$2:$AH$13999, FLData!$C$2:$C$13999, \">=\"&fromDateI, FLData!$C$2:$C$13999, \"<=\" &toDateI, FLData!$S$2:$S$13999,$C167, FLData!$E$2:$E$13999, Sim1Types, FLData!$F$2:$F$13999, \"Rental\" )) )*24","v":0},{"$f":"SUMPRODUCT( SUMIFS( FLData!$AH$2:$AH$13999, FLData!$C$2:$C$13999, \">=\"&fromDateI, FLData!$C$2:$C$13999, \"<=\" &toDateI, FLData!$J$2:$J$13999,$C167, FLData!$E$2:$E$13999, Sim1Types, FLData!$F$2:$F$13999, \"Operation\" ))*24","v":0},{"$f":"( SUMPRODUCT( SUMIFS( FLData!$AH$2:$AH$13999, FLData!$C$2:$C$13999, \">=\"&fromDateI, FLData!$C$2:$C$13999, \"<=\" &toDateI, FLData!$M$2:$M$13999,$C167, FLData!$E$2:$E$13999, Sim2Types, FLData!$F$2:$F$13999, \"Lesson\" )) + SUMPRODUCT( SUMIFS( FLData!$AH$2:$AH$13999, FLData!$C$2:$C$13999, \">=\"&fromDateI, FLData!$C$2:$C$13999, \"<=\" &toDateI, FLData!$S$2:$S$13999,$C167, FLData!$E$2:$E$13999, Sim2Types, FLData!$F$2:$F$13999, \"Rental\" )) )*24","v":0},{"$f":"SUMPRODUCT( SUMIFS( FLData!$AH$2:$AH$13999, FLData!$C$2:$C$13999, \">=\"&fromDateI, FLData!$C$2:$C$13999, \"<=\" &toDateI, FLData!$J$2:$J$13999,$C167, FLData!$E$2:$E$13999, Sim2Types, FLData!$F$2:$F$13999, \"Operation\" ))*24","v":0},0,0,0]
[null,null,"",{"$f":"( SUMPRODUCT( SUMIFS( FLData!$AH$2:$AH$13999, FLData!$C$2:$C$13999, \">=\"&fromDateI, FLData!$C$2:$C$13999, \"<=\" &toDateI, FLData!$M$2:$M$13999,$C168, FLData!$E$2:$E$13999, SingleEngineTypes, FLData!$F$2:$F$13999, \"Lesson\" )) + SUMPRODUCT( SUMIFS( FLData!$AH$2:$AH$13999, FLData!$C$2:$C$13999, \">=\"&fromDateI, FLData!$C$2:$C$13999, \"<=\" &toDateI, FLData!$S$2:$S$13999,$C168, FLData!$E$2:$E$13999, SingleEngineTypes, FLData!$F$2:$F$13999, \"Rental\" )) )*24","v":0},{"$f":"SUMPRODUCT( SUMIFS( FLData!$AH$2:$AH$13999, FLData!$C$2:$C$13999, \">=\"&fromDateI, FLData!$C$2:$C$13999, \"<=\" &toDateI, FLData!$J$2:$J$13999,$C168, FLData!$E$2:$E$13999, SingleEngineTypes, FLData!$F$2:$F$13999, \"Operation\" ))*24","v":0},{"$f":"( SUMPRODUCT( SUMIFS( FLData!$AH$2:$AH$13999, FLData!$C$2:$C$13999, \">=\"&fromDateI, FLData!$C$2:$C$13999, \"<=\" &toDateI, FLData!$M$2:$M$13999,$C168, FLData!$E$2:$E$13999, MultiEngineTypes, FLData!$F$2:$F$13999, \"Lesson\" )) + SUMPRODUCT( SUMIFS( FLData!$AH$2:$AH$13999, FLData!$C$2:$C$13999, \">=\"&fromDateI, FLData!$C$2:$C$13999, \"<=\" &toDateI, FLData!$S$2:$S$13999,$C168, FLData!$E$2:$E$13999, MultiEngineTypes, FLData!$F$2:$F$13999, \"Rental\" )) )*24","v":0},{"$f":"SUMPRODUCT( SUMIFS( FLData!$AH$2:$AH$13999, FLData!$C$2:$C$13999, \">=\"&fromDateI, FLData!$C$2:$C$13999, \"<=\" &toDateI, FLData!$J$2:$J$13999,$C168, FLData!$E$2:$E$13999, MultiEngineTypes, FLData!$F$2:$F$13999, \"Operation\" ))*24","v":0},{"$f":"( SUMPRODUCT( SUMIFS( FLData!$AH$2:$AH$13999, FLData!$C$2:$C$13999, \">=\"&fromDateI, FLData!$C$2:$C$13999, \"<=\" &toDateI, FLData!$M$2:$M$13999,$C168, FLData!$E$2:$E$13999, Sim1Types, FLData!$F$2:$F$13999, \"Lesson\" )) + SUMPRODUCT( SUMIFS( FLData!$AH$2:$AH$13999, FLData!$C$2:$C$13999, \">=\"&fromDateI, FLData!$C$2:$C$13999, \"<=\" &toDateI, FLData!$S$2:$S$13999,$C168, FLData!$E$2:$E$13999, Sim1Types, FLData!$F$2:$F$13999, \"Rental\" )) )*24","v":0},{"$f":"SUMPRODUCT( SUMIFS( FLData!$AH$2:$AH$13999, FLData!$C$2:$C$13999, \">=\"&fromDateI, FLData!$C$2:$C$13999, \"<=\" &toDateI, FLData!$J$2:$J$13999,$C168, FLData!$E$2:$E$13999, Sim1Types, FLData!$F$2:$F$13999, \"Operation\" ))*24","v":0},{"$f":"( SUMPRODUCT( SUMIFS( FLData!$AH$2:$AH$13999, FLData!$C$2:$C$13999, \">=\"&fromDateI, FLData!$C$2:$C$13999, \"<=\" &toDateI, FLData!$M$2:$M$13999,$C168, FLData!$E$2:$E$13999, Sim2Types, FLData!$F$2:$F$13999, \"Lesson\" )) + SUMPRODUCT( SUMIFS( FLData!$AH$2:$AH$13999, FLData!$C$2:$C$13999, \">=\"&fromDateI, FLData!$C$2:$C$13999, \"<=\" &toDateI, FLData!$S$2:$S$13999,$C168, FLData!$E$2:$E$13999, Sim2Types, FLData!$F$2:$F$13999, \"Rental\" )) )*24","v":0},{"$f":"SUMPRODUCT( SUMIFS( FLData!$AH$2:$AH$13999, FLData!$C$2:$C$13999, \">=\"&fromDateI, FLData!$C$2:$C$13999, \"<=\" &toDateI, FLData!$J$2:$J$13999,$C168, FLData!$E$2:$E$13999, Sim2Types, FLData!$F$2:$F$13999, \"Operation\" ))*24","v":0},0,0,0]
[null,null,"",{"$f":"( SUMPRODUCT( SUMIFS( FLData!$AH$2:$AH$13999, FLData!$C$2:$C$13999, \">=\"&fromDateI, FLData!$C$2:$C$13999, \"<=\" &toDateI, FLData!$M$2:$M$13999,$C169, FLData!$E$2:$E$13999, SingleEngineTypes, FLData!$F$2:$F$13999, \"Lesson\" )) + SUMPRODUCT( SUMIFS( FLData!$AH$2:$AH$13999, FLData!$C$2:$C$13999, \">=\"&fromDateI, FLData!$C$2:$C$13999, \"<=\" &toDateI, FLData!$S$2:$S$13999,$C169, FLData!$E$2:$E$13999, SingleEngineTypes, FLData!$F$2:$F$13999, \"Rental\" )) )*24","v":0},{"$f":"SUMPRODUCT( SUMIFS( FLData!$AH$2:$AH$13999, FLData!$C$2:$C$13999, \">=\"&fromDateI, FLData!$C$2:$C$13999, \"<=\" &toDateI, FLData!$J$2:$J$13999,$C169, FLData!$E$2:$E$13999, SingleEngineTypes, FLData!$F$2:$F$13999, \"Operation\" ))*24","v":0},{"$f":"( SUMPRODUCT( SUMIFS( FLData!$AH$2:$AH$13999, FLData!$C$2:$C$13999, \">=\"&fromDateI, FLData!$C$2:$C$13999, \"<=\" &toDateI, FLData!$M$2:$M$13999,$C169, FLData!$E$2:$E$13999, MultiEngineTypes, FLData!$F$2:$F$13999, \"Lesson\" )) + SUMPRODUCT( SUMIFS( FLData!$AH$2:$AH$13999, FLData!$C$2:$C$13999, \">=\"&fromDateI, FLData!$C$2:$C$13999, \"<=\" &toDateI, FLData!$S$2:$S$13999,$C169, FLData!$E$2:$E$13999, MultiEngineTypes, FLData!$F$2:$F$13999, \"Rental\" )) )*24","v":0},{"$f":"SUMPRODUCT( SUMIFS( FLData!$AH$2:$AH$13999, FLData!$C$2:$C$13999, \">=\"&fromDateI, FLData!$C$2:$C$13999, \"<=\" &toDateI, FLData!$J$2:$J$13999,$C169, FLData!$E$2:$E$13999, MultiEngineTypes, FLData!$F$2:$F$13999, \"Operation\" ))*24","v":0},{"$f":"( SUMPRODUCT( SUMIFS( FLData!$AH$2:$AH$13999, FLData!$C$2:$C$13999, \">=\"&fromDateI, FLData!$C$2:$C$13999, \"<=\" &toDateI, FLData!$M$2:$M$13999,$C169, FLData!$E$2:$E$13999, Sim1Types, FLData!$F$2:$F$13999, \"Lesson\" )) + SUMPRODUCT( SUMIFS( FLData!$AH$2:$AH$13999, FLData!$C$2:$C$13999, \">=\"&fromDateI, FLData!$C$2:$C$13999, \"<=\" &toDateI, FLData!$S$2:$S$13999,$C169, FLData!$E$2:$E$13999, Sim1Types, FLData!$F$2:$F$13999, \"Rental\" )) )*24","v":0},{"$f":"SUMPRODUCT( SUMIFS( FLData!$AH$2:$AH$13999, FLData!$C$2:$C$13999, \">=\"&fromDateI, FLData!$C$2:$C$13999, \"<=\" &toDateI, FLData!$J$2:$J$13999,$C169, FLData!$E$2:$E$13999, Sim1Types, FLData!$F$2:$F$13999, \"Operation\" ))*24","v":0},{"$f":"( SUMPRODUCT( SUMIFS( FLData!$AH$2:$AH$13999, FLData!$C$2:$C$13999, \">=\"&fromDateI, FLData!$C$2:$C$13999, \"<=\" &toDateI, FLData!$M$2:$M$13999,$C169, FLData!$E$2:$E$13999, Sim2Types, FLData!$F$2:$F$13999, \"Lesson\" )) + SUMPRODUCT( SUMIFS( FLData!$AH$2:$AH$13999, FLData!$C$2:$C$13999, \">=\"&fromDateI, FLData!$C$2:$C$13999, \"<=\" &toDateI, FLData!$S$2:$S$13999,$C169, FLData!$E$2:$E$13999, Sim2Types, FLData!$F$2:$F$13999, \"Rental\" )) )*24","v":0},{"$f":"SUMPRODUCT( SUMIFS( FLData!$AH$2:$AH$13999, FLData!$C$2:$C$13999, \">=\"&fromDateI, FLData!$C$2:$C$13999, \"<=\" &toDateI, FLData!$J$2:$J$13999,$C169, FLData!$E$2:$E$13999, Sim2Types, FLData!$F$2:$F$13999, \"Operation\" ))*24","v":0},0,0,0]
[null,null,"",{"$f":"( SUMPRODUCT( SUMIFS( FLData!$AH$2:$AH$13999, FLData!$C$2:$C$13999, \">=\"&fromDateI, FLData!$C$2:$C$13999, \"<=\" &toDateI, FLData!$M$2:$M$13999,$C170, FLData!$E$2:$E$13999, SingleEngineTypes, FLData!$F$2:$F$13999, \"Lesson\" )) + SUMPRODUCT( SUMIFS( FLData!$AH$2:$AH$13999, FLData!$C$2:$C$13999, \">=\"&fromDateI, FLData!$C$2:$C$13999, \"<=\" &toDateI, FLData!$S$2:$S$13999,$C170, FLData!$E$2:$E$13999, SingleEngineTypes, FLData!$F$2:$F$13999, \"Rental\" )) )*24","v":0},{"$f":"SUMPRODUCT( SUMIFS( FLData!$AH$2:$AH$13999, FLData!$C$2:$C$13999, \">=\"&fromDateI, FLData!$C$2:$C$13999, \"<=\" &toDateI, FLData!$J$2:$J$13999,$C170, FLData!$E$2:$E$13999, SingleEngineTypes, FLData!$F$2:$F$13999, \"Operation\" ))*24","v":0},{"$f":"( SUMPRODUCT( SUMIFS( FLData!$AH$2:$AH$13999, FLData!$C$2:$C$13999, \">=\"&fromDateI, FLData!$C$2:$C$13999, \"<=\" &toDateI, FLData!$M$2:$M$13999,$C170, FLData!$E$2:$E$13999, MultiEngineTypes, FLData!$F$2:$F$13999, \"Lesson\" )) + SUMPRODUCT( SUMIFS( FLData!$AH$2:$AH$13999, FLData!$C$2:$C$13999, \">=\"&fromDateI, FLData!$C$2:$C$13999, \"<=\" &toDateI, FLData!$S$2:$S$13999,$C170, FLData!$E$2:$E$13999, MultiEngineTypes, FLData!$F$2:$F$13999, \"Rental\" )) )*24","v":0},{"$f":"SUMPRODUCT( SUMIFS( FLData!$AH$2:$AH$13999, FLData!$C$2:$C$13999, \">=\"&fromDateI, FLData!$C$2:$C$13999, \"<=\" &toDateI, FLData!$J$2:$J$13999,$C170, FLData!$E$2:$E$13999, MultiEngineTypes, FLData!$F$2:$F$13999, \"Operation\" ))*24","v":0},{"$f":"( SUMPRODUCT( SUMIFS( FLData!$AH$2:$AH$13999, FLData!$C$2:$C$13999, \">=\"&fromDateI, FLData!$C$2:$C$13999, \"<=\" &toDateI, FLData!$M$2:$M$13999,$C170, FLData!$E$2:$E$13999, Sim1Types, FLData!$F$2:$F$13999, \"Lesson\" )) + SUMPRODUCT( SUMIFS( FLData!$AH$2:$AH$13999, FLData!$C$2:$C$13999, \">=\"&fromDateI, FLData!$C$2:$C$13999, \"<=\" &toDateI, FLData!$S$2:$S$13999,$C170, FLData!$E$2:$E$13999, Sim1Types, FLData!$F$2:$F$13999, \"Rental\" )) )*24","v":0},{"$f":"SUMPRODUCT( SUMIFS( FLData!$AH$2:$AH$13999, FLData!$C$2:$C$13999, \">=\"&fromDateI, FLData!$C$2:$C$13999, \"<=\" &toDateI, FLData!$J$2:$J$13999,$C170, FLData!$E$2:$E$13999, Sim1Types, FLData!$F$2:$F$13999, \"Operation\" ))*24","v":0},{"$f":"( SUMPRODUCT( SUMIFS( FLData!$AH$2:$AH$13999, FLData!$C$2:$C$13999, \">=\"&fromDateI, FLData!$C$2:$C$13999, \"<=\" &toDateI, FLData!$M$2:$M$13999,$C170, FLData!$E$2:$E$13999, Sim2Types, FLData!$F$2:$F$13999, \"Lesson\" )) + SUMPRODUCT( SUMIFS( FLData!$AH$2:$AH$13999, FLData!$C$2:$C$13999, \">=\"&fromDateI, FLData!$C$2:$C$13999, \"<=\" &toDateI, FLData!$S$2:$S$13999,$C170, FLData!$E$2:$E$13999, Sim2Types, FLData!$F$2:$F$13999, \"Rental\" )) )*24","v":0},{"$f":"SUMPRODUCT( SUMIFS( FLData!$AH$2:$AH$13999, FLData!$C$2:$C$13999, \">=\"&fromDateI, FLData!$C$2:$C$13999, \"<=\" &toDateI, FLData!$J$2:$J$13999,$C170, FLData!$E$2:$E$13999, Sim2Types, FLData!$F$2:$F$13999, \"Operation\" ))*24","v":0},0,0,0]
[null,null,"",{"$f":"( SUMPRODUCT( SUMIFS( FLData!$AH$2:$AH$13999, FLData!$C$2:$C$13999, \">=\"&fromDateI, FLData!$C$2:$C$13999, \"<=\" &toDateI, FLData!$M$2:$M$13999,$C171, FLData!$E$2:$E$13999, SingleEngineTypes, FLData!$F$2:$F$13999, \"Lesson\" )) + SUMPRODUCT( SUMIFS( FLData!$AH$2:$AH$13999, FLData!$C$2:$C$13999, \">=\"&fromDateI, FLData!$C$2:$C$13999, \"<=\" &toDateI, FLData!$S$2:$S$13999,$C171, FLData!$E$2:$E$13999, SingleEngineTypes, FLData!$F$2:$F$13999, \"Rental\" )) )*24","v":0},{"$f":"SUMPRODUCT( SUMIFS( FLData!$AH$2:$AH$13999, FLData!$C$2:$C$13999, \">=\"&fromDateI, FLData!$C$2:$C$13999, \"<=\" &toDateI, FLData!$J$2:$J$13999,$C171, FLData!$E$2:$E$13999, SingleEngineTypes, FLData!$F$2:$F$13999, \"Operation\" ))*24","v":0},{"$f":"( SUMPRODUCT( SUMIFS( FLData!$AH$2:$AH$13999, FLData!$C$2:$C$13999, \">=\"&fromDateI, FLData!$C$2:$C$13999, \"<=\" &toDateI, FLData!$M$2:$M$13999,$C171, FLData!$E$2:$E$13999, MultiEngineTypes, FLData!$F$2:$F$13999, \"Lesson\" )) + SUMPRODUCT( SUMIFS( FLData!$AH$2:$AH$13999, FLData!$C$2:$C$13999, \">=\"&fromDateI, FLData!$C$2:$C$13999, \"<=\" &toDateI, FLData!$S$2:$S$13999,$C171, FLData!$E$2:$E$13999, MultiEngineTypes, FLData!$F$2:$F$13999, \"Rental\" )) )*24","v":0},{"$f":"SUMPRODUCT( SUMIFS( FLData!$AH$2:$AH$13999, FLData!$C$2:$C$13999, \">=\"&fromDateI, FLData!$C$2:$C$13999, \"<=\" &toDateI, FLData!$J$2:$J$13999,$C171, FLData!$E$2:$E$13999, MultiEngineTypes, FLData!$F$2:$F$13999, \"Operation\" ))*24","v":0},{"$f":"( SUMPRODUCT( SUMIFS( FLData!$AH$2:$AH$13999, FLData!$C$2:$C$13999, \">=\"&fromDateI, FLData!$C$2:$C$13999, \"<=\" &toDateI, FLData!$M$2:$M$13999,$C171, FLData!$E$2:$E$13999, Sim1Types, FLData!$F$2:$F$13999, \"Lesson\" )) + SUMPRODUCT( SUMIFS( FLData!$AH$2:$AH$13999, FLData!$C$2:$C$13999, \">=\"&fromDateI, FLData!$C$2:$C$13999, \"<=\" &toDateI, FLData!$S$2:$S$13999,$C171, FLData!$E$2:$E$13999, Sim1Types, FLData!$F$2:$F$13999, \"Rental\" )) )*24","v":0},{"$f":"SUMPRODUCT( SUMIFS( FLData!$AH$2:$AH$13999, FLData!$C$2:$C$13999, \">=\"&fromDateI, FLData!$C$2:$C$13999, \"<=\" &toDateI, FLData!$J$2:$J$13999,$C171, FLData!$E$2:$E$13999, Sim1Types, FLData!$F$2:$F$13999, \"Operation\" ))*24","v":0},{"$f":"( SUMPRODUCT( SUMIFS( FLData!$AH$2:$AH$13999, FLData!$C$2:$C$13999, \">=\"&fromDateI, FLData!$C$2:$C$13999, \"<=\" &toDateI, FLData!$M$2:$M$13999,$C171, FLData!$E$2:$E$13999, Sim2Types, FLData!$F$2:$F$13999, \"Lesson\" )) + SUMPRODUCT( SUMIFS( FLData!$AH$2:$AH$13999, FLData!$C$2:$C$13999, \">=\"&fromDateI, FLData!$C$2:$C$13999, \"<=\" &toDateI, FLData!$S$2:$S$13999,$C171, FLData!$E$2:$E$13999, Sim2Types, FLData!$F$2:$F$13999, \"Rental\" )) )*24","v":0},{"$f":"SUMPRODUCT( SUMIFS( FLData!$AH$2:$AH$13999, FLData!$C$2:$C$13999, \">=\"&fromDateI, FLData!$C$2:$C$13999, \"<=\" &toDateI, FLData!$J$2:$J$13999,$C171, FLData!$E$2:$E$13999, Sim2Types, FLData!$F$2:$F$13999, \"Operation\" ))*24","v":0},0,0,0]
[null,null,"",{"$f":"( SUMPRODUCT( SUMIFS( FLData!$AH$2:$AH$13999, FLData!$C$2:$C$13999, \">=\"&fromDateI, FLData!$C$2:$C$13999, \"<=\" &toDateI, FLData!$M$2:$M$13999,$C172, FLData!$E$2:$E$13999, SingleEngineTypes, FLData!$F$2:$F$13999, \"Lesson\" )) + SUMPRODUCT( SUMIFS( FLData!$AH$2:$AH$13999, FLData!$C$2:$C$13999, \">=\"&fromDateI, FLData!$C$2:$C$13999, \"<=\" &toDateI, FLData!$S$2:$S$13999,$C172, FLData!$E$2:$E$13999, SingleEngineTypes, FLData!$F$2:$F$13999, \"Rental\" )) )*24","v":0},{"$f":"SUMPRODUCT( SUMIFS( FLData!$AH$2:$AH$13999, FLData!$C$2:$C$13999, \">=\"&fromDateI, FLData!$C$2:$C$13999, \"<=\" &toDateI, FLData!$J$2:$J$13999,$C172, FLData!$E$2:$E$13999, SingleEngineTypes, FLData!$F$2:$F$13999, \"Operation\" ))*24","v":0},{"$f":"( SUMPRODUCT( SUMIFS( FLData!$AH$2:$AH$13999, FLData!$C$2:$C$13999, \">=\"&fromDateI, FLData!$C$2:$C$13999, \"<=\" &toDateI, FLData!$M$2:$M$13999,$C172, FLData!$E$2:$E$13999, MultiEngineTypes, FLData!$F$2:$F$13999, \"Lesson\" )) + SUMPRODUCT( SUMIFS( FLData!$AH$2:$AH$13999, FLData!$C$2:$C$13999, \">=\"&fromDateI, FLData!$C$2:$C$13999, \"<=\" &toDateI, FLData!$S$2:$S$13999,$C172, FLData!$E$2:$E$13999, MultiEngineTypes, FLData!$F$2:$F$13999, \"Rental\" )) )*24","v":0},{"$f":"SUMPRODUCT( SUMIFS( FLData!$AH$2:$AH$13999, FLData!$C$2:$C$13999, \">=\"&fromDateI, FLData!$C$2:$C$13999, \"<=\" &toDateI, FLData!$J$2:$J$13999,$C172, FLData!$E$2:$E$13999, MultiEngineTypes, FLData!$F$2:$F$13999, \"Operation\" ))*24","v":0},{"$f":"( SUMPRODUCT( SUMIFS( FLData!$AH$2:$AH$13999, FLData!$C$2:$C$13999, \">=\"&fromDateI, FLData!$C$2:$C$13999, \"<=\" &toDateI, FLData!$M$2:$M$13999,$C172, FLData!$E$2:$E$13999, Sim1Types, FLData!$F$2:$F$13999, \"Lesson\" )) + SUMPRODUCT( SUMIFS( FLData!$AH$2:$AH$13999, FLData!$C$2:$C$13999, \">=\"&fromDateI, FLData!$C$2:$C$13999, \"<=\" &toDateI, FLData!$S$2:$S$13999,$C172, FLData!$E$2:$E$13999, Sim1Types, FLData!$F$2:$F$13999, \"Rental\" )) )*24","v":0},{"$f":"SUMPRODUCT( SUMIFS( FLData!$AH$2:$AH$13999, FLData!$C$2:$C$13999, \">=\"&fromDateI, FLData!$C$2:$C$13999, \"<=\" &toDateI, FLData!$J$2:$J$13999,$C172, FLData!$E$2:$E$13999, Sim1Types, FLData!$F$2:$F$13999, \"Operation\" ))*24","v":0},{"$f":"( SUMPRODUCT( SUMIFS( FLData!$AH$2:$AH$13999, FLData!$C$2:$C$13999, \">=\"&fromDateI, FLData!$C$2:$C$13999, \"<=\" &toDateI, FLData!$M$2:$M$13999,$C172, FLData!$E$2:$E$13999, Sim2Types, FLData!$F$2:$F$13999, \"Lesson\" )) + SUMPRODUCT( SUMIFS( FLData!$AH$2:$AH$13999, FLData!$C$2:$C$13999, \">=\"&fromDateI, FLData!$C$2:$C$13999, \"<=\" &toDateI, FLData!$S$2:$S$13999,$C172, FLData!$E$2:$E$13999, Sim2Types, FLData!$F$2:$F$13999, \"Rental\" )) )*24","v":0},{"$f":"SUMPRODUCT( SUMIFS( FLData!$AH$2:$AH$13999, FLData!$C$2:$C$13999, \">=\"&fromDateI, FLData!$C$2:$C$13999, \"<=\" &toDateI, FLData!$J$2:$J$13999,$C172, FLData!$E$2:$E$13999, Sim2Types, FLData!$F$2:$F$13999, \"Operation\" ))*24","v":0},0,0,0]
[null,null,"",{"$f":"( SUMPRODUCT( SUMIFS( FLData!$AH$2:$AH$13999, FLData!$C$2:$C$13999, \">=\"&fromDateI, FLData!$C$2:$C$13999, \"<=\" &toDateI, FLData!$M$2:$M$13999,$C173, FLData!$E$2:$E$13999, SingleEngineTypes, FLData!$F$2:$F$13999, \"Lesson\" )) + SUMPRODUCT( SUMIFS( FLData!$AH$2:$AH$13999, FLData!$C$2:$C$13999, \">=\"&fromDateI, FLData!$C$2:$C$13999, \"<=\" &toDateI, FLData!$S$2:$S$13999,$C173, FLData!$E$2:$E$13999, SingleEngineTypes, FLData!$F$2:$F$13999, \"Rental\" )) )*24","v":0},{"$f":"SUMPRODUCT( SUMIFS( FLData!$AH$2:$AH$13999, FLData!$C$2:$C$13999, \">=\"&fromDateI, FLData!$C$2:$C$13999, \"<=\" &toDateI, FLData!$J$2:$J$13999,$C173, FLData!$E$2:$E$13999, SingleEngineTypes, FLData!$F$2:$F$13999, \"Operation\" ))*24","v":0},{"$f":"( SUMPRODUCT( SUMIFS( FLData!$AH$2:$AH$13999, FLData!$C$2:$C$13999, \">=\"&fromDateI, FLData!$C$2:$C$13999, \"<=\" &toDateI, FLData!$M$2:$M$13999,$C173, FLData!$E$2:$E$13999, MultiEngineTypes, FLData!$F$2:$F$13999, \"Lesson\" )) + SUMPRODUCT( SUMIFS( FLData!$AH$2:$AH$13999, FLData!$C$2:$C$13999, \">=\"&fromDateI, FLData!$C$2:$C$13999, \"<=\" &toDateI, FLData!$S$2:$S$13999,$C173, FLData!$E$2:$E$13999, MultiEngineTypes, FLData!$F$2:$F$13999, \"Rental\" )) )*24","v":0},{"$f":"SUMPRODUCT( SUMIFS( FLData!$AH$2:$AH$13999, FLData!$C$2:$C$13999, \">=\"&fromDateI, FLData!$C$2:$C$13999, \"<=\" &toDateI, FLData!$J$2:$J$13999,$C173, FLData!$E$2:$E$13999, MultiEngineTypes, FLData!$F$2:$F$13999, \"Operation\" ))*24","v":0},{"$f":"( SUMPRODUCT( SUMIFS( FLData!$AH$2:$AH$13999, FLData!$C$2:$C$13999, \">=\"&fromDateI, FLData!$C$2:$C$13999, \"<=\" &toDateI, FLData!$M$2:$M$13999,$C173, FLData!$E$2:$E$13999, Sim1Types, FLData!$F$2:$F$13999, \"Lesson\" )) + SUMPRODUCT( SUMIFS( FLData!$AH$2:$AH$13999, FLData!$C$2:$C$13999, \">=\"&fromDateI, FLData!$C$2:$C$13999, \"<=\" &toDateI, FLData!$S$2:$S$13999,$C173, FLData!$E$2:$E$13999, Sim1Types, FLData!$F$2:$F$13999, \"Rental\" )) )*24","v":0},{"$f":"SUMPRODUCT( SUMIFS( FLData!$AH$2:$AH$13999, FLData!$C$2:$C$13999, \">=\"&fromDateI, FLData!$C$2:$C$13999, \"<=\" &toDateI, FLData!$J$2:$J$13999,$C173, FLData!$E$2:$E$13999, Sim1Types, FLData!$F$2:$F$13999, \"Operation\" ))*24","v":0},{"$f":"( SUMPRODUCT( SUMIFS( FLData!$AH$2:$AH$13999, FLData!$C$2:$C$13999, \">=\"&fromDateI, FLData!$C$2:$C$13999, \"<=\" &toDateI, FLData!$M$2:$M$13999,$C173, FLData!$E$2:$E$13999, Sim2Types, FLData!$F$2:$F$13999, \"Lesson\" )) + SUMPRODUCT( SUMIFS( FLData!$AH$2:$AH$13999, FLData!$C$2:$C$13999, \">=\"&fromDateI, FLData!$C$2:$C$13999, \"<=\" &toDateI, FLData!$S$2:$S$13999,$C173, FLData!$E$2:$E$13999, Sim2Types, FLData!$F$2:$F$13999, \"Rental\" )) )*24","v":0},{"$f":"SUMPRODUCT( SUMIFS( FLData!$AH$2:$AH$13999, FLData!$C$2:$C$13999, \">=\"&fromDateI, FLData!$C$2:$C$13999, \"<=\" &toDateI, FLData!$J$2:$J$13999,$C173, FLData!$E$2:$E$13999, Sim2Types, FLData!$F$2:$F$13999, \"Operation\" ))*24","v":0},0,0,0]
[null,null,"",{"$f":"( SUMPRODUCT( SUMIFS( FLData!$AH$2:$AH$13999, FLData!$C$2:$C$13999, \">=\"&fromDateI, FLData!$C$2:$C$13999, \"<=\" &toDateI, FLData!$M$2:$M$13999,$C174, FLData!$E$2:$E$13999, SingleEngineTypes, FLData!$F$2:$F$13999, \"Lesson\" )) + SUMPRODUCT( SUMIFS( FLData!$AH$2:$AH$13999, FLData!$C$2:$C$13999, \">=\"&fromDateI, FLData!$C$2:$C$13999, \"<=\" &toDateI, FLData!$S$2:$S$13999,$C174, FLData!$E$2:$E$13999, SingleEngineTypes, FLData!$F$2:$F$13999, \"Rental\" )) )*24","v":0},{"$f":"SUMPRODUCT( SUMIFS( FLData!$AH$2:$AH$13999, FLData!$C$2:$C$13999, \">=\"&fromDateI, FLData!$C$2:$C$13999, \"<=\" &toDateI, FLData!$J$2:$J$13999,$C174, FLData!$E$2:$E$13999, SingleEngineTypes, FLData!$F$2:$F$13999, \"Operation\" ))*24","v":0},{"$f":"( SUMPRODUCT( SUMIFS( FLData!$AH$2:$AH$13999, FLData!$C$2:$C$13999, \">=\"&fromDateI, FLData!$C$2:$C$13999, \"<=\" &toDateI, FLData!$M$2:$M$13999,$C174, FLData!$E$2:$E$13999, MultiEngineTypes, FLData!$F$2:$F$13999, \"Lesson\" )) + SUMPRODUCT( SUMIFS( FLData!$AH$2:$AH$13999, FLData!$C$2:$C$13999, \">=\"&fromDateI, FLData!$C$2:$C$13999, \"<=\" &toDateI, FLData!$S$2:$S$13999,$C174, FLData!$E$2:$E$13999, MultiEngineTypes, FLData!$F$2:$F$13999, \"Rental\" )) )*24","v":0},{"$f":"SUMPRODUCT( SUMIFS( FLData!$AH$2:$AH$13999, FLData!$C$2:$C$13999, \">=\"&fromDateI, FLData!$C$2:$C$13999, \"<=\" &toDateI, FLData!$J$2:$J$13999,$C174, FLData!$E$2:$E$13999, MultiEngineTypes, FLData!$F$2:$F$13999, \"Operation\" ))*24","v":0},{"$f":"( SUMPRODUCT( SUMIFS( FLData!$AH$2:$AH$13999, FLData!$C$2:$C$13999, \">=\"&fromDateI, FLData!$C$2:$C$13999, \"<=\" &toDateI, FLData!$M$2:$M$13999,$C174, FLData!$E$2:$E$13999, Sim1Types, FLData!$F$2:$F$13999, \"Lesson\" )) + SUMPRODUCT( SUMIFS( FLData!$AH$2:$AH$13999, FLData!$C$2:$C$13999, \">=\"&fromDateI, FLData!$C$2:$C$13999, \"<=\" &toDateI, FLData!$S$2:$S$13999,$C174, FLData!$E$2:$E$13999, Sim1Types, FLData!$F$2:$F$13999, \"Rental\" )) )*24","v":0},{"$f":"SUMPRODUCT( SUMIFS( FLData!$AH$2:$AH$13999, FLData!$C$2:$C$13999, \">=\"&fromDateI, FLData!$C$2:$C$13999, \"<=\" &toDateI, FLData!$J$2:$J$13999,$C174, FLData!$E$2:$E$13999, Sim1Types, FLData!$F$2:$F$13999, \"Operation\" ))*24","v":0},{"$f":"( SUMPRODUCT( SUMIFS( FLData!$AH$2:$AH$13999, FLData!$C$2:$C$13999, \">=\"&fromDateI, FLData!$C$2:$C$13999, \"<=\" &toDateI, FLData!$M$2:$M$13999,$C174, FLData!$E$2:$E$13999, Sim2Types, FLData!$F$2:$F$13999, \"Lesson\" )) + SUMPRODUCT( SUMIFS( FLData!$AH$2:$AH$13999, FLData!$C$2:$C$13999, \">=\"&fromDateI, FLData!$C$2:$C$13999, \"<=\" &toDateI, FLData!$S$2:$S$13999,$C174, FLData!$E$2:$E$13999, Sim2Types, FLData!$F$2:$F$13999, \"Rental\" )) )*24","v":0},{"$f":"SUMPRODUCT( SUMIFS( FLData!$AH$2:$AH$13999, FLData!$C$2:$C$13999, \">=\"&fromDateI, FLData!$C$2:$C$13999, \"<=\" &toDateI, FLData!$J$2:$J$13999,$C174, FLData!$E$2:$E$13999, Sim2Types, FLData!$F$2:$F$13999, \"Operation\" ))*24","v":0},0,0,0]
[null,null,"",{"$f":"( SUMPRODUCT( SUMIFS( FLData!$AH$2:$AH$13999, FLData!$C$2:$C$13999, \">=\"&fromDateI, FLData!$C$2:$C$13999, \"<=\" &toDateI, FLData!$M$2:$M$13999,$C175, FLData!$E$2:$E$13999, SingleEngineTypes, FLData!$F$2:$F$13999, \"Lesson\" )) + SUMPRODUCT( SUMIFS( FLData!$AH$2:$AH$13999, FLData!$C$2:$C$13999, \">=\"&fromDateI, FLData!$C$2:$C$13999, \"<=\" &toDateI, FLData!$S$2:$S$13999,$C175, FLData!$E$2:$E$13999, SingleEngineTypes, FLData!$F$2:$F$13999, \"Rental\" )) )*24","v":0},{"$f":"SUMPRODUCT( SUMIFS( FLData!$AH$2:$AH$13999, FLData!$C$2:$C$13999, \">=\"&fromDateI, FLData!$C$2:$C$13999, \"<=\" &toDateI, FLData!$J$2:$J$13999,$C175, FLData!$E$2:$E$13999, SingleEngineTypes, FLData!$F$2:$F$13999, \"Operation\" ))*24","v":0},{"$f":"( SUMPRODUCT( SUMIFS( FLData!$AH$2:$AH$13999, FLData!$C$2:$C$13999, \">=\"&fromDateI, FLData!$C$2:$C$13999, \"<=\" &toDateI, FLData!$M$2:$M$13999,$C175, FLData!$E$2:$E$13999, MultiEngineTypes, FLData!$F$2:$F$13999, \"Lesson\" )) + SUMPRODUCT( SUMIFS( FLData!$AH$2:$AH$13999, FLData!$C$2:$C$13999, \">=\"&fromDateI, FLData!$C$2:$C$13999, \"<=\" &toDateI, FLData!$S$2:$S$13999,$C175, FLData!$E$2:$E$13999, MultiEngineTypes, FLData!$F$2:$F$13999, \"Rental\" )) )*24","v":0},{"$f":"SUMPRODUCT( SUMIFS( FLData!$AH$2:$AH$13999, FLData!$C$2:$C$13999, \">=\"&fromDateI, FLData!$C$2:$C$13999, \"<=\" &toDateI, FLData!$J$2:$J$13999,$C175, FLData!$E$2:$E$13999, MultiEngineTypes, FLData!$F$2:$F$13999, \"Operation\" ))*24","v":0},{"$f":"( SUMPRODUCT( SUMIFS( FLData!$AH$2:$AH$13999, FLData!$C$2:$C$13999, \">=\"&fromDateI, FLData!$C$2:$C$13999, \"<=\" &toDateI, FLData!$M$2:$M$13999,$C175, FLData!$E$2:$E$13999, Sim1Types, FLData!$F$2:$F$13999, \"Lesson\" )) + SUMPRODUCT( SUMIFS( FLData!$AH$2:$AH$13999, FLData!$C$2:$C$13999, \">=\"&fromDateI, FLData!$C$2:$C$13999, \"<=\" &toDateI, FLData!$S$2:$S$13999,$C175, FLData!$E$2:$E$13999, Sim1Types, FLData!$F$2:$F$13999, \"Rental\" )) )*24","v":0},{"$f":"SUMPRODUCT( SUMIFS( FLData!$AH$2:$AH$13999, FLData!$C$2:$C$13999, \">=\"&fromDateI, FLData!$C$2:$C$13999, \"<=\" &toDateI, FLData!$J$2:$J$13999,$C175, FLData!$E$2:$E$13999, Sim1Types, FLData!$F$2:$F$13999, \"Operation\" ))*24","v":0},{"$f":"( SUMPRODUCT( SUMIFS( FLData!$AH$2:$AH$13999, FLData!$C$2:$C$13999, \">=\"&fromDateI, FLData!$C$2:$C$13999, \"<=\" &toDateI, FLData!$M$2:$M$13999,$C175, FLData!$E$2:$E$13999, Sim2Types, FLData!$F$2:$F$13999, \"Lesson\" )) + SUMPRODUCT( SUMIFS( FLData!$AH$2:$AH$13999, FLData!$C$2:$C$13999, \">=\"&fromDateI, FLData!$C$2:$C$13999, \"<=\" &toDateI, FLData!$S$2:$S$13999,$C175, FLData!$E$2:$E$13999, Sim2Types, FLData!$F$2:$F$13999, \"Rental\" )) )*24","v":0},{"$f":"SUMPRODUCT( SUMIFS( FLData!$AH$2:$AH$13999, FLData!$C$2:$C$13999, \">=\"&fromDateI, FLData!$C$2:$C$13999, \"<=\" &toDateI, FLData!$J$2:$J$13999,$C175, FLData!$E$2:$E$13999, Sim2Types, FLData!$F$2:$F$13999, \"Operation\" ))*24","v":0},0,0,0]
[null,null,"",{"$f":"( SUMPRODUCT( SUMIFS( FLData!$AH$2:$AH$13999, FLData!$C$2:$C$13999, \">=\"&fromDateI, FLData!$C$2:$C$13999, \"<=\" &toDateI, FLData!$M$2:$M$13999,$C176, FLData!$E$2:$E$13999, SingleEngineTypes, FLData!$F$2:$F$13999, \"Lesson\" )) + SUMPRODUCT( SUMIFS( FLData!$AH$2:$AH$13999, FLData!$C$2:$C$13999, \">=\"&fromDateI, FLData!$C$2:$C$13999, \"<=\" &toDateI, FLData!$S$2:$S$13999,$C176, FLData!$E$2:$E$13999, SingleEngineTypes, FLData!$F$2:$F$13999, \"Rental\" )) )*24","v":0},{"$f":"SUMPRODUCT( SUMIFS( FLData!$AH$2:$AH$13999, FLData!$C$2:$C$13999, \">=\"&fromDateI, FLData!$C$2:$C$13999, \"<=\" &toDateI, FLData!$J$2:$J$13999,$C176, FLData!$E$2:$E$13999, SingleEngineTypes, FLData!$F$2:$F$13999, \"Operation\" ))*24","v":0},{"$f":"( SUMPRODUCT( SUMIFS( FLData!$AH$2:$AH$13999, FLData!$C$2:$C$13999, \">=\"&fromDateI, FLData!$C$2:$C$13999, \"<=\" &toDateI, FLData!$M$2:$M$13999,$C176, FLData!$E$2:$E$13999, MultiEngineTypes, FLData!$F$2:$F$13999, \"Lesson\" )) + SUMPRODUCT( SUMIFS( FLData!$AH$2:$AH$13999, FLData!$C$2:$C$13999, \">=\"&fromDateI, FLData!$C$2:$C$13999, \"<=\" &toDateI, FLData!$S$2:$S$13999,$C176, FLData!$E$2:$E$13999, MultiEngineTypes, FLData!$F$2:$F$13999, \"Rental\" )) )*24","v":0},{"$f":"SUMPRODUCT( SUMIFS( FLData!$AH$2:$AH$13999, FLData!$C$2:$C$13999, \">=\"&fromDateI, FLData!$C$2:$C$13999, \"<=\" &toDateI, FLData!$J$2:$J$13999,$C176, FLData!$E$2:$E$13999, MultiEngineTypes, FLData!$F$2:$F$13999, \"Operation\" ))*24","v":0},{"$f":"( SUMPRODUCT( SUMIFS( FLData!$AH$2:$AH$13999, FLData!$C$2:$C$13999, \">=\"&fromDateI, FLData!$C$2:$C$13999, \"<=\" &toDateI, FLData!$M$2:$M$13999,$C176, FLData!$E$2:$E$13999, Sim1Types, FLData!$F$2:$F$13999, \"Lesson\" )) + SUMPRODUCT( SUMIFS( FLData!$AH$2:$AH$13999, FLData!$C$2:$C$13999, \">=\"&fromDateI, FLData!$C$2:$C$13999, \"<=\" &toDateI, FLData!$S$2:$S$13999,$C176, FLData!$E$2:$E$13999, Sim1Types, FLData!$F$2:$F$13999, \"Rental\" )) )*24","v":0},{"$f":"SUMPRODUCT( SUMIFS( FLData!$AH$2:$AH$13999, FLData!$C$2:$C$13999, \">=\"&fromDateI, FLData!$C$2:$C$13999, \"<=\" &toDateI, FLData!$J$2:$J$13999,$C176, FLData!$E$2:$E$13999, Sim1Types, FLData!$F$2:$F$13999, \"Operation\" ))*24","v":0},{"$f":"( SUMPRODUCT( SUMIFS( FLData!$AH$2:$AH$13999, FLData!$C$2:$C$13999, \">=\"&fromDateI, FLData!$C$2:$C$13999, \"<=\" &toDateI, FLData!$M$2:$M$13999,$C176, FLData!$E$2:$E$13999, Sim2Types, FLData!$F$2:$F$13999, \"Lesson\" )) + SUMPRODUCT( SUMIFS( FLData!$AH$2:$AH$13999, FLData!$C$2:$C$13999, \">=\"&fromDateI, FLData!$C$2:$C$13999, \"<=\" &toDateI, FLData!$S$2:$S$13999,$C176, FLData!$E$2:$E$13999, Sim2Types, FLData!$F$2:$F$13999, \"Rental\" )) )*24","v":0},{"$f":"SUMPRODUCT( SUMIFS( FLData!$AH$2:$AH$13999, FLData!$C$2:$C$13999, \">=\"&fromDateI, FLData!$C$2:$C$13999, \"<=\" &toDateI, FLData!$J$2:$J$13999,$C176, FLData!$E$2:$E$13999, Sim2Types, FLData!$F$2:$F$13999, \"Operation\" ))*24","v":0},0,0,0]
[null,null,"",{"$f":"( SUMPRODUCT( SUMIFS( FLData!$AH$2:$AH$13999, FLData!$C$2:$C$13999, \">=\"&fromDateI, FLData!$C$2:$C$13999, \"<=\" &toDateI, FLData!$M$2:$M$13999,$C177, FLData!$E$2:$E$13999, SingleEngineTypes, FLData!$F$2:$F$13999, \"Lesson\" )) + SUMPRODUCT( SUMIFS( FLData!$AH$2:$AH$13999, FLData!$C$2:$C$13999, \">=\"&fromDateI, FLData!$C$2:$C$13999, \"<=\" &toDateI, FLData!$S$2:$S$13999,$C177, FLData!$E$2:$E$13999, SingleEngineTypes, FLData!$F$2:$F$13999, \"Rental\" )) )*24","v":0},{"$f":"SUMPRODUCT( SUMIFS( FLData!$AH$2:$AH$13999, FLData!$C$2:$C$13999, \">=\"&fromDateI, FLData!$C$2:$C$13999, \"<=\" &toDateI, FLData!$J$2:$J$13999,$C177, FLData!$E$2:$E$13999, SingleEngineTypes, FLData!$F$2:$F$13999, \"Operation\" ))*24","v":0},{"$f":"( SUMPRODUCT( SUMIFS( FLData!$AH$2:$AH$13999, FLData!$C$2:$C$13999, \">=\"&fromDateI, FLData!$C$2:$C$13999, \"<=\" &toDateI, FLData!$M$2:$M$13999,$C177, FLData!$E$2:$E$13999, MultiEngineTypes, FLData!$F$2:$F$13999, \"Lesson\" )) + SUMPRODUCT( SUMIFS( FLData!$AH$2:$AH$13999, FLData!$C$2:$C$13999, \">=\"&fromDateI, FLData!$C$2:$C$13999, \"<=\" &toDateI, FLData!$S$2:$S$13999,$C177, FLData!$E$2:$E$13999, MultiEngineTypes, FLData!$F$2:$F$13999, \"Rental\" )) )*24","v":0},{"$f":"SUMPRODUCT( SUMIFS( FLData!$AH$2:$AH$13999, FLData!$C$2:$C$13999, \">=\"&fromDateI, FLData!$C$2:$C$13999, \"<=\" &toDateI, FLData!$J$2:$J$13999,$C177, FLData!$E$2:$E$13999, MultiEngineTypes, FLData!$F$2:$F$13999, \"Operation\" ))*24","v":0},{"$f":"( SUMPRODUCT( SUMIFS( FLData!$AH$2:$AH$13999, FLData!$C$2:$C$13999, \">=\"&fromDateI, FLData!$C$2:$C$13999, \"<=\" &toDateI, FLData!$M$2:$M$13999,$C177, FLData!$E$2:$E$13999, Sim1Types, FLData!$F$2:$F$13999, \"Lesson\" )) + SUMPRODUCT( SUMIFS( FLData!$AH$2:$AH$13999, FLData!$C$2:$C$13999, \">=\"&fromDateI, FLData!$C$2:$C$13999, \"<=\" &toDateI, FLData!$S$2:$S$13999,$C177, FLData!$E$2:$E$13999, Sim1Types, FLData!$F$2:$F$13999, \"Rental\" )) )*24","v":0},{"$f":"SUMPRODUCT( SUMIFS( FLData!$AH$2:$AH$13999, FLData!$C$2:$C$13999, \">=\"&fromDateI, FLData!$C$2:$C$13999, \"<=\" &toDateI, FLData!$J$2:$J$13999,$C177, FLData!$E$2:$E$13999, Sim1Types, FLData!$F$2:$F$13999, \"Operation\" ))*24","v":0},{"$f":"( SUMPRODUCT( SUMIFS( FLData!$AH$2:$AH$13999, FLData!$C$2:$C$13999, \">=\"&fromDateI, FLData!$C$2:$C$13999, \"<=\" &toDateI, FLData!$M$2:$M$13999,$C177, FLData!$E$2:$E$13999, Sim2Types, FLData!$F$2:$F$13999, \"Lesson\" )) + SUMPRODUCT( SUMIFS( FLData!$AH$2:$AH$13999, FLData!$C$2:$C$13999, \">=\"&fromDateI, FLData!$C$2:$C$13999, \"<=\" &toDateI, FLData!$S$2:$S$13999,$C177, FLData!$E$2:$E$13999, Sim2Types, FLData!$F$2:$F$13999, \"Rental\" )) )*24","v":0},{"$f":"SUMPRODUCT( SUMIFS( FLData!$AH$2:$AH$13999, FLData!$C$2:$C$13999, \">=\"&fromDateI, FLData!$C$2:$C$13999, \"<=\" &toDateI, FLData!$J$2:$J$13999,$C177, FLData!$E$2:$E$13999, Sim2Types, FLData!$F$2:$F$13999, \"Operation\" ))*24","v":0},0,0,0]
[null,null,"",{"$f":"( SUMPRODUCT( SUMIFS( FLData!$AH$2:$AH$13999, FLData!$C$2:$C$13999, \">=\"&fromDateI, FLData!$C$2:$C$13999, \"<=\" &toDateI, FLData!$M$2:$M$13999,$C178, FLData!$E$2:$E$13999, SingleEngineTypes, FLData!$F$2:$F$13999, \"Lesson\" )) + SUMPRODUCT( SUMIFS( FLData!$AH$2:$AH$13999, FLData!$C$2:$C$13999, \">=\"&fromDateI, FLData!$C$2:$C$13999, \"<=\" &toDateI, FLData!$S$2:$S$13999,$C178, FLData!$E$2:$E$13999, SingleEngineTypes, FLData!$F$2:$F$13999, \"Rental\" )) )*24","v":0},{"$f":"SUMPRODUCT( SUMIFS( FLData!$AH$2:$AH$13999, FLData!$C$2:$C$13999, \">=\"&fromDateI, FLData!$C$2:$C$13999, \"<=\" &toDateI, FLData!$J$2:$J$13999,$C178, FLData!$E$2:$E$13999, SingleEngineTypes, FLData!$F$2:$F$13999, \"Operation\" ))*24","v":0},{"$f":"( SUMPRODUCT( SUMIFS( FLData!$AH$2:$AH$13999, FLData!$C$2:$C$13999, \">=\"&fromDateI, FLData!$C$2:$C$13999, \"<=\" &toDateI, FLData!$M$2:$M$13999,$C178, FLData!$E$2:$E$13999, MultiEngineTypes, FLData!$F$2:$F$13999, \"Lesson\" )) + SUMPRODUCT( SUMIFS( FLData!$AH$2:$AH$13999, FLData!$C$2:$C$13999, \">=\"&fromDateI, FLData!$C$2:$C$13999, \"<=\" &toDateI, FLData!$S$2:$S$13999,$C178, FLData!$E$2:$E$13999, MultiEngineTypes, FLData!$F$2:$F$13999, \"Rental\" )) )*24","v":0},{"$f":"SUMPRODUCT( SUMIFS( FLData!$AH$2:$AH$13999, FLData!$C$2:$C$13999, \">=\"&fromDateI, FLData!$C$2:$C$13999, \"<=\" &toDateI, FLData!$J$2:$J$13999,$C178, FLData!$E$2:$E$13999, MultiEngineTypes, FLData!$F$2:$F$13999, \"Operation\" ))*24","v":0},{"$f":"( SUMPRODUCT( SUMIFS( FLData!$AH$2:$AH$13999, FLData!$C$2:$C$13999, \">=\"&fromDateI, FLData!$C$2:$C$13999, \"<=\" &toDateI, FLData!$M$2:$M$13999,$C178, FLData!$E$2:$E$13999, Sim1Types, FLData!$F$2:$F$13999, \"Lesson\" )) + SUMPRODUCT( SUMIFS( FLData!$AH$2:$AH$13999, FLData!$C$2:$C$13999, \">=\"&fromDateI, FLData!$C$2:$C$13999, \"<=\" &toDateI, FLData!$S$2:$S$13999,$C178, FLData!$E$2:$E$13999, Sim1Types, FLData!$F$2:$F$13999, \"Rental\" )) )*24","v":0},{"$f":"SUMPRODUCT( SUMIFS( FLData!$AH$2:$AH$13999, FLData!$C$2:$C$13999, \">=\"&fromDateI, FLData!$C$2:$C$13999, \"<=\" &toDateI, FLData!$J$2:$J$13999,$C178, FLData!$E$2:$E$13999, Sim1Types, FLData!$F$2:$F$13999, \"Operation\" ))*24","v":0},{"$f":"( SUMPRODUCT( SUMIFS( FLData!$AH$2:$AH$13999, FLData!$C$2:$C$13999, \">=\"&fromDateI, FLData!$C$2:$C$13999, \"<=\" &toDateI, FLData!$M$2:$M$13999,$C178, FLData!$E$2:$E$13999, Sim2Types, FLData!$F$2:$F$13999, \"Lesson\" )) + SUMPRODUCT( SUMIFS( FLData!$AH$2:$AH$13999, FLData!$C$2:$C$13999, \">=\"&fromDateI, FLData!$C$2:$C$13999, \"<=\" &toDateI, FLData!$S$2:$S$13999,$C178, FLData!$E$2:$E$13999, Sim2Types, FLData!$F$2:$F$13999, \"Rental\" )) )*24","v":0},{"$f":"SUMPRODUCT( SUMIFS( FLData!$AH$2:$AH$13999, FLData!$C$2:$C$13999, \">=\"&fromDateI, FLData!$C$2:$C$13999, \"<=\" &toDateI, FLData!$J$2:$J$13999,$C178, FLData!$E$2:$E$13999, Sim2Types, FLData!$F$2:$F$13999, \"Operation\" ))*24","v":0},0,0,0]
[null,null,"",{"$f":"( SUMPRODUCT( SUMIFS( FLData!$AH$2:$AH$13999, FLData!$C$2:$C$13999, \">=\"&fromDateI, FLData!$C$2:$C$13999, \"<=\" &toDateI, FLData!$M$2:$M$13999,$C179, FLData!$E$2:$E$13999, SingleEngineTypes, FLData!$F$2:$F$13999, \"Lesson\" )) + SUMPRODUCT( SUMIFS( FLData!$AH$2:$AH$13999, FLData!$C$2:$C$13999, \">=\"&fromDateI, FLData!$C$2:$C$13999, \"<=\" &toDateI, FLData!$S$2:$S$13999,$C179, FLData!$E$2:$E$13999, SingleEngineTypes, FLData!$F$2:$F$13999, \"Rental\" )) )*24","v":0},{"$f":"SUMPRODUCT( SUMIFS( FLData!$AH$2:$AH$13999, FLData!$C$2:$C$13999, \">=\"&fromDateI, FLData!$C$2:$C$13999, \"<=\" &toDateI, FLData!$J$2:$J$13999,$C179, FLData!$E$2:$E$13999, SingleEngineTypes, FLData!$F$2:$F$13999, \"Operation\" ))*24","v":0},{"$f":"( SUMPRODUCT( SUMIFS( FLData!$AH$2:$AH$13999, FLData!$C$2:$C$13999, \">=\"&fromDateI, FLData!$C$2:$C$13999, \"<=\" &toDateI, FLData!$M$2:$M$13999,$C179, FLData!$E$2:$E$13999, MultiEngineTypes, FLData!$F$2:$F$13999, \"Lesson\" )) + SUMPRODUCT( SUMIFS( FLData!$AH$2:$AH$13999, FLData!$C$2:$C$13999, \">=\"&fromDateI, FLData!$C$2:$C$13999, \"<=\" &toDateI, FLData!$S$2:$S$13999,$C179, FLData!$E$2:$E$13999, MultiEngineTypes, FLData!$F$2:$F$13999, \"Rental\" )) )*24","v":0},{"$f":"SUMPRODUCT( SUMIFS( FLData!$AH$2:$AH$13999, FLData!$C$2:$C$13999, \">=\"&fromDateI, FLData!$C$2:$C$13999, \"<=\" &toDateI, FLData!$J$2:$J$13999,$C179, FLData!$E$2:$E$13999, MultiEngineTypes, FLData!$F$2:$F$13999, \"Operation\" ))*24","v":0},{"$f":"( SUMPRODUCT( SUMIFS( FLData!$AH$2:$AH$13999, FLData!$C$2:$C$13999, \">=\"&fromDateI, FLData!$C$2:$C$13999, \"<=\" &toDateI, FLData!$M$2:$M$13999,$C179, FLData!$E$2:$E$13999, Sim1Types, FLData!$F$2:$F$13999, \"Lesson\" )) + SUMPRODUCT( SUMIFS( FLData!$AH$2:$AH$13999, FLData!$C$2:$C$13999, \">=\"&fromDateI, FLData!$C$2:$C$13999, \"<=\" &toDateI, FLData!$S$2:$S$13999,$C179, FLData!$E$2:$E$13999, Sim1Types, FLData!$F$2:$F$13999, \"Rental\" )) )*24","v":0},{"$f":"SUMPRODUCT( SUMIFS( FLData!$AH$2:$AH$13999, FLData!$C$2:$C$13999, \">=\"&fromDateI, FLData!$C$2:$C$13999, \"<=\" &toDateI, FLData!$J$2:$J$13999,$C179, FLData!$E$2:$E$13999, Sim1Types, FLData!$F$2:$F$13999, \"Operation\" ))*24","v":0},{"$f":"( SUMPRODUCT( SUMIFS( FLData!$AH$2:$AH$13999, FLData!$C$2:$C$13999, \">=\"&fromDateI, FLData!$C$2:$C$13999, \"<=\" &toDateI, FLData!$M$2:$M$13999,$C179, FLData!$E$2:$E$13999, Sim2Types, FLData!$F$2:$F$13999, \"Lesson\" )) + SUMPRODUCT( SUMIFS( FLData!$AH$2:$AH$13999, FLData!$C$2:$C$13999, \">=\"&fromDateI, FLData!$C$2:$C$13999, \"<=\" &toDateI, FLData!$S$2:$S$13999,$C179, FLData!$E$2:$E$13999, Sim2Types, FLData!$F$2:$F$13999, \"Rental\" )) )*24","v":0},{"$f":"SUMPRODUCT( SUMIFS( FLData!$AH$2:$AH$13999, FLData!$C$2:$C$13999, \">=\"&fromDateI, FLData!$C$2:$C$13999, \"<=\" &toDateI, FLData!$J$2:$J$13999,$C179, FLData!$E$2:$E$13999, Sim2Types, FLData!$F$2:$F$13999, \"Operation\" ))*24","v":0},0,0,0]
[null,null,"",{"$f":"( SUMPRODUCT( SUMIFS( FLData!$AH$2:$AH$13999, FLData!$C$2:$C$13999, \">=\"&fromDateI, FLData!$C$2:$C$13999, \"<=\" &toDateI, FLData!$M$2:$M$13999,$C180, FLData!$E$2:$E$13999, SingleEngineTypes, FLData!$F$2:$F$13999, \"Lesson\" )) + SUMPRODUCT( SUMIFS( FLData!$AH$2:$AH$13999, FLData!$C$2:$C$13999, \">=\"&fromDateI, FLData!$C$2:$C$13999, \"<=\" &toDateI, FLData!$S$2:$S$13999,$C180, FLData!$E$2:$E$13999, SingleEngineTypes, FLData!$F$2:$F$13999, \"Rental\" )) )*24","v":0},{"$f":"SUMPRODUCT( SUMIFS( FLData!$AH$2:$AH$13999, FLData!$C$2:$C$13999, \">=\"&fromDateI, FLData!$C$2:$C$13999, \"<=\" &toDateI, FLData!$J$2:$J$13999,$C180, FLData!$E$2:$E$13999, SingleEngineTypes, FLData!$F$2:$F$13999, \"Operation\" ))*24","v":0},{"$f":"( SUMPRODUCT( SUMIFS( FLData!$AH$2:$AH$13999, FLData!$C$2:$C$13999, \">=\"&fromDateI, FLData!$C$2:$C$13999, \"<=\" &toDateI, FLData!$M$2:$M$13999,$C180, FLData!$E$2:$E$13999, MultiEngineTypes, FLData!$F$2:$F$13999, \"Lesson\" )) + SUMPRODUCT( SUMIFS( FLData!$AH$2:$AH$13999, FLData!$C$2:$C$13999, \">=\"&fromDateI, FLData!$C$2:$C$13999, \"<=\" &toDateI, FLData!$S$2:$S$13999,$C180, FLData!$E$2:$E$13999, MultiEngineTypes, FLData!$F$2:$F$13999, \"Rental\" )) )*24","v":0},{"$f":"SUMPRODUCT( SUMIFS( FLData!$AH$2:$AH$13999, FLData!$C$2:$C$13999, \">=\"&fromDateI, FLData!$C$2:$C$13999, \"<=\" &toDateI, FLData!$J$2:$J$13999,$C180, FLData!$E$2:$E$13999, MultiEngineTypes, FLData!$F$2:$F$13999, \"Operation\" ))*24","v":0},{"$f":"( SUMPRODUCT( SUMIFS( FLData!$AH$2:$AH$13999, FLData!$C$2:$C$13999, \">=\"&fromDateI, FLData!$C$2:$C$13999, \"<=\" &toDateI, FLData!$M$2:$M$13999,$C180, FLData!$E$2:$E$13999, Sim1Types, FLData!$F$2:$F$13999, \"Lesson\" )) + SUMPRODUCT( SUMIFS( FLData!$AH$2:$AH$13999, FLData!$C$2:$C$13999, \">=\"&fromDateI, FLData!$C$2:$C$13999, \"<=\" &toDateI, FLData!$S$2:$S$13999,$C180, FLData!$E$2:$E$13999, Sim1Types, FLData!$F$2:$F$13999, \"Rental\" )) )*24","v":0},{"$f":"SUMPRODUCT( SUMIFS( FLData!$AH$2:$AH$13999, FLData!$C$2:$C$13999, \">=\"&fromDateI, FLData!$C$2:$C$13999, \"<=\" &toDateI, FLData!$J$2:$J$13999,$C180, FLData!$E$2:$E$13999, Sim1Types, FLData!$F$2:$F$13999, \"Operation\" ))*24","v":0},{"$f":"( SUMPRODUCT( SUMIFS( FLData!$AH$2:$AH$13999, FLData!$C$2:$C$13999, \">=\"&fromDateI, FLData!$C$2:$C$13999, \"<=\" &toDateI, FLData!$M$2:$M$13999,$C180, FLData!$E$2:$E$13999, Sim2Types, FLData!$F$2:$F$13999, \"Lesson\" )) + SUMPRODUCT( SUMIFS( FLData!$AH$2:$AH$13999, FLData!$C$2:$C$13999, \">=\"&fromDateI, FLData!$C$2:$C$13999, \"<=\" &toDateI, FLData!$S$2:$S$13999,$C180, FLData!$E$2:$E$13999, Sim2Types, FLData!$F$2:$F$13999, \"Rental\" )) )*24","v":0},{"$f":"SUMPRODUCT( SUMIFS( FLData!$AH$2:$AH$13999, FLData!$C$2:$C$13999, \">=\"&fromDateI, FLData!$C$2:$C$13999, \"<=\" &toDateI, FLData!$J$2:$J$13999,$C180, FLData!$E$2:$E$13999, Sim2Types, FLData!$F$2:$F$13999, \"Operation\" ))*24","v":0},0,0,0]
[null,null,"",{"$f":"( SUMPRODUCT( SUMIFS( FLData!$AH$2:$AH$13999, FLData!$C$2:$C$13999, \">=\"&fromDateI, FLData!$C$2:$C$13999, \"<=\" &toDateI, FLData!$M$2:$M$13999,$C181, FLData!$E$2:$E$13999, SingleEngineTypes, FLData!$F$2:$F$13999, \"Lesson\" )) + SUMPRODUCT( SUMIFS( FLData!$AH$2:$AH$13999, FLData!$C$2:$C$13999, \">=\"&fromDateI, FLData!$C$2:$C$13999, \"<=\" &toDateI, FLData!$S$2:$S$13999,$C181, FLData!$E$2:$E$13999, SingleEngineTypes, FLData!$F$2:$F$13999, \"Rental\" )) )*24","v":0},{"$f":"SUMPRODUCT( SUMIFS( FLData!$AH$2:$AH$13999, FLData!$C$2:$C$13999, \">=\"&fromDateI, FLData!$C$2:$C$13999, \"<=\" &toDateI, FLData!$J$2:$J$13999,$C181, FLData!$E$2:$E$13999, SingleEngineTypes, FLData!$F$2:$F$13999, \"Operation\" ))*24","v":0},{"$f":"( SUMPRODUCT( SUMIFS( FLData!$AH$2:$AH$13999, FLData!$C$2:$C$13999, \">=\"&fromDateI, FLData!$C$2:$C$13999, \"<=\" &toDateI, FLData!$M$2:$M$13999,$C181, FLData!$E$2:$E$13999, MultiEngineTypes, FLData!$F$2:$F$13999, \"Lesson\" )) + SUMPRODUCT( SUMIFS( FLData!$AH$2:$AH$13999, FLData!$C$2:$C$13999, \">=\"&fromDateI, FLData!$C$2:$C$13999, \"<=\" &toDateI, FLData!$S$2:$S$13999,$C181, FLData!$E$2:$E$13999, MultiEngineTypes, FLData!$F$2:$F$13999, \"Rental\" )) )*24","v":0},{"$f":"SUMPRODUCT( SUMIFS( FLData!$AH$2:$AH$13999, FLData!$C$2:$C$13999, \">=\"&fromDateI, FLData!$C$2:$C$13999, \"<=\" &toDateI, FLData!$J$2:$J$13999,$C181, FLData!$E$2:$E$13999, MultiEngineTypes, FLData!$F$2:$F$13999, \"Operation\" ))*24","v":0},{"$f":"( SUMPRODUCT( SUMIFS( FLData!$AH$2:$AH$13999, FLData!$C$2:$C$13999, \">=\"&fromDateI, FLData!$C$2:$C$13999, \"<=\" &toDateI, FLData!$M$2:$M$13999,$C181, FLData!$E$2:$E$13999, Sim1Types, FLData!$F$2:$F$13999, \"Lesson\" )) + SUMPRODUCT( SUMIFS( FLData!$AH$2:$AH$13999, FLData!$C$2:$C$13999, \">=\"&fromDateI, FLData!$C$2:$C$13999, \"<=\" &toDateI, FLData!$S$2:$S$13999,$C181, FLData!$E$2:$E$13999, Sim1Types, FLData!$F$2:$F$13999, \"Rental\" )) )*24","v":0},{"$f":"SUMPRODUCT( SUMIFS( FLData!$AH$2:$AH$13999, FLData!$C$2:$C$13999, \">=\"&fromDateI, FLData!$C$2:$C$13999, \"<=\" &toDateI, FLData!$J$2:$J$13999,$C181, FLData!$E$2:$E$13999, Sim1Types, FLData!$F$2:$F$13999, \"Operation\" ))*24","v":0},{"$f":"( SUMPRODUCT( SUMIFS( FLData!$AH$2:$AH$13999, FLData!$C$2:$C$13999, \">=\"&fromDateI, FLData!$C$2:$C$13999, \"<=\" &toDateI, FLData!$M$2:$M$13999,$C181, FLData!$E$2:$E$13999, Sim2Types, FLData!$F$2:$F$13999, \"Lesson\" )) + SUMPRODUCT( SUMIFS( FLData!$AH$2:$AH$13999, FLData!$C$2:$C$13999, \">=\"&fromDateI, FLData!$C$2:$C$13999, \"<=\" &toDateI, FLData!$S$2:$S$13999,$C181, FLData!$E$2:$E$13999, Sim2Types, FLData!$F$2:$F$13999, \"Rental\" )) )*24","v":0},{"$f":"SUMPRODUCT( SUMIFS( FLData!$AH$2:$AH$13999, FLData!$C$2:$C$13999, \">=\"&fromDateI, FLData!$C$2:$C$13999, \"<=\" &toDateI, FLData!$J$2:$J$13999,$C181, FLData!$E$2:$E$13999, Sim2Types, FLData!$F$2:$F$13999, \"Operation\" ))*24","v":0},0,0,0]
[null,null,"",{"$f":"( SUMPRODUCT( SUMIFS( FLData!$AH$2:$AH$13999, FLData!$C$2:$C$13999, \">=\"&fromDateI, FLData!$C$2:$C$13999, \"<=\" &toDateI, FLData!$M$2:$M$13999,$C182, FLData!$E$2:$E$13999, SingleEngineTypes, FLData!$F$2:$F$13999, \"Lesson\" )) + SUMPRODUCT( SUMIFS( FLData!$AH$2:$AH$13999, FLData!$C$2:$C$13999, \">=\"&fromDateI, FLData!$C$2:$C$13999, \"<=\" &toDateI, FLData!$S$2:$S$13999,$C182, FLData!$E$2:$E$13999, SingleEngineTypes, FLData!$F$2:$F$13999, \"Rental\" )) )*24","v":0},{"$f":"SUMPRODUCT( SUMIFS( FLData!$AH$2:$AH$13999, FLData!$C$2:$C$13999, \">=\"&fromDateI, FLData!$C$2:$C$13999, \"<=\" &toDateI, FLData!$J$2:$J$13999,$C182, FLData!$E$2:$E$13999, SingleEngineTypes, FLData!$F$2:$F$13999, \"Operation\" ))*24","v":0},{"$f":"( SUMPRODUCT( SUMIFS( FLData!$AH$2:$AH$13999, FLData!$C$2:$C$13999, \">=\"&fromDateI, FLData!$C$2:$C$13999, \"<=\" &toDateI, FLData!$M$2:$M$13999,$C182, FLData!$E$2:$E$13999, MultiEngineTypes, FLData!$F$2:$F$13999, \"Lesson\" )) + SUMPRODUCT( SUMIFS( FLData!$AH$2:$AH$13999, FLData!$C$2:$C$13999, \">=\"&fromDateI, FLData!$C$2:$C$13999, \"<=\" &toDateI, FLData!$S$2:$S$13999,$C182, FLData!$E$2:$E$13999, MultiEngineTypes, FLData!$F$2:$F$13999, \"Rental\" )) )*24","v":0},{"$f":"SUMPRODUCT( SUMIFS( FLData!$AH$2:$AH$13999, FLData!$C$2:$C$13999, \">=\"&fromDateI, FLData!$C$2:$C$13999, \"<=\" &toDateI, FLData!$J$2:$J$13999,$C182, FLData!$E$2:$E$13999, MultiEngineTypes, FLData!$F$2:$F$13999, \"Operation\" ))*24","v":0},{"$f":"( SUMPRODUCT( SUMIFS( FLData!$AH$2:$AH$13999, FLData!$C$2:$C$13999, \">=\"&fromDateI, FLData!$C$2:$C$13999, \"<=\" &toDateI, FLData!$M$2:$M$13999,$C182, FLData!$E$2:$E$13999, Sim1Types, FLData!$F$2:$F$13999, \"Lesson\" )) + SUMPRODUCT( SUMIFS( FLData!$AH$2:$AH$13999, FLData!$C$2:$C$13999, \">=\"&fromDateI, FLData!$C$2:$C$13999, \"<=\" &toDateI, FLData!$S$2:$S$13999,$C182, FLData!$E$2:$E$13999, Sim1Types, FLData!$F$2:$F$13999, \"Rental\" )) )*24","v":0},{"$f":"SUMPRODUCT( SUMIFS( FLData!$AH$2:$AH$13999, FLData!$C$2:$C$13999, \">=\"&fromDateI, FLData!$C$2:$C$13999, \"<=\" &toDateI, FLData!$J$2:$J$13999,$C182, FLData!$E$2:$E$13999, Sim1Types, FLData!$F$2:$F$13999, \"Operation\" ))*24","v":0},{"$f":"( SUMPRODUCT( SUMIFS( FLData!$AH$2:$AH$13999, FLData!$C$2:$C$13999, \">=\"&fromDateI, FLData!$C$2:$C$13999, \"<=\" &toDateI, FLData!$M$2:$M$13999,$C182, FLData!$E$2:$E$13999, Sim2Types, FLData!$F$2:$F$13999, \"Lesson\" )) + SUMPRODUCT( SUMIFS( FLData!$AH$2:$AH$13999, FLData!$C$2:$C$13999, \">=\"&fromDateI, FLData!$C$2:$C$13999, \"<=\" &toDateI, FLData!$S$2:$S$13999,$C182, FLData!$E$2:$E$13999, Sim2Types, FLData!$F$2:$F$13999, \"Rental\" )) )*24","v":0},{"$f":"SUMPRODUCT( SUMIFS( FLData!$AH$2:$AH$13999, FLData!$C$2:$C$13999, \">=\"&fromDateI, FLData!$C$2:$C$13999, \"<=\" &toDateI, FLData!$J$2:$J$13999,$C182, FLData!$E$2:$E$13999, Sim2Types, FLData!$F$2:$F$13999, \"Operation\" ))*24","v":0},0,0,0]
[null,null,"",{"$f":"( SUMPRODUCT( SUMIFS( FLData!$AH$2:$AH$13999, FLData!$C$2:$C$13999, \">=\"&fromDateI, FLData!$C$2:$C$13999, \"<=\" &toDateI, FLData!$M$2:$M$13999,$C183, FLData!$E$2:$E$13999, SingleEngineTypes, FLData!$F$2:$F$13999, \"Lesson\" )) + SUMPRODUCT( SUMIFS( FLData!$AH$2:$AH$13999, FLData!$C$2:$C$13999, \">=\"&fromDateI, FLData!$C$2:$C$13999, \"<=\" &toDateI, FLData!$S$2:$S$13999,$C183, FLData!$E$2:$E$13999, SingleEngineTypes, FLData!$F$2:$F$13999, \"Rental\" )) )*24","v":0},{"$f":"SUMPRODUCT( SUMIFS( FLData!$AH$2:$AH$13999, FLData!$C$2:$C$13999, \">=\"&fromDateI, FLData!$C$2:$C$13999, \"<=\" &toDateI, FLData!$J$2:$J$13999,$C183, FLData!$E$2:$E$13999, SingleEngineTypes, FLData!$F$2:$F$13999, \"Operation\" ))*24","v":0},{"$f":"( SUMPRODUCT( SUMIFS( FLData!$AH$2:$AH$13999, FLData!$C$2:$C$13999, \">=\"&fromDateI, FLData!$C$2:$C$13999, \"<=\" &toDateI, FLData!$M$2:$M$13999,$C183, FLData!$E$2:$E$13999, MultiEngineTypes, FLData!$F$2:$F$13999, \"Lesson\" )) + SUMPRODUCT( SUMIFS( FLData!$AH$2:$AH$13999, FLData!$C$2:$C$13999, \">=\"&fromDateI, FLData!$C$2:$C$13999, \"<=\" &toDateI, FLData!$S$2:$S$13999,$C183, FLData!$E$2:$E$13999, MultiEngineTypes, FLData!$F$2:$F$13999, \"Rental\" )) )*24","v":0},{"$f":"SUMPRODUCT( SUMIFS( FLData!$AH$2:$AH$13999, FLData!$C$2:$C$13999, \">=\"&fromDateI, FLData!$C$2:$C$13999, \"<=\" &toDateI, FLData!$J$2:$J$13999,$C183, FLData!$E$2:$E$13999, MultiEngineTypes, FLData!$F$2:$F$13999, \"Operation\" ))*24","v":0},{"$f":"( SUMPRODUCT( SUMIFS( FLData!$AH$2:$AH$13999, FLData!$C$2:$C$13999, \">=\"&fromDateI, FLData!$C$2:$C$13999, \"<=\" &toDateI, FLData!$M$2:$M$13999,$C183, FLData!$E$2:$E$13999, Sim1Types, FLData!$F$2:$F$13999, \"Lesson\" )) + SUMPRODUCT( SUMIFS( FLData!$AH$2:$AH$13999, FLData!$C$2:$C$13999, \">=\"&fromDateI, FLData!$C$2:$C$13999, \"<=\" &toDateI, FLData!$S$2:$S$13999,$C183, FLData!$E$2:$E$13999, Sim1Types, FLData!$F$2:$F$13999, \"Rental\" )) )*24","v":0},{"$f":"SUMPRODUCT( SUMIFS( FLData!$AH$2:$AH$13999, FLData!$C$2:$C$13999, \">=\"&fromDateI, FLData!$C$2:$C$13999, \"<=\" &toDateI, FLData!$J$2:$J$13999,$C183, FLData!$E$2:$E$13999, Sim1Types, FLData!$F$2:$F$13999, \"Operation\" ))*24","v":0},{"$f":"( SUMPRODUCT( SUMIFS( FLData!$AH$2:$AH$13999, FLData!$C$2:$C$13999, \">=\"&fromDateI, FLData!$C$2:$C$13999, \"<=\" &toDateI, FLData!$M$2:$M$13999,$C183, FLData!$E$2:$E$13999, Sim2Types, FLData!$F$2:$F$13999, \"Lesson\" )) + SUMPRODUCT( SUMIFS( FLData!$AH$2:$AH$13999, FLData!$C$2:$C$13999, \">=\"&fromDateI, FLData!$C$2:$C$13999, \"<=\" &toDateI, FLData!$S$2:$S$13999,$C183, FLData!$E$2:$E$13999, Sim2Types, FLData!$F$2:$F$13999, \"Rental\" )) )*24","v":0},{"$f":"SUMPRODUCT( SUMIFS( FLData!$AH$2:$AH$13999, FLData!$C$2:$C$13999, \">=\"&fromDateI, FLData!$C$2:$C$13999, \"<=\" &toDateI, FLData!$J$2:$J$13999,$C183, FLData!$E$2:$E$13999, Sim2Types, FLData!$F$2:$F$13999, \"Operation\" ))*24","v":0},0,0,0]
[null,null,"",{"$f":"( SUMPRODUCT( SUMIFS( FLData!$AH$2:$AH$13999, FLData!$C$2:$C$13999, \">=\"&fromDateI, FLData!$C$2:$C$13999, \"<=\" &toDateI, FLData!$M$2:$M$13999,$C184, FLData!$E$2:$E$13999, SingleEngineTypes, FLData!$F$2:$F$13999, \"Lesson\" )) + SUMPRODUCT( SUMIFS( FLData!$AH$2:$AH$13999, FLData!$C$2:$C$13999, \">=\"&fromDateI, FLData!$C$2:$C$13999, \"<=\" &toDateI, FLData!$S$2:$S$13999,$C184, FLData!$E$2:$E$13999, SingleEngineTypes, FLData!$F$2:$F$13999, \"Rental\" )) )*24","v":0},{"$f":"SUMPRODUCT( SUMIFS( FLData!$AH$2:$AH$13999, FLData!$C$2:$C$13999, \">=\"&fromDateI, FLData!$C$2:$C$13999, \"<=\" &toDateI, FLData!$J$2:$J$13999,$C184, FLData!$E$2:$E$13999, SingleEngineTypes, FLData!$F$2:$F$13999, \"Operation\" ))*24","v":0},{"$f":"( SUMPRODUCT( SUMIFS( FLData!$AH$2:$AH$13999, FLData!$C$2:$C$13999, \">=\"&fromDateI, FLData!$C$2:$C$13999, \"<=\" &toDateI, FLData!$M$2:$M$13999,$C184, FLData!$E$2:$E$13999, MultiEngineTypes, FLData!$F$2:$F$13999, \"Lesson\" )) + SUMPRODUCT( SUMIFS( FLData!$AH$2:$AH$13999, FLData!$C$2:$C$13999, \">=\"&fromDateI, FLData!$C$2:$C$13999, \"<=\" &toDateI, FLData!$S$2:$S$13999,$C184, FLData!$E$2:$E$13999, MultiEngineTypes, FLData!$F$2:$F$13999, \"Rental\" )) )*24","v":0},{"$f":"SUMPRODUCT( SUMIFS( FLData!$AH$2:$AH$13999, FLData!$C$2:$C$13999, \">=\"&fromDateI, FLData!$C$2:$C$13999, \"<=\" &toDateI, FLData!$J$2:$J$13999,$C184, FLData!$E$2:$E$13999, MultiEngineTypes, FLData!$F$2:$F$13999, \"Operation\" ))*24","v":0},{"$f":"( SUMPRODUCT( SUMIFS( FLData!$AH$2:$AH$13999, FLData!$C$2:$C$13999, \">=\"&fromDateI, FLData!$C$2:$C$13999, \"<=\" &toDateI, FLData!$M$2:$M$13999,$C184, FLData!$E$2:$E$13999, Sim1Types, FLData!$F$2:$F$13999, \"Lesson\" )) + SUMPRODUCT( SUMIFS( FLData!$AH$2:$AH$13999, FLData!$C$2:$C$13999, \">=\"&fromDateI, FLData!$C$2:$C$13999, \"<=\" &toDateI, FLData!$S$2:$S$13999,$C184, FLData!$E$2:$E$13999, Sim1Types, FLData!$F$2:$F$13999, \"Rental\" )) )*24","v":0},{"$f":"SUMPRODUCT( SUMIFS( FLData!$AH$2:$AH$13999, FLData!$C$2:$C$13999, \">=\"&fromDateI, FLData!$C$2:$C$13999, \"<=\" &toDateI, FLData!$J$2:$J$13999,$C184, FLData!$E$2:$E$13999, Sim1Types, FLData!$F$2:$F$13999, \"Operation\" ))*24","v":0},{"$f":"( SUMPRODUCT( SUMIFS( FLData!$AH$2:$AH$13999, FLData!$C$2:$C$13999, \">=\"&fromDateI, FLData!$C$2:$C$13999, \"<=\" &toDateI, FLData!$M$2:$M$13999,$C184, FLData!$E$2:$E$13999, Sim2Types, FLData!$F$2:$F$13999, \"Lesson\" )) + SUMPRODUCT( SUMIFS( FLData!$AH$2:$AH$13999, FLData!$C$2:$C$13999, \">=\"&fromDateI, FLData!$C$2:$C$13999, \"<=\" &toDateI, FLData!$S$2:$S$13999,$C184, FLData!$E$2:$E$13999, Sim2Types, FLData!$F$2:$F$13999, \"Rental\" )) )*24","v":0},{"$f":"SUMPRODUCT( SUMIFS( FLData!$AH$2:$AH$13999, FLData!$C$2:$C$13999, \">=\"&fromDateI, FLData!$C$2:$C$13999, \"<=\" &toDateI, FLData!$J$2:$J$13999,$C184, FLData!$E$2:$E$13999, Sim2Types, FLData!$F$2:$F$13999, \"Operation\" ))*24","v":0},0,0,0]
[null,null,"",{"$f":"( SUMPRODUCT( SUMIFS( FLData!$AH$2:$AH$13999, FLData!$C$2:$C$13999, \">=\"&fromDateI, FLData!$C$2:$C$13999, \"<=\" &toDateI, FLData!$M$2:$M$13999,$C185, FLData!$E$2:$E$13999, SingleEngineTypes, FLData!$F$2:$F$13999, \"Lesson\" )) + SUMPRODUCT( SUMIFS( FLData!$AH$2:$AH$13999, FLData!$C$2:$C$13999, \">=\"&fromDateI, FLData!$C$2:$C$13999, \"<=\" &toDateI, FLData!$S$2:$S$13999,$C185, FLData!$E$2:$E$13999, SingleEngineTypes, FLData!$F$2:$F$13999, \"Rental\" )) )*24","v":0},{"$f":"SUMPRODUCT( SUMIFS( FLData!$AH$2:$AH$13999, FLData!$C$2:$C$13999, \">=\"&fromDateI, FLData!$C$2:$C$13999, \"<=\" &toDateI, FLData!$J$2:$J$13999,$C185, FLData!$E$2:$E$13999, SingleEngineTypes, FLData!$F$2:$F$13999, \"Operation\" ))*24","v":0},{"$f":"( SUMPRODUCT( SUMIFS( FLData!$AH$2:$AH$13999, FLData!$C$2:$C$13999, \">=\"&fromDateI, FLData!$C$2:$C$13999, \"<=\" &toDateI, FLData!$M$2:$M$13999,$C185, FLData!$E$2:$E$13999, MultiEngineTypes, FLData!$F$2:$F$13999, \"Lesson\" )) + SUMPRODUCT( SUMIFS( FLData!$AH$2:$AH$13999, FLData!$C$2:$C$13999, \">=\"&fromDateI, FLData!$C$2:$C$13999, \"<=\" &toDateI, FLData!$S$2:$S$13999,$C185, FLData!$E$2:$E$13999, MultiEngineTypes, FLData!$F$2:$F$13999, \"Rental\" )) )*24","v":0},{"$f":"SUMPRODUCT( SUMIFS( FLData!$AH$2:$AH$13999, FLData!$C$2:$C$13999, \">=\"&fromDateI, FLData!$C$2:$C$13999, \"<=\" &toDateI, FLData!$J$2:$J$13999,$C185, FLData!$E$2:$E$13999, MultiEngineTypes, FLData!$F$2:$F$13999, \"Operation\" ))*24","v":0},{"$f":"( SUMPRODUCT( SUMIFS( FLData!$AH$2:$AH$13999, FLData!$C$2:$C$13999, \">=\"&fromDateI, FLData!$C$2:$C$13999, \"<=\" &toDateI, FLData!$M$2:$M$13999,$C185, FLData!$E$2:$E$13999, Sim1Types, FLData!$F$2:$F$13999, \"Lesson\" )) + SUMPRODUCT( SUMIFS( FLData!$AH$2:$AH$13999, FLData!$C$2:$C$13999, \">=\"&fromDateI, FLData!$C$2:$C$13999, \"<=\" &toDateI, FLData!$S$2:$S$13999,$C185, FLData!$E$2:$E$13999, Sim1Types, FLData!$F$2:$F$13999, \"Rental\" )) )*24","v":0},{"$f":"SUMPRODUCT( SUMIFS( FLData!$AH$2:$AH$13999, FLData!$C$2:$C$13999, \">=\"&fromDateI, FLData!$C$2:$C$13999, \"<=\" &toDateI, FLData!$J$2:$J$13999,$C185, FLData!$E$2:$E$13999, Sim1Types, FLData!$F$2:$F$13999, \"Operation\" ))*24","v":0},{"$f":"( SUMPRODUCT( SUMIFS( FLData!$AH$2:$AH$13999, FLData!$C$2:$C$13999, \">=\"&fromDateI, FLData!$C$2:$C$13999, \"<=\" &toDateI, FLData!$M$2:$M$13999,$C185, FLData!$E$2:$E$13999, Sim2Types, FLData!$F$2:$F$13999, \"Lesson\" )) + SUMPRODUCT( SUMIFS( FLData!$AH$2:$AH$13999, FLData!$C$2:$C$13999, \">=\"&fromDateI, FLData!$C$2:$C$13999, \"<=\" &toDateI, FLData!$S$2:$S$13999,$C185, FLData!$E$2:$E$13999, Sim2Types, FLData!$F$2:$F$13999, \"Rental\" )) )*24","v":0},{"$f":"SUMPRODUCT( SUMIFS( FLData!$AH$2:$AH$13999, FLData!$C$2:$C$13999, \">=\"&fromDateI, FLData!$C$2:$C$13999, \"<=\" &toDateI, FLData!$J$2:$J$13999,$C185, FLData!$E$2:$E$13999, Sim2Types, FLData!$F$2:$F$13999, \"Operation\" ))*24","v":0},0,0,0]
[null,null,"",{"$f":"( SUMPRODUCT( SUMIFS( FLData!$AH$2:$AH$13999, FLData!$C$2:$C$13999, \">=\"&fromDateI, FLData!$C$2:$C$13999, \"<=\" &toDateI, FLData!$M$2:$M$13999,$C186, FLData!$E$2:$E$13999, SingleEngineTypes, FLData!$F$2:$F$13999, \"Lesson\" )) + SUMPRODUCT( SUMIFS( FLData!$AH$2:$AH$13999, FLData!$C$2:$C$13999, \">=\"&fromDateI, FLData!$C$2:$C$13999, \"<=\" &toDateI, FLData!$S$2:$S$13999,$C186, FLData!$E$2:$E$13999, SingleEngineTypes, FLData!$F$2:$F$13999, \"Rental\" )) )*24","v":0},{"$f":"SUMPRODUCT( SUMIFS( FLData!$AH$2:$AH$13999, FLData!$C$2:$C$13999, \">=\"&fromDateI, FLData!$C$2:$C$13999, \"<=\" &toDateI, FLData!$J$2:$J$13999,$C186, FLData!$E$2:$E$13999, SingleEngineTypes, FLData!$F$2:$F$13999, \"Operation\" ))*24","v":0},{"$f":"( SUMPRODUCT( SUMIFS( FLData!$AH$2:$AH$13999, FLData!$C$2:$C$13999, \">=\"&fromDateI, FLData!$C$2:$C$13999, \"<=\" &toDateI, FLData!$M$2:$M$13999,$C186, FLData!$E$2:$E$13999, MultiEngineTypes, FLData!$F$2:$F$13999, \"Lesson\" )) + SUMPRODUCT( SUMIFS( FLData!$AH$2:$AH$13999, FLData!$C$2:$C$13999, \">=\"&fromDateI, FLData!$C$2:$C$13999, \"<=\" &toDateI, FLData!$S$2:$S$13999,$C186, FLData!$E$2:$E$13999, MultiEngineTypes, FLData!$F$2:$F$13999, \"Rental\" )) )*24","v":0},{"$f":"SUMPRODUCT( SUMIFS( FLData!$AH$2:$AH$13999, FLData!$C$2:$C$13999, \">=\"&fromDateI, FLData!$C$2:$C$13999, \"<=\" &toDateI, FLData!$J$2:$J$13999,$C186, FLData!$E$2:$E$13999, MultiEngineTypes, FLData!$F$2:$F$13999, \"Operation\" ))*24","v":0},{"$f":"( SUMPRODUCT( SUMIFS( FLData!$AH$2:$AH$13999, FLData!$C$2:$C$13999, \">=\"&fromDateI, FLData!$C$2:$C$13999, \"<=\" &toDateI, FLData!$M$2:$M$13999,$C186, FLData!$E$2:$E$13999, Sim1Types, FLData!$F$2:$F$13999, \"Lesson\" )) + SUMPRODUCT( SUMIFS( FLData!$AH$2:$AH$13999, FLData!$C$2:$C$13999, \">=\"&fromDateI, FLData!$C$2:$C$13999, \"<=\" &toDateI, FLData!$S$2:$S$13999,$C186, FLData!$E$2:$E$13999, Sim1Types, FLData!$F$2:$F$13999, \"Rental\" )) )*24","v":0},{"$f":"SUMPRODUCT( SUMIFS( FLData!$AH$2:$AH$13999, FLData!$C$2:$C$13999, \">=\"&fromDateI, FLData!$C$2:$C$13999, \"<=\" &toDateI, FLData!$J$2:$J$13999,$C186, FLData!$E$2:$E$13999, Sim1Types, FLData!$F$2:$F$13999, \"Operation\" ))*24","v":0},{"$f":"( SUMPRODUCT( SUMIFS( FLData!$AH$2:$AH$13999, FLData!$C$2:$C$13999, \">=\"&fromDateI, FLData!$C$2:$C$13999, \"<=\" &toDateI, FLData!$M$2:$M$13999,$C186, FLData!$E$2:$E$13999, Sim2Types, FLData!$F$2:$F$13999, \"Lesson\" )) + SUMPRODUCT( SUMIFS( FLData!$AH$2:$AH$13999, FLData!$C$2:$C$13999, \">=\"&fromDateI, FLData!$C$2:$C$13999, \"<=\" &toDateI, FLData!$S$2:$S$13999,$C186, FLData!$E$2:$E$13999, Sim2Types, FLData!$F$2:$F$13999, \"Rental\" )) )*24","v":0},{"$f":"SUMPRODUCT( SUMIFS( FLData!$AH$2:$AH$13999, FLData!$C$2:$C$13999, \">=\"&fromDateI, FLData!$C$2:$C$13999, \"<=\" &toDateI, FLData!$J$2:$J$13999,$C186, FLData!$E$2:$E$13999, Sim2Types, FLData!$F$2:$F$13999, \"Operation\" ))*24","v":0},0,0,0]
[null,null,"",{"$f":"( SUMPRODUCT( SUMIFS( FLData!$AH$2:$AH$13999, FLData!$C$2:$C$13999, \">=\"&fromDateI, FLData!$C$2:$C$13999, \"<=\" &toDateI, FLData!$M$2:$M$13999,$C187, FLData!$E$2:$E$13999, SingleEngineTypes, FLData!$F$2:$F$13999, \"Lesson\" )) + SUMPRODUCT( SUMIFS( FLData!$AH$2:$AH$13999, FLData!$C$2:$C$13999, \">=\"&fromDateI, FLData!$C$2:$C$13999, \"<=\" &toDateI, FLData!$S$2:$S$13999,$C187, FLData!$E$2:$E$13999, SingleEngineTypes, FLData!$F$2:$F$13999, \"Rental\" )) )*24","v":0},{"$f":"SUMPRODUCT( SUMIFS( FLData!$AH$2:$AH$13999, FLData!$C$2:$C$13999, \">=\"&fromDateI, FLData!$C$2:$C$13999, \"<=\" &toDateI, FLData!$J$2:$J$13999,$C187, FLData!$E$2:$E$13999, SingleEngineTypes, FLData!$F$2:$F$13999, \"Operation\" ))*24","v":0},{"$f":"( SUMPRODUCT( SUMIFS( FLData!$AH$2:$AH$13999, FLData!$C$2:$C$13999, \">=\"&fromDateI, FLData!$C$2:$C$13999, \"<=\" &toDateI, FLData!$M$2:$M$13999,$C187, FLData!$E$2:$E$13999, MultiEngineTypes, FLData!$F$2:$F$13999, \"Lesson\" )) + SUMPRODUCT( SUMIFS( FLData!$AH$2:$AH$13999, FLData!$C$2:$C$13999, \">=\"&fromDateI, FLData!$C$2:$C$13999, \"<=\" &toDateI, FLData!$S$2:$S$13999,$C187, FLData!$E$2:$E$13999, MultiEngineTypes, FLData!$F$2:$F$13999, \"Rental\" )) )*24","v":0},{"$f":"SUMPRODUCT( SUMIFS( FLData!$AH$2:$AH$13999, FLData!$C$2:$C$13999, \">=\"&fromDateI, FLData!$C$2:$C$13999, \"<=\" &toDateI, FLData!$J$2:$J$13999,$C187, FLData!$E$2:$E$13999, MultiEngineTypes, FLData!$F$2:$F$13999, \"Operation\" ))*24","v":0},{"$f":"( SUMPRODUCT( SUMIFS( FLData!$AH$2:$AH$13999, FLData!$C$2:$C$13999, \">=\"&fromDateI, FLData!$C$2:$C$13999, \"<=\" &toDateI, FLData!$M$2:$M$13999,$C187, FLData!$E$2:$E$13999, Sim1Types, FLData!$F$2:$F$13999, \"Lesson\" )) + SUMPRODUCT( SUMIFS( FLData!$AH$2:$AH$13999, FLData!$C$2:$C$13999, \">=\"&fromDateI, FLData!$C$2:$C$13999, \"<=\" &toDateI, FLData!$S$2:$S$13999,$C187, FLData!$E$2:$E$13999, Sim1Types, FLData!$F$2:$F$13999, \"Rental\" )) )*24","v":0},{"$f":"SUMPRODUCT( SUMIFS( FLData!$AH$2:$AH$13999, FLData!$C$2:$C$13999, \">=\"&fromDateI, FLData!$C$2:$C$13999, \"<=\" &toDateI, FLData!$J$2:$J$13999,$C187, FLData!$E$2:$E$13999, Sim1Types, FLData!$F$2:$F$13999, \"Operation\" ))*24","v":0},{"$f":"( SUMPRODUCT( SUMIFS( FLData!$AH$2:$AH$13999, FLData!$C$2:$C$13999, \">=\"&fromDateI, FLData!$C$2:$C$13999, \"<=\" &toDateI, FLData!$M$2:$M$13999,$C187, FLData!$E$2:$E$13999, Sim2Types, FLData!$F$2:$F$13999, \"Lesson\" )) + SUMPRODUCT( SUMIFS( FLData!$AH$2:$AH$13999, FLData!$C$2:$C$13999, \">=\"&fromDateI, FLData!$C$2:$C$13999, \"<=\" &toDateI, FLData!$S$2:$S$13999,$C187, FLData!$E$2:$E$13999, Sim2Types, FLData!$F$2:$F$13999, \"Rental\" )) )*24","v":0},{"$f":"SUMPRODUCT( SUMIFS( FLData!$AH$2:$AH$13999, FLData!$C$2:$C$13999, \">=\"&fromDateI, FLData!$C$2:$C$13999, \"<=\" &toDateI, FLData!$J$2:$J$13999,$C187, FLData!$E$2:$E$13999, Sim2Types, FLData!$F$2:$F$13999, \"Operation\" ))*24","v":0},0,0,0]
[null,null,"",{"$f":"( SUMPRODUCT( SUMIFS( FLData!$AH$2:$AH$13999, FLData!$C$2:$C$13999, \">=\"&fromDateI, FLData!$C$2:$C$13999, \"<=\" &toDateI, FLData!$M$2:$M$13999,$C188, FLData!$E$2:$E$13999, SingleEngineTypes, FLData!$F$2:$F$13999, \"Lesson\" )) + SUMPRODUCT( SUMIFS( FLData!$AH$2:$AH$13999, FLData!$C$2:$C$13999, \">=\"&fromDateI, FLData!$C$2:$C$13999, \"<=\" &toDateI, FLData!$S$2:$S$13999,$C188, FLData!$E$2:$E$13999, SingleEngineTypes, FLData!$F$2:$F$13999, \"Rental\" )) )*24","v":0},{"$f":"SUMPRODUCT( SUMIFS( FLData!$AH$2:$AH$13999, FLData!$C$2:$C$13999, \">=\"&fromDateI, FLData!$C$2:$C$13999, \"<=\" &toDateI, FLData!$J$2:$J$13999,$C188, FLData!$E$2:$E$13999, SingleEngineTypes, FLData!$F$2:$F$13999, \"Operation\" ))*24","v":0},{"$f":"( SUMPRODUCT( SUMIFS( FLData!$AH$2:$AH$13999, FLData!$C$2:$C$13999, \">=\"&fromDateI, FLData!$C$2:$C$13999, \"<=\" &toDateI, FLData!$M$2:$M$13999,$C188, FLData!$E$2:$E$13999, MultiEngineTypes, FLData!$F$2:$F$13999, \"Lesson\" )) + SUMPRODUCT( SUMIFS( FLData!$AH$2:$AH$13999, FLData!$C$2:$C$13999, \">=\"&fromDateI, FLData!$C$2:$C$13999, \"<=\" &toDateI, FLData!$S$2:$S$13999,$C188, FLData!$E$2:$E$13999, MultiEngineTypes, FLData!$F$2:$F$13999, \"Rental\" )) )*24","v":0},{"$f":"SUMPRODUCT( SUMIFS( FLData!$AH$2:$AH$13999, FLData!$C$2:$C$13999, \">=\"&fromDateI, FLData!$C$2:$C$13999, \"<=\" &toDateI, FLData!$J$2:$J$13999,$C188, FLData!$E$2:$E$13999, MultiEngineTypes, FLData!$F$2:$F$13999, \"Operation\" ))*24","v":0},{"$f":"( SUMPRODUCT( SUMIFS( FLData!$AH$2:$AH$13999, FLData!$C$2:$C$13999, \">=\"&fromDateI, FLData!$C$2:$C$13999, \"<=\" &toDateI, FLData!$M$2:$M$13999,$C188, FLData!$E$2:$E$13999, Sim1Types, FLData!$F$2:$F$13999, \"Lesson\" )) + SUMPRODUCT( SUMIFS( FLData!$AH$2:$AH$13999, FLData!$C$2:$C$13999, \">=\"&fromDateI, FLData!$C$2:$C$13999, \"<=\" &toDateI, FLData!$S$2:$S$13999,$C188, FLData!$E$2:$E$13999, Sim1Types, FLData!$F$2:$F$13999, \"Rental\" )) )*24","v":0},{"$f":"SUMPRODUCT( SUMIFS( FLData!$AH$2:$AH$13999, FLData!$C$2:$C$13999, \">=\"&fromDateI, FLData!$C$2:$C$13999, \"<=\" &toDateI, FLData!$J$2:$J$13999,$C188, FLData!$E$2:$E$13999, Sim1Types, FLData!$F$2:$F$13999, \"Operation\" ))*24","v":0},{"$f":"( SUMPRODUCT( SUMIFS( FLData!$AH$2:$AH$13999, FLData!$C$2:$C$13999, \">=\"&fromDateI, FLData!$C$2:$C$13999, \"<=\" &toDateI, FLData!$M$2:$M$13999,$C188, FLData!$E$2:$E$13999, Sim2Types, FLData!$F$2:$F$13999, \"Lesson\" )) + SUMPRODUCT( SUMIFS( FLData!$AH$2:$AH$13999, FLData!$C$2:$C$13999, \">=\"&fromDateI, FLData!$C$2:$C$13999, \"<=\" &toDateI, FLData!$S$2:$S$13999,$C188, FLData!$E$2:$E$13999, Sim2Types, FLData!$F$2:$F$13999, \"Rental\" )) )*24","v":0},{"$f":"SUMPRODUCT( SUMIFS( FLData!$AH$2:$AH$13999, FLData!$C$2:$C$13999, \">=\"&fromDateI, FLData!$C$2:$C$13999, \"<=\" &toDateI, FLData!$J$2:$J$13999,$C188, FLData!$E$2:$E$13999, Sim2Types, FLData!$F$2:$F$13999, \"Operation\" ))*24","v":0},0,0,0]
[null,null,"",{"$f":"( SUMPRODUCT( SUMIFS( FLData!$AH$2:$AH$13999, FLData!$C$2:$C$13999, \">=\"&fromDateI, FLData!$C$2:$C$13999, \"<=\" &toDateI, FLData!$M$2:$M$13999,$C189, FLData!$E$2:$E$13999, SingleEngineTypes, FLData!$F$2:$F$13999, \"Lesson\" )) + SUMPRODUCT( SUMIFS( FLData!$AH$2:$AH$13999, FLData!$C$2:$C$13999, \">=\"&fromDateI, FLData!$C$2:$C$13999, \"<=\" &toDateI, FLData!$S$2:$S$13999,$C189, FLData!$E$2:$E$13999, SingleEngineTypes, FLData!$F$2:$F$13999, \"Rental\" )) )*24","v":0},{"$f":"SUMPRODUCT( SUMIFS( FLData!$AH$2:$AH$13999, FLData!$C$2:$C$13999, \">=\"&fromDateI, FLData!$C$2:$C$13999, \"<=\" &toDateI, FLData!$J$2:$J$13999,$C189, FLData!$E$2:$E$13999, SingleEngineTypes, FLData!$F$2:$F$13999, \"Operation\" ))*24","v":0},{"$f":"( SUMPRODUCT( SUMIFS( FLData!$AH$2:$AH$13999, FLData!$C$2:$C$13999, \">=\"&fromDateI, FLData!$C$2:$C$13999, \"<=\" &toDateI, FLData!$M$2:$M$13999,$C189, FLData!$E$2:$E$13999, MultiEngineTypes, FLData!$F$2:$F$13999, \"Lesson\" )) + SUMPRODUCT( SUMIFS( FLData!$AH$2:$AH$13999, FLData!$C$2:$C$13999, \">=\"&fromDateI, FLData!$C$2:$C$13999, \"<=\" &toDateI, FLData!$S$2:$S$13999,$C189, FLData!$E$2:$E$13999, MultiEngineTypes, FLData!$F$2:$F$13999, \"Rental\" )) )*24","v":0},{"$f":"SUMPRODUCT( SUMIFS( FLData!$AH$2:$AH$13999, FLData!$C$2:$C$13999, \">=\"&fromDateI, FLData!$C$2:$C$13999, \"<=\" &toDateI, FLData!$J$2:$J$13999,$C189, FLData!$E$2:$E$13999, MultiEngineTypes, FLData!$F$2:$F$13999, \"Operation\" ))*24","v":0},{"$f":"( SUMPRODUCT( SUMIFS( FLData!$AH$2:$AH$13999, FLData!$C$2:$C$13999, \">=\"&fromDateI, FLData!$C$2:$C$13999, \"<=\" &toDateI, FLData!$M$2:$M$13999,$C189, FLData!$E$2:$E$13999, Sim1Types, FLData!$F$2:$F$13999, \"Lesson\" )) + SUMPRODUCT( SUMIFS( FLData!$AH$2:$AH$13999, FLData!$C$2:$C$13999, \">=\"&fromDateI, FLData!$C$2:$C$13999, \"<=\" &toDateI, FLData!$S$2:$S$13999,$C189, FLData!$E$2:$E$13999, Sim1Types, FLData!$F$2:$F$13999, \"Rental\" )) )*24","v":0},{"$f":"SUMPRODUCT( SUMIFS( FLData!$AH$2:$AH$13999, FLData!$C$2:$C$13999, \">=\"&fromDateI, FLData!$C$2:$C$13999, \"<=\" &toDateI, FLData!$J$2:$J$13999,$C189, FLData!$E$2:$E$13999, Sim1Types, FLData!$F$2:$F$13999, \"Operation\" ))*24","v":0},{"$f":"( SUMPRODUCT( SUMIFS( FLData!$AH$2:$AH$13999, FLData!$C$2:$C$13999, \">=\"&fromDateI, FLData!$C$2:$C$13999, \"<=\" &toDateI, FLData!$M$2:$M$13999,$C189, FLData!$E$2:$E$13999, Sim2Types, FLData!$F$2:$F$13999, \"Lesson\" )) + SUMPRODUCT( SUMIFS( FLData!$AH$2:$AH$13999, FLData!$C$2:$C$13999, \">=\"&fromDateI, FLData!$C$2:$C$13999, \"<=\" &toDateI, FLData!$S$2:$S$13999,$C189, FLData!$E$2:$E$13999, Sim2Types, FLData!$F$2:$F$13999, \"Rental\" )) )*24","v":0},{"$f":"SUMPRODUCT( SUMIFS( FLData!$AH$2:$AH$13999, FLData!$C$2:$C$13999, \">=\"&fromDateI, FLData!$C$2:$C$13999, \"<=\" &toDateI, FLData!$J$2:$J$13999,$C189, FLData!$E$2:$E$13999, Sim2Types, FLData!$F$2:$F$13999, \"Operation\" ))*24","v":0},0,0,0]
[null,null,"",{"$f":"( SUMPRODUCT( SUMIFS( FLData!$AH$2:$AH$13999, FLData!$C$2:$C$13999, \">=\"&fromDateI, FLData!$C$2:$C$13999, \"<=\" &toDateI, FLData!$M$2:$M$13999,$C190, FLData!$E$2:$E$13999, SingleEngineTypes, FLData!$F$2:$F$13999, \"Lesson\" )) + SUMPRODUCT( SUMIFS( FLData!$AH$2:$AH$13999, FLData!$C$2:$C$13999, \">=\"&fromDateI, FLData!$C$2:$C$13999, \"<=\" &toDateI, FLData!$S$2:$S$13999,$C190, FLData!$E$2:$E$13999, SingleEngineTypes, FLData!$F$2:$F$13999, \"Rental\" )) )*24","v":0},{"$f":"SUMPRODUCT( SUMIFS( FLData!$AH$2:$AH$13999, FLData!$C$2:$C$13999, \">=\"&fromDateI, FLData!$C$2:$C$13999, \"<=\" &toDateI, FLData!$J$2:$J$13999,$C190, FLData!$E$2:$E$13999, SingleEngineTypes, FLData!$F$2:$F$13999, \"Operation\" ))*24","v":0},{"$f":"( SUMPRODUCT( SUMIFS( FLData!$AH$2:$AH$13999, FLData!$C$2:$C$13999, \">=\"&fromDateI, FLData!$C$2:$C$13999, \"<=\" &toDateI, FLData!$M$2:$M$13999,$C190, FLData!$E$2:$E$13999, MultiEngineTypes, FLData!$F$2:$F$13999, \"Lesson\" )) + SUMPRODUCT( SUMIFS( FLData!$AH$2:$AH$13999, FLData!$C$2:$C$13999, \">=\"&fromDateI, FLData!$C$2:$C$13999, \"<=\" &toDateI, FLData!$S$2:$S$13999,$C190, FLData!$E$2:$E$13999, MultiEngineTypes, FLData!$F$2:$F$13999, \"Rental\" )) )*24","v":0},{"$f":"SUMPRODUCT( SUMIFS( FLData!$AH$2:$AH$13999, FLData!$C$2:$C$13999, \">=\"&fromDateI, FLData!$C$2:$C$13999, \"<=\" &toDateI, FLData!$J$2:$J$13999,$C190, FLData!$E$2:$E$13999, MultiEngineTypes, FLData!$F$2:$F$13999, \"Operation\" ))*24","v":0},{"$f":"( SUMPRODUCT( SUMIFS( FLData!$AH$2:$AH$13999, FLData!$C$2:$C$13999, \">=\"&fromDateI, FLData!$C$2:$C$13999, \"<=\" &toDateI, FLData!$M$2:$M$13999,$C190, FLData!$E$2:$E$13999, Sim1Types, FLData!$F$2:$F$13999, \"Lesson\" )) + SUMPRODUCT( SUMIFS( FLData!$AH$2:$AH$13999, FLData!$C$2:$C$13999, \">=\"&fromDateI, FLData!$C$2:$C$13999, \"<=\" &toDateI, FLData!$S$2:$S$13999,$C190, FLData!$E$2:$E$13999, Sim1Types, FLData!$F$2:$F$13999, \"Rental\" )) )*24","v":0},{"$f":"SUMPRODUCT( SUMIFS( FLData!$AH$2:$AH$13999, FLData!$C$2:$C$13999, \">=\"&fromDateI, FLData!$C$2:$C$13999, \"<=\" &toDateI, FLData!$J$2:$J$13999,$C190, FLData!$E$2:$E$13999, Sim1Types, FLData!$F$2:$F$13999, \"Operation\" ))*24","v":0},{"$f":"( SUMPRODUCT( SUMIFS( FLData!$AH$2:$AH$13999, FLData!$C$2:$C$13999, \">=\"&fromDateI, FLData!$C$2:$C$13999, \"<=\" &toDateI, FLData!$M$2:$M$13999,$C190, FLData!$E$2:$E$13999, Sim2Types, FLData!$F$2:$F$13999, \"Lesson\" )) + SUMPRODUCT( SUMIFS( FLData!$AH$2:$AH$13999, FLData!$C$2:$C$13999, \">=\"&fromDateI, FLData!$C$2:$C$13999, \"<=\" &toDateI, FLData!$S$2:$S$13999,$C190, FLData!$E$2:$E$13999, Sim2Types, FLData!$F$2:$F$13999, \"Rental\" )) )*24","v":0},{"$f":"SUMPRODUCT( SUMIFS( FLData!$AH$2:$AH$13999, FLData!$C$2:$C$13999, \">=\"&fromDateI, FLData!$C$2:$C$13999, \"<=\" &toDateI, FLData!$J$2:$J$13999,$C190, FLData!$E$2:$E$13999, Sim2Types, FLData!$F$2:$F$13999, \"Operation\" ))*24","v":0},0,0,0]
[null,null,"",{"$f":"( SUMPRODUCT( SUMIFS( FLData!$AH$2:$AH$13999, FLData!$C$2:$C$13999, \">=\"&fromDateI, FLData!$C$2:$C$13999, \"<=\" &toDateI, FLData!$M$2:$M$13999,$C191, FLData!$E$2:$E$13999, SingleEngineTypes, FLData!$F$2:$F$13999, \"Lesson\" )) + SUMPRODUCT( SUMIFS( FLData!$AH$2:$AH$13999, FLData!$C$2:$C$13999, \">=\"&fromDateI, FLData!$C$2:$C$13999, \"<=\" &toDateI, FLData!$S$2:$S$13999,$C191, FLData!$E$2:$E$13999, SingleEngineTypes, FLData!$F$2:$F$13999, \"Rental\" )) )*24","v":0},{"$f":"SUMPRODUCT( SUMIFS( FLData!$AH$2:$AH$13999, FLData!$C$2:$C$13999, \">=\"&fromDateI, FLData!$C$2:$C$13999, \"<=\" &toDateI, FLData!$J$2:$J$13999,$C191, FLData!$E$2:$E$13999, SingleEngineTypes, FLData!$F$2:$F$13999, \"Operation\" ))*24","v":0},{"$f":"( SUMPRODUCT( SUMIFS( FLData!$AH$2:$AH$13999, FLData!$C$2:$C$13999, \">=\"&fromDateI, FLData!$C$2:$C$13999, \"<=\" &toDateI, FLData!$M$2:$M$13999,$C191, FLData!$E$2:$E$13999, MultiEngineTypes, FLData!$F$2:$F$13999, \"Lesson\" )) + SUMPRODUCT( SUMIFS( FLData!$AH$2:$AH$13999, FLData!$C$2:$C$13999, \">=\"&fromDateI, FLData!$C$2:$C$13999, \"<=\" &toDateI, FLData!$S$2:$S$13999,$C191, FLData!$E$2:$E$13999, MultiEngineTypes, FLData!$F$2:$F$13999, \"Rental\" )) )*24","v":0},{"$f":"SUMPRODUCT( SUMIFS( FLData!$AH$2:$AH$13999, FLData!$C$2:$C$13999, \">=\"&fromDateI, FLData!$C$2:$C$13999, \"<=\" &toDateI, FLData!$J$2:$J$13999,$C191, FLData!$E$2:$E$13999, MultiEngineTypes, FLData!$F$2:$F$13999, \"Operation\" ))*24","v":0},{"$f":"( SUMPRODUCT( SUMIFS( FLData!$AH$2:$AH$13999, FLData!$C$2:$C$13999, \">=\"&fromDateI, FLData!$C$2:$C$13999, \"<=\" &toDateI, FLData!$M$2:$M$13999,$C191, FLData!$E$2:$E$13999, Sim1Types, FLData!$F$2:$F$13999, \"Lesson\" )) + SUMPRODUCT( SUMIFS( FLData!$AH$2:$AH$13999, FLData!$C$2:$C$13999, \">=\"&fromDateI, FLData!$C$2:$C$13999, \"<=\" &toDateI, FLData!$S$2:$S$13999,$C191, FLData!$E$2:$E$13999, Sim1Types, FLData!$F$2:$F$13999, \"Rental\" )) )*24","v":0},{"$f":"SUMPRODUCT( SUMIFS( FLData!$AH$2:$AH$13999, FLData!$C$2:$C$13999, \">=\"&fromDateI, FLData!$C$2:$C$13999, \"<=\" &toDateI, FLData!$J$2:$J$13999,$C191, FLData!$E$2:$E$13999, Sim1Types, FLData!$F$2:$F$13999, \"Operation\" ))*24","v":0},{"$f":"( SUMPRODUCT( SUMIFS( FLData!$AH$2:$AH$13999, FLData!$C$2:$C$13999, \">=\"&fromDateI, FLData!$C$2:$C$13999, \"<=\" &toDateI, FLData!$M$2:$M$13999,$C191, FLData!$E$2:$E$13999, Sim2Types, FLData!$F$2:$F$13999, \"Lesson\" )) + SUMPRODUCT( SUMIFS( FLData!$AH$2:$AH$13999, FLData!$C$2:$C$13999, \">=\"&fromDateI, FLData!$C$2:$C$13999, \"<=\" &toDateI, FLData!$S$2:$S$13999,$C191, FLData!$E$2:$E$13999, Sim2Types, FLData!$F$2:$F$13999, \"Rental\" )) )*24","v":0},{"$f":"SUMPRODUCT( SUMIFS( FLData!$AH$2:$AH$13999, FLData!$C$2:$C$13999, \">=\"&fromDateI, FLData!$C$2:$C$13999, \"<=\" &toDateI, FLData!$J$2:$J$13999,$C191, FLData!$E$2:$E$13999, Sim2Types, FLData!$F$2:$F$13999, \"Operation\" ))*24","v":0},0,0,0]
[null,null,"",{"$f":"( SUMPRODUCT( SUMIFS( FLData!$AH$2:$AH$13999, FLData!$C$2:$C$13999, \">=\"&fromDateI, FLData!$C$2:$C$13999, \"<=\" &toDateI, FLData!$M$2:$M$13999,$C192, FLData!$E$2:$E$13999, SingleEngineTypes, FLData!$F$2:$F$13999, \"Lesson\" )) + SUMPRODUCT( SUMIFS( FLData!$AH$2:$AH$13999, FLData!$C$2:$C$13999, \">=\"&fromDateI, FLData!$C$2:$C$13999, \"<=\" &toDateI, FLData!$S$2:$S$13999,$C192, FLData!$E$2:$E$13999, SingleEngineTypes, FLData!$F$2:$F$13999, \"Rental\" )) )*24","v":0},{"$f":"SUMPRODUCT( SUMIFS( FLData!$AH$2:$AH$13999, FLData!$C$2:$C$13999, \">=\"&fromDateI, FLData!$C$2:$C$13999, \"<=\" &toDateI, FLData!$J$2:$J$13999,$C192, FLData!$E$2:$E$13999, SingleEngineTypes, FLData!$F$2:$F$13999, \"Operation\" ))*24","v":0},{"$f":"( SUMPRODUCT( SUMIFS( FLData!$AH$2:$AH$13999, FLData!$C$2:$C$13999, \">=\"&fromDateI, FLData!$C$2:$C$13999, \"<=\" &toDateI, FLData!$M$2:$M$13999,$C192, FLData!$E$2:$E$13999, MultiEngineTypes, FLData!$F$2:$F$13999, \"Lesson\" )) + SUMPRODUCT( SUMIFS( FLData!$AH$2:$AH$13999, FLData!$C$2:$C$13999, \">=\"&fromDateI, FLData!$C$2:$C$13999, \"<=\" &toDateI, FLData!$S$2:$S$13999,$C192, FLData!$E$2:$E$13999, MultiEngineTypes, FLData!$F$2:$F$13999, \"Rental\" )) )*24","v":0},{"$f":"SUMPRODUCT( SUMIFS( FLData!$AH$2:$AH$13999, FLData!$C$2:$C$13999, \">=\"&fromDateI, FLData!$C$2:$C$13999, \"<=\" &toDateI, FLData!$J$2:$J$13999,$C192, FLData!$E$2:$E$13999, MultiEngineTypes, FLData!$F$2:$F$13999, \"Operation\" ))*24","v":0},{"$f":"( SUMPRODUCT( SUMIFS( FLData!$AH$2:$AH$13999, FLData!$C$2:$C$13999, \">=\"&fromDateI, FLData!$C$2:$C$13999, \"<=\" &toDateI, FLData!$M$2:$M$13999,$C192, FLData!$E$2:$E$13999, Sim1Types, FLData!$F$2:$F$13999, \"Lesson\" )) + SUMPRODUCT( SUMIFS( FLData!$AH$2:$AH$13999, FLData!$C$2:$C$13999, \">=\"&fromDateI, FLData!$C$2:$C$13999, \"<=\" &toDateI, FLData!$S$2:$S$13999,$C192, FLData!$E$2:$E$13999, Sim1Types, FLData!$F$2:$F$13999, \"Rental\" )) )*24","v":0},{"$f":"SUMPRODUCT( SUMIFS( FLData!$AH$2:$AH$13999, FLData!$C$2:$C$13999, \">=\"&fromDateI, FLData!$C$2:$C$13999, \"<=\" &toDateI, FLData!$J$2:$J$13999,$C192, FLData!$E$2:$E$13999, Sim1Types, FLData!$F$2:$F$13999, \"Operation\" ))*24","v":0},{"$f":"( SUMPRODUCT( SUMIFS( FLData!$AH$2:$AH$13999, FLData!$C$2:$C$13999, \">=\"&fromDateI, FLData!$C$2:$C$13999, \"<=\" &toDateI, FLData!$M$2:$M$13999,$C192, FLData!$E$2:$E$13999, Sim2Types, FLData!$F$2:$F$13999, \"Lesson\" )) + SUMPRODUCT( SUMIFS( FLData!$AH$2:$AH$13999, FLData!$C$2:$C$13999, \">=\"&fromDateI, FLData!$C$2:$C$13999, \"<=\" &toDateI, FLData!$S$2:$S$13999,$C192, FLData!$E$2:$E$13999, Sim2Types, FLData!$F$2:$F$13999, \"Rental\" )) )*24","v":0},{"$f":"SUMPRODUCT( SUMIFS( FLData!$AH$2:$AH$13999, FLData!$C$2:$C$13999, \">=\"&fromDateI, FLData!$C$2:$C$13999, \"<=\" &toDateI, FLData!$J$2:$J$13999,$C192, FLData!$E$2:$E$13999, Sim2Types, FLData!$F$2:$F$13999, \"Operation\" ))*24","v":0},0,0,0]
[null,null,"",{"$f":"( SUMPRODUCT( SUMIFS( FLData!$AH$2:$AH$13999, FLData!$C$2:$C$13999, \">=\"&fromDateI, FLData!$C$2:$C$13999, \"<=\" &toDateI, FLData!$M$2:$M$13999,$C193, FLData!$E$2:$E$13999, SingleEngineTypes, FLData!$F$2:$F$13999, \"Lesson\" )) + SUMPRODUCT( SUMIFS( FLData!$AH$2:$AH$13999, FLData!$C$2:$C$13999, \">=\"&fromDateI, FLData!$C$2:$C$13999, \"<=\" &toDateI, FLData!$S$2:$S$13999,$C193, FLData!$E$2:$E$13999, SingleEngineTypes, FLData!$F$2:$F$13999, \"Rental\" )) )*24","v":0},{"$f":"SUMPRODUCT( SUMIFS( FLData!$AH$2:$AH$13999, FLData!$C$2:$C$13999, \">=\"&fromDateI, FLData!$C$2:$C$13999, \"<=\" &toDateI, FLData!$J$2:$J$13999,$C193, FLData!$E$2:$E$13999, SingleEngineTypes, FLData!$F$2:$F$13999, \"Operation\" ))*24","v":0},{"$f":"( SUMPRODUCT( SUMIFS( FLData!$AH$2:$AH$13999, FLData!$C$2:$C$13999, \">=\"&fromDateI, FLData!$C$2:$C$13999, \"<=\" &toDateI, FLData!$M$2:$M$13999,$C193, FLData!$E$2:$E$13999, MultiEngineTypes, FLData!$F$2:$F$13999, \"Lesson\" )) + SUMPRODUCT( SUMIFS( FLData!$AH$2:$AH$13999, FLData!$C$2:$C$13999, \">=\"&fromDateI, FLData!$C$2:$C$13999, \"<=\" &toDateI, FLData!$S$2:$S$13999,$C193, FLData!$E$2:$E$13999, MultiEngineTypes, FLData!$F$2:$F$13999, \"Rental\" )) )*24","v":0},{"$f":"SUMPRODUCT( SUMIFS( FLData!$AH$2:$AH$13999, FLData!$C$2:$C$13999, \">=\"&fromDateI, FLData!$C$2:$C$13999, \"<=\" &toDateI, FLData!$J$2:$J$13999,$C193, FLData!$E$2:$E$13999, MultiEngineTypes, FLData!$F$2:$F$13999, \"Operation\" ))*24","v":0},{"$f":"( SUMPRODUCT( SUMIFS( FLData!$AH$2:$AH$13999, FLData!$C$2:$C$13999, \">=\"&fromDateI, FLData!$C$2:$C$13999, \"<=\" &toDateI, FLData!$M$2:$M$13999,$C193, FLData!$E$2:$E$13999, Sim1Types, FLData!$F$2:$F$13999, \"Lesson\" )) + SUMPRODUCT( SUMIFS( FLData!$AH$2:$AH$13999, FLData!$C$2:$C$13999, \">=\"&fromDateI, FLData!$C$2:$C$13999, \"<=\" &toDateI, FLData!$S$2:$S$13999,$C193, FLData!$E$2:$E$13999, Sim1Types, FLData!$F$2:$F$13999, \"Rental\" )) )*24","v":0},{"$f":"SUMPRODUCT( SUMIFS( FLData!$AH$2:$AH$13999, FLData!$C$2:$C$13999, \">=\"&fromDateI, FLData!$C$2:$C$13999, \"<=\" &toDateI, FLData!$J$2:$J$13999,$C193, FLData!$E$2:$E$13999, Sim1Types, FLData!$F$2:$F$13999, \"Operation\" ))*24","v":0},{"$f":"( SUMPRODUCT( SUMIFS( FLData!$AH$2:$AH$13999, FLData!$C$2:$C$13999, \">=\"&fromDateI, FLData!$C$2:$C$13999, \"<=\" &toDateI, FLData!$M$2:$M$13999,$C193, FLData!$E$2:$E$13999, Sim2Types, FLData!$F$2:$F$13999, \"Lesson\" )) + SUMPRODUCT( SUMIFS( FLData!$AH$2:$AH$13999, FLData!$C$2:$C$13999, \">=\"&fromDateI, FLData!$C$2:$C$13999, \"<=\" &toDateI, FLData!$S$2:$S$13999,$C193, FLData!$E$2:$E$13999, Sim2Types, FLData!$F$2:$F$13999, \"Rental\" )) )*24","v":0},{"$f":"SUMPRODUCT( SUMIFS( FLData!$AH$2:$AH$13999, FLData!$C$2:$C$13999, \">=\"&fromDateI, FLData!$C$2:$C$13999, \"<=\" &toDateI, FLData!$J$2:$J$13999,$C193, FLData!$E$2:$E$13999, Sim2Types, FLData!$F$2:$F$13999, \"Operation\" ))*24","v":0},0,0,0]
[null,null,"",{"$f":"( SUMPRODUCT( SUMIFS( FLData!$AH$2:$AH$13999, FLData!$C$2:$C$13999, \">=\"&fromDateI, FLData!$C$2:$C$13999, \"<=\" &toDateI, FLData!$M$2:$M$13999,$C194, FLData!$E$2:$E$13999, SingleEngineTypes, FLData!$F$2:$F$13999, \"Lesson\" )) + SUMPRODUCT( SUMIFS( FLData!$AH$2:$AH$13999, FLData!$C$2:$C$13999, \">=\"&fromDateI, FLData!$C$2:$C$13999, \"<=\" &toDateI, FLData!$S$2:$S$13999,$C194, FLData!$E$2:$E$13999, SingleEngineTypes, FLData!$F$2:$F$13999, \"Rental\" )) )*24","v":0},{"$f":"SUMPRODUCT( SUMIFS( FLData!$AH$2:$AH$13999, FLData!$C$2:$C$13999, \">=\"&fromDateI, FLData!$C$2:$C$13999, \"<=\" &toDateI, FLData!$J$2:$J$13999,$C194, FLData!$E$2:$E$13999, SingleEngineTypes, FLData!$F$2:$F$13999, \"Operation\" ))*24","v":0},{"$f":"( SUMPRODUCT( SUMIFS( FLData!$AH$2:$AH$13999, FLData!$C$2:$C$13999, \">=\"&fromDateI, FLData!$C$2:$C$13999, \"<=\" &toDateI, FLData!$M$2:$M$13999,$C194, FLData!$E$2:$E$13999, MultiEngineTypes, FLData!$F$2:$F$13999, \"Lesson\" )) + SUMPRODUCT( SUMIFS( FLData!$AH$2:$AH$13999, FLData!$C$2:$C$13999, \">=\"&fromDateI, FLData!$C$2:$C$13999, \"<=\" &toDateI, FLData!$S$2:$S$13999,$C194, FLData!$E$2:$E$13999, MultiEngineTypes, FLData!$F$2:$F$13999, \"Rental\" )) )*24","v":0},{"$f":"SUMPRODUCT( SUMIFS( FLData!$AH$2:$AH$13999, FLData!$C$2:$C$13999, \">=\"&fromDateI, FLData!$C$2:$C$13999, \"<=\" &toDateI, FLData!$J$2:$J$13999,$C194, FLData!$E$2:$E$13999, MultiEngineTypes, FLData!$F$2:$F$13999, \"Operation\" ))*24","v":0},{"$f":"( SUMPRODUCT( SUMIFS( FLData!$AH$2:$AH$13999, FLData!$C$2:$C$13999, \">=\"&fromDateI, FLData!$C$2:$C$13999, \"<=\" &toDateI, FLData!$M$2:$M$13999,$C194, FLData!$E$2:$E$13999, Sim1Types, FLData!$F$2:$F$13999, \"Lesson\" )) + SUMPRODUCT( SUMIFS( FLData!$AH$2:$AH$13999, FLData!$C$2:$C$13999, \">=\"&fromDateI, FLData!$C$2:$C$13999, \"<=\" &toDateI, FLData!$S$2:$S$13999,$C194, FLData!$E$2:$E$13999, Sim1Types, FLData!$F$2:$F$13999, \"Rental\" )) )*24","v":0},{"$f":"SUMPRODUCT( SUMIFS( FLData!$AH$2:$AH$13999, FLData!$C$2:$C$13999, \">=\"&fromDateI, FLData!$C$2:$C$13999, \"<=\" &toDateI, FLData!$J$2:$J$13999,$C194, FLData!$E$2:$E$13999, Sim1Types, FLData!$F$2:$F$13999, \"Operation\" ))*24","v":0},{"$f":"( SUMPRODUCT( SUMIFS( FLData!$AH$2:$AH$13999, FLData!$C$2:$C$13999, \">=\"&fromDateI, FLData!$C$2:$C$13999, \"<=\" &toDateI, FLData!$M$2:$M$13999,$C194, FLData!$E$2:$E$13999, Sim2Types, FLData!$F$2:$F$13999, \"Lesson\" )) + SUMPRODUCT( SUMIFS( FLData!$AH$2:$AH$13999, FLData!$C$2:$C$13999, \">=\"&fromDateI, FLData!$C$2:$C$13999, \"<=\" &toDateI, FLData!$S$2:$S$13999,$C194, FLData!$E$2:$E$13999, Sim2Types, FLData!$F$2:$F$13999, \"Rental\" )) )*24","v":0},{"$f":"SUMPRODUCT( SUMIFS( FLData!$AH$2:$AH$13999, FLData!$C$2:$C$13999, \">=\"&fromDateI, FLData!$C$2:$C$13999, \"<=\" &toDateI, FLData!$J$2:$J$13999,$C194, FLData!$E$2:$E$13999, Sim2Types, FLData!$F$2:$F$13999, \"Operation\" ))*24","v":0},0,0,0]
[null,null,"",{"$f":"( SUMPRODUCT( SUMIFS( FLData!$AH$2:$AH$13999, FLData!$C$2:$C$13999, \">=\"&fromDateI, FLData!$C$2:$C$13999, \"<=\" &toDateI, FLData!$M$2:$M$13999,$C195, FLData!$E$2:$E$13999, SingleEngineTypes, FLData!$F$2:$F$13999, \"Lesson\" )) + SUMPRODUCT( SUMIFS( FLData!$AH$2:$AH$13999, FLData!$C$2:$C$13999, \">=\"&fromDateI, FLData!$C$2:$C$13999, \"<=\" &toDateI, FLData!$S$2:$S$13999,$C195, FLData!$E$2:$E$13999, SingleEngineTypes, FLData!$F$2:$F$13999, \"Rental\" )) )*24","v":0},{"$f":"SUMPRODUCT( SUMIFS( FLData!$AH$2:$AH$13999, FLData!$C$2:$C$13999, \">=\"&fromDateI, FLData!$C$2:$C$13999, \"<=\" &toDateI, FLData!$J$2:$J$13999,$C195, FLData!$E$2:$E$13999, SingleEngineTypes, FLData!$F$2:$F$13999, \"Operation\" ))*24","v":0},{"$f":"( SUMPRODUCT( SUMIFS( FLData!$AH$2:$AH$13999, FLData!$C$2:$C$13999, \">=\"&fromDateI, FLData!$C$2:$C$13999, \"<=\" &toDateI, FLData!$M$2:$M$13999,$C195, FLData!$E$2:$E$13999, MultiEngineTypes, FLData!$F$2:$F$13999, \"Lesson\" )) + SUMPRODUCT( SUMIFS( FLData!$AH$2:$AH$13999, FLData!$C$2:$C$13999, \">=\"&fromDateI, FLData!$C$2:$C$13999, \"<=\" &toDateI, FLData!$S$2:$S$13999,$C195, FLData!$E$2:$E$13999, MultiEngineTypes, FLData!$F$2:$F$13999, \"Rental\" )) )*24","v":0},{"$f":"SUMPRODUCT( SUMIFS( FLData!$AH$2:$AH$13999, FLData!$C$2:$C$13999, \">=\"&fromDateI, FLData!$C$2:$C$13999, \"<=\" &toDateI, FLData!$J$2:$J$13999,$C195, FLData!$E$2:$E$13999, MultiEngineTypes, FLData!$F$2:$F$13999, \"Operation\" ))*24","v":0},{"$f":"( SUMPRODUCT( SUMIFS( FLData!$AH$2:$AH$13999, FLData!$C$2:$C$13999, \">=\"&fromDateI, FLData!$C$2:$C$13999, \"<=\" &toDateI, FLData!$M$2:$M$13999,$C195, FLData!$E$2:$E$13999, Sim1Types, FLData!$F$2:$F$13999, \"Lesson\" )) + SUMPRODUCT( SUMIFS( FLData!$AH$2:$AH$13999, FLData!$C$2:$C$13999, \">=\"&fromDateI, FLData!$C$2:$C$13999, \"<=\" &toDateI, FLData!$S$2:$S$13999,$C195, FLData!$E$2:$E$13999, Sim1Types, FLData!$F$2:$F$13999, \"Rental\" )) )*24","v":0},{"$f":"SUMPRODUCT( SUMIFS( FLData!$AH$2:$AH$13999, FLData!$C$2:$C$13999, \">=\"&fromDateI, FLData!$C$2:$C$13999, \"<=\" &toDateI, FLData!$J$2:$J$13999,$C195, FLData!$E$2:$E$13999, Sim1Types, FLData!$F$2:$F$13999, \"Operation\" ))*24","v":0},{"$f":"( SUMPRODUCT( SUMIFS( FLData!$AH$2:$AH$13999, FLData!$C$2:$C$13999, \">=\"&fromDateI, FLData!$C$2:$C$13999, \"<=\" &toDateI, FLData!$M$2:$M$13999,$C195, FLData!$E$2:$E$13999, Sim2Types, FLData!$F$2:$F$13999, \"Lesson\" )) + SUMPRODUCT( SUMIFS( FLData!$AH$2:$AH$13999, FLData!$C$2:$C$13999, \">=\"&fromDateI, FLData!$C$2:$C$13999, \"<=\" &toDateI, FLData!$S$2:$S$13999,$C195, FLData!$E$2:$E$13999, Sim2Types, FLData!$F$2:$F$13999, \"Rental\" )) )*24","v":0},{"$f":"SUMPRODUCT( SUMIFS( FLData!$AH$2:$AH$13999, FLData!$C$2:$C$13999, \">=\"&fromDateI, FLData!$C$2:$C$13999, \"<=\" &toDateI, FLData!$J$2:$J$13999,$C195, FLData!$E$2:$E$13999, Sim2Types, FLData!$F$2:$F$13999, \"Operation\" ))*24","v":0},0,0,0]
[null,null,"",{"$f":"( SUMPRODUCT( SUMIFS( FLData!$AH$2:$AH$13999, FLData!$C$2:$C$13999, \">=\"&fromDateI, FLData!$C$2:$C$13999, \"<=\" &toDateI, FLData!$M$2:$M$13999,$C196, FLData!$E$2:$E$13999, SingleEngineTypes, FLData!$F$2:$F$13999, \"Lesson\" )) + SUMPRODUCT( SUMIFS( FLData!$AH$2:$AH$13999, FLData!$C$2:$C$13999, \">=\"&fromDateI, FLData!$C$2:$C$13999, \"<=\" &toDateI, FLData!$S$2:$S$13999,$C196, FLData!$E$2:$E$13999, SingleEngineTypes, FLData!$F$2:$F$13999, \"Rental\" )) )*24","v":0},{"$f":"SUMPRODUCT( SUMIFS( FLData!$AH$2:$AH$13999, FLData!$C$2:$C$13999, \">=\"&fromDateI, FLData!$C$2:$C$13999, \"<=\" &toDateI, FLData!$J$2:$J$13999,$C196, FLData!$E$2:$E$13999, SingleEngineTypes, FLData!$F$2:$F$13999, \"Operation\" ))*24","v":0},{"$f":"( SUMPRODUCT( SUMIFS( FLData!$AH$2:$AH$13999, FLData!$C$2:$C$13999, \">=\"&fromDateI, FLData!$C$2:$C$13999, \"<=\" &toDateI, FLData!$M$2:$M$13999,$C196, FLData!$E$2:$E$13999, MultiEngineTypes, FLData!$F$2:$F$13999, \"Lesson\" )) + SUMPRODUCT( SUMIFS( FLData!$AH$2:$AH$13999, FLData!$C$2:$C$13999, \">=\"&fromDateI, FLData!$C$2:$C$13999, \"<=\" &toDateI, FLData!$S$2:$S$13999,$C196, FLData!$E$2:$E$13999, MultiEngineTypes, FLData!$F$2:$F$13999, \"Rental\" )) )*24","v":0},{"$f":"SUMPRODUCT( SUMIFS( FLData!$AH$2:$AH$13999, FLData!$C$2:$C$13999, \">=\"&fromDateI, FLData!$C$2:$C$13999, \"<=\" &toDateI, FLData!$J$2:$J$13999,$C196, FLData!$E$2:$E$13999, MultiEngineTypes, FLData!$F$2:$F$13999, \"Operation\" ))*24","v":0},{"$f":"( SUMPRODUCT( SUMIFS( FLData!$AH$2:$AH$13999, FLData!$C$2:$C$13999, \">=\"&fromDateI, FLData!$C$2:$C$13999, \"<=\" &toDateI, FLData!$M$2:$M$13999,$C196, FLData!$E$2:$E$13999, Sim1Types, FLData!$F$2:$F$13999, \"Lesson\" )) + SUMPRODUCT( SUMIFS( FLData!$AH$2:$AH$13999, FLData!$C$2:$C$13999, \">=\"&fromDateI, FLData!$C$2:$C$13999, \"<=\" &toDateI, FLData!$S$2:$S$13999,$C196, FLData!$E$2:$E$13999, Sim1Types, FLData!$F$2:$F$13999, \"Rental\" )) )*24","v":0},{"$f":"SUMPRODUCT( SUMIFS( FLData!$AH$2:$AH$13999, FLData!$C$2:$C$13999, \">=\"&fromDateI, FLData!$C$2:$C$13999, \"<=\" &toDateI, FLData!$J$2:$J$13999,$C196, FLData!$E$2:$E$13999, Sim1Types, FLData!$F$2:$F$13999, \"Operation\" ))*24","v":0},{"$f":"( SUMPRODUCT( SUMIFS( FLData!$AH$2:$AH$13999, FLData!$C$2:$C$13999, \">=\"&fromDateI, FLData!$C$2:$C$13999, \"<=\" &toDateI, FLData!$M$2:$M$13999,$C196, FLData!$E$2:$E$13999, Sim2Types, FLData!$F$2:$F$13999, \"Lesson\" )) + SUMPRODUCT( SUMIFS( FLData!$AH$2:$AH$13999, FLData!$C$2:$C$13999, \">=\"&fromDateI, FLData!$C$2:$C$13999, \"<=\" &toDateI, FLData!$S$2:$S$13999,$C196, FLData!$E$2:$E$13999, Sim2Types, FLData!$F$2:$F$13999, \"Rental\" )) )*24","v":0},{"$f":"SUMPRODUCT( SUMIFS( FLData!$AH$2:$AH$13999, FLData!$C$2:$C$13999, \">=\"&fromDateI, FLData!$C$2:$C$13999, \"<=\" &toDateI, FLData!$J$2:$J$13999,$C196, FLData!$E$2:$E$13999, Sim2Types, FLData!$F$2:$F$13999, \"Operation\" ))*24","v":0},0,0,0]
[null,null,"",{"$f":"( SUMPRODUCT( SUMIFS( FLData!$AH$2:$AH$13999, FLData!$C$2:$C$13999, \">=\"&fromDateI, FLData!$C$2:$C$13999, \"<=\" &toDateI, FLData!$M$2:$M$13999,$C197, FLData!$E$2:$E$13999, SingleEngineTypes, FLData!$F$2:$F$13999, \"Lesson\" )) + SUMPRODUCT( SUMIFS( FLData!$AH$2:$AH$13999, FLData!$C$2:$C$13999, \">=\"&fromDateI, FLData!$C$2:$C$13999, \"<=\" &toDateI, FLData!$S$2:$S$13999,$C197, FLData!$E$2:$E$13999, SingleEngineTypes, FLData!$F$2:$F$13999, \"Rental\" )) )*24","v":0},{"$f":"SUMPRODUCT( SUMIFS( FLData!$AH$2:$AH$13999, FLData!$C$2:$C$13999, \">=\"&fromDateI, FLData!$C$2:$C$13999, \"<=\" &toDateI, FLData!$J$2:$J$13999,$C197, FLData!$E$2:$E$13999, SingleEngineTypes, FLData!$F$2:$F$13999, \"Operation\" ))*24","v":0},{"$f":"( SUMPRODUCT( SUMIFS( FLData!$AH$2:$AH$13999, FLData!$C$2:$C$13999, \">=\"&fromDateI, FLData!$C$2:$C$13999, \"<=\" &toDateI, FLData!$M$2:$M$13999,$C197, FLData!$E$2:$E$13999, MultiEngineTypes, FLData!$F$2:$F$13999, \"Lesson\" )) + SUMPRODUCT( SUMIFS( FLData!$AH$2:$AH$13999, FLData!$C$2:$C$13999, \">=\"&fromDateI, FLData!$C$2:$C$13999, \"<=\" &toDateI, FLData!$S$2:$S$13999,$C197, FLData!$E$2:$E$13999, MultiEngineTypes, FLData!$F$2:$F$13999, \"Rental\" )) )*24","v":0},{"$f":"SUMPRODUCT( SUMIFS( FLData!$AH$2:$AH$13999, FLData!$C$2:$C$13999, \">=\"&fromDateI, FLData!$C$2:$C$13999, \"<=\" &toDateI, FLData!$J$2:$J$13999,$C197, FLData!$E$2:$E$13999, MultiEngineTypes, FLData!$F$2:$F$13999, \"Operation\" ))*24","v":0},{"$f":"( SUMPRODUCT( SUMIFS( FLData!$AH$2:$AH$13999, FLData!$C$2:$C$13999, \">=\"&fromDateI, FLData!$C$2:$C$13999, \"<=\" &toDateI, FLData!$M$2:$M$13999,$C197, FLData!$E$2:$E$13999, Sim1Types, FLData!$F$2:$F$13999, \"Lesson\" )) + SUMPRODUCT( SUMIFS( FLData!$AH$2:$AH$13999, FLData!$C$2:$C$13999, \">=\"&fromDateI, FLData!$C$2:$C$13999, \"<=\" &toDateI, FLData!$S$2:$S$13999,$C197, FLData!$E$2:$E$13999, Sim1Types, FLData!$F$2:$F$13999, \"Rental\" )) )*24","v":0},{"$f":"SUMPRODUCT( SUMIFS( FLData!$AH$2:$AH$13999, FLData!$C$2:$C$13999, \">=\"&fromDateI, FLData!$C$2:$C$13999, \"<=\" &toDateI, FLData!$J$2:$J$13999,$C197, FLData!$E$2:$E$13999, Sim1Types, FLData!$F$2:$F$13999, \"Operation\" ))*24","v":0},{"$f":"( SUMPRODUCT( SUMIFS( FLData!$AH$2:$AH$13999, FLData!$C$2:$C$13999, \">=\"&fromDateI, FLData!$C$2:$C$13999, \"<=\" &toDateI, FLData!$M$2:$M$13999,$C197, FLData!$E$2:$E$13999, Sim2Types, FLData!$F$2:$F$13999, \"Lesson\" )) + SUMPRODUCT( SUMIFS( FLData!$AH$2:$AH$13999, FLData!$C$2:$C$13999, \">=\"&fromDateI, FLData!$C$2:$C$13999, \"<=\" &toDateI, FLData!$S$2:$S$13999,$C197, FLData!$E$2:$E$13999, Sim2Types, FLData!$F$2:$F$13999, \"Rental\" )) )*24","v":0},{"$f":"SUMPRODUCT( SUMIFS( FLData!$AH$2:$AH$13999, FLData!$C$2:$C$13999, \">=\"&fromDateI, FLData!$C$2:$C$13999, \"<=\" &toDateI, FLData!$J$2:$J$13999,$C197, FLData!$E$2:$E$13999, Sim2Types, FLData!$F$2:$F$13999, \"Operation\" ))*24","v":0},0,0,0]
[null,null,"",{"$f":"( SUMPRODUCT( SUMIFS( FLData!$AH$2:$AH$13999, FLData!$C$2:$C$13999, \">=\"&fromDateI, FLData!$C$2:$C$13999, \"<=\" &toDateI, FLData!$M$2:$M$13999,$C198, FLData!$E$2:$E$13999, SingleEngineTypes, FLData!$F$2:$F$13999, \"Lesson\" )) + SUMPRODUCT( SUMIFS( FLData!$AH$2:$AH$13999, FLData!$C$2:$C$13999, \">=\"&fromDateI, FLData!$C$2:$C$13999, \"<=\" &toDateI, FLData!$S$2:$S$13999,$C198, FLData!$E$2:$E$13999, SingleEngineTypes, FLData!$F$2:$F$13999, \"Rental\" )) )*24","v":0},{"$f":"SUMPRODUCT( SUMIFS( FLData!$AH$2:$AH$13999, FLData!$C$2:$C$13999, \">=\"&fromDateI, FLData!$C$2:$C$13999, \"<=\" &toDateI, FLData!$J$2:$J$13999,$C198, FLData!$E$2:$E$13999, SingleEngineTypes, FLData!$F$2:$F$13999, \"Operation\" ))*24","v":0},{"$f":"( SUMPRODUCT( SUMIFS( FLData!$AH$2:$AH$13999, FLData!$C$2:$C$13999, \">=\"&fromDateI, FLData!$C$2:$C$13999, \"<=\" &toDateI, FLData!$M$2:$M$13999,$C198, FLData!$E$2:$E$13999, MultiEngineTypes, FLData!$F$2:$F$13999, \"Lesson\" )) + SUMPRODUCT( SUMIFS( FLData!$AH$2:$AH$13999, FLData!$C$2:$C$13999, \">=\"&fromDateI, FLData!$C$2:$C$13999, \"<=\" &toDateI, FLData!$S$2:$S$13999,$C198, FLData!$E$2:$E$13999, MultiEngineTypes, FLData!$F$2:$F$13999, \"Rental\" )) )*24","v":0},{"$f":"SUMPRODUCT( SUMIFS( FLData!$AH$2:$AH$13999, FLData!$C$2:$C$13999, \">=\"&fromDateI, FLData!$C$2:$C$13999, \"<=\" &toDateI, FLData!$J$2:$J$13999,$C198, FLData!$E$2:$E$13999, MultiEngineTypes, FLData!$F$2:$F$13999, \"Operation\" ))*24","v":0},{"$f":"( SUMPRODUCT( SUMIFS( FLData!$AH$2:$AH$13999, FLData!$C$2:$C$13999, \">=\"&fromDateI, FLData!$C$2:$C$13999, \"<=\" &toDateI, FLData!$M$2:$M$13999,$C198, FLData!$E$2:$E$13999, Sim1Types, FLData!$F$2:$F$13999, \"Lesson\" )) + SUMPRODUCT( SUMIFS( FLData!$AH$2:$AH$13999, FLData!$C$2:$C$13999, \">=\"&fromDateI, FLData!$C$2:$C$13999, \"<=\" &toDateI, FLData!$S$2:$S$13999,$C198, FLData!$E$2:$E$13999, Sim1Types, FLData!$F$2:$F$13999, \"Rental\" )) )*24","v":0},{"$f":"SUMPRODUCT( SUMIFS( FLData!$AH$2:$AH$13999, FLData!$C$2:$C$13999, \">=\"&fromDateI, FLData!$C$2:$C$13999, \"<=\" &toDateI, FLData!$J$2:$J$13999,$C198, FLData!$E$2:$E$13999, Sim1Types, FLData!$F$2:$F$13999, \"Operation\" ))*24","v":0},{"$f":"( SUMPRODUCT( SUMIFS( FLData!$AH$2:$AH$13999, FLData!$C$2:$C$13999, \">=\"&fromDateI, FLData!$C$2:$C$13999, \"<=\" &toDateI, FLData!$M$2:$M$13999,$C198, FLData!$E$2:$E$13999, Sim2Types, FLData!$F$2:$F$13999, \"Lesson\" )) + SUMPRODUCT( SUMIFS( FLData!$AH$2:$AH$13999, FLData!$C$2:$C$13999, \">=\"&fromDateI, FLData!$C$2:$C$13999, \"<=\" &toDateI, FLData!$S$2:$S$13999,$C198, FLData!$E$2:$E$13999, Sim2Types, FLData!$F$2:$F$13999, \"Rental\" )) )*24","v":0},{"$f":"SUMPRODUCT( SUMIFS( FLData!$AH$2:$AH$13999, FLData!$C$2:$C$13999, \">=\"&fromDateI, FLData!$C$2:$C$13999, \"<=\" &toDateI, FLData!$J$2:$J$13999,$C198, FLData!$E$2:$E$13999, Sim2Types, FLData!$F$2:$F$13999, \"Operation\" ))*24","v":0},0,0,0]
[null,null,"",{"$f":"( SUMPRODUCT( SUMIFS( FLData!$AH$2:$AH$13999, FLData!$C$2:$C$13999, \">=\"&fromDateI, FLData!$C$2:$C$13999, \"<=\" &toDateI, FLData!$M$2:$M$13999,$C199, FLData!$E$2:$E$13999, SingleEngineTypes, FLData!$F$2:$F$13999, \"Lesson\" )) + SUMPRODUCT( SUMIFS( FLData!$AH$2:$AH$13999, FLData!$C$2:$C$13999, \">=\"&fromDateI, FLData!$C$2:$C$13999, \"<=\" &toDateI, FLData!$S$2:$S$13999,$C199, FLData!$E$2:$E$13999, SingleEngineTypes, FLData!$F$2:$F$13999, \"Rental\" )) )*24","v":0},{"$f":"SUMPRODUCT( SUMIFS( FLData!$AH$2:$AH$13999, FLData!$C$2:$C$13999, \">=\"&fromDateI, FLData!$C$2:$C$13999, \"<=\" &toDateI, FLData!$J$2:$J$13999,$C199, FLData!$E$2:$E$13999, SingleEngineTypes, FLData!$F$2:$F$13999, \"Operation\" ))*24","v":0},{"$f":"( SUMPRODUCT( SUMIFS( FLData!$AH$2:$AH$13999, FLData!$C$2:$C$13999, \">=\"&fromDateI, FLData!$C$2:$C$13999, \"<=\" &toDateI, FLData!$M$2:$M$13999,$C199, FLData!$E$2:$E$13999, MultiEngineTypes, FLData!$F$2:$F$13999, \"Lesson\" )) + SUMPRODUCT( SUMIFS( FLData!$AH$2:$AH$13999, FLData!$C$2:$C$13999, \">=\"&fromDateI, FLData!$C$2:$C$13999, \"<=\" &toDateI, FLData!$S$2:$S$13999,$C199, FLData!$E$2:$E$13999, MultiEngineTypes, FLData!$F$2:$F$13999, \"Rental\" )) )*24","v":0},{"$f":"SUMPRODUCT( SUMIFS( FLData!$AH$2:$AH$13999, FLData!$C$2:$C$13999, \">=\"&fromDateI, FLData!$C$2:$C$13999, \"<=\" &toDateI, FLData!$J$2:$J$13999,$C199, FLData!$E$2:$E$13999, MultiEngineTypes, FLData!$F$2:$F$13999, \"Operation\" ))*24","v":0},{"$f":"( SUMPRODUCT( SUMIFS( FLData!$AH$2:$AH$13999, FLData!$C$2:$C$13999, \">=\"&fromDateI, FLData!$C$2:$C$13999, \"<=\" &toDateI, FLData!$M$2:$M$13999,$C199, FLData!$E$2:$E$13999, Sim1Types, FLData!$F$2:$F$13999, \"Lesson\" )) + SUMPRODUCT( SUMIFS( FLData!$AH$2:$AH$13999, FLData!$C$2:$C$13999, \">=\"&fromDateI, FLData!$C$2:$C$13999, \"<=\" &toDateI, FLData!$S$2:$S$13999,$C199, FLData!$E$2:$E$13999, Sim1Types, FLData!$F$2:$F$13999, \"Rental\" )) )*24","v":0},{"$f":"SUMPRODUCT( SUMIFS( FLData!$AH$2:$AH$13999, FLData!$C$2:$C$13999, \">=\"&fromDateI, FLData!$C$2:$C$13999, \"<=\" &toDateI, FLData!$J$2:$J$13999,$C199, FLData!$E$2:$E$13999, Sim1Types, FLData!$F$2:$F$13999, \"Operation\" ))*24","v":0},{"$f":"( SUMPRODUCT( SUMIFS( FLData!$AH$2:$AH$13999, FLData!$C$2:$C$13999, \">=\"&fromDateI, FLData!$C$2:$C$13999, \"<=\" &toDateI, FLData!$M$2:$M$13999,$C199, FLData!$E$2:$E$13999, Sim2Types, FLData!$F$2:$F$13999, \"Lesson\" )) + SUMPRODUCT( SUMIFS( FLData!$AH$2:$AH$13999, FLData!$C$2:$C$13999, \">=\"&fromDateI, FLData!$C$2:$C$13999, \"<=\" &toDateI, FLData!$S$2:$S$13999,$C199, FLData!$E$2:$E$13999, Sim2Types, FLData!$F$2:$F$13999, \"Rental\" )) )*24","v":0},{"$f":"SUMPRODUCT( SUMIFS( FLData!$AH$2:$AH$13999, FLData!$C$2:$C$13999, \">=\"&fromDateI, FLData!$C$2:$C$13999, \"<=\" &toDateI, FLData!$J$2:$J$13999,$C199, FLData!$E$2:$E$13999, Sim2Types, FLData!$F$2:$F$13999, \"Operation\" ))*24","v":0},0,0,0]
[null,null,"",{"$f":"( SUMPRODUCT( SUMIFS( FLData!$AH$2:$AH$13999, FLData!$C$2:$C$13999, \">=\"&fromDateI, FLData!$C$2:$C$13999, \"<=\" &toDateI, FLData!$M$2:$M$13999,$C200, FLData!$E$2:$E$13999, SingleEngineTypes, FLData!$F$2:$F$13999, \"Lesson\" )) + SUMPRODUCT( SUMIFS( FLData!$AH$2:$AH$13999, FLData!$C$2:$C$13999, \">=\"&fromDateI, FLData!$C$2:$C$13999, \"<=\" &toDateI, FLData!$S$2:$S$13999,$C200, FLData!$E$2:$E$13999, SingleEngineTypes, FLData!$F$2:$F$13999, \"Rental\" )) )*24","v":0},{"$f":"SUMPRODUCT( SUMIFS( FLData!$AH$2:$AH$13999, FLData!$C$2:$C$13999, \">=\"&fromDateI, FLData!$C$2:$C$13999, \"<=\" &toDateI, FLData!$J$2:$J$13999,$C200, FLData!$E$2:$E$13999, SingleEngineTypes, FLData!$F$2:$F$13999, \"Operation\" ))*24","v":0},{"$f":"( SUMPRODUCT( SUMIFS( FLData!$AH$2:$AH$13999, FLData!$C$2:$C$13999, \">=\"&fromDateI, FLData!$C$2:$C$13999, \"<=\" &toDateI, FLData!$M$2:$M$13999,$C200, FLData!$E$2:$E$13999, MultiEngineTypes, FLData!$F$2:$F$13999, \"Lesson\" )) + SUMPRODUCT( SUMIFS( FLData!$AH$2:$AH$13999, FLData!$C$2:$C$13999, \">=\"&fromDateI, FLData!$C$2:$C$13999, \"<=\" &toDateI, FLData!$S$2:$S$13999,$C200, FLData!$E$2:$E$13999, MultiEngineTypes, FLData!$F$2:$F$13999, \"Rental\" )) )*24","v":0},{"$f":"SUMPRODUCT( SUMIFS( FLData!$AH$2:$AH$13999, FLData!$C$2:$C$13999, \">=\"&fromDateI, FLData!$C$2:$C$13999, \"<=\" &toDateI, FLData!$J$2:$J$13999,$C200, FLData!$E$2:$E$13999, MultiEngineTypes, FLData!$F$2:$F$13999, \"Operation\" ))*24","v":0},{"$f":"( SUMPRODUCT( SUMIFS( FLData!$AH$2:$AH$13999, FLData!$C$2:$C$13999, \">=\"&fromDateI, FLData!$C$2:$C$13999, \"<=\" &toDateI, FLData!$M$2:$M$13999,$C200, FLData!$E$2:$E$13999, Sim1Types, FLData!$F$2:$F$13999, \"Lesson\" )) + SUMPRODUCT( SUMIFS( FLData!$AH$2:$AH$13999, FLData!$C$2:$C$13999, \">=\"&fromDateI, FLData!$C$2:$C$13999, \"<=\" &toDateI, FLData!$S$2:$S$13999,$C200, FLData!$E$2:$E$13999, Sim1Types, FLData!$F$2:$F$13999, \"Rental\" )) )*24","v":0},{"$f":"SUMPRODUCT( SUMIFS( FLData!$AH$2:$AH$13999, FLData!$C$2:$C$13999, \">=\"&fromDateI, FLData!$C$2:$C$13999, \"<=\" &toDateI, FLData!$J$2:$J$13999,$C200, FLData!$E$2:$E$13999, Sim1Types, FLData!$F$2:$F$13999, \"Operation\" ))*24","v":0},{"$f":"( SUMPRODUCT( SUMIFS( FLData!$AH$2:$AH$13999, FLData!$C$2:$C$13999, \">=\"&fromDateI, FLData!$C$2:$C$13999, \"<=\" &toDateI, FLData!$M$2:$M$13999,$C200, FLData!$E$2:$E$13999, Sim2Types, FLData!$F$2:$F$13999, \"Lesson\" )) + SUMPRODUCT( SUMIFS( FLData!$AH$2:$AH$13999, FLData!$C$2:$C$13999, \">=\"&fromDateI, FLData!$C$2:$C$13999, \"<=\" &toDateI, FLData!$S$2:$S$13999,$C200, FLData!$E$2:$E$13999, Sim2Types, FLData!$F$2:$F$13999, \"Rental\" )) )*24","v":0},{"$f":"SUMPRODUCT( SUMIFS( FLData!$AH$2:$AH$13999, FLData!$C$2:$C$13999, \">=\"&fromDateI, FLData!$C$2:$C$13999, \"<=\" &toDateI, FLData!$J$2:$J$13999,$C200, FLData!$E$2:$E$13999, Sim2Types, FLData!$F$2:$F$13999, \"Operation\" ))*24","v":0},0,0,0]

{"sheet":"Activity - Students","index":5,"n_rows":301,"n_cols":4,"rows_kept":301,"cut":false,"hidden":false,"merged":[]}
[]
[]
[null,null,"Active Students",{"$f":"FLVersion","v":"V009"}]
[]
[null,null,"Student Names","#Flights"]
[null,null,{"$f":"IFERROR(INDEX(FLData!$P$2:$P$13999, MATCH(0, IF( ISBLANK(FLData!$P$2:$P$13999),1, COUNTIF( $C$5:C5, FLData!$P$2:$P$13999)), 0)),\"\")","v":""},{"$f":"IF( LEN(C6)>0,COUNTIF( FLData!$P$2:$P$13999,C6),\"\")","v":""}]
[null,null,{"$f":"IFERROR(INDEX(FLData!$P$2:$P$13999, MATCH(0, IF( ISBLANK(FLData!$P$2:$P$13999),1, COUNTIF( $C$5:C6, FLData!$P$2:$P$13999)), 0)),\"\")","v":""},{"$f":"IF( LEN(C7)>0,COUNTIF( FLData!$P$2:$P$13999,C7),\"\")","v":""}]
[null,null,{"$f":"IFERROR(INDEX(FLData!$P$2:$P$13999, MATCH(0, IF( ISBLANK(FLData!$P$2:$P$13999),1, COUNTIF( $C$5:C7, FLData!$P$2:$P$13999)), 0)),\"\")","v":""},{"$f":"IF( LEN(C8)>0,COUNTIF( FLData!$P$2:$P$13999,C8),\"\")","v":""}]
[null,null,{"$f":"IFERROR(INDEX(FLData!$P$2:$P$13999, MATCH(0, IF( ISBLANK(FLData!$P$2:$P$13999),1, COUNTIF( $C$5:C8, FLData!$P$2:$P$13999)), 0)),\"\")","v":""},{"$f":"IF( LEN(C9)>0,COUNTIF( FLData!$P$2:$P$13999,C9),\"\")","v":""}]
[null,null,{"$f":"IFERROR(INDEX(FLData!$P$2:$P$13999, MATCH(0, IF( ISBLANK(FLData!$P$2:$P$13999),1, COUNTIF( $C$5:C9, FLData!$P$2:$P$13999)), 0)),\"\")","v":""},{"$f":"IF( LEN(C10)>0,COUNTIF( FLData!$P$2:$P$13999,C10),\"\")","v":""}]
[null,null,{"$f":"IFERROR(INDEX(FLData!$P$2:$P$13999, MATCH(0, IF( ISBLANK(FLData!$P$2:$P$13999),1, COUNTIF( $C$5:C10, FLData!$P$2:$P$13999)), 0)),\"\")","v":""},{"$f":"IF( LEN(C11)>0,COUNTIF( FLData!$P$2:$P$13999,C11),\"\")","v":""}]
[null,null,{"$f":"IFERROR(INDEX(FLData!$P$2:$P$13999, MATCH(0, IF( ISBLANK(FLData!$P$2:$P$13999),1, COUNTIF( $C$5:C11, FLData!$P$2:$P$13999)), 0)),\"\")","v":""},{"$f":"IF( LEN(C12)>0,COUNTIF( FLData!$P$2:$P$13999,C12),\"\")","v":""}]
[null,null,{"$f":"IFERROR(INDEX(FLData!$P$2:$P$13999, MATCH(0, IF( ISBLANK(FLData!$P$2:$P$13999),1, COUNTIF( $C$5:C12, FLData!$P$2:$P$13999)), 0)),\"\")","v":""},{"$f":"IF( LEN(C13)>0,COUNTIF( FLData!$P$2:$P$13999,C13),\"\")","v":""}]
[null,null,{"$f":"IFERROR(INDEX(FLData!$P$2:$P$13999, MATCH(0, IF( ISBLANK(FLData!$P$2:$P$13999),1, COUNTIF( $C$5:C13, FLData!$P$2:$P$13999)), 0)),\"\")","v":""},{"$f":"IF( LEN(C14)>0,COUNTIF( FLData!$P$2:$P$13999,C14),\"\")","v":""}]
[null,null,{"$f":"IFERROR(INDEX(FLData!$P$2:$P$13999, MATCH(0, IF( ISBLANK(FLData!$P$2:$P$13999),1, COUNTIF( $C$5:C14, FLData!$P$2:$P$13999)), 0)),\"\")","v":""},{"$f":"IF( LEN(C15)>0,COUNTIF( FLData!$P$2:$P$13999,C15),\"\")","v":""}]
[null,null,{"$f":"IFERROR(INDEX(FLData!$P$2:$P$13999, MATCH(0, IF( ISBLANK(FLData!$P$2:$P$13999),1, COUNTIF( $C$5:C15, FLData!$P$2:$P$13999)), 0)),\"\")","v":""},{"$f":"IF( LEN(C16)>0,COUNTIF( FLData!$P$2:$P$13999,C16),\"\")","v":""}]
[null,null,{"$f":"IFERROR(INDEX(FLData!$P$2:$P$13999, MATCH(0, IF( ISBLANK(FLData!$P$2:$P$13999),1, COUNTIF( $C$5:C16, FLData!$P$2:$P$13999)), 0)),\"\")","v":""},{"$f":"IF( LEN(C17)>0,COUNTIF( FLData!$P$2:$P$13999,C17),\"\")","v":""}]
[null,null,{"$f":"IFERROR(INDEX(FLData!$P$2:$P$13999, MATCH(0, IF( ISBLANK(FLData!$P$2:$P$13999),1, COUNTIF( $C$5:C17, FLData!$P$2:$P$13999)), 0)),\"\")","v":""},{"$f":"IF( LEN(C18)>0,COUNTIF( FLData!$P$2:$P$13999,C18),\"\")","v":""}]
[null,null,{"$f":"IFERROR(INDEX(FLData!$P$2:$P$13999, MATCH(0, IF( ISBLANK(FLData!$P$2:$P$13999),1, COUNTIF( $C$5:C18, FLData!$P$2:$P$13999)), 0)),\"\")","v":""},{"$f":"IF( LEN(C19)>0,COUNTIF( FLData!$P$2:$P$13999,C19),\"\")","v":""}]
[null,null,{"$f":"IFERROR(INDEX(FLData!$P$2:$P$13999, MATCH(0, IF( ISBLANK(FLData!$P$2:$P$13999),1, COUNTIF( $C$5:C19, FLData!$P$2:$P$13999)), 0)),\"\")","v":""},{"$f":"IF( LEN(C20)>0,COUNTIF( FLData!$P$2:$P$13999,C20),\"\")","v":""}]
[null,null,{"$f":"IFERROR(INDEX(FLData!$P$2:$P$13999, MATCH(0, IF( ISBLANK(FLData!$P$2:$P$13999),1, COUNTIF( $C$5:C20, FLData!$P$2:$P$13999)), 0)),\"\")","v":""},{"$f":"IF( LEN(C21)>0,COUNTIF( FLData!$P$2:$P$13999,C21),\"\")","v":""}]
[null,null,{"$f":"IFERROR(INDEX(FLData!$P$2:$P$13999, MATCH(0, IF( ISBLANK(FLData!$P$2:$P$13999),1, COUNTIF( $C$5:C21, FLData!$P$2:$P$13999)), 0)),\"\")","v":""},{"$f":"IF( LEN(C22)>0,COUNTIF( FLData!$P$2:$P$13999,C22),\"\")","v":""}]
[null,null,{"$f":"IFERROR(INDEX(FLData!$P$2:$P$13999, MATCH(0, IF( ISBLANK(FLData!$P$2:$P$13999),1, COUNTIF( $C$5:C22, FLData!$P$2:$P$13999)), 0)),\"\")","v":""},{"$f":"IF( LEN(C23)>0,COUNTIF( FLData!$P$2:$P$13999,C23),\"\")","v":""}]
[null,null,{"$f":"IFERROR(INDEX(FLData!$P$2:$P$13999, MATCH(0, IF( ISBLANK(FLData!$P$2:$P$13999),1, COUNTIF( $C$5:C23, FLData!$P$2:$P$13999)), 0)),\"\")","v":""},{"$f":"IF( LEN(C24)>0,COUNTIF( FLData!$P$2:$P$13999,C24),\"\")","v":""}]
[null,null,{"$f":"IFERROR(INDEX(FLData!$P$2:$P$13999, MATCH(0, IF( ISBLANK(FLData!$P$2:$P$13999),1, COUNTIF( $C$5:C24, FLData!$P$2:$P$13999)), 0)),\"\")","v":""},{"$f":"IF( LEN(C25)>0,COUNTIF( FLData!$P$2:$P$13999,C25),\"\")","v":""}]
[null,null,{"$f":"IFERROR(INDEX(FLData!$P$2:$P$13999, MATCH(0, IF( ISBLANK(FLData!$P$2:$P$13999),1, COUNTIF( $C$5:C25, FLData!$P$2:$P$13999)), 0)),\"\")","v":""},{"$f":"IF( LEN(C26)>0,COUNTIF( FLData!$P$2:$P$13999,C26),\"\")","v":""}]
[null,null,{"$f":"IFERROR(INDEX(FLData!$P$2:$P$13999, MATCH(0, IF( ISBLANK(FLData!$P$2:$P$13999),1, COUNTIF( $C$5:C26, FLData!$P$2:$P$13999)), 0)),\"\")","v":""},{"$f":"IF( LEN(C27)>0,COUNTIF( FLData!$P$2:$P$13999,C27),\"\")","v":""}]
[null,null,{"$f":"IFERROR(INDEX(FLData!$P$2:$P$13999, MATCH(0, IF( ISBLANK(FLData!$P$2:$P$13999),1, COUNTIF( $C$5:C27, FLData!$P$2:$P$13999)), 0)),\"\")","v":""},{"$f":"IF( LEN(C28)>0,COUNTIF( FLData!$P$2:$P$13999,C28),\"\")","v":""}]
[null,null,{"$f":"IFERROR(INDEX(FLData!$P$2:$P$13999, MATCH(0, IF( ISBLANK(FLData!$P$2:$P$13999),1, COUNTIF( $C$5:C28, FLData!$P$2:$P$13999)), 0)),\"\")","v":""},{"$f":"IF( LEN(C29)>0,COUNTIF( FLData!$P$2:$P$13999,C29),\"\")","v":""}]
[null,null,{"$f":"IFERROR(INDEX(FLData!$P$2:$P$13999, MATCH(0, IF( ISBLANK(FLData!$P$2:$P$13999),1, COUNTIF( $C$5:C29, FLData!$P$2:$P$13999)), 0)),\"\")","v":""},{"$f":"IF( LEN(C30)>0,COUNTIF( FLData!$P$2:$P$13999,C30),\"\")","v":""}]
[null,null,{"$f":"IFERROR(INDEX(FLData!$P$2:$P$13999, MATCH(0, IF( ISBLANK(FLData!$P$2:$P$13999),1, COUNTIF( $C$5:C30, FLData!$P$2:$P$13999)), 0)),\"\")","v":""},{"$f":"IF( LEN(C31)>0,COUNTIF( FLData!$P$2:$P$13999,C31),\"\")","v":""}]
[null,null,{"$f":"IFERROR(INDEX(FLData!$P$2:$P$13999, MATCH(0, IF( ISBLANK(FLData!$P$2:$P$13999),1, COUNTIF( $C$5:C31, FLData!$P$2:$P$13999)), 0)),\"\")","v":""},{"$f":"IF( LEN(C32)>0,COUNTIF( FLData!$P$2:$P$13999,C32),\"\")","v":""}]
[null,null,{"$f":"IFERROR(INDEX(FLData!$P$2:$P$13999, MATCH(0, IF( ISBLANK(FLData!$P$2:$P$13999),1, COUNTIF( $C$5:C32, FLData!$P$2:$P$13999)), 0)),\"\")","v":""},{"$f":"IF( LEN(C33)>0,COUNTIF( FLData!$P$2:$P$13999,C33),\"\")","v":""}]
[null,null,{"$f":"IFERROR(INDEX(FLData!$P$2:$P$13999, MATCH(0, IF( ISBLANK(FLData!$P$2:$P$13999),1, COUNTIF( $C$5:C33, FLData!$P$2:$P$13999)), 0)),\"\")","v":""},{"$f":"IF( LEN(C34)>0,COUNTIF( FLData!$P$2:$P$13999,C34),\"\")","v":""}]
[null,null,{"$f":"IFERROR(INDEX(FLData!$P$2:$P$13999, MATCH(0, IF( ISBLANK(FLData!$P$2:$P$13999),1, COUNTIF( $C$5:C34, FLData!$P$2:$P$13999)), 0)),\"\")","v":""},{"$f":"IF( LEN(C35)>0,COUNTIF( FLData!$P$2:$P$13999,C35),\"\")","v":""}]
[null,null,{"$f":"IFERROR(INDEX(FLData!$P$2:$P$13999, MATCH(0, IF( ISBLANK(FLData!$P$2:$P$13999),1, COUNTIF( $C$5:C35, FLData!$P$2:$P$13999)), 0)),\"\")","v":""},{"$f":"IF( LEN(C36)>0,COUNTIF( FLData!$P$2:$P$13999,C36),\"\")","v":""}]
[null,null,{"$f":"IFERROR(INDEX(FLData!$P$2:$P$13999, MATCH(0, IF( ISBLANK(FLData!$P$2:$P$13999),1, COUNTIF( $C$5:C36, FLData!$P$2:$P$13999)), 0)),\"\")","v":""},{"$f":"IF( LEN(C37)>0,COUNTIF( FLData!$P$2:$P$13999,C37),\"\")","v":""}]
[null,null,{"$f":"IFERROR(INDEX(FLData!$P$2:$P$13999, MATCH(0, IF( ISBLANK(FLData!$P$2:$P$13999),1, COUNTIF( $C$5:C37, FLData!$P$2:$P$13999)), 0)),\"\")","v":""},{"$f":"IF( LEN(C38)>0,COUNTIF( FLData!$P$2:$P$13999,C38),\"\")","v":""}]
[null,null,{"$f":"IFERROR(INDEX(FLData!$P$2:$P$13999, MATCH(0, IF( ISBLANK(FLData!$P$2:$P$13999),1, COUNTIF( $C$5:C38, FLData!$P$2:$P$13999)), 0)),\"\")","v":""},{"$f":"IF( LEN(C39)>0,COUNTIF( FLData!$P$2:$P$13999,C39),\"\")","v":""}]
[null,null,{"$f":"IFERROR(INDEX(FLData!$P$2:$P$13999, MATCH(0, IF( ISBLANK(FLData!$P$2:$P$13999),1, COUNTIF( $C$5:C39, FLData!$P$2:$P$13999)), 0)),\"\")","v":""},{"$f":"IF( LEN(C40)>0,COUNTIF( FLData!$P$2:$P$13999,C40),\"\")","v":""}]
[null,null,{"$f":"IFERROR(INDEX(FLData!$P$2:$P$13999, MATCH(0, IF( ISBLANK(FLData!$P$2:$P$13999),1, COUNTIF( $C$5:C40, FLData!$P$2:$P$13999)), 0)),\"\")","v":""},{"$f":"IF( LEN(C41)>0,COUNTIF( FLData!$P$2:$P$13999,C41),\"\")","v":""}]
[null,null,{"$f":"IFERROR(INDEX(FLData!$P$2:$P$13999, MATCH(0, IF( ISBLANK(FLData!$P$2:$P$13999),1, COUNTIF( $C$5:C41, FLData!$P$2:$P$13999)), 0)),\"\")","v":""},{"$f":"IF( LEN(C42)>0,COUNTIF( FLData!$P$2:$P$13999,C42),\"\")","v":""}]
[null,null,{"$f":"IFERROR(INDEX(FLData!$P$2:$P$13999, MATCH(0, IF( ISBLANK(FLData!$P$2:$P$13999),1, COUNTIF( $C$5:C42, FLData!$P$2:$P$13999)), 0)),\"\")","v":""},{"$f":"IF( LEN(C43)>0,COUNTIF( FLData!$P$2:$P$13999,C43),\"\")","v":""}]
[null,null,{"$f":"IFERROR(INDEX(FLData!$P$2:$P$13999, MATCH(0, IF( ISBLANK(FLData!$P$2:$P$13999),1, COUNTIF( $C$5:C43, FLData!$P$2:$P$13999)), 0)),\"\")","v":""},{"$f":"IF( LEN(C44)>0,COUNTIF( FLData!$P$2:$P$13999,C44),\"\")","v":""}]
[null,null,{"$f":"IFERROR(INDEX(FLData!$P$2:$P$13999, MATCH(0, IF( ISBLANK(FLData!$P$2:$P$13999),1, COUNTIF( $C$5:C44, FLData!$P$2:$P$13999)), 0)),\"\")","v":""},{"$f":"IF( LEN(C45)>0,COUNTIF( FLData!$P$2:$P$13999,C45),\"\")","v":""}]
[null,null,{"$f":"IFERROR(INDEX(FLData!$P$2:$P$13999, MATCH(0, IF( ISBLANK(FLData!$P$2:$P$13999),1, COUNTIF( $C$5:C45, FLData!$P$2:$P$13999)), 0)),\"\")","v":""},{"$f":"IF( LEN(C46)>0,COUNTIF( FLData!$P$2:$P$13999,C46),\"\")","v":""}]
[null,null,{"$f":"IFERROR(INDEX(FLData!$P$2:$P$13999, MATCH(0, IF( ISBLANK(FLData!$P$2:$P$13999),1, COUNTIF( $C$5:C46, FLData!$P$2:$P$13999)), 0)),\"\")","v":""},{"$f":"IF( LEN(C47)>0,COUNTIF( FLData!$P$2:$P$13999,C47),\"\")","v":""}]
[null,null,{"$f":"IFERROR(INDEX(FLData!$P$2:$P$13999, MATCH(0, IF( ISBLANK(FLData!$P$2:$P$13999),1, COUNTIF( $C$5:C47, FLData!$P$2:$P$13999)), 0)),\"\")","v":""},{"$f":"IF( LEN(C48)>0,COUNTIF( FLData!$P$2:$P$13999,C48),\"\")","v":""}]
[null,null,{"$f":"IFERROR(INDEX(FLData!$P$2:$P$13999, MATCH(0, IF( ISBLANK(FLData!$P$2:$P$13999),1, COUNTIF( $C$5:C48, FLData!$P$2:$P$13999)), 0)),\"\")","v":""},{"$f":"IF( LEN(C49)>0,COUNTIF( FLData!$P$2:$P$13999,C49),\"\")","v":""}]
[null,null,{"$f":"IFERROR(INDEX(FLData!$P$2:$P$13999, MATCH(0, IF( ISBLANK(FLData!$P$2:$P$13999),1, COUNTIF( $C$5:C49, FLData!$P$2:$P$13999)), 0)),\"\")","v":""},{"$f":"IF( LEN(C50)>0,COUNTIF( FLData!$P$2:$P$13999,C50),\"\")","v":""}]
[null,null,{"$f":"IFERROR(INDEX(FLData!$P$2:$P$13999, MATCH(0, IF( ISBLANK(FLData!$P$2:$P$13999),1, COUNTIF( $C$5:C50, FLData!$P$2:$P$13999)), 0)),\"\")","v":""},{"$f":"IF( LEN(C51)>0,COUNTIF( FLData!$P$2:$P$13999,C51),\"\")","v":""}]
[null,null,{"$f":"IFERROR(INDEX(FLData!$P$2:$P$9000, MATCH(0, IF( ISBLANK(FLData!$P$2:$P$9000),1, COUNTIF( $C$5:C51, FLData!$P$2:$P$9000)), 0)),\"\")","v":""},{"$f":"IF( LEN(C52)>0,COUNTIF( FLData!$P$2:$P$13999,C52),\"\")","v":""}]
[null,null,{"$f":"IFERROR(INDEX(FLData!$P$2:$P$9000, MATCH(0, IF( ISBLANK(FLData!$P$2:$P$9000),1, COUNTIF( $C$5:C52, FLData!$P$2:$P$9000)), 0)),\"\")","v":""},{"$f":"IF( LEN(C53)>0,COUNTIF( FLData!$P$2:$P$13999,C53),\"\")","v":""}]
[null,null,{"$f":"IFERROR(INDEX(FLData!$P$2:$P$9000, MATCH(0, IF( ISBLANK(FLData!$P$2:$P$9000),1, COUNTIF( $C$5:C53, FLData!$P$2:$P$9000)), 0)),\"\")","v":""},{"$f":"IF( LEN(C54)>0,COUNTIF( FLData!$P$2:$P$13999,C54),\"\")","v":""}]
[null,null,{"$f":"IFERROR(INDEX(FLData!$P$2:$P$9000, MATCH(0, IF( ISBLANK(FLData!$P$2:$P$9000),1, COUNTIF( $C$5:C54, FLData!$P$2:$P$9000)), 0)),\"\")","v":""},{"$f":"IF( LEN(C55)>0,COUNTIF( FLData!$P$2:$P$13999,C55),\"\")","v":""}]
[null,null,{"$f":"IFERROR(INDEX(FLData!$P$2:$P$9000, MATCH(0, IF( ISBLANK(FLData!$P$2:$P$9000),1, COUNTIF( $C$5:C55, FLData!$P$2:$P$9000)), 0)),\"\")","v":""},{"$f":"IF( LEN(C56)>0,COUNTIF( FLData!$P$2:$P$13999,C56),\"\")","v":""}]
[null,null,{"$f":"IFERROR(INDEX(FLData!$P$2:$P$9000, MATCH(0, IF( ISBLANK(FLData!$P$2:$P$9000),1, COUNTIF( $C$5:C56, FLData!$P$2:$P$9000)), 0)),\"\")","v":""},{"$f":"IF( LEN(C57)>0,COUNTIF( FLData!$P$2:$P$13999,C57),\"\")","v":""}]
[null,null,{"$f":"IFERROR(INDEX(FLData!$P$2:$P$9000, MATCH(0, IF( ISBLANK(FLData!$P$2:$P$9000),1, COUNTIF( $C$5:C57, FLData!$P$2:$P$9000)), 0)),\"\")","v":""},{"$f":"IF( LEN(C58)>0,COUNTIF( FLData!$P$2:$P$13999,C58),\"\")","v":""}]
[null,null,{"$f":"IFERROR(INDEX(FLData!$P$2:$P$9000, MATCH(0, IF( ISBLANK(FLData!$P$2:$P$9000),1, COUNTIF( $C$5:C58, FLData!$P$2:$P$9000)), 0)),\"\")","v":""},{"$f":"IF( LEN(C59)>0,COUNTIF( FLData!$P$2:$P$13999,C59),\"\")","v":""}]
[null,null,{"$f":"IFERROR(INDEX(FLData!$P$2:$P$9000, MATCH(0, IF( ISBLANK(FLData!$P$2:$P$9000),1, COUNTIF( $C$5:C59, FLData!$P$2:$P$9000)), 0)),\"\")","v":""},{"$f":"IF( LEN(C60)>0,COUNTIF( FLData!$P$2:$P$13999,C60),\"\")","v":""}]
[null,null,{"$f":"IFERROR(INDEX(FLData!$P$2:$P$9000, MATCH(0, IF( ISBLANK(FLData!$P$2:$P$9000),1, COUNTIF( $C$5:C60, FLData!$P$2:$P$9000)), 0)),\"\")","v":""},{"$f":"IF( LEN(C61)>0,COUNTIF( FLData!$P$2:$P$13999,C61),\"\")","v":""}]
[null,null,{"$f":"IFERROR(INDEX(FLData!$P$2:$P$9000, MATCH(0, IF( ISBLANK(FLData!$P$2:$P$9000),1, COUNTIF( $C$5:C61, FLData!$P$2:$P$9000)), 0)),\"\")","v":""},{"$f":"IF( LEN(C62)>0,COUNTIF( FLData!$P$2:$P$13999,C62),\"\")","v":""}]
[null,null,{"$f":"IFERROR(INDEX(FLData!$P$2:$P$9000, MATCH(0, IF( ISBLANK(FLData!$P$2:$P$9000),1, COUNTIF( $C$5:C62, FLData!$P$2:$P$9000)), 0)),\"\")","v":""},{"$f":"IF( LEN(C63)>0,COUNTIF( FLData!$P$2:$P$13999,C63),\"\")","v":""}]
[null,null,{"$f":"IFERROR(INDEX(FLData!$P$2:$P$9000, MATCH(0, IF( ISBLANK(FLData!$P$2:$P$9000),1, COUNTIF( $C$5:C63, FLData!$P$2:$P$9000)), 0)),\"\")","v":""},{"$f":"IF( LEN(C64)>0,COUNTIF( FLData!$P$2:$P$13999,C64),\"\")","v":""}]
[null,null,{"$f":"IFERROR(INDEX(FLData!$P$2:$P$9000, MATCH(0, IF( ISBLANK(FLData!$P$2:$P$9000),1, COUNTIF( $C$5:C64, FLData!$P$2:$P$9000)), 0)),\"\")","v":""},{"$f":"IF( LEN(C65)>0,COUNTIF( FLData!$P$2:$P$13999,C65),\"\")","v":""}]
[null,null,{"$f":"IFERROR(INDEX(FLData!$P$2:$P$9000, MATCH(0, IF( ISBLANK(FLData!$P$2:$P$9000),1, COUNTIF( $C$5:C65, FLData!$P$2:$P$9000)), 0)),\"\")","v":""},{"$f":"IF( LEN(C66)>0,COUNTIF( FLData!$P$2:$P$13999,C66),\"\")","v":""}]
[null,null,{"$f":"IFERROR(INDEX(FLData!$P$2:$P$9000, MATCH(0, IF( ISBLANK(FLData!$P$2:$P$9000),1, COUNTIF( $C$5:C66, FLData!$P$2:$P$9000)), 0)),\"\")","v":""},{"$f":"IF( LEN(C67)>0,COUNTIF( FLData!$P$2:$P$13999,C67),\"\")","v":""}]
[null,null,{"$f":"IFERROR(INDEX(FLData!$P$2:$P$9000, MATCH(0, IF( ISBLANK(FLData!$P$2:$P$9000),1, COUNTIF( $C$5:C67, FLData!$P$2:$P$9000)), 0)),\"\")","v":""},{"$f":"IF( LEN(C68)>0,COUNTIF( FLData!$P$2:$P$13999,C68),\"\")","v":""}]
[null,null,{"$f":"IFERROR(INDEX(FLData!$P$2:$P$9000, MATCH(0, IF( ISBLANK(FLData!$P$2:$P$9000),1, COUNTIF( $C$5:C68, FLData!$P$2:$P$9000)), 0)),\"\")","v":""},{"$f":"IF( LEN(C69)>0,COUNTIF( FLData!$P$2:$P$13999,C69),\"\")","v":""}]
[null,null,{"$f":"IFERROR(INDEX(FLData!$P$2:$P$9000, MATCH(0, IF( ISBLANK(FLData!$P$2:$P$9000),1, COUNTIF( $C$5:C69, FLData!$P$2:$P$9000)), 0)),\"\")","v":""},{"$f":"IF( LEN(C70)>0,COUNTIF( FLData!$P$2:$P$13999,C70),\"\")","v":""}]
[null,null,{"$f":"IFERROR(INDEX(FLData!$P$2:$P$9000, MATCH(0, IF( ISBLANK(FLData!$P$2:$P$9000),1, COUNTIF( $C$5:C70, FLData!$P$2:$P$9000)), 0)),\"\")","v":""},{"$f":"IF( LEN(C71)>0,COUNTIF( FLData!$P$2:$P$13999,C71),\"\")","v":""}]
[null,null,{"$f":"IFERROR(INDEX(FLData!$P$2:$P$9000, MATCH(0, IF( ISBLANK(FLData!$P$2:$P$9000),1, COUNTIF( $C$5:C71, FLData!$P$2:$P$9000)), 0)),\"\")","v":""},{"$f":"IF( LEN(C72)>0,COUNTIF( FLData!$P$2:$P$13999,C72),\"\")","v":""}]
[null,null,{"$f":"IFERROR(INDEX(FLData!$P$2:$P$9000, MATCH(0, IF( ISBLANK(FLData!$P$2:$P$9000),1, COUNTIF( $C$5:C72, FLData!$P$2:$P$9000)), 0)),\"\")","v":""},{"$f":"IF( LEN(C73)>0,COUNTIF( FLData!$P$2:$P$13999,C73),\"\")","v":""}]
[null,null,{"$f":"IFERROR(INDEX(FLData!$P$2:$P$9000, MATCH(0, IF( ISBLANK(FLData!$P$2:$P$9000),1, COUNTIF( $C$5:C73, FLData!$P$2:$P$9000)), 0)),\"\")","v":""},{"$f":"IF( LEN(C74)>0,COUNTIF( FLData!$P$2:$P$13999,C74),\"\")","v":""}]
[null,null,{"$f":"IFERROR(INDEX(FLData!$P$2:$P$9000, MATCH(0, IF( ISBLANK(FLData!$P$2:$P$9000),1, COUNTIF( $C$5:C74, FLData!$P$2:$P$9000)), 0)),\"\")","v":""},{"$f":"IF( LEN(C75)>0,COUNTIF( FLData!$P$2:$P$13999,C75),\"\")","v":""}]
[null,null,{"$f":"IFERROR(INDEX(FLData!$P$2:$P$9000, MATCH(0, IF( ISBLANK(FLData!$P$2:$P$9000),1, COUNTIF( $C$5:C75, FLData!$P$2:$P$9000)), 0)),\"\")","v":""},{"$f":"IF( LEN(C76)>0,COUNTIF( FLData!$P$2:$P$13999,C76),\"\")","v":""}]
[null,null,{"$f":"IFERROR(INDEX(FLData!$P$2:$P$9000, MATCH(0, IF( ISBLANK(FLData!$P$2:$P$9000),1, COUNTIF( $C$5:C76, FLData!$P$2:$P$9000)), 0)),\"\")","v":""},{"$f":"IF( LEN(C77)>0,COUNTIF( FLData!$P$2:$P$13999,C77),\"\")","v":""}]
[null,null,{"$f":"IFERROR(INDEX(FLData!$P$2:$P$9000, MATCH(0, IF( ISBLANK(FLData!$P$2:$P$9000),1, COUNTIF( $C$5:C77, FLData!$P$2:$P$9000)), 0)),\"\")","v":""},{"$f":"IF( LEN(C78)>0,COUNTIF( FLData!$P$2:$P$13999,C78),\"\")","v":""}]
[null,null,{"$f":"IFERROR(INDEX(FLData!$P$2:$P$9000, MATCH(0, IF( ISBLANK(FLData!$P$2:$P$9000),1, COUNTIF( $C$5:C78, FLData!$P$2:$P$9000)), 0)),\"\")","v":""},{"$f":"IF( LEN(C79)>0,COUNTIF( FLData!$P$2:$P$13999,C79),\"\")","v":""}]
[null,null,{"$f":"IFERROR(INDEX(FLData!$P$2:$P$9000, MATCH(0, IF( ISBLANK(FLData!$P$2:$P$9000),1, COUNTIF( $C$5:C79, FLData!$P$2:$P$9000)), 0)),\"\")","v":""},{"$f":"IF( LEN(C80)>0,COUNTIF( FLData!$P$2:$P$13999,C80),\"\")","v":""}]
[null,null,{"$f":"IFERROR(INDEX(FLData!$P$2:$P$9000, MATCH(0, IF( ISBLANK(FLData!$P$2:$P$9000),1, COUNTIF( $C$5:C80, FLData!$P$2:$P$9000)), 0)),\"\")","v":""},{"$f":"IF( LEN(C81)>0,COUNTIF( FLData!$P$2:$P$13999,C81),\"\")","v":""}]
[null,null,{"$f":"IFERROR(INDEX(FLData!$P$2:$P$9000, MATCH(0, IF( ISBLANK(FLData!$P$2:$P$9000),1, COUNTIF( $C$5:C81, FLData!$P$2:$P$9000)), 0)),\"\")","v":""},{"$f":"IF( LEN(C82)>0,COUNTIF( FLData!$P$2:$P$13999,C82),\"\")","v":""}]
[null,null,{"$f":"IFERROR(INDEX(FLData!$P$2:$P$9000, MATCH(0, IF( ISBLANK(FLData!$P$2:$P$9000),1, COUNTIF( $C$5:C82, FLData!$P$2:$P$9000)), 0)),\"\")","v":""},{"$f":"IF( LEN(C83)>0,COUNTIF( FLData!$P$2:$P$13999,C83),\"\")","v":""}]
[null,null,{"$f":"IFERROR(INDEX(FLData!$P$2:$P$9000, MATCH(0, IF( ISBLANK(FLData!$P$2:$P$9000),1, COUNTIF( $C$5:C83, FLData!$P$2:$P$9000)), 0)),\"\")","v":""},{"$f":"IF( LEN(C84)>0,COUNTIF( FLData!$P$2:$P$13999,C84),\"\")","v":""}]
[null,null,{"$f":"IFERROR(INDEX(FLData!$P$2:$P$9000, MATCH(0, IF( ISBLANK(FLData!$P$2:$P$9000),1, COUNTIF( $C$5:C84, FLData!$P$2:$P$9000)), 0)),\"\")","v":""},{"$f":"IF( LEN(C85)>0,COUNTIF( FLData!$P$2:$P$13999,C85),\"\")","v":""}]
[null,null,{"$f":"IFERROR(INDEX(FLData!$P$2:$P$9000, MATCH(0, IF( ISBLANK(FLData!$P$2:$P$9000),1, COUNTIF( $C$5:C85, FLData!$P$2:$P$9000)), 0)),\"\")","v":""},{"$f":"IF( LEN(C86)>0,COUNTIF( FLData!$P$2:$P$13999,C86),\"\")","v":""}]
[null,null,{"$f":"IFERROR(INDEX(FLData!$P$2:$P$9000, MATCH(0, IF( ISBLANK(FLData!$P$2:$P$9000),1, COUNTIF( $C$5:C86, FLData!$P$2:$P$9000)), 0)),\"\")","v":""},{"$f":"IF( LEN(C87)>0,COUNTIF( FLData!$P$2:$P$13999,C87),\"\")","v":""}]
[null,null,{"$f":"IFERROR(INDEX(FLData!$P$2:$P$9000, MATCH(0, IF( ISBLANK(FLData!$P$2:$P$9000),1, COUNTIF( $C$5:C87, FLData!$P$2:$P$9000)), 0)),\"\")","v":""},{"$f":"IF( LEN(C88)>0,COUNTIF( FLData!$P$2:$P$13999,C88),\"\")","v":""}]
[null,null,{"$f":"IFERROR(INDEX(FLData!$P$2:$P$9000, MATCH(0, IF( ISBLANK(FLData!$P$2:$P$9000),1, COUNTIF( $C$5:C88, FLData!$P$2:$P$9000)), 0)),\"\")","v":""},{"$f":"IF( LEN(C89)>0,COUNTIF( FLData!$P$2:$P$13999,C89),\"\")","v":""}]
[null,null,{"$f":"IFERROR(INDEX(FLData!$P$2:$P$9000, MATCH(0, IF( ISBLANK(FLData!$P$2:$P$9000),1, COUNTIF( $C$5:C89, FLData!$P$2:$P$9000)), 0)),\"\")","v":""},{"$f":"IF( LEN(C90)>0,COUNTIF( FLData!$P$2:$P$13999,C90),\"\")","v":""}]
[null,null,{"$f":"IFERROR(INDEX(FLData!$P$2:$P$9000, MATCH(0, IF( ISBLANK(FLData!$P$2:$P$9000),1, COUNTIF( $C$5:C90, FLData!$P$2:$P$9000)), 0)),\"\")","v":""},{"$f":"IF( LEN(C91)>0,COUNTIF( FLData!$P$2:$P$13999,C91),\"\")","v":""}]
[null,null,{"$f":"IFERROR(INDEX(FLData!$P$2:$P$9000, MATCH(0, IF( ISBLANK(FLData!$P$2:$P$9000),1, COUNTIF( $C$5:C91, FLData!$P$2:$P$9000)), 0)),\"\")","v":""},{"$f":"IF( LEN(C92)>0,COUNTIF( FLData!$P$2:$P$13999,C92),\"\")","v":""}]
[null,null,{"$f":"IFERROR(INDEX(FLData!$P$2:$P$9000, MATCH(0, IF( ISBLANK(FLData!$P$2:$P$9000),1, COUNTIF( $C$5:C92, FLData!$P$2:$P$9000)), 0)),\"\")","v":""},{"$f":"IF( LEN(C93)>0,COUNTIF( FLData!$P$2:$P$13999,C93),\"\")","v":""}]
[null,null,{"$f":"IFERROR(INDEX(FLData!$P$2:$P$9000, MATCH(0, IF( ISBLANK(FLData!$P$2:$P$9000),1, COUNTIF( $C$5:C93, FLData!$P$2:$P$9000)), 0)),\"\")","v":""},{"$f":"IF( LEN(C94)>0,COUNTIF( FLData!$P$2:$P$13999,C94),\"\")","v":""}]
[null,null,{"$f":"IFERROR(INDEX(FLData!$P$2:$P$9000, MATCH(0, IF( ISBLANK(FLData!$P$2:$P$9000),1, COUNTIF( $C$5:C94, FLData!$P$2:$P$9000)), 0)),\"\")","v":""},{"$f":"IF( LEN(C95)>0,COUNTIF( FLData!$P$2:$P$13999,C95),\"\")","v":""}]
[null,null,{"$f":"IFERROR(INDEX(FLData!$P$2:$P$9000, MATCH(0, IF( ISBLANK(FLData!$P$2:$P$9000),1, COUNTIF( $C$5:C95, FLData!$P$2:$P$9000)), 0)),\"\")","v":""},{"$f":"IF( LEN(C96)>0,COUNTIF( FLData!$P$2:$P$13999,C96),\"\")","v":""}]
[null,null,{"$f":"IFERROR(INDEX(FLData!$P$2:$P$9000, MATCH(0, IF( ISBLANK(FLData!$P$2:$P$9000),1, COUNTIF( $C$5:C96, FLData!$P$2:$P$9000)), 0)),\"\")","v":""},{"$f":"IF( LEN(C97)>0,COUNTIF( FLData!$P$2:$P$13999,C97),\"\")","v":""}]
[null,null,{"$f":"IFERROR(INDEX(FLData!$P$2:$P$9000, MATCH(0, IF( ISBLANK(FLData!$P$2:$P$9000),1, COUNTIF( $C$5:C97, FLData!$P$2:$P$9000)), 0)),\"\")","v":""},{"$f":"IF( LEN(C98)>0,COUNTIF( FLData!$P$2:$P$13999,C98),\"\")","v":""}]
[null,null,{"$f":"IFERROR(INDEX(FLData!$P$2:$P$9000, MATCH(0, IF( ISBLANK(FLData!$P$2:$P$9000),1, COUNTIF( $C$5:C98, FLData!$P$2:$P$9000)), 0)),\"\")","v":""},{"$f":"IF( LEN(C99)>0,COUNTIF( FLData!$P$2:$P$13999,C99),\"\")","v":""}]
[null,null,{"$f":"IFERROR(INDEX(FLData!$P$2:$P$9000, MATCH(0, IF( ISBLANK(FLData!$P$2:$P$9000),1, COUNTIF( $C$5:C99, FLData!$P$2:$P$9000)), 0)),\"\")","v":""},{"$f":"IF( LEN(C100)>0,COUNTIF( FLData!$P$2:$P$13999,C100),\"\")","v":""}]
[null,null,{"$f":"IFERROR(INDEX(FLData!$P$2:$P$9000, MATCH(0, IF( ISBLANK(FLData!$P$2:$P$9000),1, COUNTIF( $C$5:C100, FLData!$P$2:$P$9000)), 0)),\"\")","v":""},{"$f":"IF( LEN(C101)>0,COUNTIF( FLData!$P$2:$P$13999,C101),\"\")","v":""}]
[null,null,{"$f":"IFERROR(INDEX(FLData!$P$2:$P$9000, MATCH(0, IF( ISBLANK(FLData!$P$2:$P$9000),1, COUNTIF( $C$5:C101, FLData!$P$2:$P$9000)), 0)),\"\")","v":""},{"$f":"IF( LEN(C102)>0,COUNTIF( FLData!$P$2:$P$13999,C102),\"\")","v":""}]
[null,null,{"$f":"IFERROR(INDEX(FLData!$P$2:$P$9000, MATCH(0, IF( ISBLANK(FLData!$P$2:$P$9000),1, COUNTIF( $C$5:C102, FLData!$P$2:$P$9000)), 0)),\"\")","v":""},{"$f":"IF( LEN(C103)>0,COUNTIF( FLData!$P$2:$P$13999,C103),\"\")","v":""}]
[null,null,{"$f":"IFERROR(INDEX(FLData!$P$2:$P$9000, MATCH(0, IF( ISBLANK(FLData!$P$2:$P$9000),1, COUNTIF( $C$5:C103, FLData!$P$2:$P$9000)), 0)),\"\")","v":""},{"$f":"IF( LEN(C104)>0,COUNTIF( FLData!$P$2:$P$13999,C104),\"\")","v":""}]
[null,null,{"$f":"IFERROR(INDEX(FLData!$P$2:$P$9000, MATCH(0, IF( ISBLANK(FLData!$P$2:$P$9000),1, COUNTIF( $C$5:C104, FLData!$P$2:$P$9000)), 0)),\"\")","v":""},{"$f":"IF( LEN(C105)>0,COUNTIF( FLData!$P$2:$P$13999,C105),\"\")","v":""}]
[null,null,{"$f":"IFERROR(INDEX(FLData!$P$2:$P$9000, MATCH(0, IF( ISBLANK(FLData!$P$2:$P$9000),1, COUNTIF( $C$5:C105, FLData!$P$2:$P$9000)), 0)),\"\")","v":""},{"$f":"IF( LEN(C106)>0,COUNTIF( FLData!$P$2:$P$13999,C106),\"\")","v":""}]
[null,null,{"$f":"IFERROR(INDEX(FLData!$P$2:$P$9000, MATCH(0, IF( ISBLANK(FLData!$P$2:$P$9000),1, COUNTIF( $C$5:C106, FLData!$P$2:$P$9000)), 0)),\"\")","v":""},{"$f":"IF( LEN(C107)>0,COUNTIF( FLData!$P$2:$P$13999,C107),\"\")","v":""}]
[null,null,{"$f":"IFERROR(INDEX(FLData!$P$2:$P$9000, MATCH(0, IF( ISBLANK(FLData!$P$2:$P$9000),1, COUNTIF( $C$5:C107, FLData!$P$2:$P$9000)), 0)),\"\")","v":""},{"$f":"IF( LEN(C108)>0,COUNTIF( FLData!$P$2:$P$13999,C108),\"\")","v":""}]
[null,null,{"$f":"IFERROR(INDEX(FLData!$P$2:$P$9000, MATCH(0, IF( ISBLANK(FLData!$P$2:$P$9000),1, COUNTIF( $C$5:C108, FLData!$P$2:$P$9000)), 0)),\"\")","v":""},{"$f":"IF( LEN(C109)>0,COUNTIF( FLData!$P$2:$P$13999,C109),\"\")","v":""}]
[null,null,{"$f":"IFERROR(INDEX(FLData!$P$2:$P$9000, MATCH(0, IF( ISBLANK(FLData!$P$2:$P$9000),1, COUNTIF( $C$5:C109, FLData!$P$2:$P$9000)), 0)),\"\")","v":""},{"$f":"IF( LEN(C110)>0,COUNTIF( FLData!$P$2:$P$13999,C110),\"\")","v":""}]
[null,null,{"$f":"IFERROR(INDEX(FLData!$P$2:$P$9000, MATCH(0, IF( ISBLANK(FLData!$P$2:$P$9000),1, COUNTIF( $C$5:C110, FLData!$P$2:$P$9000)), 0)),\"\")","v":""},{"$f":"IF( LEN(C111)>0,COUNTIF( FLData!$P$2:$P$13999,C111),\"\")","v":""}]
[null,null,{"$f":"IFERROR(INDEX(FLData!$P$2:$P$9000, MATCH(0, IF( ISBLANK(FLData!$P$2:$P$9000),1, COUNTIF( $C$5:C111, FLData!$P$2:$P$9000)), 0)),\"\")","v":""},{"$f":"IF( LEN(C112)>0,COUNTIF( FLData!$P$2:$P$13999,C112),\"\")","v":""}]
[null,null,{"$f":"IFERROR(INDEX(FLData!$P$2:$P$9000, MATCH(0, IF( ISBLANK(FLData!$P$2:$P$9000),1, COUNTIF( $C$5:C112, FLData!$P$2:$P$9000)), 0)),\"\")","v":""},{"$f":"IF( LEN(C113)>0,COUNTIF( FLData!$P$2:$P$13999,C113),\"\")","v":""}]
[null,null,{"$f":"IFERROR(INDEX(FLData!$P$2:$P$9000, MATCH(0, IF( ISBLANK(FLData!$P$2:$P$9000),1, COUNTIF( $C$5:C113, FLData!$P$2:$P$9000)), 0)),\"\")","v":""},{"$f":"IF( LEN(C114)>0,COUNTIF( FLData!$P$2:$P$13999,C114),\"\")","v":""}]
[null,null,{"$f":"IFERROR(INDEX(FLData!$P$2:$P$9000, MATCH(0, IF( ISBLANK(FLData!$P$2:$P$9000),1, COUNTIF( $C$5:C114, FLData!$P$2:$P$9000)), 0)),\"\")","v":""},{"$f":"IF( LEN(C115)>0,COUNTIF( FLData!$P$2:$P$13999,C115),\"\")","v":""}]
[null,null,{"$f":"IFERROR(INDEX(FLData!$P$2:$P$9000, MATCH(0, IF( ISBLANK(FLData!$P$2:$P$9000),1, COUNTIF( $C$5:C115, FLData!$P$2:$P$9000)), 0)),\"\")","v":""},{"$f":"IF( LEN(C116)>0,COUNTIF( FLData!$P$2:$P$13999,C116),\"\")","v":""}]
[null,null,{"$f":"IFERROR(INDEX(FLData!$P$2:$P$9000, MATCH(0, IF( ISBLANK(FLData!$P$2:$P$9000),1, COUNTIF( $C$5:C116, FLData!$P$2:$P$9000)), 0)),\"\")","v":""},{"$f":"IF( LEN(C117)>0,COUNTIF( FLData!$P$2:$P$13999,C117),\"\")","v":""}]
[null,null,{"$f":"IFERROR(INDEX(FLData!$P$2:$P$9000, MATCH(0, IF( ISBLANK(FLData!$P$2:$P$9000),1, COUNTIF( $C$5:C117, FLData!$P$2:$P$9000)), 0)),\"\")","v":""},{"$f":"IF( LEN(C118)>0,COUNTIF( FLData!$P$2:$P$13999,C118),\"\")","v":""}]
[null,null,{"$f":"IFERROR(INDEX(FLData!$P$2:$P$9000, MATCH(0, IF( ISBLANK(FLData!$P$2:$P$9000),1, COUNTIF( $C$5:C118, FLData!$P$2:$P$9000)), 0)),\"\")","v":""},{"$f":"IF( LEN(C119)>0,COUNTIF( FLData!$P$2:$P$13999,C119),\"\")","v":""}]
[null,null,{"$f":"IFERROR(INDEX(FLData!$P$2:$P$9000, MATCH(0, IF( ISBLANK(FLData!$P$2:$P$9000),1, COUNTIF( $C$5:C119, FLData!$P$2:$P$9000)), 0)),\"\")","v":""},{"$f":"IF( LEN(C120)>0,COUNTIF( FLData!$P$2:$P$13999,C120),\"\")","v":""}]
[null,null,{"$f":"IFERROR(INDEX(FLData!$P$2:$P$9000, MATCH(0, IF( ISBLANK(FLData!$P$2:$P$9000),1, COUNTIF( $C$5:C120, FLData!$P$2:$P$9000)), 0)),\"\")","v":""},{"$f":"IF( LEN(C121)>0,COUNTIF( FLData!$P$2:$P$13999,C121),\"\")","v":""}]
[null,null,{"$f":"IFERROR(INDEX(FLData!$P$2:$P$9000, MATCH(0, IF( ISBLANK(FLData!$P$2:$P$9000),1, COUNTIF( $C$5:C121, FLData!$P$2:$P$9000)), 0)),\"\")","v":""},{"$f":"IF( LEN(C122)>0,COUNTIF( FLData!$P$2:$P$13999,C122),\"\")","v":""}]
[null,null,{"$f":"IFERROR(INDEX(FLData!$P$2:$P$9000, MATCH(0, IF( ISBLANK(FLData!$P$2:$P$9000),1, COUNTIF( $C$5:C122, FLData!$P$2:$P$9000)), 0)),\"\")","v":""},{"$f":"IF( LEN(C123)>0,COUNTIF( FLData!$P$2:$P$13999,C123),\"\")","v":""}]
[null,null,{"$f":"IFERROR(INDEX(FLData!$P$2:$P$9000, MATCH(0, IF( ISBLANK(FLData!$P$2:$P$9000),1, COUNTIF( $C$5:C123, FLData!$P$2:$P$9000)), 0)),\"\")","v":""},{"$f":"IF( LEN(C124)>0,COUNTIF( FLData!$P$2:$P$13999,C124),\"\")","v":""}]
[null,null,{"$f":"IFERROR(INDEX(FLData!$P$2:$P$9000, MATCH(0, IF( ISBLANK(FLData!$P$2:$P$9000),1, COUNTIF( $C$5:C124, FLData!$P$2:$P$9000)), 0)),\"\")","v":""},{"$f":"IF( LEN(C125)>0,COUNTIF( FLData!$P$2:$P$13999,C125),\"\")","v":""}]
[null,null,{"$f":"IFERROR(INDEX(FLData!$P$2:$P$9000, MATCH(0, IF( ISBLANK(FLData!$P$2:$P$9000),1, COUNTIF( $C$5:C125, FLData!$P$2:$P$9000)), 0)),\"\")","v":""},{"$f":"IF( LEN(C126)>0,COUNTIF( FLData!$P$2:$P$13999,C126),\"\")","v":""}]
[null,null,{"$f":"IFERROR(INDEX(FLData!$P$2:$P$9000, MATCH(0, IF( ISBLANK(FLData!$P$2:$P$9000),1, COUNTIF( $C$5:C126, FLData!$P$2:$P$9000)), 0)),\"\")","v":""},{"$f":"IF( LEN(C127)>0,COUNTIF( FLData!$P$2:$P$13999,C127),\"\")","v":""}]
[null,null,{"$f":"IFERROR(INDEX(FLData!$P$2:$P$9000, MATCH(0, IF( ISBLANK(FLData!$P$2:$P$9000),1, COUNTIF( $C$5:C127, FLData!$P$2:$P$9000)), 0)),\"\")","v":""},{"$f":"IF( LEN(C128)>0,COUNTIF( FLData!$P$2:$P$13999,C128),\"\")","v":""}]
[null,null,{"$f":"IFERROR(INDEX(FLData!$P$2:$P$9000, MATCH(0, IF( ISBLANK(FLData!$P$2:$P$9000),1, COUNTIF( $C$5:C128, FLData!$P$2:$P$9000)), 0)),\"\")","v":""},{"$f":"IF( LEN(C129)>0,COUNTIF( FLData!$P$2:$P$13999,C129),\"\")","v":""}]
[null,null,{"$f":"IFERROR(INDEX(FLData!$P$2:$P$9000, MATCH(0, IF( ISBLANK(FLData!$P$2:$P$9000),1, COUNTIF( $C$5:C129, FLData!$P$2:$P$9000)), 0)),\"\")","v":""},{"$f":"IF( LEN(C130)>0,COUNTIF( FLData!$P$2:$P$13999,C130),\"\")","v":""}]
[null,null,{"$f":"IFERROR(INDEX(FLData!$P$2:$P$9000, MATCH(0, IF( ISBLANK(FLData!$P$2:$P$9000),1, COUNTIF( $C$5:C130, FLData!$P$2:$P$9000)), 0)),\"\")","v":""},{"$f":"IF( LEN(C131)>0,COUNTIF( FLData!$P$2:$P$13999,C131),\"\")","v":""}]
[null,null,{"$f":"IFERROR(INDEX(FLData!$P$2:$P$9000, MATCH(0, IF( ISBLANK(FLData!$P$2:$P$9000),1, COUNTIF( $C$5:C131, FLData!$P$2:$P$9000)), 0)),\"\")","v":""},{"$f":"IF( LEN(C132)>0,COUNTIF( FLData!$P$2:$P$13999,C132),\"\")","v":""}]
[null,null,{"$f":"IFERROR(INDEX(FLData!$P$2:$P$9000, MATCH(0, IF( ISBLANK(FLData!$P$2:$P$9000),1, COUNTIF( $C$5:C132, FLData!$P$2:$P$9000)), 0)),\"\")","v":""},{"$f":"IF( LEN(C133)>0,COUNTIF( FLData!$P$2:$P$13999,C133),\"\")","v":""}]
[null,null,{"$f":"IFERROR(INDEX(FLData!$P$2:$P$9000, MATCH(0, IF( ISBLANK(FLData!$P$2:$P$9000),1, COUNTIF( $C$5:C133, FLData!$P$2:$P$9000)), 0)),\"\")","v":""},{"$f":"IF( LEN(C134)>0,COUNTIF( FLData!$P$2:$P$13999,C134),\"\")","v":""}]
[null,null,{"$f":"IFERROR(INDEX(FLData!$P$2:$P$9000, MATCH(0, IF( ISBLANK(FLData!$P$2:$P$9000),1, COUNTIF( $C$5:C134, FLData!$P$2:$P$9000)), 0)),\"\")","v":""},{"$f":"IF( LEN(C135)>0,COUNTIF( FLData!$P$2:$P$13999,C135),\"\")","v":""}]
[null,null,{"$f":"IFERROR(INDEX(FLData!$P$2:$P$9000, MATCH(0, IF( ISBLANK(FLData!$P$2:$P$9000),1, COUNTIF( $C$5:C135, FLData!$P$2:$P$9000)), 0)),\"\")","v":""},{"$f":"IF( LEN(C136)>0,COUNTIF( FLData!$P$2:$P$13999,C136),\"\")","v":""}]
[null,null,{"$f":"IFERROR(INDEX(FLData!$P$2:$P$9000, MATCH(0, IF( ISBLANK(FLData!$P$2:$P$9000),1, COUNTIF( $C$5:C136, FLData!$P$2:$P$9000)), 0)),\"\")","v":""},{"$f":"IF( LEN(C137)>0,COUNTIF( FLData!$P$2:$P$13999,C137),\"\")","v":""}]
[null,null,{"$f":"IFERROR(INDEX(FLData!$P$2:$P$9000, MATCH(0, IF( ISBLANK(FLData!$P$2:$P$9000),1, COUNTIF( $C$5:C137, FLData!$P$2:$P$9000)), 0)),\"\")","v":""},{"$f":"IF( LEN(C138)>0,COUNTIF( FLData!$P$2:$P$13999,C138),\"\")","v":""}]
[null,null,{"$f":"IFERROR(INDEX(FLData!$P$2:$P$9000, MATCH(0, IF( ISBLANK(FLData!$P$2:$P$9000),1, COUNTIF( $C$5:C138, FLData!$P$2:$P$9000)), 0)),\"\")","v":""},{"$f":"IF( LEN(C139)>0,COUNTIF( FLData!$P$2:$P$13999,C139),\"\")","v":""}]
[null,null,{"$f":"IFERROR(INDEX(FLData!$P$2:$P$9000, MATCH(0, IF( ISBLANK(FLData!$P$2:$P$9000),1, COUNTIF( $C$5:C139, FLData!$P$2:$P$9000)), 0)),\"\")","v":""},{"$f":"IF( LEN(C140)>0,COUNTIF( FLData!$P$2:$P$13999,C140),\"\")","v":""}]
[null,null,{"$f":"IFERROR(INDEX(FLData!$P$2:$P$9000, MATCH(0, IF( ISBLANK(FLData!$P$2:$P$9000),1, COUNTIF( $C$5:C140, FLData!$P$2:$P$9000)), 0)),\"\")","v":""},{"$f":"IF( LEN(C141)>0,COUNTIF( FLData!$P$2:$P$13999,C141),\"\")","v":""}]
[null,null,{"$f":"IFERROR(INDEX(FLData!$P$2:$P$9000, MATCH(0, IF( ISBLANK(FLData!$P$2:$P$9000),1, COUNTIF( $C$5:C141, FLData!$P$2:$P$9000)), 0)),\"\")","v":""},{"$f":"IF( LEN(C142)>0,COUNTIF( FLData!$P$2:$P$13999,C142),\"\")","v":""}]
[null,null,{"$f":"IFERROR(INDEX(FLData!$P$2:$P$9000, MATCH(0, IF( ISBLANK(FLData!$P$2:$P$9000),1, COUNTIF( $C$5:C142, FLData!$P$2:$P$9000)), 0)),\"\")","v":""},{"$f":"IF( LEN(C143)>0,COUNTIF( FLData!$P$2:$P$13999,C143),\"\")","v":""}]
[null,null,{"$f":"IFERROR(INDEX(FLData!$P$2:$P$9000, MATCH(0, IF( ISBLANK(FLData!$P$2:$P$9000),1, COUNTIF( $C$5:C143, FLData!$P$2:$P$9000)), 0)),\"\")","v":""},{"$f":"IF( LEN(C144)>0,COUNTIF( FLData!$P$2:$P$13999,C144),\"\")","v":""}]
[null,null,{"$f":"IFERROR(INDEX(FLData!$P$2:$P$9000, MATCH(0, IF( ISBLANK(FLData!$P$2:$P$9000),1, COUNTIF( $C$5:C144, FLData!$P$2:$P$9000)), 0)),\"\")","v":""},{"$f":"IF( LEN(C145)>0,COUNTIF( FLData!$P$2:$P$13999,C145),\"\")","v":""}]
[null,null,{"$f":"IFERROR(INDEX(FLData!$P$2:$P$9000, MATCH(0, IF( ISBLANK(FLData!$P$2:$P$9000),1, COUNTIF( $C$5:C145, FLData!$P$2:$P$9000)), 0)),\"\")","v":""},{"$f":"IF( LEN(C146)>0,COUNTIF( FLData!$P$2:$P$13999,C146),\"\")","v":""}]
[null,null,{"$f":"IFERROR(INDEX(FLData!$P$2:$P$9000, MATCH(0, IF( ISBLANK(FLData!$P$2:$P$9000),1, COUNTIF( $C$5:C146, FLData!$P$2:$P$9000)), 0)),\"\")","v":""},{"$f":"IF( LEN(C147)>0,COUNTIF( FLData!$P$2:$P$13999,C147),\"\")","v":""}]
[null,null,{"$f":"IFERROR(INDEX(FLData!$P$2:$P$9000, MATCH(0, IF( ISBLANK(FLData!$P$2:$P$9000),1, COUNTIF( $C$5:C147, FLData!$P$2:$P$9000)), 0)),\"\")","v":""},{"$f":"IF( LEN(C148)>0,COUNTIF( FLData!$P$2:$P$13999,C148),\"\")","v":""}]
[null,null,{"$f":"IFERROR(INDEX(FLData!$P$2:$P$9000, MATCH(0, IF( ISBLANK(FLData!$P$2:$P$9000),1, COUNTIF( $C$5:C148, FLData!$P$2:$P$9000)), 0)),\"\")","v":""},{"$f":"IF( LEN(C149)>0,COUNTIF( FLData!$P$2:$P$13999,C149),\"\")","v":""}]
[null,null,{"$f":"IFERROR(INDEX(FLData!$P$2:$P$9000, MATCH(0, IF( ISBLANK(FLData!$P$2:$P$9000),1, COUNTIF( $C$5:C149, FLData!$P$2:$P$9000)), 0)),\"\")","v":""},{"$f":"IF( LEN(C150)>0,COUNTIF( FLData!$P$2:$P$13999,C150),\"\")","v":""}]
[null,null,{"$f":"IFERROR(INDEX(FLData!$P$2:$P$9000, MATCH(0, IF( ISBLANK(FLData!$P$2:$P$9000),1, COUNTIF( $C$5:C150, FLData!$P$2:$P$9000)), 0)),\"\")","v":""},{"$f":"IF( LEN(C151)>0,COUNTIF( FLData!$P$2:$P$13999,C151),\"\")","v":""}]
[null,null,{"$f":"IFERROR(INDEX(FLData!$P$2:$P$9000, MATCH(0, IF( ISBLANK(FLData!$P$2:$P$9000),1, COUNTIF( $C$5:C151, FLData!$P$2:$P$9000)), 0)),\"\")","v":""},{"$f":"IF( LEN(C152)>0,COUNTIF( FLData!$P$2:$P$13999,C152),\"\")","v":""}]
[null,null,{"$f":"IFERROR(INDEX(FLData!$P$2:$P$9000, MATCH(0, IF( ISBLANK(FLData!$P$2:$P$9000),1, COUNTIF( $C$5:C152, FLData!$P$2:$P$9000)), 0)),\"\")","v":""},{"$f":"IF( LEN(C153)>0,COUNTIF( FLData!$P$2:$P$13999,C153),\"\")","v":""}]
[null,null,{"$f":"IFERROR(INDEX(FLData!$P$2:$P$9000, MATCH(0, IF( ISBLANK(FLData!$P$2:$P$9000),1, COUNTIF( $C$5:C153, FLData!$P$2:$P$9000)), 0)),\"\")","v":""},{"$f":"IF( LEN(C154)>0,COUNTIF( FLData!$P$2:$P$13999,C154),\"\")","v":""}]
[null,null,{"$f":"IFERROR(INDEX(FLData!$P$2:$P$9000, MATCH(0, IF( ISBLANK(FLData!$P$2:$P$9000),1, COUNTIF( $C$5:C154, FLData!$P$2:$P$9000)), 0)),\"\")","v":""},{"$f":"IF( LEN(C155)>0,COUNTIF( FLData!$P$2:$P$13999,C155),\"\")","v":""}]
[null,null,{"$f":"IFERROR(INDEX(FLData!$P$2:$P$9000, MATCH(0, IF( ISBLANK(FLData!$P$2:$P$9000),1, COUNTIF( $C$5:C155, FLData!$P$2:$P$9000)), 0)),\"\")","v":""},{"$f":"IF( LEN(C156)>0,COUNTIF( FLData!$P$2:$P$13999,C156),\"\")","v":""}]
[null,null,{"$f":"IFERROR(INDEX(FLData!$P$2:$P$9000, MATCH(0, IF( ISBLANK(FLData!$P$2:$P$9000),1, COUNTIF( $C$5:C156, FLData!$P$2:$P$9000)), 0)),\"\")","v":""},{"$f":"IF( LEN(C157)>0,COUNTIF( FLData!$P$2:$P$13999,C157),\"\")","v":""}]
[null,null,{"$f":"IFERROR(INDEX(FLData!$P$2:$P$9000, MATCH(0, IF( ISBLANK(FLData!$P$2:$P$9000),1, COUNTIF( $C$5:C157, FLData!$P$2:$P$9000)), 0)),\"\")","v":""},{"$f":"IF( LEN(C158)>0,COUNTIF( FLData!$P$2:$P$13999,C158),\"\")","v":""}]
[null,null,{"$f":"IFERROR(INDEX(FLData!$P$2:$P$9000, MATCH(0, IF( ISBLANK(FLData!$P$2:$P$9000),1, COUNTIF( $C$5:C158, FLData!$P$2:$P$9000)), 0)),\"\")","v":""},{"$f":"IF( LEN(C159)>0,COUNTIF( FLData!$P$2:$P$13999,C159),\"\")","v":""}]
[null,null,{"$f":"IFERROR(INDEX(FLData!$P$2:$P$9000, MATCH(0, IF( ISBLANK(FLData!$P$2:$P$9000),1, COUNTIF( $C$5:C159, FLData!$P$2:$P$9000)), 0)),\"\")","v":""},{"$f":"IF( LEN(C160)>0,COUNTIF( FLData!$P$2:$P$13999,C160),\"\")","v":""}]
[null,null,{"$f":"IFERROR(INDEX(FLData!$P$2:$P$9000, MATCH(0, IF( ISBLANK(FLData!$P$2:$P$9000),1, COUNTIF( $C$5:C160, FLData!$P$2:$P$9000)), 0)),\"\")","v":""},{"$f":"IF( LEN(C161)>0,COUNTIF( FLData!$P$2:$P$13999,C161),\"\")","v":""}]
[null,null,{"$f":"IFERROR(INDEX(FLData!$P$2:$P$9000, MATCH(0, IF( ISBLANK(FLData!$P$2:$P$9000),1, COUNTIF( $C$5:C161, FLData!$P$2:$P$9000)), 0)),\"\")","v":""},{"$f":"IF( LEN(C162)>0,COUNTIF( FLData!$P$2:$P$13999,C162),\"\")","v":""}]
[null,null,{"$f":"IFERROR(INDEX(FLData!$P$2:$P$9000, MATCH(0, IF( ISBLANK(FLData!$P$2:$P$9000),1, COUNTIF( $C$5:C162, FLData!$P$2:$P$9000)), 0)),\"\")","v":""},{"$f":"IF( LEN(C163)>0,COUNTIF( FLData!$P$2:$P$13999,C163),\"\")","v":""}]
[null,null,{"$f":"IFERROR(INDEX(FLData!$P$2:$P$9000, MATCH(0, IF( ISBLANK(FLData!$P$2:$P$9000),1, COUNTIF( $C$5:C163, FLData!$P$2:$P$9000)), 0)),\"\")","v":""},{"$f":"IF( LEN(C164)>0,COUNTIF( FLData!$P$2:$P$13999,C164),\"\")","v":""}]
[null,null,{"$f":"IFERROR(INDEX(FLData!$P$2:$P$9000, MATCH(0, IF( ISBLANK(FLData!$P$2:$P$9000),1, COUNTIF( $C$5:C164, FLData!$P$2:$P$9000)), 0)),\"\")","v":""},{"$f":"IF( LEN(C165)>0,COUNTIF( FLData!$P$2:$P$13999,C165),\"\")","v":""}]
[null,null,{"$f":"IFERROR(INDEX(FLData!$P$2:$P$9000, MATCH(0, IF( ISBLANK(FLData!$P$2:$P$9000),1, COUNTIF( $C$5:C165, FLData!$P$2:$P$9000)), 0)),\"\")","v":""},{"$f":"IF( LEN(C166)>0,COUNTIF( FLData!$P$2:$P$13999,C166),\"\")","v":""}]
[null,null,{"$f":"IFERROR(INDEX(FLData!$P$2:$P$9000, MATCH(0, IF( ISBLANK(FLData!$P$2:$P$9000),1, COUNTIF( $C$5:C166, FLData!$P$2:$P$9000)), 0)),\"\")","v":""},{"$f":"IF( LEN(C167)>0,COUNTIF( FLData!$P$2:$P$13999,C167),\"\")","v":""}]
[null,null,{"$f":"IFERROR(INDEX(FLData!$P$2:$P$9000, MATCH(0, IF( ISBLANK(FLData!$P$2:$P$9000),1, COUNTIF( $C$5:C167, FLData!$P$2:$P$9000)), 0)),\"\")","v":""},{"$f":"IF( LEN(C168)>0,COUNTIF( FLData!$P$2:$P$13999,C168),\"\")","v":""}]
[null,null,{"$f":"IFERROR(INDEX(FLData!$P$2:$P$9000, MATCH(0, IF( ISBLANK(FLData!$P$2:$P$9000),1, COUNTIF( $C$5:C168, FLData!$P$2:$P$9000)), 0)),\"\")","v":""},{"$f":"IF( LEN(C169)>0,COUNTIF( FLData!$P$2:$P$13999,C169),\"\")","v":""}]
[null,null,{"$f":"IFERROR(INDEX(FLData!$P$2:$P$9000, MATCH(0, IF( ISBLANK(FLData!$P$2:$P$9000),1, COUNTIF( $C$5:C169, FLData!$P$2:$P$9000)), 0)),\"\")","v":""},{"$f":"IF( LEN(C170)>0,COUNTIF( FLData!$P$2:$P$13999,C170),\"\")","v":""}]
[null,null,{"$f":"IFERROR(INDEX(FLData!$P$2:$P$9000, MATCH(0, IF( ISBLANK(FLData!$P$2:$P$9000),1, COUNTIF( $C$5:C170, FLData!$P$2:$P$9000)), 0)),\"\")","v":""},{"$f":"IF( LEN(C171)>0,COUNTIF( FLData!$P$2:$P$13999,C171),\"\")","v":""}]
[null,null,{"$f":"IFERROR(INDEX(FLData!$P$2:$P$9000, MATCH(0, IF( ISBLANK(FLData!$P$2:$P$9000),1, COUNTIF( $C$5:C171, FLData!$P$2:$P$9000)), 0)),\"\")","v":""},{"$f":"IF( LEN(C172)>0,COUNTIF( FLData!$P$2:$P$13999,C172),\"\")","v":""}]
[null,null,{"$f":"IFERROR(INDEX(FLData!$P$2:$P$9000, MATCH(0, IF( ISBLANK(FLData!$P$2:$P$9000),1, COUNTIF( $C$5:C172, FLData!$P$2:$P$9000)), 0)),\"\")","v":""},{"$f":"IF( LEN(C173)>0,COUNTIF( FLData!$P$2:$P$13999,C173),\"\")","v":""}]
[null,null,{"$f":"IFERROR(INDEX(FLData!$P$2:$P$9000, MATCH(0, IF( ISBLANK(FLData!$P$2:$P$9000),1, COUNTIF( $C$5:C173, FLData!$P$2:$P$9000)), 0)),\"\")","v":""},{"$f":"IF( LEN(C174)>0,COUNTIF( FLData!$P$2:$P$13999,C174),\"\")","v":""}]
[null,null,{"$f":"IFERROR(INDEX(FLData!$P$2:$P$9000, MATCH(0, IF( ISBLANK(FLData!$P$2:$P$9000),1, COUNTIF( $C$5:C174, FLData!$P$2:$P$9000)), 0)),\"\")","v":""},{"$f":"IF( LEN(C175)>0,COUNTIF( FLData!$P$2:$P$13999,C175),\"\")","v":""}]
[null,null,{"$f":"IFERROR(INDEX(FLData!$P$2:$P$9000, MATCH(0, IF( ISBLANK(FLData!$P$2:$P$9000),1, COUNTIF( $C$5:C175, FLData!$P$2:$P$9000)), 0)),\"\")","v":""},{"$f":"IF( LEN(C176)>0,COUNTIF( FLData!$P$2:$P$13999,C176),\"\")","v":""}]
[null,null,{"$f":"IFERROR(INDEX(FLData!$P$2:$P$9000, MATCH(0, IF( ISBLANK(FLData!$P$2:$P$9000),1, COUNTIF( $C$5:C176, FLData!$P$2:$P$9000)), 0)),\"\")","v":""},{"$f":"IF( LEN(C177)>0,COUNTIF( FLData!$P$2:$P$13999,C177),\"\")","v":""}]
[null,null,{"$f":"IFERROR(INDEX(FLData!$P$2:$P$9000, MATCH(0, IF( ISBLANK(FLData!$P$2:$P$9000),1, COUNTIF( $C$5:C177, FLData!$P$2:$P$9000)), 0)),\"\")","v":""},{"$f":"IF( LEN(C178)>0,COUNTIF( FLData!$P$2:$P$13999,C178),\"\")","v":""}]
[null,null,{"$f":"IFERROR(INDEX(FLData!$P$2:$P$9000, MATCH(0, IF( ISBLANK(FLData!$P$2:$P$9000),1, COUNTIF( $C$5:C178, FLData!$P$2:$P$9000)), 0)),\"\")","v":""},{"$f":"IF( LEN(C179)>0,COUNTIF( FLData!$P$2:$P$13999,C179),\"\")","v":""}]
[null,null,{"$f":"IFERROR(INDEX(FLData!$P$2:$P$9000, MATCH(0, IF( ISBLANK(FLData!$P$2:$P$9000),1, COUNTIF( $C$5:C179, FLData!$P$2:$P$9000)), 0)),\"\")","v":""},{"$f":"IF( LEN(C180)>0,COUNTIF( FLData!$P$2:$P$13999,C180),\"\")","v":""}]
[null,null,{"$f":"IFERROR(INDEX(FLData!$P$2:$P$9000, MATCH(0, IF( ISBLANK(FLData!$P$2:$P$9000),1, COUNTIF( $C$5:C180, FLData!$P$2:$P$9000)), 0)),\"\")","v":""},{"$f":"IF( LEN(C181)>0,COUNTIF( FLData!$P$2:$P$13999,C181),\"\")","v":""}]
[null,null,{"$f":"IFERROR(INDEX(FLData!$P$2:$P$9000, MATCH(0, IF( ISBLANK(FLData!$P$2:$P$9000),1, COUNTIF( $C$5:C181, FLData!$P$2:$P$9000)), 0)),\"\")","v":""},{"$f":"IF( LEN(C182)>0,COUNTIF( FLData!$P$2:$P$13999,C182),\"\")","v":""}]
[null,null,{"$f":"IFERROR(INDEX(FLData!$P$2:$P$9000, MATCH(0, IF( ISBLANK(FLData!$P$2:$P$9000),1, COUNTIF( $C$5:C182, FLData!$P$2:$P$9000)), 0)),\"\")","v":""},{"$f":"IF( LEN(C183)>0,COUNTIF( FLData!$P$2:$P$13999,C183),\"\")","v":""}]
[null,null,{"$f":"IFERROR(INDEX(FLData!$P$2:$P$9000, MATCH(0, IF( ISBLANK(FLData!$P$2:$P$9000),1, COUNTIF( $C$5:C183, FLData!$P$2:$P$9000)), 0)),\"\")","v":""},{"$f":"IF( LEN(C184)>0,COUNTIF( FLData!$P$2:$P$13999,C184),\"\")","v":""}]
[null,null,{"$f":"IFERROR(INDEX(FLData!$P$2:$P$9000, MATCH(0, IF( ISBLANK(FLData!$P$2:$P$9000),1, COUNTIF( $C$5:C184, FLData!$P$2:$P$9000)), 0)),\"\")","v":""},{"$f":"IF( LEN(C185)>0,COUNTIF( FLData!$P$2:$P$13999,C185),\"\")","v":""}]
[null,null,{"$f":"IFERROR(INDEX(FLData!$P$2:$P$9000, MATCH(0, IF( ISBLANK(FLData!$P$2:$P$9000),1, COUNTIF( $C$5:C185, FLData!$P$2:$P$9000)), 0)),\"\")","v":""},{"$f":"IF( LEN(C186)>0,COUNTIF( FLData!$P$2:$P$13999,C186),\"\")","v":""}]
[null,null,{"$f":"IFERROR(INDEX(FLData!$P$2:$P$9000, MATCH(0, IF( ISBLANK(FLData!$P$2:$P$9000),1, COUNTIF( $C$5:C186, FLData!$P$2:$P$9000)), 0)),\"\")","v":""},{"$f":"IF( LEN(C187)>0,COUNTIF( FLData!$P$2:$P$13999,C187),\"\")","v":""}]
[null,null,{"$f":"IFERROR(INDEX(FLData!$P$2:$P$9000, MATCH(0, IF( ISBLANK(FLData!$P$2:$P$9000),1, COUNTIF( $C$5:C187, FLData!$P$2:$P$9000)), 0)),\"\")","v":""},{"$f":"IF( LEN(C188)>0,COUNTIF( FLData!$P$2:$P$13999,C188),\"\")","v":""}]
[null,null,{"$f":"IFERROR(INDEX(FLData!$P$2:$P$9000, MATCH(0, IF( ISBLANK(FLData!$P$2:$P$9000),1, COUNTIF( $C$5:C188, FLData!$P$2:$P$9000)), 0)),\"\")","v":""},{"$f":"IF( LEN(C189)>0,COUNTIF( FLData!$P$2:$P$13999,C189),\"\")","v":""}]
[null,null,{"$f":"IFERROR(INDEX(FLData!$P$2:$P$9000, MATCH(0, IF( ISBLANK(FLData!$P$2:$P$9000),1, COUNTIF( $C$5:C189, FLData!$P$2:$P$9000)), 0)),\"\")","v":""},{"$f":"IF( LEN(C190)>0,COUNTIF( FLData!$P$2:$P$13999,C190),\"\")","v":""}]
[null,null,{"$f":"IFERROR(INDEX(FLData!$P$2:$P$9000, MATCH(0, IF( ISBLANK(FLData!$P$2:$P$9000),1, COUNTIF( $C$5:C190, FLData!$P$2:$P$9000)), 0)),\"\")","v":""},{"$f":"IF( LEN(C191)>0,COUNTIF( FLData!$P$2:$P$13999,C191),\"\")","v":""}]
[null,null,{"$f":"IFERROR(INDEX(FLData!$P$2:$P$9000, MATCH(0, IF( ISBLANK(FLData!$P$2:$P$9000),1, COUNTIF( $C$5:C191, FLData!$P$2:$P$9000)), 0)),\"\")","v":""},{"$f":"IF( LEN(C192)>0,COUNTIF( FLData!$P$2:$P$13999,C192),\"\")","v":""}]
[null,null,{"$f":"IFERROR(INDEX(FLData!$P$2:$P$9000, MATCH(0, IF( ISBLANK(FLData!$P$2:$P$9000),1, COUNTIF( $C$5:C192, FLData!$P$2:$P$9000)), 0)),\"\")","v":""},{"$f":"IF( LEN(C193)>0,COUNTIF( FLData!$P$2:$P$13999,C193),\"\")","v":""}]
[null,null,{"$f":"IFERROR(INDEX(FLData!$P$2:$P$9000, MATCH(0, IF( ISBLANK(FLData!$P$2:$P$9000),1, COUNTIF( $C$5:C193, FLData!$P$2:$P$9000)), 0)),\"\")","v":""},{"$f":"IF( LEN(C194)>0,COUNTIF( FLData!$P$2:$P$13999,C194),\"\")","v":""}]
[null,null,{"$f":"IFERROR(INDEX(FLData!$P$2:$P$9000, MATCH(0, IF( ISBLANK(FLData!$P$2:$P$9000),1, COUNTIF( $C$5:C194, FLData!$P$2:$P$9000)), 0)),\"\")","v":""},{"$f":"IF( LEN(C195)>0,COUNTIF( FLData!$P$2:$P$13999,C195),\"\")","v":""}]
[null,null,{"$f":"IFERROR(INDEX(FLData!$P$2:$P$9000, MATCH(0, IF( ISBLANK(FLData!$P$2:$P$9000),1, COUNTIF( $C$5:C195, FLData!$P$2:$P$9000)), 0)),\"\")","v":""},{"$f":"IF( LEN(C196)>0,COUNTIF( FLData!$P$2:$P$13999,C196),\"\")","v":""}]
[null,null,{"$f":"IFERROR(INDEX(FLData!$P$2:$P$9000, MATCH(0, IF( ISBLANK(FLData!$P$2:$P$9000),1, COUNTIF( $C$5:C196, FLData!$P$2:$P$9000)), 0)),\"\")","v":""},{"$f":"IF( LEN(C197)>0,COUNTIF( FLData!$P$2:$P$13999,C197),\"\")","v":""}]
[null,null,{"$f":"IFERROR(INDEX(FLData!$P$2:$P$9000, MATCH(0, IF( ISBLANK(FLData!$P$2:$P$9000),1, COUNTIF( $C$5:C197, FLData!$P$2:$P$9000)), 0)),\"\")","v":""},{"$f":"IF( LEN(C198)>0,COUNTIF( FLData!$P$2:$P$13999,C198),\"\")","v":""}]
[null,null,{"$f":"IFERROR(INDEX(FLData!$P$2:$P$9000, MATCH(0, IF( ISBLANK(FLData!$P$2:$P$9000),1, COUNTIF( $C$5:C198, FLData!$P$2:$P$9000)), 0)),\"\")","v":""},{"$f":"IF( LEN(C199)>0,COUNTIF( FLData!$P$2:$P$13999,C199),\"\")","v":""}]
[null,null,{"$f":"IFERROR(INDEX(FLData!$P$2:$P$9000, MATCH(0, IF( ISBLANK(FLData!$P$2:$P$9000),1, COUNTIF( $C$5:C199, FLData!$P$2:$P$9000)), 0)),\"\")","v":""},{"$f":"IF( LEN(C200)>0,COUNTIF( FLData!$P$2:$P$13999,C200),\"\")","v":""}]
[null,null,{"$f":"IFERROR(INDEX(FLData!$P$2:$P$9000, MATCH(0, IF( ISBLANK(FLData!$P$2:$P$9000),1, COUNTIF( $C$5:C200, FLData!$P$2:$P$9000)), 0)),\"\")","v":""},{"$f":"IF( LEN(C201)>0,COUNTIF( FLData!$P$2:$P$13999,C201),\"\")","v":""}]
[null,null,{"$f":"IFERROR(INDEX(FLData!$P$2:$P$9000, MATCH(0, IF( ISBLANK(FLData!$P$2:$P$9000),1, COUNTIF( $C$5:C201, FLData!$P$2:$P$9000)), 0)),\"\")","v":""},{"$f":"IF( LEN(C202)>0,COUNTIF( FLData!$P$2:$P$13999,C202),\"\")","v":""}]
[null,null,{"$f":"IFERROR(INDEX(FLData!$P$2:$P$9000, MATCH(0, IF( ISBLANK(FLData!$P$2:$P$9000),1, COUNTIF( $C$5:C202, FLData!$P$2:$P$9000)), 0)),\"\")","v":""},{"$f":"IF( LEN(C203)>0,COUNTIF( FLData!$P$2:$P$13999,C203),\"\")","v":""}]
[null,null,{"$f":"IFERROR(INDEX(FLData!$P$2:$P$9000, MATCH(0, IF( ISBLANK(FLData!$P$2:$P$9000),1, COUNTIF( $C$5:C203, FLData!$P$2:$P$9000)), 0)),\"\")","v":""},{"$f":"IF( LEN(C204)>0,COUNTIF( FLData!$P$2:$P$13999,C204),\"\")","v":""}]
[null,null,{"$f":"IFERROR(INDEX(FLData!$P$2:$P$9000, MATCH(0, IF( ISBLANK(FLData!$P$2:$P$9000),1, COUNTIF( $C$5:C204, FLData!$P$2:$P$9000)), 0)),\"\")","v":""},{"$f":"IF( LEN(C205)>0,COUNTIF( FLData!$P$2:$P$13999,C205),\"\")","v":""}]
[null,null,{"$f":"IFERROR(INDEX(FLData!$P$2:$P$9000, MATCH(0, IF( ISBLANK(FLData!$P$2:$P$9000),1, COUNTIF( $C$5:C205, FLData!$P$2:$P$9000)), 0)),\"\")","v":""},{"$f":"IF( LEN(C206)>0,COUNTIF( FLData!$P$2:$P$13999,C206),\"\")","v":""}]
[null,null,{"$f":"IFERROR(INDEX(FLData!$P$2:$P$9000, MATCH(0, IF( ISBLANK(FLData!$P$2:$P$9000),1, COUNTIF( $C$5:C206, FLData!$P$2:$P$9000)), 0)),\"\")","v":""},{"$f":"IF( LEN(C207)>0,COUNTIF( FLData!$P$2:$P$13999,C207),\"\")","v":""}]
[null,null,{"$f":"IFERROR(INDEX(FLData!$P$2:$P$9000, MATCH(0, IF( ISBLANK(FLData!$P$2:$P$9000),1, COUNTIF( $C$5:C207, FLData!$P$2:$P$9000)), 0)),\"\")","v":""},{"$f":"IF( LEN(C208)>0,COUNTIF( FLData!$P$2:$P$13999,C208),\"\")","v":""}]
[null,null,{"$f":"IFERROR(INDEX(FLData!$P$2:$P$9000, MATCH(0, IF( ISBLANK(FLData!$P$2:$P$9000),1, COUNTIF( $C$5:C208, FLData!$P$2:$P$9000)), 0)),\"\")","v":""},{"$f":"IF( LEN(C209)>0,COUNTIF( FLData!$P$2:$P$13999,C209),\"\")","v":""}]
[null,null,{"$f":"IFERROR(INDEX(FLData!$P$2:$P$9000, MATCH(0, IF( ISBLANK(FLData!$P$2:$P$9000),1, COUNTIF( $C$5:C209, FLData!$P$2:$P$9000)), 0)),\"\")","v":""},{"$f":"IF( LEN(C210)>0,COUNTIF( FLData!$P$2:$P$13999,C210),\"\")","v":""}]
[null,null,{"$f":"IFERROR(INDEX(FLData!$P$2:$P$9000, MATCH(0, IF( ISBLANK(FLData!$P$2:$P$9000),1, COUNTIF( $C$5:C210, FLData!$P$2:$P$9000)), 0)),\"\")","v":""},{"$f":"IF( LEN(C211)>0,COUNTIF( FLData!$P$2:$P$13999,C211),\"\")","v":""}]
[null,null,{"$f":"IFERROR(INDEX(FLData!$P$2:$P$9000, MATCH(0, IF( ISBLANK(FLData!$P$2:$P$9000),1, COUNTIF( $C$5:C211, FLData!$P$2:$P$9000)), 0)),\"\")","v":""},{"$f":"IF( LEN(C212)>0,COUNTIF( FLData!$P$2:$P$13999,C212),\"\")","v":""}]
[null,null,{"$f":"IFERROR(INDEX(FLData!$P$2:$P$9000, MATCH(0, IF( ISBLANK(FLData!$P$2:$P$9000),1, COUNTIF( $C$5:C212, FLData!$P$2:$P$9000)), 0)),\"\")","v":""},{"$f":"IF( LEN(C213)>0,COUNTIF( FLData!$P$2:$P$13999,C213),\"\")","v":""}]
[null,null,{"$f":"IFERROR(INDEX(FLData!$P$2:$P$9000, MATCH(0, IF( ISBLANK(FLData!$P$2:$P$9000),1, COUNTIF( $C$5:C213, FLData!$P$2:$P$9000)), 0)),\"\")","v":""},{"$f":"IF( LEN(C214)>0,COUNTIF( FLData!$P$2:$P$13999,C214),\"\")","v":""}]
[null,null,{"$f":"IFERROR(INDEX(FLData!$P$2:$P$9000, MATCH(0, IF( ISBLANK(FLData!$P$2:$P$9000),1, COUNTIF( $C$5:C214, FLData!$P$2:$P$9000)), 0)),\"\")","v":""},{"$f":"IF( LEN(C215)>0,COUNTIF( FLData!$P$2:$P$13999,C215),\"\")","v":""}]
[null,null,{"$f":"IFERROR(INDEX(FLData!$P$2:$P$9000, MATCH(0, IF( ISBLANK(FLData!$P$2:$P$9000),1, COUNTIF( $C$5:C215, FLData!$P$2:$P$9000)), 0)),\"\")","v":""},{"$f":"IF( LEN(C216)>0,COUNTIF( FLData!$P$2:$P$13999,C216),\"\")","v":""}]
[null,null,{"$f":"IFERROR(INDEX(FLData!$P$2:$P$9000, MATCH(0, IF( ISBLANK(FLData!$P$2:$P$9000),1, COUNTIF( $C$5:C216, FLData!$P$2:$P$9000)), 0)),\"\")","v":""},{"$f":"IF( LEN(C217)>0,COUNTIF( FLData!$P$2:$P$13999,C217),\"\")","v":""}]
[null,null,{"$f":"IFERROR(INDEX(FLData!$P$2:$P$9000, MATCH(0, IF( ISBLANK(FLData!$P$2:$P$9000),1, COUNTIF( $C$5:C217, FLData!$P$2:$P$9000)), 0)),\"\")","v":""},{"$f":"IF( LEN(C218)>0,COUNTIF( FLData!$P$2:$P$13999,C218),\"\")","v":""}]
[null,null,{"$f":"IFERROR(INDEX(FLData!$P$2:$P$9000, MATCH(0, IF( ISBLANK(FLData!$P$2:$P$9000),1, COUNTIF( $C$5:C218, FLData!$P$2:$P$9000)), 0)),\"\")","v":""},{"$f":"IF( LEN(C219)>0,COUNTIF( FLData!$P$2:$P$13999,C219),\"\")","v":""}]
[null,null,{"$f":"IFERROR(INDEX(FLData!$P$2:$P$9000, MATCH(0, IF( ISBLANK(FLData!$P$2:$P$9000),1, COUNTIF( $C$5:C219, FLData!$P$2:$P$9000)), 0)),\"\")","v":""},{"$f":"IF( LEN(C220)>0,COUNTIF( FLData!$P$2:$P$13999,C220),\"\")","v":""}]
[null,null,{"$f":"IFERROR(INDEX(FLData!$P$2:$P$9000, MATCH(0, IF( ISBLANK(FLData!$P$2:$P$9000),1, COUNTIF( $C$5:C220, FLData!$P$2:$P$9000)), 0)),\"\")","v":""},{"$f":"IF( LEN(C221)>0,COUNTIF( FLData!$P$2:$P$13999,C221),\"\")","v":""}]
[null,null,{"$f":"IFERROR(INDEX(FLData!$P$2:$P$9000, MATCH(0, IF( ISBLANK(FLData!$P$2:$P$9000),1, COUNTIF( $C$5:C221, FLData!$P$2:$P$9000)), 0)),\"\")","v":""},{"$f":"IF( LEN(C222)>0,COUNTIF( FLData!$P$2:$P$13999,C222),\"\")","v":""}]
[null,null,{"$f":"IFERROR(INDEX(FLData!$P$2:$P$9000, MATCH(0, IF( ISBLANK(FLData!$P$2:$P$9000),1, COUNTIF( $C$5:C222, FLData!$P$2:$P$9000)), 0)),\"\")","v":""},{"$f":"IF( LEN(C223)>0,COUNTIF( FLData!$P$2:$P$13999,C223),\"\")","v":""}]
[null,null,{"$f":"IFERROR(INDEX(FLData!$P$2:$P$9000, MATCH(0, IF( ISBLANK(FLData!$P$2:$P$9000),1, COUNTIF( $C$5:C223, FLData!$P$2:$P$9000)), 0)),\"\")","v":""},{"$f":"IF( LEN(C224)>0,COUNTIF( FLData!$P$2:$P$13999,C224),\"\")","v":""}]
[null,null,{"$f":"IFERROR(INDEX(FLData!$P$2:$P$9000, MATCH(0, IF( ISBLANK(FLData!$P$2:$P$9000),1, COUNTIF( $C$5:C224, FLData!$P$2:$P$9000)), 0)),\"\")","v":""},{"$f":"IF( LEN(C225)>0,COUNTIF( FLData!$P$2:$P$13999,C225),\"\")","v":""}]
[null,null,{"$f":"IFERROR(INDEX(FLData!$P$2:$P$9000, MATCH(0, IF( ISBLANK(FLData!$P$2:$P$9000),1, COUNTIF( $C$5:C225, FLData!$P$2:$P$9000)), 0)),\"\")","v":""},{"$f":"IF( LEN(C226)>0,COUNTIF( FLData!$P$2:$P$13999,C226),\"\")","v":""}]
[null,null,{"$f":"IFERROR(INDEX(FLData!$P$2:$P$9000, MATCH(0, IF( ISBLANK(FLData!$P$2:$P$9000),1, COUNTIF( $C$5:C226, FLData!$P$2:$P$9000)), 0)),\"\")","v":""},{"$f":"IF( LEN(C227)>0,COUNTIF( FLData!$P$2:$P$13999,C227),\"\")","v":""}]
[null,null,{"$f":"IFERROR(INDEX(FLData!$P$2:$P$9000, MATCH(0, IF( ISBLANK(FLData!$P$2:$P$9000),1, COUNTIF( $C$5:C227, FLData!$P$2:$P$9000)), 0)),\"\")","v":""},{"$f":"IF( LEN(C228)>0,COUNTIF( FLData!$P$2:$P$13999,C228),\"\")","v":""}]
[null,null,{"$f":"IFERROR(INDEX(FLData!$P$2:$P$9000, MATCH(0, IF( ISBLANK(FLData!$P$2:$P$9000),1, COUNTIF( $C$5:C228, FLData!$P$2:$P$9000)), 0)),\"\")","v":""},{"$f":"IF( LEN(C229)>0,COUNTIF( FLData!$P$2:$P$13999,C229),\"\")","v":""}]
[null,null,{"$f":"IFERROR(INDEX(FLData!$P$2:$P$9000, MATCH(0, IF( ISBLANK(FLData!$P$2:$P$9000),1, COUNTIF( $C$5:C229, FLData!$P$2:$P$9000)), 0)),\"\")","v":""},{"$f":"IF( LEN(C230)>0,COUNTIF( FLData!$P$2:$P$13999,C230),\"\")","v":""}]
[null,null,{"$f":"IFERROR(INDEX(FLData!$P$2:$P$9000, MATCH(0, IF( ISBLANK(FLData!$P$2:$P$9000),1, COUNTIF( $C$5:C230, FLData!$P$2:$P$9000)), 0)),\"\")","v":""},{"$f":"IF( LEN(C231)>0,COUNTIF( FLData!$P$2:$P$13999,C231),\"\")","v":""}]
[null,null,{"$f":"IFERROR(INDEX(FLData!$P$2:$P$9000, MATCH(0, IF( ISBLANK(FLData!$P$2:$P$9000),1, COUNTIF( $C$5:C231, FLData!$P$2:$P$9000)), 0)),\"\")","v":""},{"$f":"IF( LEN(C232)>0,COUNTIF( FLData!$P$2:$P$13999,C232),\"\")","v":""}]
[null,null,{"$f":"IFERROR(INDEX(FLData!$P$2:$P$9000, MATCH(0, IF( ISBLANK(FLData!$P$2:$P$9000),1, COUNTIF( $C$5:C232, FLData!$P$2:$P$9000)), 0)),\"\")","v":""},{"$f":"IF( LEN(C233)>0,COUNTIF( FLData!$P$2:$P$13999,C233),\"\")","v":""}]
[null,null,{"$f":"IFERROR(INDEX(FLData!$P$2:$P$9000, MATCH(0, IF( ISBLANK(FLData!$P$2:$P$9000),1, COUNTIF( $C$5:C233, FLData!$P$2:$P$9000)), 0)),\"\")","v":""},{"$f":"IF( LEN(C234)>0,COUNTIF( FLData!$P$2:$P$13999,C234),\"\")","v":""}]
[null,null,{"$f":"IFERROR(INDEX(FLData!$P$2:$P$9000, MATCH(0, IF( ISBLANK(FLData!$P$2:$P$9000),1, COUNTIF( $C$5:C234, FLData!$P$2:$P$9000)), 0)),\"\")","v":""},{"$f":"IF( LEN(C235)>0,COUNTIF( FLData!$P$2:$P$13999,C235),\"\")","v":""}]
[null,null,{"$f":"IFERROR(INDEX(FLData!$P$2:$P$9000, MATCH(0, IF( ISBLANK(FLData!$P$2:$P$9000),1, COUNTIF( $C$5:C235, FLData!$P$2:$P$9000)), 0)),\"\")","v":""},{"$f":"IF( LEN(C236)>0,COUNTIF( FLData!$P$2:$P$13999,C236),\"\")","v":""}]
[null,null,{"$f":"IFERROR(INDEX(FLData!$P$2:$P$9000, MATCH(0, IF( ISBLANK(FLData!$P$2:$P$9000),1, COUNTIF( $C$5:C236, FLData!$P$2:$P$9000)), 0)),\"\")","v":""},{"$f":"IF( LEN(C237)>0,COUNTIF( FLData!$P$2:$P$13999,C237),\"\")","v":""}]
[null,null,{"$f":"IFERROR(INDEX(FLData!$P$2:$P$9000, MATCH(0, IF( ISBLANK(FLData!$P$2:$P$9000),1, COUNTIF( $C$5:C237, FLData!$P$2:$P$9000)), 0)),\"\")","v":""},{"$f":"IF( LEN(C238)>0,COUNTIF( FLData!$P$2:$P$13999,C238),\"\")","v":""}]
[null,null,{"$f":"IFERROR(INDEX(FLData!$P$2:$P$9000, MATCH(0, IF( ISBLANK(FLData!$P$2:$P$9000),1, COUNTIF( $C$5:C238, FLData!$P$2:$P$9000)), 0)),\"\")","v":""},{"$f":"IF( LEN(C239)>0,COUNTIF( FLData!$P$2:$P$13999,C239),\"\")","v":""}]
[null,null,{"$f":"IFERROR(INDEX(FLData!$P$2:$P$9000, MATCH(0, IF( ISBLANK(FLData!$P$2:$P$9000),1, COUNTIF( $C$5:C239, FLData!$P$2:$P$9000)), 0)),\"\")","v":""},{"$f":"IF( LEN(C240)>0,COUNTIF( FLData!$P$2:$P$13999,C240),\"\")","v":""}]
[null,null,{"$f":"IFERROR(INDEX(FLData!$P$2:$P$9000, MATCH(0, IF( ISBLANK(FLData!$P$2:$P$9000),1, COUNTIF( $C$5:C240, FLData!$P$2:$P$9000)), 0)),\"\")","v":""},{"$f":"IF( LEN(C241)>0,COUNTIF( FLData!$P$2:$P$13999,C241),\"\")","v":""}]
[null,null,{"$f":"IFERROR(INDEX(FLData!$P$2:$P$9000, MATCH(0, IF( ISBLANK(FLData!$P$2:$P$9000),1, COUNTIF( $C$5:C241, FLData!$P$2:$P$9000)), 0)),\"\")","v":""},{"$f":"IF( LEN(C242)>0,COUNTIF( FLData!$P$2:$P$13999,C242),\"\")","v":""}]
[null,null,{"$f":"IFERROR(INDEX(FLData!$P$2:$P$9000, MATCH(0, IF( ISBLANK(FLData!$P$2:$P$9000),1, COUNTIF( $C$5:C242, FLData!$P$2:$P$9000)), 0)),\"\")","v":""},{"$f":"IF( LEN(C243)>0,COUNTIF( FLData!$P$2:$P$13999,C243),\"\")","v":""}]
[null,null,{"$f":"IFERROR(INDEX(FLData!$P$2:$P$9000, MATCH(0, IF( ISBLANK(FLData!$P$2:$P$9000),1, COUNTIF( $C$5:C243, FLData!$P$2:$P$9000)), 0)),\"\")","v":""},{"$f":"IF( LEN(C244)>0,COUNTIF( FLData!$P$2:$P$13999,C244),\"\")","v":""}]
[null,null,{"$f":"IFERROR(INDEX(FLData!$P$2:$P$9000, MATCH(0, IF( ISBLANK(FLData!$P$2:$P$9000),1, COUNTIF( $C$5:C244, FLData!$P$2:$P$9000)), 0)),\"\")","v":""},{"$f":"IF( LEN(C245)>0,COUNTIF( FLData!$P$2:$P$13999,C245),\"\")","v":""}]
[null,null,{"$f":"IFERROR(INDEX(FLData!$P$2:$P$9000, MATCH(0, IF( ISBLANK(FLData!$P$2:$P$9000),1, COUNTIF( $C$5:C245, FLData!$P$2:$P$9000)), 0)),\"\")","v":""},{"$f":"IF( LEN(C246)>0,COUNTIF( FLData!$P$2:$P$13999,C246),\"\")","v":""}]
[null,null,{"$f":"IFERROR(INDEX(FLData!$P$2:$P$9000, MATCH(0, IF( ISBLANK(FLData!$P$2:$P$9000),1, COUNTIF( $C$5:C246, FLData!$P$2:$P$9000)), 0)),\"\")","v":""},{"$f":"IF( LEN(C247)>0,COUNTIF( FLData!$P$2:$P$13999,C247),\"\")","v":""}]
[null,null,{"$f":"IFERROR(INDEX(FLData!$P$2:$P$9000, MATCH(0, IF( ISBLANK(FLData!$P$2:$P$9000),1, COUNTIF( $C$5:C247, FLData!$P$2:$P$9000)), 0)),\"\")","v":""},{"$f":"IF( LEN(C248)>0,COUNTIF( FLData!$P$2:$P$13999,C248),\"\")","v":""}]
[null,null,{"$f":"IFERROR(INDEX(FLData!$P$2:$P$9000, MATCH(0, IF( ISBLANK(FLData!$P$2:$P$9000),1, COUNTIF( $C$5:C248, FLData!$P$2:$P$9000)), 0)),\"\")","v":""},{"$f":"IF( LEN(C249)>0,COUNTIF( FLData!$P$2:$P$13999,C249),\"\")","v":""}]
[null,null,{"$f":"IFERROR(INDEX(FLData!$P$2:$P$9000, MATCH(0, IF( ISBLANK(FLData!$P$2:$P$9000),1, COUNTIF( $C$5:C249, FLData!$P$2:$P$9000)), 0)),\"\")","v":""},{"$f":"IF( LEN(C250)>0,COUNTIF( FLData!$P$2:$P$13999,C250),\"\")","v":""}]
[null,null,{"$f":"IFERROR(INDEX(FLData!$P$2:$P$9000, MATCH(0, IF( ISBLANK(FLData!$P$2:$P$9000),1, COUNTIF( $C$5:C250, FLData!$P$2:$P$9000)), 0)),\"\")","v":""},{"$f":"IF( LEN(C251)>0,COUNTIF( FLData!$P$2:$P$13999,C251),\"\")","v":""}]
[null,null,{"$f":"IFERROR(INDEX(FLData!$P$2:$P$9000, MATCH(0, IF( ISBLANK(FLData!$P$2:$P$9000),1, COUNTIF( $C$5:C251, FLData!$P$2:$P$9000)), 0)),\"\")","v":""},{"$f":"IF( LEN(C252)>0,COUNTIF( FLData!$P$2:$P$13999,C252),\"\")","v":""}]
[null,null,{"$f":"IFERROR(INDEX(FLData!$P$2:$P$9000, MATCH(0, IF( ISBLANK(FLData!$P$2:$P$9000),1, COUNTIF( $C$5:C252, FLData!$P$2:$P$9000)), 0)),\"\")","v":""},{"$f":"IF( LEN(C253)>0,COUNTIF( FLData!$P$2:$P$13999,C253),\"\")","v":""}]
[null,null,{"$f":"IFERROR(INDEX(FLData!$P$2:$P$9000, MATCH(0, IF( ISBLANK(FLData!$P$2:$P$9000),1, COUNTIF( $C$5:C253, FLData!$P$2:$P$9000)), 0)),\"\")","v":""},{"$f":"IF( LEN(C254)>0,COUNTIF( FLData!$P$2:$P$13999,C254),\"\")","v":""}]
[null,null,{"$f":"IFERROR(INDEX(FLData!$P$2:$P$9000, MATCH(0, IF( ISBLANK(FLData!$P$2:$P$9000),1, COUNTIF( $C$5:C254, FLData!$P$2:$P$9000)), 0)),\"\")","v":""},{"$f":"IF( LEN(C255)>0,COUNTIF( FLData!$P$2:$P$13999,C255),\"\")","v":""}]
[null,null,{"$f":"IFERROR(INDEX(FLData!$P$2:$P$9000, MATCH(0, IF( ISBLANK(FLData!$P$2:$P$9000),1, COUNTIF( $C$5:C255, FLData!$P$2:$P$9000)), 0)),\"\")","v":""},{"$f":"IF( LEN(C256)>0,COUNTIF( FLData!$P$2:$P$13999,C256),\"\")","v":""}]
[null,null,{"$f":"IFERROR(INDEX(FLData!$P$2:$P$9000, MATCH(0, IF( ISBLANK(FLData!$P$2:$P$9000),1, COUNTIF( $C$5:C256, FLData!$P$2:$P$9000)), 0)),\"\")","v":""},{"$f":"IF( LEN(C257)>0,COUNTIF( FLData!$P$2:$P$13999,C257),\"\")","v":""}]
[null,null,{"$f":"IFERROR(INDEX(FLData!$P$2:$P$9000, MATCH(0, IF( ISBLANK(FLData!$P$2:$P$9000),1, COUNTIF( $C$5:C257, FLData!$P$2:$P$9000)), 0)),\"\")","v":""},{"$f":"IF( LEN(C258)>0,COUNTIF( FLData!$P$2:$P$13999,C258),\"\")","v":""}]
[null,null,{"$f":"IFERROR(INDEX(FLData!$P$2:$P$9000, MATCH(0, IF( ISBLANK(FLData!$P$2:$P$9000),1, COUNTIF( $C$5:C258, FLData!$P$2:$P$9000)), 0)),\"\")","v":""},{"$f":"IF( LEN(C259)>0,COUNTIF( FLData!$P$2:$P$13999,C259),\"\")","v":""}]
[null,null,{"$f":"IFERROR(INDEX(FLData!$P$2:$P$9000, MATCH(0, IF( ISBLANK(FLData!$P$2:$P$9000),1, COUNTIF( $C$5:C259, FLData!$P$2:$P$9000)), 0)),\"\")","v":""},{"$f":"IF( LEN(C260)>0,COUNTIF( FLData!$P$2:$P$13999,C260),\"\")","v":""}]
[null,null,{"$f":"IFERROR(INDEX(FLData!$P$2:$P$9000, MATCH(0, IF( ISBLANK(FLData!$P$2:$P$9000),1, COUNTIF( $C$5:C260, FLData!$P$2:$P$9000)), 0)),\"\")","v":""},{"$f":"IF( LEN(C261)>0,COUNTIF( FLData!$P$2:$P$13999,C261),\"\")","v":""}]
[null,null,{"$f":"IFERROR(INDEX(FLData!$P$2:$P$9000, MATCH(0, IF( ISBLANK(FLData!$P$2:$P$9000),1, COUNTIF( $C$5:C261, FLData!$P$2:$P$9000)), 0)),\"\")","v":""},{"$f":"IF( LEN(C262)>0,COUNTIF( FLData!$P$2:$P$13999,C262),\"\")","v":""}]
[null,null,{"$f":"IFERROR(INDEX(FLData!$P$2:$P$9000, MATCH(0, IF( ISBLANK(FLData!$P$2:$P$9000),1, COUNTIF( $C$5:C262, FLData!$P$2:$P$9000)), 0)),\"\")","v":""},{"$f":"IF( LEN(C263)>0,COUNTIF( FLData!$P$2:$P$13999,C263),\"\")","v":""}]
[null,null,{"$f":"IFERROR(INDEX(FLData!$P$2:$P$9000, MATCH(0, IF( ISBLANK(FLData!$P$2:$P$9000),1, COUNTIF( $C$5:C263, FLData!$P$2:$P$9000)), 0)),\"\")","v":""},{"$f":"IF( LEN(C264)>0,COUNTIF( FLData!$P$2:$P$13999,C264),\"\")","v":""}]
[null,null,{"$f":"IFERROR(INDEX(FLData!$P$2:$P$9000, MATCH(0, IF( ISBLANK(FLData!$P$2:$P$9000),1, COUNTIF( $C$5:C264, FLData!$P$2:$P$9000)), 0)),\"\")","v":""},{"$f":"IF( LEN(C265)>0,COUNTIF( FLData!$P$2:$P$13999,C265),\"\")","v":""}]
[null,null,{"$f":"IFERROR(INDEX(FLData!$P$2:$P$9000, MATCH(0, IF( ISBLANK(FLData!$P$2:$P$9000),1, COUNTIF( $C$5:C265, FLData!$P$2:$P$9000)), 0)),\"\")","v":""},{"$f":"IF( LEN(C266)>0,COUNTIF( FLData!$P$2:$P$13999,C266),\"\")","v":""}]
[null,null,{"$f":"IFERROR(INDEX(FLData!$P$2:$P$9000, MATCH(0, IF( ISBLANK(FLData!$P$2:$P$9000),1, COUNTIF( $C$5:C266, FLData!$P$2:$P$9000)), 0)),\"\")","v":""},{"$f":"IF( LEN(C267)>0,COUNTIF( FLData!$P$2:$P$13999,C267),\"\")","v":""}]
[null,null,{"$f":"IFERROR(INDEX(FLData!$P$2:$P$9000, MATCH(0, IF( ISBLANK(FLData!$P$2:$P$9000),1, COUNTIF( $C$5:C267, FLData!$P$2:$P$9000)), 0)),\"\")","v":""},{"$f":"IF( LEN(C268)>0,COUNTIF( FLData!$P$2:$P$13999,C268),\"\")","v":""}]
[null,null,{"$f":"IFERROR(INDEX(FLData!$P$2:$P$9000, MATCH(0, IF( ISBLANK(FLData!$P$2:$P$9000),1, COUNTIF( $C$5:C268, FLData!$P$2:$P$9000)), 0)),\"\")","v":""},{"$f":"IF( LEN(C269)>0,COUNTIF( FLData!$P$2:$P$13999,C269),\"\")","v":""}]
[null,null,{"$f":"IFERROR(INDEX(FLData!$P$2:$P$9000, MATCH(0, IF( ISBLANK(FLData!$P$2:$P$9000),1, COUNTIF( $C$5:C269, FLData!$P$2:$P$9000)), 0)),\"\")","v":""},{"$f":"IF( LEN(C270)>0,COUNTIF( FLData!$P$2:$P$13999,C270),\"\")","v":""}]
[null,null,{"$f":"IFERROR(INDEX(FLData!$P$2:$P$9000, MATCH(0, IF( ISBLANK(FLData!$P$2:$P$9000),1, COUNTIF( $C$5:C270, FLData!$P$2:$P$9000)), 0)),\"\")","v":""},{"$f":"IF( LEN(C271)>0,COUNTIF( FLData!$P$2:$P$13999,C271),\"\")","v":""}]
[null,null,{"$f":"IFERROR(INDEX(FLData!$P$2:$P$9000, MATCH(0, IF( ISBLANK(FLData!$P$2:$P$9000),1, COUNTIF( $C$5:C271, FLData!$P$2:$P$9000)), 0)),\"\")","v":""},{"$f":"IF( LEN(C272)>0,COUNTIF( FLData!$P$2:$P$13999,C272),\"\")","v":""}]
[null,null,{"$f":"IFERROR(INDEX(FLData!$P$2:$P$9000, MATCH(0, IF( ISBLANK(FLData!$P$2:$P$9000),1, COUNTIF( $C$5:C272, FLData!$P$2:$P$9000)), 0)),\"\")","v":""},{"$f":"IF( LEN(C273)>0,COUNTIF( FLData!$P$2:$P$13999,C273),\"\")","v":""}]
[null,null,{"$f":"IFERROR(INDEX(FLData!$P$2:$P$9000, MATCH(0, IF( ISBLANK(FLData!$P$2:$P$9000),1, COUNTIF( $C$5:C273, FLData!$P$2:$P$9000)), 0)),\"\")","v":""},{"$f":"IF( LEN(C274)>0,COUNTIF( FLData!$P$2:$P$13999,C274),\"\")","v":""}]
[null,null,{"$f":"IFERROR(INDEX(FLData!$P$2:$P$9000, MATCH(0, IF( ISBLANK(FLData!$P$2:$P$9000),1, COUNTIF( $C$5:C274, FLData!$P$2:$P$9000)), 0)),\"\")","v":""},{"$f":"IF( LEN(C275)>0,COUNTIF( FLData!$P$2:$P$13999,C275),\"\")","v":""}]
[null,null,{"$f":"IFERROR(INDEX(FLData!$P$2:$P$9000, MATCH(0, IF( ISBLANK(FLData!$P$2:$P$9000),1, COUNTIF( $C$5:C275, FLData!$P$2:$P$9000)), 0)),\"\")","v":""},{"$f":"IF( LEN(C276)>0,COUNTIF( FLData!$P$2:$P$13999,C276),\"\")","v":""}]
[null,null,{"$f":"IFERROR(INDEX(FLData!$P$2:$P$9000, MATCH(0, IF( ISBLANK(FLData!$P$2:$P$9000),1, COUNTIF( $C$5:C276, FLData!$P$2:$P$9000)), 0)),\"\")","v":""},{"$f":"IF( LEN(C277)>0,COUNTIF( FLData!$P$2:$P$13999,C277),\"\")","v":""}]
[null,null,{"$f":"IFERROR(INDEX(FLData!$P$2:$P$9000, MATCH(0, IF( ISBLANK(FLData!$P$2:$P$9000),1, COUNTIF( $C$5:C277, FLData!$P$2:$P$9000)), 0)),\"\")","v":""},{"$f":"IF( LEN(C278)>0,COUNTIF( FLData!$P$2:$P$13999,C278),\"\")","v":""}]
[null,null,{"$f":"IFERROR(INDEX(FLData!$P$2:$P$9000, MATCH(0, IF( ISBLANK(FLData!$P$2:$P$9000),1, COUNTIF( $C$5:C278, FLData!$P$2:$P$9000)), 0)),\"\")","v":""},{"$f":"IF( LEN(C279)>0,COUNTIF( FLData!$P$2:$P$13999,C279),\"\")","v":""}]
[null,null,{"$f":"IFERROR(INDEX(FLData!$P$2:$P$9000, MATCH(0, IF( ISBLANK(FLData!$P$2:$P$9000),1, COUNTIF( $C$5:C279, FLData!$P$2:$P$9000)), 0)),\"\")","v":""},{"$f":"IF( LEN(C280)>0,COUNTIF( FLData!$P$2:$P$13999,C280),\"\")","v":""}]
[null,null,{"$f":"IFERROR(INDEX(FLData!$P$2:$P$9000, MATCH(0, IF( ISBLANK(FLData!$P$2:$P$9000),1, COUNTIF( $C$5:C280, FLData!$P$2:$P$9000)), 0)),\"\")","v":""},{"$f":"IF( LEN(C281)>0,COUNTIF( FLData!$P$2:$P$13999,C281),\"\")","v":""}]
[null,null,{"$f":"IFERROR(INDEX(FLData!$P$2:$P$9000, MATCH(0, IF( ISBLANK(FLData!$P$2:$P$9000),1, COUNTIF( $C$5:C281, FLData!$P$2:$P$9000)), 0)),\"\")","v":""},{"$f":"IF( LEN(C282)>0,COUNTIF( FLData!$P$2:$P$13999,C282),\"\")","v":""}]
[null,null,{"$f":"IFERROR(INDEX(FLData!$P$2:$P$9000, MATCH(0, IF( ISBLANK(FLData!$P$2:$P$9000),1, COUNTIF( $C$5:C282, FLData!$P$2:$P$9000)), 0)),\"\")","v":""},{"$f":"IF( LEN(C283)>0,COUNTIF( FLData!$P$2:$P$13999,C283),\"\")","v":""}]
[null,null,{"$f":"IFERROR(INDEX(FLData!$P$2:$P$9000, MATCH(0, IF( ISBLANK(FLData!$P$2:$P$9000),1, COUNTIF( $C$5:C283, FLData!$P$2:$P$9000)), 0)),\"\")","v":""},{"$f":"IF( LEN(C284)>0,COUNTIF( FLData!$P$2:$P$13999,C284),\"\")","v":""}]
[null,null,{"$f":"IFERROR(INDEX(FLData!$P$2:$P$9000, MATCH(0, IF( ISBLANK(FLData!$P$2:$P$9000),1, COUNTIF( $C$5:C284, FLData!$P$2:$P$9000)), 0)),\"\")","v":""},{"$f":"IF( LEN(C285)>0,COUNTIF( FLData!$P$2:$P$13999,C285),\"\")","v":""}]
[null,null,{"$f":"IFERROR(INDEX(FLData!$P$2:$P$9000, MATCH(0, IF( ISBLANK(FLData!$P$2:$P$9000),1, COUNTIF( $C$5:C285, FLData!$P$2:$P$9000)), 0)),\"\")","v":""},{"$f":"IF( LEN(C286)>0,COUNTIF( FLData!$P$2:$P$13999,C286),\"\")","v":""}]
[null,null,{"$f":"IFERROR(INDEX(FLData!$P$2:$P$9000, MATCH(0, IF( ISBLANK(FLData!$P$2:$P$9000),1, COUNTIF( $C$5:C286, FLData!$P$2:$P$9000)), 0)),\"\")","v":""},{"$f":"IF( LEN(C287)>0,COUNTIF( FLData!$P$2:$P$13999,C287),\"\")","v":""}]
[null,null,{"$f":"IFERROR(INDEX(FLData!$P$2:$P$9000, MATCH(0, IF( ISBLANK(FLData!$P$2:$P$9000),1, COUNTIF( $C$5:C287, FLData!$P$2:$P$9000)), 0)),\"\")","v":""},{"$f":"IF( LEN(C288)>0,COUNTIF( FLData!$P$2:$P$13999,C288),\"\")","v":""}]
[null,null,{"$f":"IFERROR(INDEX(FLData!$P$2:$P$9000, MATCH(0, IF( ISBLANK(FLData!$P$2:$P$9000),1, COUNTIF( $C$5:C288, FLData!$P$2:$P$9000)), 0)),\"\")","v":""},{"$f":"IF( LEN(C289)>0,COUNTIF( FLData!$P$2:$P$13999,C289),\"\")","v":""}]
[null,null,{"$f":"IFERROR(INDEX(FLData!$P$2:$P$9000, MATCH(0, IF( ISBLANK(FLData!$P$2:$P$9000),1, COUNTIF( $C$5:C289, FLData!$P$2:$P$9000)), 0)),\"\")","v":""},{"$f":"IF( LEN(C290)>0,COUNTIF( FLData!$P$2:$P$13999,C290),\"\")","v":""}]
[null,null,{"$f":"IFERROR(INDEX(FLData!$P$2:$P$9000, MATCH(0, IF( ISBLANK(FLData!$P$2:$P$9000),1, COUNTIF( $C$5:C290, FLData!$P$2:$P$9000)), 0)),\"\")","v":""},{"$f":"IF( LEN(C291)>0,COUNTIF( FLData!$P$2:$P$13999,C291),\"\")","v":""}]
[null,null,{"$f":"IFERROR(INDEX(FLData!$P$2:$P$9000, MATCH(0, IF( ISBLANK(FLData!$P$2:$P$9000),1, COUNTIF( $C$5:C291, FLData!$P$2:$P$9000)), 0)),\"\")","v":""},{"$f":"IF( LEN(C292)>0,COUNTIF( FLData!$P$2:$P$13999,C292),\"\")","v":""}]
[null,null,{"$f":"IFERROR(INDEX(FLData!$P$2:$P$9000, MATCH(0, IF( ISBLANK(FLData!$P$2:$P$9000),1, COUNTIF( $C$5:C292, FLData!$P$2:$P$9000)), 0)),\"\")","v":""},{"$f":"IF( LEN(C293)>0,COUNTIF( FLData!$P$2:$P$13999,C293),\"\")","v":""}]
[null,null,{"$f":"IFERROR(INDEX(FLData!$P$2:$P$9000, MATCH(0, IF( ISBLANK(FLData!$P$2:$P$9000),1, COUNTIF( $C$5:C293, FLData!$P$2:$P$9000)), 0)),\"\")","v":""},{"$f":"IF( LEN(C294)>0,COUNTIF( FLData!$P$2:$P$13999,C294),\"\")","v":""}]
[null,null,{"$f":"IFERROR(INDEX(FLData!$P$2:$P$9000, MATCH(0, IF( ISBLANK(FLData!$P$2:$P$9000),1, COUNTIF( $C$5:C294, FLData!$P$2:$P$9000)), 0)),\"\")","v":""},{"$f":"IF( LEN(C295)>0,COUNTIF( FLData!$P$2:$P$13999,C295),\"\")","v":""}]
[null,null,{"$f":"IFERROR(INDEX(FLData!$P$2:$P$9000, MATCH(0, IF( ISBLANK(FLData!$P$2:$P$9000),1, COUNTIF( $C$5:C295, FLData!$P$2:$P$9000)), 0)),\"\")","v":""},{"$f":"IF( LEN(C296)>0,COUNTIF( FLData!$P$2:$P$13999,C296),\"\")","v":""}]
[null,null,{"$f":"IFERROR(INDEX(FLData!$P$2:$P$9000, MATCH(0, IF( ISBLANK(FLData!$P$2:$P$9000),1, COUNTIF( $C$5:C296, FLData!$P$2:$P$9000)), 0)),\"\")","v":""},{"$f":"IF( LEN(C297)>0,COUNTIF( FLData!$P$2:$P$13999,C297),\"\")","v":""}]
[null,null,{"$f":"IFERROR(INDEX(FLData!$P$2:$P$9000, MATCH(0, IF( ISBLANK(FLData!$P$2:$P$9000),1, COUNTIF( $C$5:C297, FLData!$P$2:$P$9000)), 0)),\"\")","v":""},{"$f":"IF( LEN(C298)>0,COUNTIF( FLData!$P$2:$P$13999,C298),\"\")","v":""}]
[null,null,{"$f":"IFERROR(INDEX(FLData!$P$2:$P$9000, MATCH(0, IF( ISBLANK(FLData!$P$2:$P$9000),1, COUNTIF( $C$5:C298, FLData!$P$2:$P$9000)), 0)),\"\")","v":""},{"$f":"IF( LEN(C299)>0,COUNTIF( FLData!$P$2:$P$13999,C299),\"\")","v":""}]
[null,null,{"$f":"IFERROR(INDEX(FLData!$P$2:$P$9000, MATCH(0, IF( ISBLANK(FLData!$P$2:$P$9000),1, COUNTIF( $C$5:C299, FLData!$P$2:$P$9000)), 0)),\"\")","v":""},{"$f":"IF( LEN(C300)>0,COUNTIF( FLData!$P$2:$P$13999,C300),\"\")","v":""}]
[null,null,{"$f":"IFERROR(INDEX(FLData!$P$2:$P$9000, MATCH(0, IF( ISBLANK(FLData!$P$2:$P$9000),1, COUNTIF( $C$5:C300, FLData!$P$2:$P$9000)), 0)),\"\")","v":""},{"$f":"IF( LEN(C301)>0,COUNTIF( FLData!$P$2:$P$13999,C301),\"\")","v":""}]

{"sheet":"Activity - Instructors","index":6,"n_rows":200,"n_cols":4,"rows_kept":200,"cut":false,"hidden":false,"merged":[]}
[]
[]
[null,null,"Active Instructors",{"$f":"FLVersion","v":"V009"}]
[]
[null,null,"Instructor Name","Flights Count"]
[null,null,{"$f":"IFERROR(INDEX(FLData!$M$2:$M$13999, MATCH(0, IF( ISBLANK(FLData!$M$2:$M$13999),1, COUNTIF( $C$5:C5, FLData!$M$2:$M$13999)), 0)),\"\")","v":""},{"$f":"IF( LEN(C6)>0,COUNTIF( FLData!$M$2:$M$13999,C6),\"\")","v":""}]
[null,null,{"$f":"IFERROR(INDEX(FLData!$M$2:$M$13999, MATCH(0, IF( ISBLANK(FLData!$M$2:$M$13999),1, COUNTIF( $C$5:C6, FLData!$M$2:$M$13999)), 0)),\"\")","v":""},{"$f":"IF( LEN(C7)>0,COUNTIF( FLData!$M$2:$M$13999,C7),\"\")","v":""}]
[null,null,{"$f":"IFERROR(INDEX(FLData!$M$2:$M$13999, MATCH(0, IF( ISBLANK(FLData!$M$2:$M$13999),1, COUNTIF( $C$5:C7, FLData!$M$2:$M$13999)), 0)),\"\")","v":""},{"$f":"IF( LEN(C8)>0,COUNTIF( FLData!$M$2:$M$13999,C8),\"\")","v":""}]
[null,null,{"$f":"IFERROR(INDEX(FLData!$M$2:$M$13999, MATCH(0, IF( ISBLANK(FLData!$M$2:$M$13999),1, COUNTIF( $C$5:C8, FLData!$M$2:$M$13999)), 0)),\"\")","v":""},{"$f":"IF( LEN(C9)>0,COUNTIF( FLData!$M$2:$M$13999,C9),\"\")","v":""}]
[null,null,{"$f":"IFERROR(INDEX(FLData!$M$2:$M$13999, MATCH(0, IF( ISBLANK(FLData!$M$2:$M$13999),1, COUNTIF( $C$5:C9, FLData!$M$2:$M$13999)), 0)),\"\")","v":""},{"$f":"IF( LEN(C10)>0,COUNTIF( FLData!$M$2:$M$13999,C10),\"\")","v":""}]
[null,null,{"$f":"IFERROR(INDEX(FLData!$M$2:$M$13999, MATCH(0, IF( ISBLANK(FLData!$M$2:$M$13999),1, COUNTIF( $C$5:C10, FLData!$M$2:$M$13999)), 0)),\"\")","v":""},{"$f":"IF( LEN(C11)>0,COUNTIF( FLData!$M$2:$M$13999,C11),\"\")","v":""}]
[null,null,{"$f":"IFERROR(INDEX(FLData!$M$2:$M$13999, MATCH(0, IF( ISBLANK(FLData!$M$2:$M$13999),1, COUNTIF( $C$5:C11, FLData!$M$2:$M$13999)), 0)),\"\")","v":""},{"$f":"IF( LEN(C12)>0,COUNTIF( FLData!$M$2:$M$13999,C12),\"\")","v":""}]
[null,null,{"$f":"IFERROR(INDEX(FLData!$M$2:$M$13999, MATCH(0, IF( ISBLANK(FLData!$M$2:$M$13999),1, COUNTIF( $C$5:C12, FLData!$M$2:$M$13999)), 0)),\"\")","v":""},{"$f":"IF( LEN(C13)>0,COUNTIF( FLData!$M$2:$M$13999,C13),\"\")","v":""}]
[null,null,{"$f":"IFERROR(INDEX(FLData!$M$2:$M$13999, MATCH(0, IF( ISBLANK(FLData!$M$2:$M$13999),1, COUNTIF( $C$5:C13, FLData!$M$2:$M$13999)), 0)),\"\")","v":""},{"$f":"IF( LEN(C14)>0,COUNTIF( FLData!$M$2:$M$13999,C14),\"\")","v":""}]
[null,null,{"$f":"IFERROR(INDEX(FLData!$M$2:$M$13999, MATCH(0, IF( ISBLANK(FLData!$M$2:$M$13999),1, COUNTIF( $C$5:C14, FLData!$M$2:$M$13999)), 0)),\"\")","v":""},{"$f":"IF( LEN(C15)>0,COUNTIF( FLData!$M$2:$M$13999,C15),\"\")","v":""}]
[null,null,{"$f":"IFERROR(INDEX(FLData!$M$2:$M$13999, MATCH(0, IF( ISBLANK(FLData!$M$2:$M$13999),1, COUNTIF( $C$5:C15, FLData!$M$2:$M$13999)), 0)),\"\")","v":""},{"$f":"IF( LEN(C16)>0,COUNTIF( FLData!$M$2:$M$13999,C16),\"\")","v":""}]
[null,null,{"$f":"IFERROR(INDEX(FLData!$M$2:$M$13999, MATCH(0, IF( ISBLANK(FLData!$M$2:$M$13999),1, COUNTIF( $C$5:C16, FLData!$M$2:$M$13999)), 0)),\"\")","v":""},{"$f":"IF( LEN(C17)>0,COUNTIF( FLData!$M$2:$M$13999,C17),\"\")","v":""}]
[null,null,{"$f":"IFERROR(INDEX(FLData!$M$2:$M$13999, MATCH(0, IF( ISBLANK(FLData!$M$2:$M$13999),1, COUNTIF( $C$5:C17, FLData!$M$2:$M$13999)), 0)),\"\")","v":""},{"$f":"IF( LEN(C18)>0,COUNTIF( FLData!$M$2:$M$13999,C18),\"\")","v":""}]
[null,null,{"$f":"IFERROR(INDEX(FLData!$M$2:$M$13999, MATCH(0, IF( ISBLANK(FLData!$M$2:$M$13999),1, COUNTIF( $C$5:C18, FLData!$M$2:$M$13999)), 0)),\"\")","v":""},{"$f":"IF( LEN(C19)>0,COUNTIF( FLData!$M$2:$M$13999,C19),\"\")","v":""}]
[null,null,{"$f":"IFERROR(INDEX(FLData!$M$2:$M$13999, MATCH(0, IF( ISBLANK(FLData!$M$2:$M$13999),1, COUNTIF( $C$5:C19, FLData!$M$2:$M$13999)), 0)),\"\")","v":""},{"$f":"IF( LEN(C20)>0,COUNTIF( FLData!$M$2:$M$13999,C20),\"\")","v":""}]
[null,null,{"$f":"IFERROR(INDEX(FLData!$M$2:$M$13999, MATCH(0, IF( ISBLANK(FLData!$M$2:$M$13999),1, COUNTIF( $C$5:C20, FLData!$M$2:$M$13999)), 0)),\"\")","v":""},{"$f":"IF( LEN(C21)>0,COUNTIF( FLData!$M$2:$M$13999,C21),\"\")","v":""}]
[null,null,{"$f":"IFERROR(INDEX(FLData!$M$2:$M$13999, MATCH(0, IF( ISBLANK(FLData!$M$2:$M$13999),1, COUNTIF( $C$5:C21, FLData!$M$2:$M$13999)), 0)),\"\")","v":""},{"$f":"IF( LEN(C22)>0,COUNTIF( FLData!$M$2:$M$13999,C22),\"\")","v":""}]
[null,null,{"$f":"IFERROR(INDEX(FLData!$M$2:$M$13999, MATCH(0, IF( ISBLANK(FLData!$M$2:$M$13999),1, COUNTIF( $C$5:C22, FLData!$M$2:$M$13999)), 0)),\"\")","v":""},{"$f":"IF( LEN(C23)>0,COUNTIF( FLData!$M$2:$M$13999,C23),\"\")","v":""}]
[null,null,{"$f":"IFERROR(INDEX(FLData!$M$2:$M$13999, MATCH(0, IF( ISBLANK(FLData!$M$2:$M$13999),1, COUNTIF( $C$5:C23, FLData!$M$2:$M$13999)), 0)),\"\")","v":""},{"$f":"IF( LEN(C24)>0,COUNTIF( FLData!$M$2:$M$13999,C24),\"\")","v":""}]
[null,null,{"$f":"IFERROR(INDEX(FLData!$M$2:$M$13999, MATCH(0, IF( ISBLANK(FLData!$M$2:$M$13999),1, COUNTIF( $C$5:C24, FLData!$M$2:$M$13999)), 0)),\"\")","v":""},{"$f":"IF( LEN(C25)>0,COUNTIF( FLData!$M$2:$M$13999,C25),\"\")","v":""}]
[null,null,{"$f":"IFERROR(INDEX(FLData!$M$2:$M$13999, MATCH(0, IF( ISBLANK(FLData!$M$2:$M$13999),1, COUNTIF( $C$5:C25, FLData!$M$2:$M$13999)), 0)),\"\")","v":""},{"$f":"IF( LEN(C26)>0,COUNTIF( FLData!$M$2:$M$13999,C26),\"\")","v":""}]
[null,null,{"$f":"IFERROR(INDEX(FLData!$M$2:$M$13999, MATCH(0, IF( ISBLANK(FLData!$M$2:$M$13999),1, COUNTIF( $C$5:C26, FLData!$M$2:$M$13999)), 0)),\"\")","v":""},{"$f":"IF( LEN(C27)>0,COUNTIF( FLData!$M$2:$M$13999,C27),\"\")","v":""}]
[null,null,{"$f":"IFERROR(INDEX(FLData!$M$2:$M$13999, MATCH(0, IF( ISBLANK(FLData!$M$2:$M$13999),1, COUNTIF( $C$5:C27, FLData!$M$2:$M$13999)), 0)),\"\")","v":""},{"$f":"IF( LEN(C28)>0,COUNTIF( FLData!$M$2:$M$13999,C28),\"\")","v":""}]
[null,null,{"$f":"IFERROR(INDEX(FLData!$M$2:$M$13999, MATCH(0, IF( ISBLANK(FLData!$M$2:$M$13999),1, COUNTIF( $C$5:C28, FLData!$M$2:$M$13999)), 0)),\"\")","v":""},{"$f":"IF( LEN(C29)>0,COUNTIF( FLData!$M$2:$M$13999,C29),\"\")","v":""}]
[null,null,{"$f":"IFERROR(INDEX(FLData!$M$2:$M$13999, MATCH(0, IF( ISBLANK(FLData!$M$2:$M$13999),1, COUNTIF( $C$5:C29, FLData!$M$2:$M$13999)), 0)),\"\")","v":""},{"$f":"IF( LEN(C30)>0,COUNTIF( FLData!$M$2:$M$13999,C30),\"\")","v":""}]
[null,null,{"$f":"IFERROR(INDEX(FLData!$M$2:$M$13999, MATCH(0, IF( ISBLANK(FLData!$M$2:$M$13999),1, COUNTIF( $C$5:C30, FLData!$M$2:$M$13999)), 0)),\"\")","v":""},{"$f":"IF( LEN(C31)>0,COUNTIF( FLData!$M$2:$M$13999,C31),\"\")","v":""}]
[null,null,{"$f":"IFERROR(INDEX(FLData!$M$2:$M$13999, MATCH(0, IF( ISBLANK(FLData!$M$2:$M$13999),1, COUNTIF( $C$5:C31, FLData!$M$2:$M$13999)), 0)),\"\")","v":""},{"$f":"IF( LEN(C32)>0,COUNTIF( FLData!$M$2:$M$13999,C32),\"\")","v":""}]
[null,null,{"$f":"IFERROR(INDEX(FLData!$M$2:$M$13999, MATCH(0, IF( ISBLANK(FLData!$M$2:$M$13999),1, COUNTIF( $C$5:C32, FLData!$M$2:$M$13999)), 0)),\"\")","v":""},{"$f":"IF( LEN(C33)>0,COUNTIF( FLData!$M$2:$M$13999,C33),\"\")","v":""}]
[null,null,{"$f":"IFERROR(INDEX(FLData!$M$2:$M$13999, MATCH(0, IF( ISBLANK(FLData!$M$2:$M$13999),1, COUNTIF( $C$5:C33, FLData!$M$2:$M$13999)), 0)),\"\")","v":""},{"$f":"IF( LEN(C34)>0,COUNTIF( FLData!$M$2:$M$13999,C34),\"\")","v":""}]
[null,null,{"$f":"IFERROR(INDEX(FLData!$M$2:$M$13999, MATCH(0, IF( ISBLANK(FLData!$M$2:$M$13999),1, COUNTIF( $C$5:C34, FLData!$M$2:$M$13999)), 0)),\"\")","v":""},{"$f":"IF( LEN(C35)>0,COUNTIF( FLData!$M$2:$M$13999,C35),\"\")","v":""}]
[null,null,{"$f":"IFERROR(INDEX(FLData!$M$2:$M$13999, MATCH(0, IF( ISBLANK(FLData!$M$2:$M$13999),1, COUNTIF( $C$5:C35, FLData!$M$2:$M$13999)), 0)),\"\")","v":""},{"$f":"IF( LEN(C36)>0,COUNTIF( FLData!$M$2:$M$13999,C36),\"\")","v":""}]
[null,null,{"$f":"IFERROR(INDEX(FLData!$M$2:$M$13999, MATCH(0, IF( ISBLANK(FLData!$M$2:$M$13999),1, COUNTIF( $C$5:C36, FLData!$M$2:$M$13999)), 0)),\"\")","v":""},{"$f":"IF( LEN(C37)>0,COUNTIF( FLData!$M$2:$M$13999,C37),\"\")","v":""}]
[null,null,{"$f":"IFERROR(INDEX(FLData!$M$2:$M$13999, MATCH(0, IF( ISBLANK(FLData!$M$2:$M$13999),1, COUNTIF( $C$5:C37, FLData!$M$2:$M$13999)), 0)),\"\")","v":""},{"$f":"IF( LEN(C38)>0,COUNTIF( FLData!$M$2:$M$13999,C38),\"\")","v":""}]
[null,null,{"$f":"IFERROR(INDEX(FLData!$M$2:$M$13999, MATCH(0, IF( ISBLANK(FLData!$M$2:$M$13999),1, COUNTIF( $C$5:C38, FLData!$M$2:$M$13999)), 0)),\"\")","v":""},{"$f":"IF( LEN(C39)>0,COUNTIF( FLData!$M$2:$M$13999,C39),\"\")","v":""}]
[null,null,{"$f":"IFERROR(INDEX(FLData!$M$2:$M$13999, MATCH(0, IF( ISBLANK(FLData!$M$2:$M$13999),1, COUNTIF( $C$5:C39, FLData!$M$2:$M$13999)), 0)),\"\")","v":""},{"$f":"IF( LEN(C40)>0,COUNTIF( FLData!$M$2:$M$13999,C40),\"\")","v":""}]
[null,null,{"$f":"IFERROR(INDEX(FLData!$M$2:$M$13999, MATCH(0, IF( ISBLANK(FLData!$M$2:$M$13999),1, COUNTIF( $C$5:C40, FLData!$M$2:$M$13999)), 0)),\"\")","v":""},{"$f":"IF( LEN(C41)>0,COUNTIF( FLData!$M$2:$M$13999,C41),\"\")","v":""}]
[null,null,{"$f":"IFERROR(INDEX(FLData!$M$2:$M$13999, MATCH(0, IF( ISBLANK(FLData!$M$2:$M$13999),1, COUNTIF( $C$5:C41, FLData!$M$2:$M$13999)), 0)),\"\")","v":""},{"$f":"IF( LEN(C42)>0,COUNTIF( FLData!$M$2:$M$13999,C42),\"\")","v":""}]
[null,null,{"$f":"IFERROR(INDEX(FLData!$M$2:$M$13999, MATCH(0, IF( ISBLANK(FLData!$M$2:$M$13999),1, COUNTIF( $C$5:C42, FLData!$M$2:$M$13999)), 0)),\"\")","v":""},{"$f":"IF( LEN(C43)>0,COUNTIF( FLData!$M$2:$M$13999,C43),\"\")","v":""}]
[null,null,{"$f":"IFERROR(INDEX(FLData!$M$2:$M$13999, MATCH(0, IF( ISBLANK(FLData!$M$2:$M$13999),1, COUNTIF( $C$5:C43, FLData!$M$2:$M$13999)), 0)),\"\")","v":""},{"$f":"IF( LEN(C44)>0,COUNTIF( FLData!$M$2:$M$13999,C44),\"\")","v":""}]
[null,null,{"$f":"IFERROR(INDEX(FLData!$M$2:$M$13999, MATCH(0, IF( ISBLANK(FLData!$M$2:$M$13999),1, COUNTIF( $C$5:C44, FLData!$M$2:$M$13999)), 0)),\"\")","v":""},{"$f":"IF( LEN(C45)>0,COUNTIF( FLData!$M$2:$M$13999,C45),\"\")","v":""}]
[null,null,{"$f":"IFERROR(INDEX(FLData!$M$2:$M$13999, MATCH(0, IF( ISBLANK(FLData!$M$2:$M$13999),1, COUNTIF( $C$5:C45, FLData!$M$2:$M$13999)), 0)),\"\")","v":""},{"$f":"IF( LEN(C46)>0,COUNTIF( FLData!$M$2:$M$13999,C46),\"\")","v":""}]
[null,null,{"$f":"IFERROR(INDEX(FLData!$M$2:$M$13999, MATCH(0, IF( ISBLANK(FLData!$M$2:$M$13999),1, COUNTIF( $C$5:C46, FLData!$M$2:$M$13999)), 0)),\"\")","v":""},{"$f":"IF( LEN(C47)>0,COUNTIF( FLData!$M$2:$M$13999,C47),\"\")","v":""}]
[null,null,{"$f":"IFERROR(INDEX(FLData!$M$2:$M$13999, MATCH(0, IF( ISBLANK(FLData!$M$2:$M$13999),1, COUNTIF( $C$5:C47, FLData!$M$2:$M$13999)), 0)),\"\")","v":""},{"$f":"IF( LEN(C48)>0,COUNTIF( FLData!$M$2:$M$13999,C48),\"\")","v":""}]
[null,null,{"$f":"IFERROR(INDEX(FLData!$M$2:$M$13999, MATCH(0, IF( ISBLANK(FLData!$M$2:$M$13999),1, COUNTIF( $C$5:C48, FLData!$M$2:$M$13999)), 0)),\"\")","v":""},{"$f":"IF( LEN(C49)>0,COUNTIF( FLData!$M$2:$M$13999,C49),\"\")","v":""}]
[null,null,{"$f":"IFERROR(INDEX(FLData!$M$2:$M$13999, MATCH(0, IF( ISBLANK(FLData!$M$2:$M$13999),1, COUNTIF( $C$5:C49, FLData!$M$2:$M$13999)), 0)),\"\")","v":""},{"$f":"IF( LEN(C50)>0,COUNTIF( FLData!$M$2:$M$13999,C50),\"\")","v":""}]
[null,null,{"$f":"IFERROR(INDEX(FLData!$M$2:$M$13999, MATCH(0, IF( ISBLANK(FLData!$M$2:$M$13999),1, COUNTIF( $C$5:C50, FLData!$M$2:$M$13999)), 0)),\"\")","v":""},{"$f":"IF( LEN(C51)>0,COUNTIF( FLData!$M$2:$M$13999,C51),\"\")","v":""}]
[null,null,{"$f":"IFERROR(INDEX(FLData!$M$2:$M$13999, MATCH(0, IF( ISBLANK(FLData!$M$2:$M$13999),1, COUNTIF( $C$5:C51, FLData!$M$2:$M$13999)), 0)),\"\")","v":""},{"$f":"IF( LEN(C52)>0,COUNTIF( FLData!$M$2:$M$13999,C52),\"\")","v":""}]
[null,null,{"$f":"IFERROR(INDEX(FLData!$M$2:$M$13999, MATCH(0, IF( ISBLANK(FLData!$M$2:$M$13999),1, COUNTIF( $C$5:C52, FLData!$M$2:$M$13999)), 0)),\"\")","v":""},{"$f":"IF( LEN(C53)>0,COUNTIF( FLData!$M$2:$M$13999,C53),\"\")","v":""}]
[null,null,{"$f":"IFERROR(INDEX(FLData!$M$2:$M$13999, MATCH(0, IF( ISBLANK(FLData!$M$2:$M$13999),1, COUNTIF( $C$5:C53, FLData!$M$2:$M$13999)), 0)),\"\")","v":""},{"$f":"IF( LEN(C54)>0,COUNTIF( FLData!$M$2:$M$13999,C54),\"\")","v":""}]
[null,null,{"$f":"IFERROR(INDEX(FLData!$M$2:$M$13999, MATCH(0, IF( ISBLANK(FLData!$M$2:$M$13999),1, COUNTIF( $C$5:C54, FLData!$M$2:$M$13999)), 0)),\"\")","v":""},{"$f":"IF( LEN(C55)>0,COUNTIF( FLData!$M$2:$M$13999,C55),\"\")","v":""}]
[null,null,{"$f":"IFERROR(INDEX(FLData!$M$2:$M$13999, MATCH(0, IF( ISBLANK(FLData!$M$2:$M$13999),1, COUNTIF( $C$5:C55, FLData!$M$2:$M$13999)), 0)),\"\")","v":""},{"$f":"IF( LEN(C56)>0,COUNTIF( FLData!$M$2:$M$13999,C56),\"\")","v":""}]
[null,null,{"$f":"IFERROR(INDEX(FLData!$M$2:$M$13999, MATCH(0, IF( ISBLANK(FLData!$M$2:$M$13999),1, COUNTIF( $C$5:C56, FLData!$M$2:$M$13999)), 0)),\"\")","v":""},{"$f":"IF( LEN(C57)>0,COUNTIF( FLData!$M$2:$M$13999,C57),\"\")","v":""}]
[null,null,{"$f":"IFERROR(INDEX(FLData!$M$2:$M$13999, MATCH(0, IF( ISBLANK(FLData!$M$2:$M$13999),1, COUNTIF( $C$5:C57, FLData!$M$2:$M$13999)), 0)),\"\")","v":""},{"$f":"IF( LEN(C58)>0,COUNTIF( FLData!$M$2:$M$13999,C58),\"\")","v":""}]
[null,null,{"$f":"IFERROR(INDEX(FLData!$M$2:$M$13999, MATCH(0, IF( ISBLANK(FLData!$M$2:$M$13999),1, COUNTIF( $C$5:C58, FLData!$M$2:$M$13999)), 0)),\"\")","v":""},{"$f":"IF( LEN(C59)>0,COUNTIF( FLData!$M$2:$M$13999,C59),\"\")","v":""}]
[null,null,{"$f":"IFERROR(INDEX(FLData!$M$2:$M$13999, MATCH(0, IF( ISBLANK(FLData!$M$2:$M$13999),1, COUNTIF( $C$5:C59, FLData!$M$2:$M$13999)), 0)),\"\")","v":""},{"$f":"IF( LEN(C60)>0,COUNTIF( FLData!$M$2:$M$13999,C60),\"\")","v":""}]
[null,null,{"$f":"IFERROR(INDEX(FLData!$M$2:$M$13999, MATCH(0, IF( ISBLANK(FLData!$M$2:$M$13999),1, COUNTIF( $C$5:C60, FLData!$M$2:$M$13999)), 0)),\"\")","v":""},{"$f":"IF( LEN(C61)>0,COUNTIF( FLData!$M$2:$M$13999,C61),\"\")","v":""}]
[null,null,{"$f":"IFERROR(INDEX(FLData!$M$2:$M$13999, MATCH(0, IF( ISBLANK(FLData!$M$2:$M$13999),1, COUNTIF( $C$5:C61, FLData!$M$2:$M$13999)), 0)),\"\")","v":""},{"$f":"IF( LEN(C62)>0,COUNTIF( FLData!$M$2:$M$13999,C62),\"\")","v":""}]
[null,null,{"$f":"IFERROR(INDEX(FLData!$M$2:$M$13999, MATCH(0, IF( ISBLANK(FLData!$M$2:$M$13999),1, COUNTIF( $C$5:C62, FLData!$M$2:$M$13999)), 0)),\"\")","v":""},{"$f":"IF( LEN(C63)>0,COUNTIF( FLData!$M$2:$M$13999,C63),\"\")","v":""}]
[null,null,{"$f":"IFERROR(INDEX(FLData!$M$2:$M$13999, MATCH(0, IF( ISBLANK(FLData!$M$2:$M$13999),1, COUNTIF( $C$5:C63, FLData!$M$2:$M$13999)), 0)),\"\")","v":""},{"$f":"IF( LEN(C64)>0,COUNTIF( FLData!$M$2:$M$13999,C64),\"\")","v":""}]
[null,null,{"$f":"IFERROR(INDEX(FLData!$M$2:$M$13999, MATCH(0, IF( ISBLANK(FLData!$M$2:$M$13999),1, COUNTIF( $C$5:C64, FLData!$M$2:$M$13999)), 0)),\"\")","v":""},{"$f":"IF( LEN(C65)>0,COUNTIF( FLData!$M$2:$M$13999,C65),\"\")","v":""}]
[null,null,{"$f":"IFERROR(INDEX(FLData!$M$2:$M$13999, MATCH(0, IF( ISBLANK(FLData!$M$2:$M$13999),1, COUNTIF( $C$5:C65, FLData!$M$2:$M$13999)), 0)),\"\")","v":""},{"$f":"IF( LEN(C66)>0,COUNTIF( FLData!$M$2:$M$13999,C66),\"\")","v":""}]
[null,null,{"$f":"IFERROR(INDEX(FLData!$M$2:$M$13999, MATCH(0, IF( ISBLANK(FLData!$M$2:$M$13999),1, COUNTIF( $C$5:C66, FLData!$M$2:$M$13999)), 0)),\"\")","v":""},{"$f":"IF( LEN(C67)>0,COUNTIF( FLData!$M$2:$M$13999,C67),\"\")","v":""}]
[null,null,{"$f":"IFERROR(INDEX(FLData!$M$2:$M$13999, MATCH(0, IF( ISBLANK(FLData!$M$2:$M$13999),1, COUNTIF( $C$5:C67, FLData!$M$2:$M$13999)), 0)),\"\")","v":""},{"$f":"IF( LEN(C68)>0,COUNTIF( FLData!$M$2:$M$13999,C68),\"\")","v":""}]
[null,null,{"$f":"IFERROR(INDEX(FLData!$M$2:$M$13999, MATCH(0, IF( ISBLANK(FLData!$M$2:$M$13999),1, COUNTIF( $C$5:C68, FLData!$M$2:$M$13999)), 0)),\"\")","v":""},{"$f":"IF( LEN(C69)>0,COUNTIF( FLData!$M$2:$M$13999,C69),\"\")","v":""}]
[null,null,{"$f":"IFERROR(INDEX(FLData!$M$2:$M$13999, MATCH(0, IF( ISBLANK(FLData!$M$2:$M$13999),1, COUNTIF( $C$5:C69, FLData!$M$2:$M$13999)), 0)),\"\")","v":""},{"$f":"IF( LEN(C70)>0,COUNTIF( FLData!$M$2:$M$13999,C70),\"\")","v":""}]
[null,null,{"$f":"IFERROR(INDEX(FLData!$M$2:$M$13999, MATCH(0, IF( ISBLANK(FLData!$M$2:$M$13999),1, COUNTIF( $C$5:C70, FLData!$M$2:$M$13999)), 0)),\"\")","v":""},{"$f":"IF( LEN(C71)>0,COUNTIF( FLData!$M$2:$M$13999,C71),\"\")","v":""}]
[null,null,{"$f":"IFERROR(INDEX(FLData!$M$2:$M$13999, MATCH(0, IF( ISBLANK(FLData!$M$2:$M$13999),1, COUNTIF( $C$5:C71, FLData!$M$2:$M$13999)), 0)),\"\")","v":""},{"$f":"IF( LEN(C72)>0,COUNTIF( FLData!$M$2:$M$13999,C72),\"\")","v":""}]
[null,null,{"$f":"IFERROR(INDEX(FLData!$M$2:$M$13999, MATCH(0, IF( ISBLANK(FLData!$M$2:$M$13999),1, COUNTIF( $C$5:C72, FLData!$M$2:$M$13999)), 0)),\"\")","v":""},{"$f":"IF( LEN(C73)>0,COUNTIF( FLData!$M$2:$M$13999,C73),\"\")","v":""}]
[null,null,{"$f":"IFERROR(INDEX(FLData!$M$2:$M$13999, MATCH(0, IF( ISBLANK(FLData!$M$2:$M$13999),1, COUNTIF( $C$5:C73, FLData!$M$2:$M$13999)), 0)),\"\")","v":""},{"$f":"IF( LEN(C74)>0,COUNTIF( FLData!$M$2:$M$13999,C74),\"\")","v":""}]
[null,null,{"$f":"IFERROR(INDEX(FLData!$M$2:$M$13999, MATCH(0, IF( ISBLANK(FLData!$M$2:$M$13999),1, COUNTIF( $C$5:C74, FLData!$M$2:$M$13999)), 0)),\"\")","v":""},{"$f":"IF( LEN(C75)>0,COUNTIF( FLData!$M$2:$M$13999,C75),\"\")","v":""}]
[null,null,{"$f":"IFERROR(INDEX(FLData!$M$2:$M$13999, MATCH(0, IF( ISBLANK(FLData!$M$2:$M$13999),1, COUNTIF( $C$5:C75, FLData!$M$2:$M$13999)), 0)),\"\")","v":""},{"$f":"IF( LEN(C76)>0,COUNTIF( FLData!$M$2:$M$13999,C76),\"\")","v":""}]
[null,null,{"$f":"IFERROR(INDEX(FLData!$M$2:$M$13999, MATCH(0, IF( ISBLANK(FLData!$M$2:$M$13999),1, COUNTIF( $C$5:C76, FLData!$M$2:$M$13999)), 0)),\"\")","v":""},{"$f":"IF( LEN(C77)>0,COUNTIF( FLData!$M$2:$M$13999,C77),\"\")","v":""}]
[null,null,{"$f":"IFERROR(INDEX(FLData!$M$2:$M$13999, MATCH(0, IF( ISBLANK(FLData!$M$2:$M$13999),1, COUNTIF( $C$5:C77, FLData!$M$2:$M$13999)), 0)),\"\")","v":""},{"$f":"IF( LEN(C78)>0,COUNTIF( FLData!$M$2:$M$13999,C78),\"\")","v":""}]
[null,null,{"$f":"IFERROR(INDEX(FLData!$M$2:$M$13999, MATCH(0, IF( ISBLANK(FLData!$M$2:$M$13999),1, COUNTIF( $C$5:C78, FLData!$M$2:$M$13999)), 0)),\"\")","v":""},{"$f":"IF( LEN(C79)>0,COUNTIF( FLData!$M$2:$M$13999,C79),\"\")","v":""}]
[null,null,{"$f":"IFERROR(INDEX(FLData!$M$2:$M$13999, MATCH(0, IF( ISBLANK(FLData!$M$2:$M$13999),1, COUNTIF( $C$5:C79, FLData!$M$2:$M$13999)), 0)),\"\")","v":""},{"$f":"IF( LEN(C80)>0,COUNTIF( FLData!$M$2:$M$13999,C80),\"\")","v":""}]
[null,null,{"$f":"IFERROR(INDEX(FLData!$M$2:$M$13999, MATCH(0, IF( ISBLANK(FLData!$M$2:$M$13999),1, COUNTIF( $C$5:C80, FLData!$M$2:$M$13999)), 0)),\"\")","v":""},{"$f":"IF( LEN(C81)>0,COUNTIF( FLData!$M$2:$M$13999,C81),\"\")","v":""}]
[null,null,{"$f":"IFERROR(INDEX(FLData!$M$2:$M$13999, MATCH(0, IF( ISBLANK(FLData!$M$2:$M$13999),1, COUNTIF( $C$5:C81, FLData!$M$2:$M$13999)), 0)),\"\")","v":""},{"$f":"IF( LEN(C82)>0,COUNTIF( FLData!$M$2:$M$13999,C82),\"\")","v":""}]
[null,null,{"$f":"IFERROR(INDEX(FLData!$M$2:$M$13999, MATCH(0, IF( ISBLANK(FLData!$M$2:$M$13999),1, COUNTIF( $C$5:C82, FLData!$M$2:$M$13999)), 0)),\"\")","v":""},{"$f":"IF( LEN(C83)>0,COUNTIF( FLData!$M$2:$M$13999,C83),\"\")","v":""}]
[null,null,{"$f":"IFERROR(INDEX(FLData!$M$2:$M$13999, MATCH(0, IF( ISBLANK(FLData!$M$2:$M$13999),1, COUNTIF( $C$5:C83, FLData!$M$2:$M$13999)), 0)),\"\")","v":""},{"$f":"IF( LEN(C84)>0,COUNTIF( FLData!$M$2:$M$13999,C84),\"\")","v":""}]
[null,null,{"$f":"IFERROR(INDEX(FLData!$M$2:$M$13999, MATCH(0, IF( ISBLANK(FLData!$M$2:$M$13999),1, COUNTIF( $C$5:C84, FLData!$M$2:$M$13999)), 0)),\"\")","v":""},{"$f":"IF( LEN(C85)>0,COUNTIF( FLData!$M$2:$M$13999,C85),\"\")","v":""}]
[null,null,{"$f":"IFERROR(INDEX(FLData!$M$2:$M$13999, MATCH(0, IF( ISBLANK(FLData!$M$2:$M$13999),1, COUNTIF( $C$5:C85, FLData!$M$2:$M$13999)), 0)),\"\")","v":""},{"$f":"IF( LEN(C86)>0,COUNTIF( FLData!$M$2:$M$13999,C86),\"\")","v":""}]
[null,null,{"$f":"IFERROR(INDEX(FLData!$M$2:$M$13999, MATCH(0, IF( ISBLANK(FLData!$M$2:$M$13999),1, COUNTIF( $C$5:C86, FLData!$M$2:$M$13999)), 0)),\"\")","v":""},{"$f":"IF( LEN(C87)>0,COUNTIF( FLData!$M$2:$M$13999,C87),\"\")","v":""}]
[null,null,{"$f":"IFERROR(INDEX(FLData!$M$2:$M$13999, MATCH(0, IF( ISBLANK(FLData!$M$2:$M$13999),1, COUNTIF( $C$5:C87, FLData!$M$2:$M$13999)), 0)),\"\")","v":""},{"$f":"IF( LEN(C88)>0,COUNTIF( FLData!$M$2:$M$13999,C88),\"\")","v":""}]
[null,null,{"$f":"IFERROR(INDEX(FLData!$M$2:$M$13999, MATCH(0, IF( ISBLANK(FLData!$M$2:$M$13999),1, COUNTIF( $C$5:C88, FLData!$M$2:$M$13999)), 0)),\"\")","v":""},{"$f":"IF( LEN(C89)>0,COUNTIF( FLData!$M$2:$M$13999,C89),\"\")","v":""}]
[null,null,{"$f":"IFERROR(INDEX(FLData!$M$2:$M$13999, MATCH(0, IF( ISBLANK(FLData!$M$2:$M$13999),1, COUNTIF( $C$5:C89, FLData!$M$2:$M$13999)), 0)),\"\")","v":""},{"$f":"IF( LEN(C90)>0,COUNTIF( FLData!$M$2:$M$13999,C90),\"\")","v":""}]
[null,null,{"$f":"IFERROR(INDEX(FLData!$M$2:$M$13999, MATCH(0, IF( ISBLANK(FLData!$M$2:$M$13999),1, COUNTIF( $C$5:C90, FLData!$M$2:$M$13999)), 0)),\"\")","v":""},{"$f":"IF( LEN(C91)>0,COUNTIF( FLData!$M$2:$M$13999,C91),\"\")","v":""}]
[null,null,{"$f":"IFERROR(INDEX(FLData!$M$2:$M$13999, MATCH(0, IF( ISBLANK(FLData!$M$2:$M$13999),1, COUNTIF( $C$5:C91, FLData!$M$2:$M$13999)), 0)),\"\")","v":""},{"$f":"IF( LEN(C92)>0,COUNTIF( FLData!$M$2:$M$13999,C92),\"\")","v":""}]
[null,null,{"$f":"IFERROR(INDEX(FLData!$M$2:$M$13999, MATCH(0, IF( ISBLANK(FLData!$M$2:$M$13999),1, COUNTIF( $C$5:C92, FLData!$M$2:$M$13999)), 0)),\"\")","v":""},{"$f":"IF( LEN(C93)>0,COUNTIF( FLData!$M$2:$M$13999,C93),\"\")","v":""}]
[null,null,{"$f":"IFERROR(INDEX(FLData!$M$2:$M$13999, MATCH(0, IF( ISBLANK(FLData!$M$2:$M$13999),1, COUNTIF( $C$5:C93, FLData!$M$2:$M$13999)), 0)),\"\")","v":""},{"$f":"IF( LEN(C94)>0,COUNTIF( FLData!$M$2:$M$13999,C94),\"\")","v":""}]
[null,null,{"$f":"IFERROR(INDEX(FLData!$M$2:$M$13999, MATCH(0, IF( ISBLANK(FLData!$M$2:$M$13999),1, COUNTIF( $C$5:C94, FLData!$M$2:$M$13999)), 0)),\"\")","v":""},{"$f":"IF( LEN(C95)>0,COUNTIF( FLData!$M$2:$M$13999,C95),\"\")","v":""}]
[null,null,{"$f":"IFERROR(INDEX(FLData!$M$2:$M$13999, MATCH(0, IF( ISBLANK(FLData!$M$2:$M$13999),1, COUNTIF( $C$5:C95, FLData!$M$2:$M$13999)), 0)),\"\")","v":""},{"$f":"IF( LEN(C96)>0,COUNTIF( FLData!$M$2:$M$13999,C96),\"\")","v":""}]
[null,null,{"$f":"IFERROR(INDEX(FLData!$M$2:$M$13999, MATCH(0, IF( ISBLANK(FLData!$M$2:$M$13999),1, COUNTIF( $C$5:C96, FLData!$M$2:$M$13999)), 0)),\"\")","v":""},{"$f":"IF( LEN(C97)>0,COUNTIF( FLData!$M$2:$M$13999,C97),\"\")","v":""}]
[null,null,{"$f":"IFERROR(INDEX(FLData!$M$2:$M$13999, MATCH(0, IF( ISBLANK(FLData!$M$2:$M$13999),1, COUNTIF( $C$5:C97, FLData!$M$2:$M$13999)), 0)),\"\")","v":""},{"$f":"IF( LEN(C98)>0,COUNTIF( FLData!$M$2:$M$13999,C98),\"\")","v":""}]
[null,null,{"$f":"IFERROR(INDEX(FLData!$M$2:$M$13999, MATCH(0, IF( ISBLANK(FLData!$M$2:$M$13999),1, COUNTIF( $C$5:C98, FLData!$M$2:$M$13999)), 0)),\"\")","v":""},{"$f":"IF( LEN(C99)>0,COUNTIF( FLData!$M$2:$M$13999,C99),\"\")","v":""}]
[null,null,{"$f":"IFERROR(INDEX(FLData!$M$2:$M$13999, MATCH(0, IF( ISBLANK(FLData!$M$2:$M$13999),1, COUNTIF( $C$5:C99, FLData!$M$2:$M$13999)), 0)),\"\")","v":""},{"$f":"IF( LEN(C100)>0,COUNTIF( FLData!$M$2:$M$13999,C100),\"\")","v":""}]
[null,null,null,{"$f":"IF( LEN(C101)>0,COUNTIF( FLData!$M$2:$M$13999,C101),\"\")","v":""}]
[null,null,null,{"$f":"IF( LEN(C102)>0,COUNTIF( FLData!$M$2:$M$13999,C102),\"\")","v":""}]
[null,null,null,{"$f":"IF( LEN(C103)>0,COUNTIF( FLData!$M$2:$M$13999,C103),\"\")","v":""}]
[null,null,null,{"$f":"IF( LEN(C104)>0,COUNTIF( FLData!$M$2:$M$13999,C104),\"\")","v":""}]
[null,null,null,{"$f":"IF( LEN(C105)>0,COUNTIF( FLData!$M$2:$M$13999,C105),\"\")","v":""}]
[null,null,null,{"$f":"IF( LEN(C106)>0,COUNTIF( FLData!$M$2:$M$13999,C106),\"\")","v":""}]
[null,null,null,{"$f":"IF( LEN(C107)>0,COUNTIF( FLData!$M$2:$M$13999,C107),\"\")","v":""}]
[null,null,null,{"$f":"IF( LEN(C108)>0,COUNTIF( FLData!$M$2:$M$13999,C108),\"\")","v":""}]
[null,null,null,{"$f":"IF( LEN(C109)>0,COUNTIF( FLData!$M$2:$M$13999,C109),\"\")","v":""}]
[null,null,null,{"$f":"IF( LEN(C110)>0,COUNTIF( FLData!$M$2:$M$13999,C110),\"\")","v":""}]
[null,null,null,{"$f":"IF( LEN(C111)>0,COUNTIF( FLData!$M$2:$M$13999,C111),\"\")","v":""}]
[null,null,null,{"$f":"IF( LEN(C112)>0,COUNTIF( FLData!$M$2:$M$13999,C112),\"\")","v":""}]
[null,null,null,{"$f":"IF( LEN(C113)>0,COUNTIF( FLData!$M$2:$M$13999,C113),\"\")","v":""}]
[null,null,null,{"$f":"IF( LEN(C114)>0,COUNTIF( FLData!$M$2:$M$13999,C114),\"\")","v":""}]
[null,null,null,{"$f":"IF( LEN(C115)>0,COUNTIF( FLData!$M$2:$M$13999,C115),\"\")","v":""}]
[null,null,null,{"$f":"IF( LEN(C116)>0,COUNTIF( FLData!$M$2:$M$13999,C116),\"\")","v":""}]
[null,null,null,{"$f":"IF( LEN(C117)>0,COUNTIF( FLData!$M$2:$M$13999,C117),\"\")","v":""}]
[null,null,null,{"$f":"IF( LEN(C118)>0,COUNTIF( FLData!$M$2:$M$13999,C118),\"\")","v":""}]
[null,null,null,{"$f":"IF( LEN(C119)>0,COUNTIF( FLData!$M$2:$M$13999,C119),\"\")","v":""}]
[null,null,null,{"$f":"IF( LEN(C120)>0,COUNTIF( FLData!$M$2:$M$13999,C120),\"\")","v":""}]
[null,null,null,{"$f":"IF( LEN(C121)>0,COUNTIF( FLData!$M$2:$M$13999,C121),\"\")","v":""}]
[null,null,null,{"$f":"IF( LEN(C122)>0,COUNTIF( FLData!$M$2:$M$13999,C122),\"\")","v":""}]
[null,null,null,{"$f":"IF( LEN(C123)>0,COUNTIF( FLData!$M$2:$M$13999,C123),\"\")","v":""}]
[null,null,null,{"$f":"IF( LEN(C124)>0,COUNTIF( FLData!$M$2:$M$13999,C124),\"\")","v":""}]
[null,null,null,{"$f":"IF( LEN(C125)>0,COUNTIF( FLData!$M$2:$M$13999,C125),\"\")","v":""}]
[null,null,null,{"$f":"IF( LEN(C126)>0,COUNTIF( FLData!$M$2:$M$13999,C126),\"\")","v":""}]
[null,null,null,{"$f":"IF( LEN(C127)>0,COUNTIF( FLData!$M$2:$M$13999,C127),\"\")","v":""}]
[null,null,null,{"$f":"IF( LEN(C128)>0,COUNTIF( FLData!$M$2:$M$13999,C128),\"\")","v":""}]
[null,null,null,{"$f":"IF( LEN(C129)>0,COUNTIF( FLData!$M$2:$M$13999,C129),\"\")","v":""}]
[null,null,null,{"$f":"IF( LEN(C130)>0,COUNTIF( FLData!$M$2:$M$13999,C130),\"\")","v":""}]
[null,null,null,{"$f":"IF( LEN(C131)>0,COUNTIF( FLData!$M$2:$M$13999,C131),\"\")","v":""}]
[null,null,null,{"$f":"IF( LEN(C132)>0,COUNTIF( FLData!$M$2:$M$13999,C132),\"\")","v":""}]
[null,null,null,{"$f":"IF( LEN(C133)>0,COUNTIF( FLData!$M$2:$M$13999,C133),\"\")","v":""}]
[null,null,null,{"$f":"IF( LEN(C134)>0,COUNTIF( FLData!$M$2:$M$13999,C134),\"\")","v":""}]
[null,null,null,{"$f":"IF( LEN(C135)>0,COUNTIF( FLData!$M$2:$M$13999,C135),\"\")","v":""}]
[null,null,null,{"$f":"IF( LEN(C136)>0,COUNTIF( FLData!$M$2:$M$13999,C136),\"\")","v":""}]
[null,null,null,{"$f":"IF( LEN(C137)>0,COUNTIF( FLData!$M$2:$M$13999,C137),\"\")","v":""}]
[null,null,null,{"$f":"IF( LEN(C138)>0,COUNTIF( FLData!$M$2:$M$13999,C138),\"\")","v":""}]
[null,null,null,{"$f":"IF( LEN(C139)>0,COUNTIF( FLData!$M$2:$M$13999,C139),\"\")","v":""}]
[null,null,null,{"$f":"IF( LEN(C140)>0,COUNTIF( FLData!$M$2:$M$13999,C140),\"\")","v":""}]
[null,null,null,{"$f":"IF( LEN(C141)>0,COUNTIF( FLData!$M$2:$M$13999,C141),\"\")","v":""}]
[null,null,null,{"$f":"IF( LEN(C142)>0,COUNTIF( FLData!$M$2:$M$13999,C142),\"\")","v":""}]
[null,null,null,{"$f":"IF( LEN(C143)>0,COUNTIF( FLData!$M$2:$M$13999,C143),\"\")","v":""}]
[null,null,null,{"$f":"IF( LEN(C144)>0,COUNTIF( FLData!$M$2:$M$13999,C144),\"\")","v":""}]
[null,null,null,{"$f":"IF( LEN(C145)>0,COUNTIF( FLData!$M$2:$M$13999,C145),\"\")","v":""}]
[null,null,null,{"$f":"IF( LEN(C146)>0,COUNTIF( FLData!$M$2:$M$13999,C146),\"\")","v":""}]
[null,null,null,{"$f":"IF( LEN(C147)>0,COUNTIF( FLData!$M$2:$M$13999,C147),\"\")","v":""}]
[null,null,null,{"$f":"IF( LEN(C148)>0,COUNTIF( FLData!$M$2:$M$13999,C148),\"\")","v":""}]
[null,null,null,{"$f":"IF( LEN(C149)>0,COUNTIF( FLData!$M$2:$M$13999,C149),\"\")","v":""}]
[null,null,null,{"$f":"IF( LEN(C150)>0,COUNTIF( FLData!$M$2:$M$13999,C150),\"\")","v":""}]
[null,null,null,{"$f":"IF( LEN(C151)>0,COUNTIF( FLData!$M$2:$M$13999,C151),\"\")","v":""}]
[null,null,null,{"$f":"IF( LEN(C152)>0,COUNTIF( FLData!$M$2:$M$13999,C152),\"\")","v":""}]
[null,null,null,{"$f":"IF( LEN(C153)>0,COUNTIF( FLData!$M$2:$M$13999,C153),\"\")","v":""}]
[null,null,null,{"$f":"IF( LEN(C154)>0,COUNTIF( FLData!$M$2:$M$13999,C154),\"\")","v":""}]
[null,null,null,{"$f":"IF( LEN(C155)>0,COUNTIF( FLData!$M$2:$M$13999,C155),\"\")","v":""}]
[null,null,null,{"$f":"IF( LEN(C156)>0,COUNTIF( FLData!$M$2:$M$13999,C156),\"\")","v":""}]
[null,null,null,{"$f":"IF( LEN(C157)>0,COUNTIF( FLData!$M$2:$M$13999,C157),\"\")","v":""}]
[null,null,null,{"$f":"IF( LEN(C158)>0,COUNTIF( FLData!$M$2:$M$13999,C158),\"\")","v":""}]
[null,null,null,{"$f":"IF( LEN(C159)>0,COUNTIF( FLData!$M$2:$M$13999,C159),\"\")","v":""}]
[null,null,null,{"$f":"IF( LEN(C160)>0,COUNTIF( FLData!$M$2:$M$13999,C160),\"\")","v":""}]
[null,null,null,{"$f":"IF( LEN(C161)>0,COUNTIF( FLData!$M$2:$M$13999,C161),\"\")","v":""}]
[null,null,null,{"$f":"IF( LEN(C162)>0,COUNTIF( FLData!$M$2:$M$13999,C162),\"\")","v":""}]
[null,null,null,{"$f":"IF( LEN(C163)>0,COUNTIF( FLData!$M$2:$M$13999,C163),\"\")","v":""}]
[null,null,null,{"$f":"IF( LEN(C164)>0,COUNTIF( FLData!$M$2:$M$13999,C164),\"\")","v":""}]
[null,null,null,{"$f":"IF( LEN(C165)>0,COUNTIF( FLData!$M$2:$M$13999,C165),\"\")","v":""}]
[null,null,null,{"$f":"IF( LEN(C166)>0,COUNTIF( FLData!$M$2:$M$13999,C166),\"\")","v":""}]
[null,null,null,{"$f":"IF( LEN(C167)>0,COUNTIF( FLData!$M$2:$M$13999,C167),\"\")","v":""}]
[null,null,null,{"$f":"IF( LEN(C168)>0,COUNTIF( FLData!$M$2:$M$13999,C168),\"\")","v":""}]
[null,null,null,{"$f":"IF( LEN(C169)>0,COUNTIF( FLData!$M$2:$M$13999,C169),\"\")","v":""}]
[null,null,null,{"$f":"IF( LEN(C170)>0,COUNTIF( FLData!$M$2:$M$13999,C170),\"\")","v":""}]
[null,null,null,{"$f":"IF( LEN(C171)>0,COUNTIF( FLData!$M$2:$M$13999,C171),\"\")","v":""}]
[null,null,null,{"$f":"IF( LEN(C172)>0,COUNTIF( FLData!$M$2:$M$13999,C172),\"\")","v":""}]
[null,null,null,{"$f":"IF( LEN(C173)>0,COUNTIF( FLData!$M$2:$M$13999,C173),\"\")","v":""}]
[null,null,null,{"$f":"IF( LEN(C174)>0,COUNTIF( FLData!$M$2:$M$13999,C174),\"\")","v":""}]
[null,null,null,{"$f":"IF( LEN(C175)>0,COUNTIF( FLData!$M$2:$M$13999,C175),\"\")","v":""}]
[null,null,null,{"$f":"IF( LEN(C176)>0,COUNTIF( FLData!$M$2:$M$13999,C176),\"\")","v":""}]
[null,null,null,{"$f":"IF( LEN(C177)>0,COUNTIF( FLData!$M$2:$M$13999,C177),\"\")","v":""}]
[null,null,null,{"$f":"IF( LEN(C178)>0,COUNTIF( FLData!$M$2:$M$13999,C178),\"\")","v":""}]
[null,null,null,{"$f":"IF( LEN(C179)>0,COUNTIF( FLData!$M$2:$M$13999,C179),\"\")","v":""}]
[null,null,null,{"$f":"IF( LEN(C180)>0,COUNTIF( FLData!$M$2:$M$13999,C180),\"\")","v":""}]
[null,null,null,{"$f":"IF( LEN(C181)>0,COUNTIF( FLData!$M$2:$M$13999,C181),\"\")","v":""}]
[null,null,null,{"$f":"IF( LEN(C182)>0,COUNTIF( FLData!$M$2:$M$13999,C182),\"\")","v":""}]
[null,null,null,{"$f":"IF( LEN(C183)>0,COUNTIF( FLData!$M$2:$M$13999,C183),\"\")","v":""}]
[null,null,null,{"$f":"IF( LEN(C184)>0,COUNTIF( FLData!$M$2:$M$13999,C184),\"\")","v":""}]
[null,null,null,{"$f":"IF( LEN(C185)>0,COUNTIF( FLData!$M$2:$M$13999,C185),\"\")","v":""}]
[null,null,null,{"$f":"IF( LEN(C186)>0,COUNTIF( FLData!$M$2:$M$13999,C186),\"\")","v":""}]
[null,null,null,{"$f":"IF( LEN(C187)>0,COUNTIF( FLData!$M$2:$M$13999,C187),\"\")","v":""}]
[null,null,null,{"$f":"IF( LEN(C188)>0,COUNTIF( FLData!$M$2:$M$13999,C188),\"\")","v":""}]
[null,null,null,{"$f":"IF( LEN(C189)>0,COUNTIF( FLData!$M$2:$M$13999,C189),\"\")","v":""}]
[null,null,null,{"$f":"IF( LEN(C190)>0,COUNTIF( FLData!$M$2:$M$13999,C190),\"\")","v":""}]
[null,null,null,{"$f":"IF( LEN(C191)>0,COUNTIF( FLData!$M$2:$M$13999,C191),\"\")","v":""}]
[null,null,null,{"$f":"IF( LEN(C192)>0,COUNTIF( FLData!$M$2:$M$13999,C192),\"\")","v":""}]
[null,null,null,{"$f":"IF( LEN(C193)>0,COUNTIF( FLData!$M$2:$M$13999,C193),\"\")","v":""}]
[null,null,null,{"$f":"IF( LEN(C194)>0,COUNTIF( FLData!$M$2:$M$13999,C194),\"\")","v":""}]
[null,null,null,{"$f":"IF( LEN(C195)>0,COUNTIF( FLData!$M$2:$M$13999,C195),\"\")","v":""}]
[null,null,null,{"$f":"IF( LEN(C196)>0,COUNTIF( FLData!$M$2:$M$13999,C196),\"\")","v":""}]
[null,null,null,{"$f":"IF( LEN(C197)>0,COUNTIF( FLData!$M$2:$M$13999,C197),\"\")","v":""}]
[null,null,null,{"$f":"IF( LEN(C198)>0,COUNTIF( FLData!$M$2:$M$13999,C198),\"\")","v":""}]
[null,null,null,{"$f":"IF( LEN(C199)>0,COUNTIF( FLData!$M$2:$M$13999,C199),\"\")","v":""}]
[null,null,null,{"$f":"IF( LEN(C200)>0,COUNTIF( FLData!$M$2:$M$13999,C200),\"\")","v":""}]

{"sheet":"Activity - Aircrafts","index":7,"n_rows":201,"n_cols":4,"rows_kept":201,"cut":false,"hidden":false,"merged":[]}
[]
[]
[null,null,"Active Aircrafts",{"$f":"FLVersion","v":"V009"}]
[]
[null,null,"Aircraft names","#Flights"]
[null,null,{"$f":"IFERROR(INDEX(FLData!$D$2:$D$13999, MATCH(0, IF( ISBLANK(FLData!$D$2:$D$13999),1, COUNTIF( $C$5:C5, FLData!$D$2:$D$13999)), 0)),\"\")","v":""},{"$f":"IF( LEN(C6)>0,COUNTIF( FLData!$D$2:$D$13999,C6),\"\")","v":""}]
[null,null,{"$f":"IFERROR(INDEX(FLData!$D$2:$D$13999, MATCH(0, IF( ISBLANK(FLData!$D$2:$D$13999),1, COUNTIF( $C$5:C6, FLData!$D$2:$D$13999)), 0)),\"\")","v":""},{"$f":"IF( LEN(C7)>0,COUNTIF( FLData!$D$2:$D$13999,C7),\"\")","v":""}]
[null,null,{"$f":"IFERROR(INDEX(FLData!$D$2:$D$13999, MATCH(0, IF( ISBLANK(FLData!$D$2:$D$13999),1, COUNTIF( $C$5:C7, FLData!$D$2:$D$13999)), 0)),\"\")","v":""},{"$f":"IF( LEN(C8)>0,COUNTIF( FLData!$D$2:$D$13999,C8),\"\")","v":""}]
[null,null,{"$f":"IFERROR(INDEX(FLData!$D$2:$D$13999, MATCH(0, IF( ISBLANK(FLData!$D$2:$D$13999),1, COUNTIF( $C$5:C8, FLData!$D$2:$D$13999)), 0)),\"\")","v":""},{"$f":"IF( LEN(C9)>0,COUNTIF( FLData!$D$2:$D$13999,C9),\"\")","v":""}]
[null,null,{"$f":"IFERROR(INDEX(FLData!$D$2:$D$13999, MATCH(0, IF( ISBLANK(FLData!$D$2:$D$13999),1, COUNTIF( $C$5:C9, FLData!$D$2:$D$13999)), 0)),\"\")","v":""},{"$f":"IF( LEN(C10)>0,COUNTIF( FLData!$D$2:$D$13999,C10),\"\")","v":""}]
[null,null,{"$f":"IFERROR(INDEX(FLData!$D$2:$D$13999, MATCH(0, IF( ISBLANK(FLData!$D$2:$D$13999),1, COUNTIF( $C$5:C10, FLData!$D$2:$D$13999)), 0)),\"\")","v":""},{"$f":"IF( LEN(C11)>0,COUNTIF( FLData!$D$2:$D$13999,C11),\"\")","v":""}]
[null,null,{"$f":"IFERROR(INDEX(FLData!$D$2:$D$13999, MATCH(0, IF( ISBLANK(FLData!$D$2:$D$13999),1, COUNTIF( $C$5:C11, FLData!$D$2:$D$13999)), 0)),\"\")","v":""},{"$f":"IF( LEN(C12)>0,COUNTIF( FLData!$D$2:$D$13999,C12),\"\")","v":""}]
[null,null,{"$f":"IFERROR(INDEX(FLData!$D$2:$D$13999, MATCH(0, IF( ISBLANK(FLData!$D$2:$D$13999),1, COUNTIF( $C$5:C12, FLData!$D$2:$D$13999)), 0)),\"\")","v":""},{"$f":"IF( LEN(C13)>0,COUNTIF( FLData!$D$2:$D$13999,C13),\"\")","v":""}]
[null,null,{"$f":"IFERROR(INDEX(FLData!$D$2:$D$13999, MATCH(0, IF( ISBLANK(FLData!$D$2:$D$13999),1, COUNTIF( $C$5:C13, FLData!$D$2:$D$13999)), 0)),\"\")","v":""},{"$f":"IF( LEN(C14)>0,COUNTIF( FLData!$D$2:$D$13999,C14),\"\")","v":""}]
[null,null,{"$f":"IFERROR(INDEX(FLData!$D$2:$D$13999, MATCH(0, IF( ISBLANK(FLData!$D$2:$D$13999),1, COUNTIF( $C$5:C14, FLData!$D$2:$D$13999)), 0)),\"\")","v":""},{"$f":"IF( LEN(C15)>0,COUNTIF( FLData!$D$2:$D$13999,C15),\"\")","v":""}]
[null,null,{"$f":"IFERROR(INDEX(FLData!$D$2:$D$13999, MATCH(0, IF( ISBLANK(FLData!$D$2:$D$13999),1, COUNTIF( $C$5:C15, FLData!$D$2:$D$13999)), 0)),\"\")","v":""},{"$f":"IF( LEN(C16)>0,COUNTIF( FLData!$D$2:$D$13999,C16),\"\")","v":""}]
[null,null,{"$f":"IFERROR(INDEX(FLData!$D$2:$D$13999, MATCH(0, IF( ISBLANK(FLData!$D$2:$D$13999),1, COUNTIF( $C$5:C16, FLData!$D$2:$D$13999)), 0)),\"\")","v":""},{"$f":"IF( LEN(C17)>0,COUNTIF( FLData!$D$2:$D$13999,C17),\"\")","v":""}]
[null,null,{"$f":"IFERROR(INDEX(FLData!$D$2:$D$13999, MATCH(0, IF( ISBLANK(FLData!$D$2:$D$13999),1, COUNTIF( $C$5:C17, FLData!$D$2:$D$13999)), 0)),\"\")","v":""},{"$f":"IF( LEN(C18)>0,COUNTIF( FLData!$D$2:$D$13999,C18),\"\")","v":""}]
[null,null,{"$f":"IFERROR(INDEX(FLData!$D$2:$D$13999, MATCH(0, IF( ISBLANK(FLData!$D$2:$D$13999),1, COUNTIF( $C$5:C18, FLData!$D$2:$D$13999)), 0)),\"\")","v":""},{"$f":"IF( LEN(C19)>0,COUNTIF( FLData!$D$2:$D$13999,C19),\"\")","v":""}]
[null,null,{"$f":"IFERROR(INDEX(FLData!$D$2:$D$13999, MATCH(0, IF( ISBLANK(FLData!$D$2:$D$13999),1, COUNTIF( $C$5:C19, FLData!$D$2:$D$13999)), 0)),\"\")","v":""},{"$f":"IF( LEN(C20)>0,COUNTIF( FLData!$D$2:$D$13999,C20),\"\")","v":""}]
[null,null,{"$f":"IFERROR(INDEX(FLData!$D$2:$D$13999, MATCH(0, IF( ISBLANK(FLData!$D$2:$D$13999),1, COUNTIF( $C$5:C20, FLData!$D$2:$D$13999)), 0)),\"\")","v":""},{"$f":"IF( LEN(C21)>0,COUNTIF( FLData!$D$2:$D$13999,C21),\"\")","v":""}]
[null,null,{"$f":"IFERROR(INDEX(FLData!$D$2:$D$13999, MATCH(0, IF( ISBLANK(FLData!$D$2:$D$13999),1, COUNTIF( $C$5:C21, FLData!$D$2:$D$13999)), 0)),\"\")","v":""},{"$f":"IF( LEN(C22)>0,COUNTIF( FLData!$D$2:$D$13999,C22),\"\")","v":""}]
[null,null,{"$f":"IFERROR(INDEX(FLData!$D$2:$D$13999, MATCH(0, IF( ISBLANK(FLData!$D$2:$D$13999),1, COUNTIF( $C$5:C22, FLData!$D$2:$D$13999)), 0)),\"\")","v":""},{"$f":"IF( LEN(C23)>0,COUNTIF( FLData!$D$2:$D$13999,C23),\"\")","v":""}]
[null,null,{"$f":"IFERROR(INDEX(FLData!$D$2:$D$13999, MATCH(0, IF( ISBLANK(FLData!$D$2:$D$13999),1, COUNTIF( $C$5:C23, FLData!$D$2:$D$13999)), 0)),\"\")","v":""},{"$f":"IF( LEN(C24)>0,COUNTIF( FLData!$D$2:$D$13999,C24),\"\")","v":""}]
[null,null,{"$f":"IFERROR(INDEX(FLData!$D$2:$D$13999, MATCH(0, IF( ISBLANK(FLData!$D$2:$D$13999),1, COUNTIF( $C$5:C24, FLData!$D$2:$D$13999)), 0)),\"\")","v":""},{"$f":"IF( LEN(C25)>0,COUNTIF( FLData!$D$2:$D$13999,C25),\"\")","v":""}]
[null,null,{"$f":"IFERROR(INDEX(FLData!$D$2:$D$13999, MATCH(0, IF( ISBLANK(FLData!$D$2:$D$13999),1, COUNTIF( $C$5:C25, FLData!$D$2:$D$13999)), 0)),\"\")","v":""},{"$f":"IF( LEN(C26)>0,COUNTIF( FLData!$D$2:$D$13999,C26),\"\")","v":""}]
[null,null,{"$f":"IFERROR(INDEX(FLData!$D$2:$D$13999, MATCH(0, IF( ISBLANK(FLData!$D$2:$D$13999),1, COUNTIF( $C$5:C26, FLData!$D$2:$D$13999)), 0)),\"\")","v":""},{"$f":"IF( LEN(C27)>0,COUNTIF( FLData!$D$2:$D$13999,C27),\"\")","v":""}]
[null,null,{"$f":"IFERROR(INDEX(FLData!$D$2:$D$13999, MATCH(0, IF( ISBLANK(FLData!$D$2:$D$13999),1, COUNTIF( $C$5:C27, FLData!$D$2:$D$13999)), 0)),\"\")","v":""},{"$f":"IF( LEN(C28)>0,COUNTIF( FLData!$D$2:$D$13999,C28),\"\")","v":""}]
[null,null,{"$f":"IFERROR(INDEX(FLData!$D$2:$D$13999, MATCH(0, IF( ISBLANK(FLData!$D$2:$D$13999),1, COUNTIF( $C$5:C28, FLData!$D$2:$D$13999)), 0)),\"\")","v":""},{"$f":"IF( LEN(C29)>0,COUNTIF( FLData!$D$2:$D$13999,C29),\"\")","v":""}]
[null,null,{"$f":"IFERROR(INDEX(FLData!$D$2:$D$13999, MATCH(0, IF( ISBLANK(FLData!$D$2:$D$13999),1, COUNTIF( $C$5:C29, FLData!$D$2:$D$13999)), 0)),\"\")","v":""},{"$f":"IF( LEN(C30)>0,COUNTIF( FLData!$D$2:$D$13999,C30),\"\")","v":""}]
[null,null,{"$f":"IFERROR(INDEX(FLData!$D$2:$D$13999, MATCH(0, IF( ISBLANK(FLData!$D$2:$D$13999),1, COUNTIF( $C$5:C30, FLData!$D$2:$D$13999)), 0)),\"\")","v":""},{"$f":"IF( LEN(C31)>0,COUNTIF( FLData!$D$2:$D$13999,C31),\"\")","v":""}]
[null,null,{"$f":"IFERROR(INDEX(FLData!$D$2:$D$13999, MATCH(0, IF( ISBLANK(FLData!$D$2:$D$13999),1, COUNTIF( $C$5:C31, FLData!$D$2:$D$13999)), 0)),\"\")","v":""},{"$f":"IF( LEN(C32)>0,COUNTIF( FLData!$D$2:$D$13999,C32),\"\")","v":""}]
[null,null,{"$f":"IFERROR(INDEX(FLData!$D$2:$D$13999, MATCH(0, IF( ISBLANK(FLData!$D$2:$D$13999),1, COUNTIF( $C$5:C32, FLData!$D$2:$D$13999)), 0)),\"\")","v":""},{"$f":"IF( LEN(C33)>0,COUNTIF( FLData!$D$2:$D$13999,C33),\"\")","v":""}]
[null,null,{"$f":"IFERROR(INDEX(FLData!$D$2:$D$13999, MATCH(0, IF( ISBLANK(FLData!$D$2:$D$13999),1, COUNTIF( $C$5:C33, FLData!$D$2:$D$13999)), 0)),\"\")","v":""},{"$f":"IF( LEN(C34)>0,COUNTIF( FLData!$D$2:$D$13999,C34),\"\")","v":""}]
[null,null,{"$f":"IFERROR(INDEX(FLData!$D$2:$D$13999, MATCH(0, IF( ISBLANK(FLData!$D$2:$D$13999),1, COUNTIF( $C$5:C34, FLData!$D$2:$D$13999)), 0)),\"\")","v":""},{"$f":"IF( LEN(C35)>0,COUNTIF( FLData!$D$2:$D$13999,C35),\"\")","v":""}]
[null,null,{"$f":"IFERROR(INDEX(FLData!$D$2:$D$13999, MATCH(0, IF( ISBLANK(FLData!$D$2:$D$13999),1, COUNTIF( $C$5:C35, FLData!$D$2:$D$13999)), 0)),\"\")","v":""},{"$f":"IF( LEN(C36)>0,COUNTIF( FLData!$D$2:$D$13999,C36),\"\")","v":""}]
[null,null,{"$f":"IFERROR(INDEX(FLData!$D$2:$D$13999, MATCH(0, IF( ISBLANK(FLData!$D$2:$D$13999),1, COUNTIF( $C$5:C36, FLData!$D$2:$D$13999)), 0)),\"\")","v":""},{"$f":"IF( LEN(C37)>0,COUNTIF( FLData!$D$2:$D$13999,C37),\"\")","v":""}]
[null,null,{"$f":"IFERROR(INDEX(FLData!$D$2:$D$13999, MATCH(0, IF( ISBLANK(FLData!$D$2:$D$13999),1, COUNTIF( $C$5:C37, FLData!$D$2:$D$13999)), 0)),\"\")","v":""},{"$f":"IF( LEN(C38)>0,COUNTIF( FLData!$D$2:$D$13999,C38),\"\")","v":""}]
[null,null,{"$f":"IFERROR(INDEX(FLData!$D$2:$D$13999, MATCH(0, IF( ISBLANK(FLData!$D$2:$D$13999),1, COUNTIF( $C$5:C38, FLData!$D$2:$D$13999)), 0)),\"\")","v":""},{"$f":"IF( LEN(C39)>0,COUNTIF( FLData!$D$2:$D$13999,C39),\"\")","v":""}]
[null,null,{"$f":"IFERROR(INDEX(FLData!$D$2:$D$13999, MATCH(0, IF( ISBLANK(FLData!$D$2:$D$13999),1, COUNTIF( $C$5:C39, FLData!$D$2:$D$13999)), 0)),\"\")","v":""},{"$f":"IF( LEN(C40)>0,COUNTIF( FLData!$D$2:$D$13999,C40),\"\")","v":""}]
[null,null,{"$f":"IFERROR(INDEX(FLData!$D$2:$D$13999, MATCH(0, IF( ISBLANK(FLData!$D$2:$D$13999),1, COUNTIF( $C$5:C40, FLData!$D$2:$D$13999)), 0)),\"\")","v":""},{"$f":"IF( LEN(C41)>0,COUNTIF( FLData!$D$2:$D$13999,C41),\"\")","v":""}]
[null,null,{"$f":"IFERROR(INDEX(FLData!$D$2:$D$13999, MATCH(0, IF( ISBLANK(FLData!$D$2:$D$13999),1, COUNTIF( $C$5:C41, FLData!$D$2:$D$13999)), 0)),\"\")","v":""},{"$f":"IF( LEN(C42)>0,COUNTIF( FLData!$D$2:$D$13999,C42),\"\")","v":""}]
[null,null,{"$f":"IFERROR(INDEX(FLData!$D$2:$D$13999, MATCH(0, IF( ISBLANK(FLData!$D$2:$D$13999),1, COUNTIF( $C$5:C42, FLData!$D$2:$D$13999)), 0)),\"\")","v":""},{"$f":"IF( LEN(C43)>0,COUNTIF( FLData!$D$2:$D$13999,C43),\"\")","v":""}]
[null,null,{"$f":"IFERROR(INDEX(FLData!$D$2:$D$13999, MATCH(0, IF( ISBLANK(FLData!$D$2:$D$13999),1, COUNTIF( $C$5:C43, FLData!$D$2:$D$13999)), 0)),\"\")","v":""},{"$f":"IF( LEN(C44)>0,COUNTIF( FLData!$D$2:$D$13999,C44),\"\")","v":""}]
[null,null,{"$f":"IFERROR(INDEX(FLData!$D$2:$D$13999, MATCH(0, IF( ISBLANK(FLData!$D$2:$D$13999),1, COUNTIF( $C$5:C44, FLData!$D$2:$D$13999)), 0)),\"\")","v":""},{"$f":"IF( LEN(C45)>0,COUNTIF( FLData!$D$2:$D$13999,C45),\"\")","v":""}]
[null,null,{"$f":"IFERROR(INDEX(FLData!$D$2:$D$13999, MATCH(0, IF( ISBLANK(FLData!$D$2:$D$13999),1, COUNTIF( $C$5:C45, FLData!$D$2:$D$13999)), 0)),\"\")","v":""},{"$f":"IF( LEN(C46)>0,COUNTIF( FLData!$D$2:$D$13999,C46),\"\")","v":""}]
[null,null,{"$f":"IFERROR(INDEX(FLData!$D$2:$D$13999, MATCH(0, IF( ISBLANK(FLData!$D$2:$D$13999),1, COUNTIF( $C$5:C46, FLData!$D$2:$D$13999)), 0)),\"\")","v":""},{"$f":"IF( LEN(C47)>0,COUNTIF( FLData!$D$2:$D$13999,C47),\"\")","v":""}]
[null,null,{"$f":"IFERROR(INDEX(FLData!$D$2:$D$13999, MATCH(0, IF( ISBLANK(FLData!$D$2:$D$13999),1, COUNTIF( $C$5:C47, FLData!$D$2:$D$13999)), 0)),\"\")","v":""},{"$f":"IF( LEN(C48)>0,COUNTIF( FLData!$D$2:$D$13999,C48),\"\")","v":""}]
[null,null,{"$f":"IFERROR(INDEX(FLData!$D$2:$D$13999, MATCH(0, IF( ISBLANK(FLData!$D$2:$D$13999),1, COUNTIF( $C$5:C48, FLData!$D$2:$D$13999)), 0)),\"\")","v":""},{"$f":"IF( LEN(C49)>0,COUNTIF( FLData!$D$2:$D$13999,C49),\"\")","v":""}]
[null,null,{"$f":"IFERROR(INDEX(FLData!$D$2:$D$13999, MATCH(0, IF( ISBLANK(FLData!$D$2:$D$13999),1, COUNTIF( $C$5:C49, FLData!$D$2:$D$13999)), 0)),\"\")","v":""},{"$f":"IF( LEN(C50)>0,COUNTIF( FLData!$D$2:$D$13999,C50),\"\")","v":""}]
[null,null,{"$f":"IFERROR(INDEX(FLData!$D$2:$D$13999, MATCH(0, IF( ISBLANK(FLData!$D$2:$D$13999),1, COUNTIF( $C$5:C50, FLData!$D$2:$D$13999)), 0)),\"\")","v":""},{"$f":"IF( LEN(C51)>0,COUNTIF( FLData!$D$2:$D$13999,C51),\"\")","v":""}]
[null,null,{"$f":"IFERROR(INDEX(FLData!$D$2:$D$13999, MATCH(0, IF( ISBLANK(FLData!$D$2:$D$13999),1, COUNTIF( $C$5:C51, FLData!$D$2:$D$13999)), 0)),\"\")","v":""},{"$f":"IF( LEN(C52)>0,COUNTIF( FLData!$D$2:$D$13999,C52),\"\")","v":""}]
[null,null,{"$f":"IFERROR(INDEX(FLData!$D$2:$D$13999, MATCH(0, IF( ISBLANK(FLData!$D$2:$D$13999),1, COUNTIF( $C$5:C52, FLData!$D$2:$D$13999)), 0)),\"\")","v":""},{"$f":"IF( LEN(C53)>0,COUNTIF( FLData!$D$2:$D$13999,C53),\"\")","v":""}]
[null,null,{"$f":"IFERROR(INDEX(FLData!$D$2:$D$13999, MATCH(0, IF( ISBLANK(FLData!$D$2:$D$13999),1, COUNTIF( $C$5:C53, FLData!$D$2:$D$13999)), 0)),\"\")","v":""},{"$f":"IF( LEN(C54)>0,COUNTIF( FLData!$D$2:$D$13999,C54),\"\")","v":""}]
[null,null,{"$f":"IFERROR(INDEX(FLData!$D$2:$D$13999, MATCH(0, IF( ISBLANK(FLData!$D$2:$D$13999),1, COUNTIF( $C$5:C54, FLData!$D$2:$D$13999)), 0)),\"\")","v":""},{"$f":"IF( LEN(C55)>0,COUNTIF( FLData!$D$2:$D$13999,C55),\"\")","v":""}]
[null,null,{"$f":"IFERROR(INDEX(FLData!$D$2:$D$13999, MATCH(0, IF( ISBLANK(FLData!$D$2:$D$13999),1, COUNTIF( $C$5:C55, FLData!$D$2:$D$13999)), 0)),\"\")","v":""},{"$f":"IF( LEN(C56)>0,COUNTIF( FLData!$D$2:$D$13999,C56),\"\")","v":""}]
[null,null,{"$f":"IFERROR(INDEX(FLData!$D$2:$D$13999, MATCH(0, IF( ISBLANK(FLData!$D$2:$D$13999),1, COUNTIF( $C$5:C56, FLData!$D$2:$D$13999)), 0)),\"\")","v":""},{"$f":"IF( LEN(C57)>0,COUNTIF( FLData!$D$2:$D$13999,C57),\"\")","v":""}]
[null,null,{"$f":"IFERROR(INDEX(FLData!$D$2:$D$13999, MATCH(0, IF( ISBLANK(FLData!$D$2:$D$13999),1, COUNTIF( $C$5:C57, FLData!$D$2:$D$13999)), 0)),\"\")","v":""}]
[null,null,{"$f":"IFERROR(INDEX(FLData!$D$2:$D$13999, MATCH(0, IF( ISBLANK(FLData!$D$2:$D$13999),1, COUNTIF( $C$5:C58, FLData!$D$2:$D$13999)), 0)),\"\")","v":""}]
[null,null,{"$f":"IFERROR(INDEX(FLData!$D$2:$D$13999, MATCH(0, IF( ISBLANK(FLData!$D$2:$D$13999),1, COUNTIF( $C$5:C59, FLData!$D$2:$D$13999)), 0)),\"\")","v":""}]
[null,null,{"$f":"IFERROR(INDEX(FLData!$D$2:$D$13999, MATCH(0, IF( ISBLANK(FLData!$D$2:$D$13999),1, COUNTIF( $C$5:C60, FLData!$D$2:$D$13999)), 0)),\"\")","v":""}]
[null,null,{"$f":"IFERROR(INDEX(FLData!$D$2:$D$13999, MATCH(0, IF( ISBLANK(FLData!$D$2:$D$13999),1, COUNTIF( $C$5:C61, FLData!$D$2:$D$13999)), 0)),\"\")","v":""}]
[null,null,{"$f":"IFERROR(INDEX(FLData!$D$2:$D$13999, MATCH(0, IF( ISBLANK(FLData!$D$2:$D$13999),1, COUNTIF( $C$5:C62, FLData!$D$2:$D$13999)), 0)),\"\")","v":""}]
[null,null,{"$f":"IFERROR(INDEX(FLData!$D$2:$D$13999, MATCH(0, IF( ISBLANK(FLData!$D$2:$D$13999),1, COUNTIF( $C$5:C63, FLData!$D$2:$D$13999)), 0)),\"\")","v":""}]
[null,null,{"$f":"IFERROR(INDEX(FLData!$D$2:$D$13999, MATCH(0, IF( ISBLANK(FLData!$D$2:$D$13999),1, COUNTIF( $C$5:C64, FLData!$D$2:$D$13999)), 0)),\"\")","v":""}]
[null,null,{"$f":"IFERROR(INDEX(FLData!$D$2:$D$13999, MATCH(0, IF( ISBLANK(FLData!$D$2:$D$13999),1, COUNTIF( $C$5:C65, FLData!$D$2:$D$13999)), 0)),\"\")","v":""}]
[null,null,{"$f":"IFERROR(INDEX(FLData!$D$2:$D$13999, MATCH(0, IF( ISBLANK(FLData!$D$2:$D$13999),1, COUNTIF( $C$5:C66, FLData!$D$2:$D$13999)), 0)),\"\")","v":""}]
[null,null,{"$f":"IFERROR(INDEX(FLData!$D$2:$D$13999, MATCH(0, IF( ISBLANK(FLData!$D$2:$D$13999),1, COUNTIF( $C$5:C67, FLData!$D$2:$D$13999)), 0)),\"\")","v":""}]
[null,null,{"$f":"IFERROR(INDEX(FLData!$D$2:$D$13999, MATCH(0, IF( ISBLANK(FLData!$D$2:$D$13999),1, COUNTIF( $C$5:C68, FLData!$D$2:$D$13999)), 0)),\"\")","v":""}]
[null,null,{"$f":"IFERROR(INDEX(FLData!$D$2:$D$13999, MATCH(0, IF( ISBLANK(FLData!$D$2:$D$13999),1, COUNTIF( $C$5:C69, FLData!$D$2:$D$13999)), 0)),\"\")","v":""}]
[null,null,{"$f":"IFERROR(INDEX(FLData!$D$2:$D$13999, MATCH(0, IF( ISBLANK(FLData!$D$2:$D$13999),1, COUNTIF( $C$5:C70, FLData!$D$2:$D$13999)), 0)),\"\")","v":""}]
[null,null,{"$f":"IFERROR(INDEX(FLData!$D$2:$D$13999, MATCH(0, IF( ISBLANK(FLData!$D$2:$D$13999),1, COUNTIF( $C$5:C71, FLData!$D$2:$D$13999)), 0)),\"\")","v":""}]
[null,null,{"$f":"IFERROR(INDEX(FLData!$D$2:$D$13999, MATCH(0, IF( ISBLANK(FLData!$D$2:$D$13999),1, COUNTIF( $C$5:C72, FLData!$D$2:$D$13999)), 0)),\"\")","v":""}]
[null,null,{"$f":"IFERROR(INDEX(FLData!$D$2:$D$13999, MATCH(0, IF( ISBLANK(FLData!$D$2:$D$13999),1, COUNTIF( $C$5:C73, FLData!$D$2:$D$13999)), 0)),\"\")","v":""}]
[null,null,{"$f":"IFERROR(INDEX(FLData!$D$2:$D$13999, MATCH(0, IF( ISBLANK(FLData!$D$2:$D$13999),1, COUNTIF( $C$5:C74, FLData!$D$2:$D$13999)), 0)),\"\")","v":""}]
[null,null,{"$f":"IFERROR(INDEX(FLData!$D$2:$D$13999, MATCH(0, IF( ISBLANK(FLData!$D$2:$D$13999),1, COUNTIF( $C$5:C75, FLData!$D$2:$D$13999)), 0)),\"\")","v":""}]
[null,null,{"$f":"IFERROR(INDEX(FLData!$D$2:$D$13999, MATCH(0, IF( ISBLANK(FLData!$D$2:$D$13999),1, COUNTIF( $C$5:C76, FLData!$D$2:$D$13999)), 0)),\"\")","v":""}]
[null,null,{"$f":"IFERROR(INDEX(FLData!$D$2:$D$13999, MATCH(0, IF( ISBLANK(FLData!$D$2:$D$13999),1, COUNTIF( $C$5:C77, FLData!$D$2:$D$13999)), 0)),\"\")","v":""}]
[null,null,{"$f":"IFERROR(INDEX(FLData!$D$2:$D$13999, MATCH(0, IF( ISBLANK(FLData!$D$2:$D$13999),1, COUNTIF( $C$5:C78, FLData!$D$2:$D$13999)), 0)),\"\")","v":""}]
[null,null,{"$f":"IFERROR(INDEX(FLData!$D$2:$D$13999, MATCH(0, IF( ISBLANK(FLData!$D$2:$D$13999),1, COUNTIF( $C$5:C79, FLData!$D$2:$D$13999)), 0)),\"\")","v":""}]
[null,null,{"$f":"IFERROR(INDEX(FLData!$D$2:$D$13999, MATCH(0, IF( ISBLANK(FLData!$D$2:$D$13999),1, COUNTIF( $C$5:C80, FLData!$D$2:$D$13999)), 0)),\"\")","v":""}]
[null,null,{"$f":"IFERROR(INDEX(FLData!$D$2:$D$13999, MATCH(0, IF( ISBLANK(FLData!$D$2:$D$13999),1, COUNTIF( $C$5:C81, FLData!$D$2:$D$13999)), 0)),\"\")","v":""}]
[null,null,{"$f":"IFERROR(INDEX(FLData!$D$2:$D$13999, MATCH(0, IF( ISBLANK(FLData!$D$2:$D$13999),1, COUNTIF( $C$5:C82, FLData!$D$2:$D$13999)), 0)),\"\")","v":""}]
[null,null,{"$f":"IFERROR(INDEX(FLData!$D$2:$D$13999, MATCH(0, IF( ISBLANK(FLData!$D$2:$D$13999),1, COUNTIF( $C$5:C83, FLData!$D$2:$D$13999)), 0)),\"\")","v":""}]
[null,null,{"$f":"IFERROR(INDEX(FLData!$D$2:$D$13999, MATCH(0, IF( ISBLANK(FLData!$D$2:$D$13999),1, COUNTIF( $C$5:C84, FLData!$D$2:$D$13999)), 0)),\"\")","v":""}]
[null,null,{"$f":"IFERROR(INDEX(FLData!$D$2:$D$13999, MATCH(0, IF( ISBLANK(FLData!$D$2:$D$13999),1, COUNTIF( $C$5:C85, FLData!$D$2:$D$13999)), 0)),\"\")","v":""}]
[null,null,{"$f":"IFERROR(INDEX(FLData!$D$2:$D$13999, MATCH(0, IF( ISBLANK(FLData!$D$2:$D$13999),1, COUNTIF( $C$5:C86, FLData!$D$2:$D$13999)), 0)),\"\")","v":""}]
[null,null,{"$f":"IFERROR(INDEX(FLData!$D$2:$D$13999, MATCH(0, IF( ISBLANK(FLData!$D$2:$D$13999),1, COUNTIF( $C$5:C87, FLData!$D$2:$D$13999)), 0)),\"\")","v":""}]
[null,null,{"$f":"IFERROR(INDEX(FLData!$D$2:$D$13999, MATCH(0, IF( ISBLANK(FLData!$D$2:$D$13999),1, COUNTIF( $C$5:C88, FLData!$D$2:$D$13999)), 0)),\"\")","v":""}]
[null,null,{"$f":"IFERROR(INDEX(FLData!$D$2:$D$13999, MATCH(0, IF( ISBLANK(FLData!$D$2:$D$13999),1, COUNTIF( $C$5:C89, FLData!$D$2:$D$13999)), 0)),\"\")","v":""}]
[null,null,{"$f":"IFERROR(INDEX(FLData!$D$2:$D$13999, MATCH(0, IF( ISBLANK(FLData!$D$2:$D$13999),1, COUNTIF( $C$5:C90, FLData!$D$2:$D$13999)), 0)),\"\")","v":""}]
[null,null,{"$f":"IFERROR(INDEX(FLData!$D$2:$D$13999, MATCH(0, IF( ISBLANK(FLData!$D$2:$D$13999),1, COUNTIF( $C$5:C91, FLData!$D$2:$D$13999)), 0)),\"\")","v":""}]
[null,null,{"$f":"IFERROR(INDEX(FLData!$D$2:$D$13999, MATCH(0, IF( ISBLANK(FLData!$D$2:$D$13999),1, COUNTIF( $C$5:C92, FLData!$D$2:$D$13999)), 0)),\"\")","v":""}]
[null,null,{"$f":"IFERROR(INDEX(FLData!$D$2:$D$13999, MATCH(0, IF( ISBLANK(FLData!$D$2:$D$13999),1, COUNTIF( $C$5:C93, FLData!$D$2:$D$13999)), 0)),\"\")","v":""}]
[null,null,{"$f":"IFERROR(INDEX(FLData!$D$2:$D$13999, MATCH(0, IF( ISBLANK(FLData!$D$2:$D$13999),1, COUNTIF( $C$5:C94, FLData!$D$2:$D$13999)), 0)),\"\")","v":""}]
[null,null,{"$f":"IFERROR(INDEX(FLData!$D$2:$D$13999, MATCH(0, IF( ISBLANK(FLData!$D$2:$D$13999),1, COUNTIF( $C$5:C95, FLData!$D$2:$D$13999)), 0)),\"\")","v":""}]
[null,null,{"$f":"IFERROR(INDEX(FLData!$D$2:$D$13999, MATCH(0, IF( ISBLANK(FLData!$D$2:$D$13999),1, COUNTIF( $C$5:C96, FLData!$D$2:$D$13999)), 0)),\"\")","v":""}]
[null,null,{"$f":"IFERROR(INDEX(FLData!$D$2:$D$13999, MATCH(0, IF( ISBLANK(FLData!$D$2:$D$13999),1, COUNTIF( $C$5:C97, FLData!$D$2:$D$13999)), 0)),\"\")","v":""}]
[null,null,{"$f":"IFERROR(INDEX(FLData!$D$2:$D$13999, MATCH(0, IF( ISBLANK(FLData!$D$2:$D$13999),1, COUNTIF( $C$5:C98, FLData!$D$2:$D$13999)), 0)),\"\")","v":""}]
[null,null,{"$f":"IFERROR(INDEX(FLData!$D$2:$D$13999, MATCH(0, IF( ISBLANK(FLData!$D$2:$D$13999),1, COUNTIF( $C$5:C99, FLData!$D$2:$D$13999)), 0)),\"\")","v":""}]
[null,null,{"$f":"IFERROR(INDEX(FLData!$D$2:$D$13999, MATCH(0, IF( ISBLANK(FLData!$D$2:$D$13999),1, COUNTIF( $C$5:C100, FLData!$D$2:$D$13999)), 0)),\"\")","v":""}]
[null,null,{"$f":"IFERROR(INDEX(FLData!$D$2:$D$13999, MATCH(0, IF( ISBLANK(FLData!$D$2:$D$13999),1, COUNTIF( $C$5:C101, FLData!$D$2:$D$13999)), 0)),\"\")","v":""}]
[null,null,{"$f":"IFERROR(INDEX(FLData!$D$2:$D$13999, MATCH(0, IF( ISBLANK(FLData!$D$2:$D$13999),1, COUNTIF( $C$5:C102, FLData!$D$2:$D$13999)), 0)),\"\")","v":""}]
[null,null,{"$f":"IFERROR(INDEX(FLData!$D$2:$D$13999, MATCH(0, IF( ISBLANK(FLData!$D$2:$D$13999),1, COUNTIF( $C$5:C103, FLData!$D$2:$D$13999)), 0)),\"\")","v":""}]
[null,null,{"$f":"IFERROR(INDEX(FLData!$D$2:$D$13999, MATCH(0, IF( ISBLANK(FLData!$D$2:$D$13999),1, COUNTIF( $C$5:C104, FLData!$D$2:$D$13999)), 0)),\"\")","v":""}]
[null,null,{"$f":"IFERROR(INDEX(FLData!$D$2:$D$13999, MATCH(0, IF( ISBLANK(FLData!$D$2:$D$13999),1, COUNTIF( $C$5:C105, FLData!$D$2:$D$13999)), 0)),\"\")","v":""}]
[null,null,{"$f":"IFERROR(INDEX(FLData!$D$2:$D$13999, MATCH(0, IF( ISBLANK(FLData!$D$2:$D$13999),1, COUNTIF( $C$5:C106, FLData!$D$2:$D$13999)), 0)),\"\")","v":""}]
[null,null,{"$f":"IFERROR(INDEX(FLData!$D$2:$D$13999, MATCH(0, IF( ISBLANK(FLData!$D$2:$D$13999),1, COUNTIF( $C$5:C107, FLData!$D$2:$D$13999)), 0)),\"\")","v":""}]
[null,null,{"$f":"IFERROR(INDEX(FLData!$D$2:$D$13999, MATCH(0, IF( ISBLANK(FLData!$D$2:$D$13999),1, COUNTIF( $C$5:C108, FLData!$D$2:$D$13999)), 0)),\"\")","v":""}]
[null,null,{"$f":"IFERROR(INDEX(FLData!$D$2:$D$13999, MATCH(0, IF( ISBLANK(FLData!$D$2:$D$13999),1, COUNTIF( $C$5:C109, FLData!$D$2:$D$13999)), 0)),\"\")","v":""}]
[null,null,{"$f":"IFERROR(INDEX(FLData!$D$2:$D$13999, MATCH(0, IF( ISBLANK(FLData!$D$2:$D$13999),1, COUNTIF( $C$5:C110, FLData!$D$2:$D$13999)), 0)),\"\")","v":""}]
[null,null,{"$f":"IFERROR(INDEX(FLData!$D$2:$D$13999, MATCH(0, IF( ISBLANK(FLData!$D$2:$D$13999),1, COUNTIF( $C$5:C111, FLData!$D$2:$D$13999)), 0)),\"\")","v":""}]
[null,null,{"$f":"IFERROR(INDEX(FLData!$D$2:$D$13999, MATCH(0, IF( ISBLANK(FLData!$D$2:$D$13999),1, COUNTIF( $C$5:C112, FLData!$D$2:$D$13999)), 0)),\"\")","v":""}]
[null,null,{"$f":"IFERROR(INDEX(FLData!$D$2:$D$13999, MATCH(0, IF( ISBLANK(FLData!$D$2:$D$13999),1, COUNTIF( $C$5:C113, FLData!$D$2:$D$13999)), 0)),\"\")","v":""}]
[null,null,{"$f":"IFERROR(INDEX(FLData!$D$2:$D$13999, MATCH(0, IF( ISBLANK(FLData!$D$2:$D$13999),1, COUNTIF( $C$5:C114, FLData!$D$2:$D$13999)), 0)),\"\")","v":""}]
[null,null,{"$f":"IFERROR(INDEX(FLData!$D$2:$D$13999, MATCH(0, IF( ISBLANK(FLData!$D$2:$D$13999),1, COUNTIF( $C$5:C115, FLData!$D$2:$D$13999)), 0)),\"\")","v":""}]
[null,null,{"$f":"IFERROR(INDEX(FLData!$D$2:$D$13999, MATCH(0, IF( ISBLANK(FLData!$D$2:$D$13999),1, COUNTIF( $C$5:C116, FLData!$D$2:$D$13999)), 0)),\"\")","v":""}]
[null,null,{"$f":"IFERROR(INDEX(FLData!$D$2:$D$13999, MATCH(0, IF( ISBLANK(FLData!$D$2:$D$13999),1, COUNTIF( $C$5:C117, FLData!$D$2:$D$13999)), 0)),\"\")","v":""}]
[null,null,{"$f":"IFERROR(INDEX(FLData!$D$2:$D$13999, MATCH(0, IF( ISBLANK(FLData!$D$2:$D$13999),1, COUNTIF( $C$5:C118, FLData!$D$2:$D$13999)), 0)),\"\")","v":""}]
[null,null,{"$f":"IFERROR(INDEX(FLData!$D$2:$D$13999, MATCH(0, IF( ISBLANK(FLData!$D$2:$D$13999),1, COUNTIF( $C$5:C119, FLData!$D$2:$D$13999)), 0)),\"\")","v":""}]
[null,null,{"$f":"IFERROR(INDEX(FLData!$D$2:$D$13999, MATCH(0, IF( ISBLANK(FLData!$D$2:$D$13999),1, COUNTIF( $C$5:C120, FLData!$D$2:$D$13999)), 0)),\"\")","v":""}]
[null,null,{"$f":"IFERROR(INDEX(FLData!$D$2:$D$13999, MATCH(0, IF( ISBLANK(FLData!$D$2:$D$13999),1, COUNTIF( $C$5:C121, FLData!$D$2:$D$13999)), 0)),\"\")","v":""}]
[null,null,{"$f":"IFERROR(INDEX(FLData!$D$2:$D$13999, MATCH(0, IF( ISBLANK(FLData!$D$2:$D$13999),1, COUNTIF( $C$5:C122, FLData!$D$2:$D$13999)), 0)),\"\")","v":""}]
[null,null,{"$f":"IFERROR(INDEX(FLData!$D$2:$D$13999, MATCH(0, IF( ISBLANK(FLData!$D$2:$D$13999),1, COUNTIF( $C$5:C123, FLData!$D$2:$D$13999)), 0)),\"\")","v":""}]
[null,null,{"$f":"IFERROR(INDEX(FLData!$D$2:$D$13999, MATCH(0, IF( ISBLANK(FLData!$D$2:$D$13999),1, COUNTIF( $C$5:C124, FLData!$D$2:$D$13999)), 0)),\"\")","v":""}]
[null,null,{"$f":"IFERROR(INDEX(FLData!$D$2:$D$13999, MATCH(0, IF( ISBLANK(FLData!$D$2:$D$13999),1, COUNTIF( $C$5:C125, FLData!$D$2:$D$13999)), 0)),\"\")","v":""}]
[null,null,{"$f":"IFERROR(INDEX(FLData!$D$2:$D$13999, MATCH(0, IF( ISBLANK(FLData!$D$2:$D$13999),1, COUNTIF( $C$5:C126, FLData!$D$2:$D$13999)), 0)),\"\")","v":""}]
[null,null,{"$f":"IFERROR(INDEX(FLData!$D$2:$D$13999, MATCH(0, IF( ISBLANK(FLData!$D$2:$D$13999),1, COUNTIF( $C$5:C127, FLData!$D$2:$D$13999)), 0)),\"\")","v":""}]
[null,null,{"$f":"IFERROR(INDEX(FLData!$D$2:$D$13999, MATCH(0, IF( ISBLANK(FLData!$D$2:$D$13999),1, COUNTIF( $C$5:C128, FLData!$D$2:$D$13999)), 0)),\"\")","v":""}]
[null,null,{"$f":"IFERROR(INDEX(FLData!$D$2:$D$13999, MATCH(0, IF( ISBLANK(FLData!$D$2:$D$13999),1, COUNTIF( $C$5:C129, FLData!$D$2:$D$13999)), 0)),\"\")","v":""}]
[null,null,{"$f":"IFERROR(INDEX(FLData!$D$2:$D$13999, MATCH(0, IF( ISBLANK(FLData!$D$2:$D$13999),1, COUNTIF( $C$5:C130, FLData!$D$2:$D$13999)), 0)),\"\")","v":""}]
[null,null,{"$f":"IFERROR(INDEX(FLData!$D$2:$D$13999, MATCH(0, IF( ISBLANK(FLData!$D$2:$D$13999),1, COUNTIF( $C$5:C131, FLData!$D$2:$D$13999)), 0)),\"\")","v":""}]
[null,null,{"$f":"IFERROR(INDEX(FLData!$D$2:$D$13999, MATCH(0, IF( ISBLANK(FLData!$D$2:$D$13999),1, COUNTIF( $C$5:C132, FLData!$D$2:$D$13999)), 0)),\"\")","v":""}]
[null,null,{"$f":"IFERROR(INDEX(FLData!$D$2:$D$13999, MATCH(0, IF( ISBLANK(FLData!$D$2:$D$13999),1, COUNTIF( $C$5:C133, FLData!$D$2:$D$13999)), 0)),\"\")","v":""}]
[null,null,{"$f":"IFERROR(INDEX(FLData!$D$2:$D$13999, MATCH(0, IF( ISBLANK(FLData!$D$2:$D$13999),1, COUNTIF( $C$5:C134, FLData!$D$2:$D$13999)), 0)),\"\")","v":""}]
[null,null,{"$f":"IFERROR(INDEX(FLData!$D$2:$D$13999, MATCH(0, IF( ISBLANK(FLData!$D$2:$D$13999),1, COUNTIF( $C$5:C135, FLData!$D$2:$D$13999)), 0)),\"\")","v":""}]
[null,null,{"$f":"IFERROR(INDEX(FLData!$D$2:$D$13999, MATCH(0, IF( ISBLANK(FLData!$D$2:$D$13999),1, COUNTIF( $C$5:C136, FLData!$D$2:$D$13999)), 0)),\"\")","v":""}]
[null,null,{"$f":"IFERROR(INDEX(FLData!$D$2:$D$13999, MATCH(0, IF( ISBLANK(FLData!$D$2:$D$13999),1, COUNTIF( $C$5:C137, FLData!$D$2:$D$13999)), 0)),\"\")","v":""}]
[null,null,{"$f":"IFERROR(INDEX(FLData!$D$2:$D$13999, MATCH(0, IF( ISBLANK(FLData!$D$2:$D$13999),1, COUNTIF( $C$5:C138, FLData!$D$2:$D$13999)), 0)),\"\")","v":""}]
[null,null,{"$f":"IFERROR(INDEX(FLData!$D$2:$D$13999, MATCH(0, IF( ISBLANK(FLData!$D$2:$D$13999),1, COUNTIF( $C$5:C139, FLData!$D$2:$D$13999)), 0)),\"\")","v":""}]
[null,null,{"$f":"IFERROR(INDEX(FLData!$D$2:$D$13999, MATCH(0, IF( ISBLANK(FLData!$D$2:$D$13999),1, COUNTIF( $C$5:C140, FLData!$D$2:$D$13999)), 0)),\"\")","v":""}]
[null,null,{"$f":"IFERROR(INDEX(FLData!$D$2:$D$13999, MATCH(0, IF( ISBLANK(FLData!$D$2:$D$13999),1, COUNTIF( $C$5:C141, FLData!$D$2:$D$13999)), 0)),\"\")","v":""}]
[null,null,{"$f":"IFERROR(INDEX(FLData!$D$2:$D$13999, MATCH(0, IF( ISBLANK(FLData!$D$2:$D$13999),1, COUNTIF( $C$5:C142, FLData!$D$2:$D$13999)), 0)),\"\")","v":""}]
[null,null,{"$f":"IFERROR(INDEX(FLData!$D$2:$D$13999, MATCH(0, IF( ISBLANK(FLData!$D$2:$D$13999),1, COUNTIF( $C$5:C143, FLData!$D$2:$D$13999)), 0)),\"\")","v":""}]
[null,null,{"$f":"IFERROR(INDEX(FLData!$D$2:$D$13999, MATCH(0, IF( ISBLANK(FLData!$D$2:$D$13999),1, COUNTIF( $C$5:C144, FLData!$D$2:$D$13999)), 0)),\"\")","v":""}]
[null,null,{"$f":"IFERROR(INDEX(FLData!$D$2:$D$13999, MATCH(0, IF( ISBLANK(FLData!$D$2:$D$13999),1, COUNTIF( $C$5:C145, FLData!$D$2:$D$13999)), 0)),\"\")","v":""}]
[null,null,{"$f":"IFERROR(INDEX(FLData!$D$2:$D$13999, MATCH(0, IF( ISBLANK(FLData!$D$2:$D$13999),1, COUNTIF( $C$5:C146, FLData!$D$2:$D$13999)), 0)),\"\")","v":""}]
[null,null,{"$f":"IFERROR(INDEX(FLData!$D$2:$D$13999, MATCH(0, IF( ISBLANK(FLData!$D$2:$D$13999),1, COUNTIF( $C$5:C147, FLData!$D$2:$D$13999)), 0)),\"\")","v":""}]
[null,null,{"$f":"IFERROR(INDEX(FLData!$D$2:$D$13999, MATCH(0, IF( ISBLANK(FLData!$D$2:$D$13999),1, COUNTIF( $C$5:C148, FLData!$D$2:$D$13999)), 0)),\"\")","v":""}]
[null,null,{"$f":"IFERROR(INDEX(FLData!$D$2:$D$13999, MATCH(0, IF( ISBLANK(FLData!$D$2:$D$13999),1, COUNTIF( $C$5:C149, FLData!$D$2:$D$13999)), 0)),\"\")","v":""}]
[null,null,{"$f":"IFERROR(INDEX(FLData!$D$2:$D$13999, MATCH(0, IF( ISBLANK(FLData!$D$2:$D$13999),1, COUNTIF( $C$5:C150, FLData!$D$2:$D$13999)), 0)),\"\")","v":""}]
[null,null,{"$f":"IFERROR(INDEX(FLData!$D$2:$D$13999, MATCH(0, IF( ISBLANK(FLData!$D$2:$D$13999),1, COUNTIF( $C$5:C151, FLData!$D$2:$D$13999)), 0)),\"\")","v":""}]
[null,null,{"$f":"IFERROR(INDEX(FLData!$D$2:$D$13999, MATCH(0, IF( ISBLANK(FLData!$D$2:$D$13999),1, COUNTIF( $C$5:C152, FLData!$D$2:$D$13999)), 0)),\"\")","v":""}]
[null,null,{"$f":"IFERROR(INDEX(FLData!$D$2:$D$13999, MATCH(0, IF( ISBLANK(FLData!$D$2:$D$13999),1, COUNTIF( $C$5:C153, FLData!$D$2:$D$13999)), 0)),\"\")","v":""}]
[null,null,{"$f":"IFERROR(INDEX(FLData!$D$2:$D$13999, MATCH(0, IF( ISBLANK(FLData!$D$2:$D$13999),1, COUNTIF( $C$5:C154, FLData!$D$2:$D$13999)), 0)),\"\")","v":""}]
[null,null,{"$f":"IFERROR(INDEX(FLData!$D$2:$D$13999, MATCH(0, IF( ISBLANK(FLData!$D$2:$D$13999),1, COUNTIF( $C$5:C155, FLData!$D$2:$D$13999)), 0)),\"\")","v":""}]
[null,null,{"$f":"IFERROR(INDEX(FLData!$D$2:$D$13999, MATCH(0, IF( ISBLANK(FLData!$D$2:$D$13999),1, COUNTIF( $C$5:C156, FLData!$D$2:$D$13999)), 0)),\"\")","v":""}]
[null,null,{"$f":"IFERROR(INDEX(FLData!$D$2:$D$13999, MATCH(0, IF( ISBLANK(FLData!$D$2:$D$13999),1, COUNTIF( $C$5:C157, FLData!$D$2:$D$13999)), 0)),\"\")","v":""}]
[null,null,{"$f":"IFERROR(INDEX(FLData!$D$2:$D$13999, MATCH(0, IF( ISBLANK(FLData!$D$2:$D$13999),1, COUNTIF( $C$5:C158, FLData!$D$2:$D$13999)), 0)),\"\")","v":""}]
[null,null,{"$f":"IFERROR(INDEX(FLData!$D$2:$D$13999, MATCH(0, IF( ISBLANK(FLData!$D$2:$D$13999),1, COUNTIF( $C$5:C159, FLData!$D$2:$D$13999)), 0)),\"\")","v":""}]
[null,null,{"$f":"IFERROR(INDEX(FLData!$D$2:$D$13999, MATCH(0, IF( ISBLANK(FLData!$D$2:$D$13999),1, COUNTIF( $C$5:C160, FLData!$D$2:$D$13999)), 0)),\"\")","v":""}]
[null,null,{"$f":"IFERROR(INDEX(FLData!$D$2:$D$13999, MATCH(0, IF( ISBLANK(FLData!$D$2:$D$13999),1, COUNTIF( $C$5:C161, FLData!$D$2:$D$13999)), 0)),\"\")","v":""}]
[null,null,{"$f":"IFERROR(INDEX(FLData!$D$2:$D$13999, MATCH(0, IF( ISBLANK(FLData!$D$2:$D$13999),1, COUNTIF( $C$5:C162, FLData!$D$2:$D$13999)), 0)),\"\")","v":""}]
[null,null,{"$f":"IFERROR(INDEX(FLData!$D$2:$D$13999, MATCH(0, IF( ISBLANK(FLData!$D$2:$D$13999),1, COUNTIF( $C$5:C163, FLData!$D$2:$D$13999)), 0)),\"\")","v":""}]
[null,null,{"$f":"IFERROR(INDEX(FLData!$D$2:$D$13999, MATCH(0, IF( ISBLANK(FLData!$D$2:$D$13999),1, COUNTIF( $C$5:C164, FLData!$D$2:$D$13999)), 0)),\"\")","v":""}]
[null,null,{"$f":"IFERROR(INDEX(FLData!$D$2:$D$13999, MATCH(0, IF( ISBLANK(FLData!$D$2:$D$13999),1, COUNTIF( $C$5:C165, FLData!$D$2:$D$13999)), 0)),\"\")","v":""}]
[null,null,{"$f":"IFERROR(INDEX(FLData!$D$2:$D$13999, MATCH(0, IF( ISBLANK(FLData!$D$2:$D$13999),1, COUNTIF( $C$5:C166, FLData!$D$2:$D$13999)), 0)),\"\")","v":""}]
[null,null,{"$f":"IFERROR(INDEX(FLData!$D$2:$D$13999, MATCH(0, IF( ISBLANK(FLData!$D$2:$D$13999),1, COUNTIF( $C$5:C167, FLData!$D$2:$D$13999)), 0)),\"\")","v":""}]
[null,null,{"$f":"IFERROR(INDEX(FLData!$D$2:$D$13999, MATCH(0, IF( ISBLANK(FLData!$D$2:$D$13999),1, COUNTIF( $C$5:C168, FLData!$D$2:$D$13999)), 0)),\"\")","v":""}]
[null,null,{"$f":"IFERROR(INDEX(FLData!$D$2:$D$13999, MATCH(0, IF( ISBLANK(FLData!$D$2:$D$13999),1, COUNTIF( $C$5:C169, FLData!$D$2:$D$13999)), 0)),\"\")","v":""}]
[null,null,{"$f":"IFERROR(INDEX(FLData!$D$2:$D$13999, MATCH(0, IF( ISBLANK(FLData!$D$2:$D$13999),1, COUNTIF( $C$5:C170, FLData!$D$2:$D$13999)), 0)),\"\")","v":""}]
[null,null,{"$f":"IFERROR(INDEX(FLData!$D$2:$D$13999, MATCH(0, IF( ISBLANK(FLData!$D$2:$D$13999),1, COUNTIF( $C$5:C171, FLData!$D$2:$D$13999)), 0)),\"\")","v":""}]
[null,null,{"$f":"IFERROR(INDEX(FLData!$D$2:$D$13999, MATCH(0, IF( ISBLANK(FLData!$D$2:$D$13999),1, COUNTIF( $C$5:C172, FLData!$D$2:$D$13999)), 0)),\"\")","v":""}]
[null,null,{"$f":"IFERROR(INDEX(FLData!$D$2:$D$13999, MATCH(0, IF( ISBLANK(FLData!$D$2:$D$13999),1, COUNTIF( $C$5:C173, FLData!$D$2:$D$13999)), 0)),\"\")","v":""}]
[null,null,{"$f":"IFERROR(INDEX(FLData!$D$2:$D$13999, MATCH(0, IF( ISBLANK(FLData!$D$2:$D$13999),1, COUNTIF( $C$5:C174, FLData!$D$2:$D$13999)), 0)),\"\")","v":""}]
[null,null,{"$f":"IFERROR(INDEX(FLData!$D$2:$D$13999, MATCH(0, IF( ISBLANK(FLData!$D$2:$D$13999),1, COUNTIF( $C$5:C175, FLData!$D$2:$D$13999)), 0)),\"\")","v":""}]
[null,null,{"$f":"IFERROR(INDEX(FLData!$D$2:$D$13999, MATCH(0, IF( ISBLANK(FLData!$D$2:$D$13999),1, COUNTIF( $C$5:C176, FLData!$D$2:$D$13999)), 0)),\"\")","v":""}]
[null,null,{"$f":"IFERROR(INDEX(FLData!$D$2:$D$13999, MATCH(0, IF( ISBLANK(FLData!$D$2:$D$13999),1, COUNTIF( $C$5:C177, FLData!$D$2:$D$13999)), 0)),\"\")","v":""}]
[null,null,{"$f":"IFERROR(INDEX(FLData!$D$2:$D$13999, MATCH(0, IF( ISBLANK(FLData!$D$2:$D$13999),1, COUNTIF( $C$5:C178, FLData!$D$2:$D$13999)), 0)),\"\")","v":""}]
[null,null,{"$f":"IFERROR(INDEX(FLData!$D$2:$D$13999, MATCH(0, IF( ISBLANK(FLData!$D$2:$D$13999),1, COUNTIF( $C$5:C179, FLData!$D$2:$D$13999)), 0)),\"\")","v":""}]
[null,null,{"$f":"IFERROR(INDEX(FLData!$D$2:$D$13999, MATCH(0, IF( ISBLANK(FLData!$D$2:$D$13999),1, COUNTIF( $C$5:C180, FLData!$D$2:$D$13999)), 0)),\"\")","v":""}]
[null,null,{"$f":"IFERROR(INDEX(FLData!$D$2:$D$13999, MATCH(0, IF( ISBLANK(FLData!$D$2:$D$13999),1, COUNTIF( $C$5:C181, FLData!$D$2:$D$13999)), 0)),\"\")","v":""}]
[null,null,{"$f":"IFERROR(INDEX(FLData!$D$2:$D$13999, MATCH(0, IF( ISBLANK(FLData!$D$2:$D$13999),1, COUNTIF( $C$5:C182, FLData!$D$2:$D$13999)), 0)),\"\")","v":""}]
[null,null,{"$f":"IFERROR(INDEX(FLData!$D$2:$D$13999, MATCH(0, IF( ISBLANK(FLData!$D$2:$D$13999),1, COUNTIF( $C$5:C183, FLData!$D$2:$D$13999)), 0)),\"\")","v":""}]
[null,null,{"$f":"IFERROR(INDEX(FLData!$D$2:$D$13999, MATCH(0, IF( ISBLANK(FLData!$D$2:$D$13999),1, COUNTIF( $C$5:C184, FLData!$D$2:$D$13999)), 0)),\"\")","v":""}]
[null,null,{"$f":"IFERROR(INDEX(FLData!$D$2:$D$13999, MATCH(0, IF( ISBLANK(FLData!$D$2:$D$13999),1, COUNTIF( $C$5:C185, FLData!$D$2:$D$13999)), 0)),\"\")","v":""}]
[null,null,{"$f":"IFERROR(INDEX(FLData!$D$2:$D$13999, MATCH(0, IF( ISBLANK(FLData!$D$2:$D$13999),1, COUNTIF( $C$5:C186, FLData!$D$2:$D$13999)), 0)),\"\")","v":""}]
[null,null,{"$f":"IFERROR(INDEX(FLData!$D$2:$D$13999, MATCH(0, IF( ISBLANK(FLData!$D$2:$D$13999),1, COUNTIF( $C$5:C187, FLData!$D$2:$D$13999)), 0)),\"\")","v":""}]
[null,null,{"$f":"IFERROR(INDEX(FLData!$D$2:$D$13999, MATCH(0, IF( ISBLANK(FLData!$D$2:$D$13999),1, COUNTIF( $C$5:C188, FLData!$D$2:$D$13999)), 0)),\"\")","v":""}]
[null,null,{"$f":"IFERROR(INDEX(FLData!$D$2:$D$13999, MATCH(0, IF( ISBLANK(FLData!$D$2:$D$13999),1, COUNTIF( $C$5:C189, FLData!$D$2:$D$13999)), 0)),\"\")","v":""}]
[null,null,{"$f":"IFERROR(INDEX(FLData!$D$2:$D$13999, MATCH(0, IF( ISBLANK(FLData!$D$2:$D$13999),1, COUNTIF( $C$5:C190, FLData!$D$2:$D$13999)), 0)),\"\")","v":""}]
[null,null,{"$f":"IFERROR(INDEX(FLData!$D$2:$D$13999, MATCH(0, IF( ISBLANK(FLData!$D$2:$D$13999),1, COUNTIF( $C$5:C191, FLData!$D$2:$D$13999)), 0)),\"\")","v":""}]
[null,null,{"$f":"IFERROR(INDEX(FLData!$D$2:$D$13999, MATCH(0, IF( ISBLANK(FLData!$D$2:$D$13999),1, COUNTIF( $C$5:C192, FLData!$D$2:$D$13999)), 0)),\"\")","v":""}]
[null,null,{"$f":"IFERROR(INDEX(FLData!$D$2:$D$13999, MATCH(0, IF( ISBLANK(FLData!$D$2:$D$13999),1, COUNTIF( $C$5:C193, FLData!$D$2:$D$13999)), 0)),\"\")","v":""}]
[null,null,{"$f":"IFERROR(INDEX(FLData!$D$2:$D$13999, MATCH(0, IF( ISBLANK(FLData!$D$2:$D$13999),1, COUNTIF( $C$5:C194, FLData!$D$2:$D$13999)), 0)),\"\")","v":""}]
[null,null,{"$f":"IFERROR(INDEX(FLData!$D$2:$D$13999, MATCH(0, IF( ISBLANK(FLData!$D$2:$D$13999),1, COUNTIF( $C$5:C195, FLData!$D$2:$D$13999)), 0)),\"\")","v":""}]
[null,null,{"$f":"IFERROR(INDEX(FLData!$D$2:$D$13999, MATCH(0, IF( ISBLANK(FLData!$D$2:$D$13999),1, COUNTIF( $C$5:C196, FLData!$D$2:$D$13999)), 0)),\"\")","v":""}]
[null,null,{"$f":"IFERROR(INDEX(FLData!$D$2:$D$13999, MATCH(0, IF( ISBLANK(FLData!$D$2:$D$13999),1, COUNTIF( $C$5:C197, FLData!$D$2:$D$13999)), 0)),\"\")","v":""}]
[null,null,{"$f":"IFERROR(INDEX(FLData!$D$2:$D$13999, MATCH(0, IF( ISBLANK(FLData!$D$2:$D$13999),1, COUNTIF( $C$5:C198, FLData!$D$2:$D$13999)), 0)),\"\")","v":""}]
[null,null,{"$f":"IFERROR(INDEX(FLData!$D$2:$D$13999, MATCH(0, IF( ISBLANK(FLData!$D$2:$D$13999),1, COUNTIF( $C$5:C199, FLData!$D$2:$D$13999)), 0)),\"\")","v":""}]
[null,null,{"$f":"IFERROR(INDEX(FLData!$D$2:$D$13999, MATCH(0, IF( ISBLANK(FLData!$D$2:$D$13999),1, COUNTIF( $C$5:C200, FLData!$D$2:$D$13999)), 0)),\"\")","v":""}]

{"sheet":"Activity - Dep Airports","index":8,"n_rows":200,"n_cols":4,"rows_kept":200,"cut":false,"hidden":false,"merged":[]}
[]
[]
[null,null,"Departure Airports",{"$f":"FLVersion","v":"V009"}]
[]
[null,null,"Airport name","#Flights"]
[null,null,{"$f":"IFERROR(INDEX(FLData!$Z$2:$Z$13999, MATCH(0, IF( ISBLANK(FLData!$Z$2:$Z$13999),1, COUNTIF( $C$5:C5, FLData!$Z$2:$Z$13999)), 0)),\"\")","v":""},{"$f":"IF( LEN(C6)>0,COUNTIF( FLData!$Z$2:$Z$13999,C6),\"\")","v":""}]
[null,null,{"$f":"IFERROR(INDEX(FLData!$Z$2:$Z$13999, MATCH(0, IF( ISBLANK(FLData!$Z$2:$Z$13999),1, COUNTIF( $C$5:C6, FLData!$Z$2:$Z$13999)), 0)),\"\")","v":""},{"$f":"IF( LEN(C7)>0,COUNTIF( FLData!$Z$2:$Z$13999,C7),\"\")","v":""}]
[null,null,{"$f":"IFERROR(INDEX(FLData!$Z$2:$Z$13999, MATCH(0, IF( ISBLANK(FLData!$Z$2:$Z$13999),1, COUNTIF( $C$5:C7, FLData!$Z$2:$Z$13999)), 0)),\"\")","v":""},{"$f":"IF( LEN(C8)>0,COUNTIF( FLData!$Z$2:$Z$13999,C8),\"\")","v":""}]
[null,null,{"$f":"IFERROR(INDEX(FLData!$Z$2:$Z$13999, MATCH(0, IF( ISBLANK(FLData!$Z$2:$Z$13999),1, COUNTIF( $C$5:C8, FLData!$Z$2:$Z$13999)), 0)),\"\")","v":""},{"$f":"IF( LEN(C9)>0,COUNTIF( FLData!$Z$2:$Z$13999,C9),\"\")","v":""}]
[null,null,{"$f":"IFERROR(INDEX(FLData!$Z$2:$Z$13999, MATCH(0, IF( ISBLANK(FLData!$Z$2:$Z$13999),1, COUNTIF( $C$5:C9, FLData!$Z$2:$Z$13999)), 0)),\"\")","v":""},{"$f":"IF( LEN(C10)>0,COUNTIF( FLData!$Z$2:$Z$13999,C10),\"\")","v":""}]
[null,null,{"$f":"IFERROR(INDEX(FLData!$Z$2:$Z$13999, MATCH(0, IF( ISBLANK(FLData!$Z$2:$Z$13999),1, COUNTIF( $C$5:C10, FLData!$Z$2:$Z$13999)), 0)),\"\")","v":""},{"$f":"IF( LEN(C11)>0,COUNTIF( FLData!$Z$2:$Z$13999,C11),\"\")","v":""}]
[null,null,{"$f":"IFERROR(INDEX(FLData!$Z$2:$Z$13999, MATCH(0, IF( ISBLANK(FLData!$Z$2:$Z$13999),1, COUNTIF( $C$5:C11, FLData!$Z$2:$Z$13999)), 0)),\"\")","v":""},{"$f":"IF( LEN(C12)>0,COUNTIF( FLData!$Z$2:$Z$13999,C12),\"\")","v":""}]
[null,null,{"$f":"IFERROR(INDEX(FLData!$Z$2:$Z$13999, MATCH(0, IF( ISBLANK(FLData!$Z$2:$Z$13999),1, COUNTIF( $C$5:C12, FLData!$Z$2:$Z$13999)), 0)),\"\")","v":""},{"$f":"IF( LEN(C13)>0,COUNTIF( FLData!$Z$2:$Z$13999,C13),\"\")","v":""}]
[null,null,{"$f":"IFERROR(INDEX(FLData!$Z$2:$Z$13999, MATCH(0, IF( ISBLANK(FLData!$Z$2:$Z$13999),1, COUNTIF( $C$5:C13, FLData!$Z$2:$Z$13999)), 0)),\"\")","v":""},{"$f":"IF( LEN(C14)>0,COUNTIF( FLData!$Z$2:$Z$13999,C14),\"\")","v":""}]
[null,null,{"$f":"IFERROR(INDEX(FLData!$Z$2:$Z$13999, MATCH(0, IF( ISBLANK(FLData!$Z$2:$Z$13999),1, COUNTIF( $C$5:C14, FLData!$Z$2:$Z$13999)), 0)),\"\")","v":""},{"$f":"IF( LEN(C15)>0,COUNTIF( FLData!$Z$2:$Z$13999,C15),\"\")","v":""}]
[null,null,{"$f":"IFERROR(INDEX(FLData!$Z$2:$Z$13999, MATCH(0, IF( ISBLANK(FLData!$Z$2:$Z$13999),1, COUNTIF( $C$5:C15, FLData!$Z$2:$Z$13999)), 0)),\"\")","v":""},{"$f":"IF( LEN(C16)>0,COUNTIF( FLData!$Z$2:$Z$13999,C16),\"\")","v":""}]
[null,null,{"$f":"IFERROR(INDEX(FLData!$Z$2:$Z$13999, MATCH(0, IF( ISBLANK(FLData!$Z$2:$Z$13999),1, COUNTIF( $C$5:C16, FLData!$Z$2:$Z$13999)), 0)),\"\")","v":""},{"$f":"IF( LEN(C17)>0,COUNTIF( FLData!$Z$2:$Z$13999,C17),\"\")","v":""}]
[null,null,{"$f":"IFERROR(INDEX(FLData!$Z$2:$Z$13999, MATCH(0, IF( ISBLANK(FLData!$Z$2:$Z$13999),1, COUNTIF( $C$5:C17, FLData!$Z$2:$Z$13999)), 0)),\"\")","v":""},{"$f":"IF( LEN(C18)>0,COUNTIF( FLData!$Z$2:$Z$13999,C18),\"\")","v":""}]
[null,null,{"$f":"IFERROR(INDEX(FLData!$Z$2:$Z$13999, MATCH(0, IF( ISBLANK(FLData!$Z$2:$Z$13999),1, COUNTIF( $C$5:C18, FLData!$Z$2:$Z$13999)), 0)),\"\")","v":""},{"$f":"IF( LEN(C19)>0,COUNTIF( FLData!$Z$2:$Z$13999,C19),\"\")","v":""}]
[null,null,{"$f":"IFERROR(INDEX(FLData!$Z$2:$Z$13999, MATCH(0, IF( ISBLANK(FLData!$Z$2:$Z$13999),1, COUNTIF( $C$5:C19, FLData!$Z$2:$Z$13999)), 0)),\"\")","v":""},{"$f":"IF( LEN(C20)>0,COUNTIF( FLData!$Z$2:$Z$13999,C20),\"\")","v":""}]
[null,null,{"$f":"IFERROR(INDEX(FLData!$Z$2:$Z$13999, MATCH(0, IF( ISBLANK(FLData!$Z$2:$Z$13999),1, COUNTIF( $C$5:C20, FLData!$Z$2:$Z$13999)), 0)),\"\")","v":""},{"$f":"IF( LEN(C21)>0,COUNTIF( FLData!$Z$2:$Z$13999,C21),\"\")","v":""}]
[null,null,{"$f":"IFERROR(INDEX(FLData!$Z$2:$Z$13999, MATCH(0, IF( ISBLANK(FLData!$Z$2:$Z$13999),1, COUNTIF( $C$5:C21, FLData!$Z$2:$Z$13999)), 0)),\"\")","v":""},{"$f":"IF( LEN(C22)>0,COUNTIF( FLData!$Z$2:$Z$13999,C22),\"\")","v":""}]
[null,null,{"$f":"IFERROR(INDEX(FLData!$Z$2:$Z$13999, MATCH(0, IF( ISBLANK(FLData!$Z$2:$Z$13999),1, COUNTIF( $C$5:C22, FLData!$Z$2:$Z$13999)), 0)),\"\")","v":""},{"$f":"IF( LEN(C23)>0,COUNTIF( FLData!$Z$2:$Z$13999,C23),\"\")","v":""}]
[null,null,{"$f":"IFERROR(INDEX(FLData!$Z$2:$Z$13999, MATCH(0, IF( ISBLANK(FLData!$Z$2:$Z$13999),1, COUNTIF( $C$5:C23, FLData!$Z$2:$Z$13999)), 0)),\"\")","v":""},{"$f":"IF( LEN(C24)>0,COUNTIF( FLData!$Z$2:$Z$13999,C24),\"\")","v":""}]
[null,null,{"$f":"IFERROR(INDEX(FLData!$Z$2:$Z$13999, MATCH(0, IF( ISBLANK(FLData!$Z$2:$Z$13999),1, COUNTIF( $C$5:C24, FLData!$Z$2:$Z$13999)), 0)),\"\")","v":""},{"$f":"IF( LEN(C25)>0,COUNTIF( FLData!$Z$2:$Z$13999,C25),\"\")","v":""}]
[null,null,{"$f":"IFERROR(INDEX(FLData!$Z$2:$Z$13999, MATCH(0, IF( ISBLANK(FLData!$Z$2:$Z$13999),1, COUNTIF( $C$5:C25, FLData!$Z$2:$Z$13999)), 0)),\"\")","v":""},{"$f":"IF( LEN(C26)>0,COUNTIF( FLData!$Z$2:$Z$13999,C26),\"\")","v":""}]
[null,null,{"$f":"IFERROR(INDEX(FLData!$Z$2:$Z$13999, MATCH(0, IF( ISBLANK(FLData!$Z$2:$Z$13999),1, COUNTIF( $C$5:C26, FLData!$Z$2:$Z$13999)), 0)),\"\")","v":""},{"$f":"IF( LEN(C27)>0,COUNTIF( FLData!$Z$2:$Z$13999,C27),\"\")","v":""}]
[null,null,{"$f":"IFERROR(INDEX(FLData!$Z$2:$Z$13999, MATCH(0, IF( ISBLANK(FLData!$Z$2:$Z$13999),1, COUNTIF( $C$5:C27, FLData!$Z$2:$Z$13999)), 0)),\"\")","v":""},{"$f":"IF( LEN(C28)>0,COUNTIF( FLData!$Z$2:$Z$13999,C28),\"\")","v":""}]
[null,null,{"$f":"IFERROR(INDEX(FLData!$Z$2:$Z$13999, MATCH(0, IF( ISBLANK(FLData!$Z$2:$Z$13999),1, COUNTIF( $C$5:C28, FLData!$Z$2:$Z$13999)), 0)),\"\")","v":""},{"$f":"IF( LEN(C29)>0,COUNTIF( FLData!$Z$2:$Z$13999,C29),\"\")","v":""}]
[null,null,{"$f":"IFERROR(INDEX(FLData!$Z$2:$Z$13999, MATCH(0, IF( ISBLANK(FLData!$Z$2:$Z$13999),1, COUNTIF( $C$5:C29, FLData!$Z$2:$Z$13999)), 0)),\"\")","v":""},{"$f":"IF( LEN(C30)>0,COUNTIF( FLData!$Z$2:$Z$13999,C30),\"\")","v":""}]
[null,null,{"$f":"IFERROR(INDEX(FLData!$Z$2:$Z$13999, MATCH(0, IF( ISBLANK(FLData!$Z$2:$Z$13999),1, COUNTIF( $C$5:C30, FLData!$Z$2:$Z$13999)), 0)),\"\")","v":""},{"$f":"IF( LEN(C31)>0,COUNTIF( FLData!$Z$2:$Z$13999,C31),\"\")","v":""}]
[null,null,{"$f":"IFERROR(INDEX(FLData!$Z$2:$Z$13999, MATCH(0, IF( ISBLANK(FLData!$Z$2:$Z$13999),1, COUNTIF( $C$5:C31, FLData!$Z$2:$Z$13999)), 0)),\"\")","v":""},{"$f":"IF( LEN(C32)>0,COUNTIF( FLData!$Z$2:$Z$13999,C32),\"\")","v":""}]
[null,null,{"$f":"IFERROR(INDEX(FLData!$Z$2:$Z$13999, MATCH(0, IF( ISBLANK(FLData!$Z$2:$Z$13999),1, COUNTIF( $C$5:C32, FLData!$Z$2:$Z$13999)), 0)),\"\")","v":""},{"$f":"IF( LEN(C33)>0,COUNTIF( FLData!$Z$2:$Z$13999,C33),\"\")","v":""}]
[null,null,{"$f":"IFERROR(INDEX(FLData!$Z$2:$Z$13999, MATCH(0, IF( ISBLANK(FLData!$Z$2:$Z$13999),1, COUNTIF( $C$5:C33, FLData!$Z$2:$Z$13999)), 0)),\"\")","v":""},{"$f":"IF( LEN(C34)>0,COUNTIF( FLData!$Z$2:$Z$13999,C34),\"\")","v":""}]
[null,null,{"$f":"IFERROR(INDEX(FLData!$Z$2:$Z$13999, MATCH(0, IF( ISBLANK(FLData!$Z$2:$Z$13999),1, COUNTIF( $C$5:C34, FLData!$Z$2:$Z$13999)), 0)),\"\")","v":""},{"$f":"IF( LEN(C35)>0,COUNTIF( FLData!$Z$2:$Z$13999,C35),\"\")","v":""}]
[null,null,{"$f":"IFERROR(INDEX(FLData!$Z$2:$Z$13999, MATCH(0, IF( ISBLANK(FLData!$Z$2:$Z$13999),1, COUNTIF( $C$5:C35, FLData!$Z$2:$Z$13999)), 0)),\"\")","v":""},{"$f":"IF( LEN(C36)>0,COUNTIF( FLData!$Z$2:$Z$13999,C36),\"\")","v":""}]
[null,null,{"$f":"IFERROR(INDEX(FLData!$Z$2:$Z$13999, MATCH(0, IF( ISBLANK(FLData!$Z$2:$Z$13999),1, COUNTIF( $C$5:C36, FLData!$Z$2:$Z$13999)), 0)),\"\")","v":""},{"$f":"IF( LEN(C37)>0,COUNTIF( FLData!$Z$2:$Z$13999,C37),\"\")","v":""}]
[null,null,{"$f":"IFERROR(INDEX(FLData!$Z$2:$Z$13999, MATCH(0, IF( ISBLANK(FLData!$Z$2:$Z$13999),1, COUNTIF( $C$5:C37, FLData!$Z$2:$Z$13999)), 0)),\"\")","v":""},{"$f":"IF( LEN(C38)>0,COUNTIF( FLData!$Z$2:$Z$13999,C38),\"\")","v":""}]
[null,null,{"$f":"IFERROR(INDEX(FLData!$Z$2:$Z$13999, MATCH(0, IF( ISBLANK(FLData!$Z$2:$Z$13999),1, COUNTIF( $C$5:C38, FLData!$Z$2:$Z$13999)), 0)),\"\")","v":""},{"$f":"IF( LEN(C39)>0,COUNTIF( FLData!$Z$2:$Z$13999,C39),\"\")","v":""}]
[null,null,{"$f":"IFERROR(INDEX(FLData!$Z$2:$Z$13999, MATCH(0, IF( ISBLANK(FLData!$Z$2:$Z$13999),1, COUNTIF( $C$5:C39, FLData!$Z$2:$Z$13999)), 0)),\"\")","v":""},{"$f":"IF( LEN(C40)>0,COUNTIF( FLData!$Z$2:$Z$13999,C40),\"\")","v":""}]
[null,null,{"$f":"IFERROR(INDEX(FLData!$Z$2:$Z$13999, MATCH(0, IF( ISBLANK(FLData!$Z$2:$Z$13999),1, COUNTIF( $C$5:C40, FLData!$Z$2:$Z$13999)), 0)),\"\")","v":""},{"$f":"IF( LEN(C41)>0,COUNTIF( FLData!$Z$2:$Z$13999,C41),\"\")","v":""}]
[null,null,{"$f":"IFERROR(INDEX(FLData!$Z$2:$Z$13999, MATCH(0, IF( ISBLANK(FLData!$Z$2:$Z$13999),1, COUNTIF( $C$5:C41, FLData!$Z$2:$Z$13999)), 0)),\"\")","v":""},{"$f":"IF( LEN(C42)>0,COUNTIF( FLData!$Z$2:$Z$13999,C42),\"\")","v":""}]
[null,null,{"$f":"IFERROR(INDEX(FLData!$Z$2:$Z$13999, MATCH(0, IF( ISBLANK(FLData!$Z$2:$Z$13999),1, COUNTIF( $C$5:C42, FLData!$Z$2:$Z$13999)), 0)),\"\")","v":""},{"$f":"IF( LEN(C43)>0,COUNTIF( FLData!$Z$2:$Z$13999,C43),\"\")","v":""}]
[null,null,{"$f":"IFERROR(INDEX(FLData!$Z$2:$Z$13999, MATCH(0, IF( ISBLANK(FLData!$Z$2:$Z$13999),1, COUNTIF( $C$5:C43, FLData!$Z$2:$Z$13999)), 0)),\"\")","v":""},{"$f":"IF( LEN(C44)>0,COUNTIF( FLData!$Z$2:$Z$13999,C44),\"\")","v":""}]
[null,null,{"$f":"IFERROR(INDEX(FLData!$Z$2:$Z$13999, MATCH(0, IF( ISBLANK(FLData!$Z$2:$Z$13999),1, COUNTIF( $C$5:C44, FLData!$Z$2:$Z$13999)), 0)),\"\")","v":""},{"$f":"IF( LEN(C45)>0,COUNTIF( FLData!$Z$2:$Z$13999,C45),\"\")","v":""}]
[null,null,{"$f":"IFERROR(INDEX(FLData!$Z$2:$Z$13999, MATCH(0, IF( ISBLANK(FLData!$Z$2:$Z$13999),1, COUNTIF( $C$5:C45, FLData!$Z$2:$Z$13999)), 0)),\"\")","v":""},{"$f":"IF( LEN(C46)>0,COUNTIF( FLData!$Z$2:$Z$13999,C46),\"\")","v":""}]
[null,null,{"$f":"IFERROR(INDEX(FLData!$Z$2:$Z$13999, MATCH(0, IF( ISBLANK(FLData!$Z$2:$Z$13999),1, COUNTIF( $C$5:C46, FLData!$Z$2:$Z$13999)), 0)),\"\")","v":""},{"$f":"IF( LEN(C47)>0,COUNTIF( FLData!$Z$2:$Z$13999,C47),\"\")","v":""}]
[null,null,{"$f":"IFERROR(INDEX(FLData!$Z$2:$Z$13999, MATCH(0, IF( ISBLANK(FLData!$Z$2:$Z$13999),1, COUNTIF( $C$5:C47, FLData!$Z$2:$Z$13999)), 0)),\"\")","v":""},{"$f":"IF( LEN(C48)>0,COUNTIF( FLData!$Z$2:$Z$13999,C48),\"\")","v":""}]
[null,null,{"$f":"IFERROR(INDEX(FLData!$Z$2:$Z$13999, MATCH(0, IF( ISBLANK(FLData!$Z$2:$Z$13999),1, COUNTIF( $C$5:C48, FLData!$Z$2:$Z$13999)), 0)),\"\")","v":""},{"$f":"IF( LEN(C49)>0,COUNTIF( FLData!$Z$2:$Z$13999,C49),\"\")","v":""}]
[null,null,{"$f":"IFERROR(INDEX(FLData!$Z$2:$Z$13999, MATCH(0, IF( ISBLANK(FLData!$Z$2:$Z$13999),1, COUNTIF( $C$5:C49, FLData!$Z$2:$Z$13999)), 0)),\"\")","v":""},{"$f":"IF( LEN(C50)>0,COUNTIF( FLData!$Z$2:$Z$13999,C50),\"\")","v":""}]
[null,null,{"$f":"IFERROR(INDEX(FLData!$Z$2:$Z$13999, MATCH(0, IF( ISBLANK(FLData!$Z$2:$Z$13999),1, COUNTIF( $C$5:C50, FLData!$Z$2:$Z$13999)), 0)),\"\")","v":""},{"$f":"IF( LEN(C51)>0,COUNTIF( FLData!$Z$2:$Z$13999,C51),\"\")","v":""}]
[null,null,{"$f":"IFERROR(INDEX(FLData!$Z$2:$Z$13999, MATCH(0, IF( ISBLANK(FLData!$Z$2:$Z$13999),1, COUNTIF( $C$5:C51, FLData!$Z$2:$Z$13999)), 0)),\"\")","v":""},{"$f":"IF( LEN(C52)>0,COUNTIF( FLData!$Z$2:$Z$13999,C52),\"\")","v":""}]
[null,null,{"$f":"IFERROR(INDEX(FLData!$Z$2:$Z$13999, MATCH(0, IF( ISBLANK(FLData!$Z$2:$Z$13999),1, COUNTIF( $C$5:C52, FLData!$Z$2:$Z$13999)), 0)),\"\")","v":""},{"$f":"IF( LEN(C53)>0,COUNTIF( FLData!$Z$2:$Z$13999,C53),\"\")","v":""}]
[null,null,{"$f":"IFERROR(INDEX(FLData!$Z$2:$Z$13999, MATCH(0, IF( ISBLANK(FLData!$Z$2:$Z$13999),1, COUNTIF( $C$5:C53, FLData!$Z$2:$Z$13999)), 0)),\"\")","v":""},{"$f":"IF( LEN(C54)>0,COUNTIF( FLData!$Z$2:$Z$13999,C54),\"\")","v":""}]
[null,null,{"$f":"IFERROR(INDEX(FLData!$Z$2:$Z$13999, MATCH(0, IF( ISBLANK(FLData!$Z$2:$Z$13999),1, COUNTIF( $C$5:C54, FLData!$Z$2:$Z$13999)), 0)),\"\")","v":""},{"$f":"IF( LEN(C55)>0,COUNTIF( FLData!$Z$2:$Z$13999,C55),\"\")","v":""}]
[null,null,{"$f":"IFERROR(INDEX(FLData!$Z$2:$Z$13999, MATCH(0, IF( ISBLANK(FLData!$Z$2:$Z$13999),1, COUNTIF( $C$5:C55, FLData!$Z$2:$Z$13999)), 0)),\"\")","v":""},{"$f":"IF( LEN(C56)>0,COUNTIF( FLData!$Z$2:$Z$13999,C56),\"\")","v":""}]
[null,null,{"$f":"IFERROR(INDEX(FLData!$Z$2:$Z$13999, MATCH(0, IF( ISBLANK(FLData!$Z$2:$Z$13999),1, COUNTIF( $C$5:C56, FLData!$Z$2:$Z$13999)), 0)),\"\")","v":""},{"$f":"IF( LEN(C57)>0,COUNTIF( FLData!$Z$2:$Z$13999,C57),\"\")","v":""}]
[null,null,{"$f":"IFERROR(INDEX(FLData!$Z$2:$Z$13999, MATCH(0, IF( ISBLANK(FLData!$Z$2:$Z$13999),1, COUNTIF( $C$5:C57, FLData!$Z$2:$Z$13999)), 0)),\"\")","v":""}]
[null,null,{"$f":"IFERROR(INDEX(FLData!$Z$2:$Z$13999, MATCH(0, IF( ISBLANK(FLData!$Z$2:$Z$13999),1, COUNTIF( $C$5:C58, FLData!$Z$2:$Z$13999)), 0)),\"\")","v":""}]
[null,null,{"$f":"IFERROR(INDEX(FLData!$Z$2:$Z$13999, MATCH(0, IF( ISBLANK(FLData!$Z$2:$Z$13999),1, COUNTIF( $C$5:C59, FLData!$Z$2:$Z$13999)), 0)),\"\")","v":""}]
[null,null,{"$f":"IFERROR(INDEX(FLData!$Z$2:$Z$13999, MATCH(0, IF( ISBLANK(FLData!$Z$2:$Z$13999),1, COUNTIF( $C$5:C60, FLData!$Z$2:$Z$13999)), 0)),\"\")","v":""}]
[null,null,{"$f":"IFERROR(INDEX(FLData!$Z$2:$Z$13999, MATCH(0, IF( ISBLANK(FLData!$Z$2:$Z$13999),1, COUNTIF( $C$5:C61, FLData!$Z$2:$Z$13999)), 0)),\"\")","v":""}]
[null,null,{"$f":"IFERROR(INDEX(FLData!$Z$2:$Z$13999, MATCH(0, IF( ISBLANK(FLData!$Z$2:$Z$13999),1, COUNTIF( $C$5:C62, FLData!$Z$2:$Z$13999)), 0)),\"\")","v":""}]
[null,null,{"$f":"IFERROR(INDEX(FLData!$Z$2:$Z$13999, MATCH(0, IF( ISBLANK(FLData!$Z$2:$Z$13999),1, COUNTIF( $C$5:C63, FLData!$Z$2:$Z$13999)), 0)),\"\")","v":""}]
[null,null,{"$f":"IFERROR(INDEX(FLData!$Z$2:$Z$13999, MATCH(0, IF( ISBLANK(FLData!$Z$2:$Z$13999),1, COUNTIF( $C$5:C64, FLData!$Z$2:$Z$13999)), 0)),\"\")","v":""}]
[null,null,{"$f":"IFERROR(INDEX(FLData!$Z$2:$Z$13999, MATCH(0, IF( ISBLANK(FLData!$Z$2:$Z$13999),1, COUNTIF( $C$5:C65, FLData!$Z$2:$Z$13999)), 0)),\"\")","v":""}]
[null,null,{"$f":"IFERROR(INDEX(FLData!$Z$2:$Z$13999, MATCH(0, IF( ISBLANK(FLData!$Z$2:$Z$13999),1, COUNTIF( $C$5:C66, FLData!$Z$2:$Z$13999)), 0)),\"\")","v":""}]
[null,null,{"$f":"IFERROR(INDEX(FLData!$Z$2:$Z$13999, MATCH(0, IF( ISBLANK(FLData!$Z$2:$Z$13999),1, COUNTIF( $C$5:C67, FLData!$Z$2:$Z$13999)), 0)),\"\")","v":""}]
[null,null,{"$f":"IFERROR(INDEX(FLData!$Z$2:$Z$13999, MATCH(0, IF( ISBLANK(FLData!$Z$2:$Z$13999),1, COUNTIF( $C$5:C68, FLData!$Z$2:$Z$13999)), 0)),\"\")","v":""}]
[null,null,{"$f":"IFERROR(INDEX(FLData!$Z$2:$Z$13999, MATCH(0, IF( ISBLANK(FLData!$Z$2:$Z$13999),1, COUNTIF( $C$5:C69, FLData!$Z$2:$Z$13999)), 0)),\"\")","v":""}]
[null,null,{"$f":"IFERROR(INDEX(FLData!$Z$2:$Z$13999, MATCH(0, IF( ISBLANK(FLData!$Z$2:$Z$13999),1, COUNTIF( $C$5:C70, FLData!$Z$2:$Z$13999)), 0)),\"\")","v":""}]
[null,null,{"$f":"IFERROR(INDEX(FLData!$Z$2:$Z$13999, MATCH(0, IF( ISBLANK(FLData!$Z$2:$Z$13999),1, COUNTIF( $C$5:C71, FLData!$Z$2:$Z$13999)), 0)),\"\")","v":""}]
[null,null,{"$f":"IFERROR(INDEX(FLData!$Z$2:$Z$13999, MATCH(0, IF( ISBLANK(FLData!$Z$2:$Z$13999),1, COUNTIF( $C$5:C72, FLData!$Z$2:$Z$13999)), 0)),\"\")","v":""}]
[null,null,{"$f":"IFERROR(INDEX(FLData!$Z$2:$Z$13999, MATCH(0, IF( ISBLANK(FLData!$Z$2:$Z$13999),1, COUNTIF( $C$5:C73, FLData!$Z$2:$Z$13999)), 0)),\"\")","v":""}]
[null,null,{"$f":"IFERROR(INDEX(FLData!$Z$2:$Z$13999, MATCH(0, IF( ISBLANK(FLData!$Z$2:$Z$13999),1, COUNTIF( $C$5:C74, FLData!$Z$2:$Z$13999)), 0)),\"\")","v":""}]
[null,null,{"$f":"IFERROR(INDEX(FLData!$Z$2:$Z$13999, MATCH(0, IF( ISBLANK(FLData!$Z$2:$Z$13999),1, COUNTIF( $C$5:C75, FLData!$Z$2:$Z$13999)), 0)),\"\")","v":""}]
[null,null,{"$f":"IFERROR(INDEX(FLData!$Z$2:$Z$13999, MATCH(0, IF( ISBLANK(FLData!$Z$2:$Z$13999),1, COUNTIF( $C$5:C76, FLData!$Z$2:$Z$13999)), 0)),\"\")","v":""}]
[null,null,{"$f":"IFERROR(INDEX(FLData!$Z$2:$Z$13999, MATCH(0, IF( ISBLANK(FLData!$Z$2:$Z$13999),1, COUNTIF( $C$5:C77, FLData!$Z$2:$Z$13999)), 0)),\"\")","v":""}]
[null,null,{"$f":"IFERROR(INDEX(FLData!$Z$2:$Z$13999, MATCH(0, IF( ISBLANK(FLData!$Z$2:$Z$13999),1, COUNTIF( $C$5:C78, FLData!$Z$2:$Z$13999)), 0)),\"\")","v":""}]
[null,null,{"$f":"IFERROR(INDEX(FLData!$Z$2:$Z$13999, MATCH(0, IF( ISBLANK(FLData!$Z$2:$Z$13999),1, COUNTIF( $C$5:C79, FLData!$Z$2:$Z$13999)), 0)),\"\")","v":""}]
[null,null,{"$f":"IFERROR(INDEX(FLData!$Z$2:$Z$13999, MATCH(0, IF( ISBLANK(FLData!$Z$2:$Z$13999),1, COUNTIF( $C$5:C80, FLData!$Z$2:$Z$13999)), 0)),\"\")","v":""}]
[null,null,{"$f":"IFERROR(INDEX(FLData!$Z$2:$Z$13999, MATCH(0, IF( ISBLANK(FLData!$Z$2:$Z$13999),1, COUNTIF( $C$5:C81, FLData!$Z$2:$Z$13999)), 0)),\"\")","v":""}]
[null,null,{"$f":"IFERROR(INDEX(FLData!$Z$2:$Z$13999, MATCH(0, IF( ISBLANK(FLData!$Z$2:$Z$13999),1, COUNTIF( $C$5:C82, FLData!$Z$2:$Z$13999)), 0)),\"\")","v":""}]
[null,null,{"$f":"IFERROR(INDEX(FLData!$Z$2:$Z$13999, MATCH(0, IF( ISBLANK(FLData!$Z$2:$Z$13999),1, COUNTIF( $C$5:C83, FLData!$Z$2:$Z$13999)), 0)),\"\")","v":""}]
[null,null,{"$f":"IFERROR(INDEX(FLData!$Z$2:$Z$13999, MATCH(0, IF( ISBLANK(FLData!$Z$2:$Z$13999),1, COUNTIF( $C$5:C84, FLData!$Z$2:$Z$13999)), 0)),\"\")","v":""}]
[null,null,{"$f":"IFERROR(INDEX(FLData!$Z$2:$Z$13999, MATCH(0, IF( ISBLANK(FLData!$Z$2:$Z$13999),1, COUNTIF( $C$5:C85, FLData!$Z$2:$Z$13999)), 0)),\"\")","v":""}]
[null,null,{"$f":"IFERROR(INDEX(FLData!$Z$2:$Z$13999, MATCH(0, IF( ISBLANK(FLData!$Z$2:$Z$13999),1, COUNTIF( $C$5:C86, FLData!$Z$2:$Z$13999)), 0)),\"\")","v":""}]
[null,null,{"$f":"IFERROR(INDEX(FLData!$Z$2:$Z$13999, MATCH(0, IF( ISBLANK(FLData!$Z$2:$Z$13999),1, COUNTIF( $C$5:C87, FLData!$Z$2:$Z$13999)), 0)),\"\")","v":""}]
[null,null,{"$f":"IFERROR(INDEX(FLData!$Z$2:$Z$13999, MATCH(0, IF( ISBLANK(FLData!$Z$2:$Z$13999),1, COUNTIF( $C$5:C88, FLData!$Z$2:$Z$13999)), 0)),\"\")","v":""}]
[null,null,{"$f":"IFERROR(INDEX(FLData!$Z$2:$Z$13999, MATCH(0, IF( ISBLANK(FLData!$Z$2:$Z$13999),1, COUNTIF( $C$5:C89, FLData!$Z$2:$Z$13999)), 0)),\"\")","v":""}]
[null,null,{"$f":"IFERROR(INDEX(FLData!$Z$2:$Z$13999, MATCH(0, IF( ISBLANK(FLData!$Z$2:$Z$13999),1, COUNTIF( $C$5:C90, FLData!$Z$2:$Z$13999)), 0)),\"\")","v":""}]
[null,null,{"$f":"IFERROR(INDEX(FLData!$Z$2:$Z$13999, MATCH(0, IF( ISBLANK(FLData!$Z$2:$Z$13999),1, COUNTIF( $C$5:C91, FLData!$Z$2:$Z$13999)), 0)),\"\")","v":""}]
[null,null,{"$f":"IFERROR(INDEX(FLData!$Z$2:$Z$13999, MATCH(0, IF( ISBLANK(FLData!$Z$2:$Z$13999),1, COUNTIF( $C$5:C92, FLData!$Z$2:$Z$13999)), 0)),\"\")","v":""}]
[null,null,{"$f":"IFERROR(INDEX(FLData!$Z$2:$Z$13999, MATCH(0, IF( ISBLANK(FLData!$Z$2:$Z$13999),1, COUNTIF( $C$5:C93, FLData!$Z$2:$Z$13999)), 0)),\"\")","v":""}]
[null,null,{"$f":"IFERROR(INDEX(FLData!$Z$2:$Z$13999, MATCH(0, IF( ISBLANK(FLData!$Z$2:$Z$13999),1, COUNTIF( $C$5:C94, FLData!$Z$2:$Z$13999)), 0)),\"\")","v":""}]
[null,null,{"$f":"IFERROR(INDEX(FLData!$Z$2:$Z$13999, MATCH(0, IF( ISBLANK(FLData!$Z$2:$Z$13999),1, COUNTIF( $C$5:C95, FLData!$Z$2:$Z$13999)), 0)),\"\")","v":""}]
[null,null,{"$f":"IFERROR(INDEX(FLData!$Z$2:$Z$13999, MATCH(0, IF( ISBLANK(FLData!$Z$2:$Z$13999),1, COUNTIF( $C$5:C96, FLData!$Z$2:$Z$13999)), 0)),\"\")","v":""}]
[null,null,{"$f":"IFERROR(INDEX(FLData!$Z$2:$Z$13999, MATCH(0, IF( ISBLANK(FLData!$Z$2:$Z$13999),1, COUNTIF( $C$5:C97, FLData!$Z$2:$Z$13999)), 0)),\"\")","v":""}]
[null,null,{"$f":"IFERROR(INDEX(FLData!$Z$2:$Z$13999, MATCH(0, IF( ISBLANK(FLData!$Z$2:$Z$13999),1, COUNTIF( $C$5:C98, FLData!$Z$2:$Z$13999)), 0)),\"\")","v":""}]
[null,null,{"$f":"IFERROR(INDEX(FLData!$Z$2:$Z$13999, MATCH(0, IF( ISBLANK(FLData!$Z$2:$Z$13999),1, COUNTIF( $C$5:C99, FLData!$Z$2:$Z$13999)), 0)),\"\")","v":""}]
[null,null,{"$f":"IFERROR(INDEX(FLData!$Z$2:$Z$13999, MATCH(0, IF( ISBLANK(FLData!$Z$2:$Z$13999),1, COUNTIF( $C$5:C100, FLData!$Z$2:$Z$13999)), 0)),\"\")","v":""}]
[null,null,{"$f":"IFERROR(INDEX(FLData!$Z$2:$Z$13999, MATCH(0, IF( ISBLANK(FLData!$Z$2:$Z$13999),1, COUNTIF( $C$5:C101, FLData!$Z$2:$Z$13999)), 0)),\"\")","v":""}]
[null,null,{"$f":"IFERROR(INDEX(FLData!$Z$2:$Z$13999, MATCH(0, IF( ISBLANK(FLData!$Z$2:$Z$13999),1, COUNTIF( $C$5:C102, FLData!$Z$2:$Z$13999)), 0)),\"\")","v":""}]
[null,null,{"$f":"IFERROR(INDEX(FLData!$Z$2:$Z$13999, MATCH(0, IF( ISBLANK(FLData!$Z$2:$Z$13999),1, COUNTIF( $C$5:C103, FLData!$Z$2:$Z$13999)), 0)),\"\")","v":""}]
[null,null,{"$f":"IFERROR(INDEX(FLData!$Z$2:$Z$13999, MATCH(0, IF( ISBLANK(FLData!$Z$2:$Z$13999),1, COUNTIF( $C$5:C104, FLData!$Z$2:$Z$13999)), 0)),\"\")","v":""}]
[null,null,{"$f":"IFERROR(INDEX(FLData!$Z$2:$Z$13999, MATCH(0, IF( ISBLANK(FLData!$Z$2:$Z$13999),1, COUNTIF( $C$5:C105, FLData!$Z$2:$Z$13999)), 0)),\"\")","v":""}]
[null,null,{"$f":"IFERROR(INDEX(FLData!$Z$2:$Z$13999, MATCH(0, IF( ISBLANK(FLData!$Z$2:$Z$13999),1, COUNTIF( $C$5:C106, FLData!$Z$2:$Z$13999)), 0)),\"\")","v":""}]
[null,null,{"$f":"IFERROR(INDEX(FLData!$Z$2:$Z$13999, MATCH(0, IF( ISBLANK(FLData!$Z$2:$Z$13999),1, COUNTIF( $C$5:C107, FLData!$Z$2:$Z$13999)), 0)),\"\")","v":""}]
[null,null,{"$f":"IFERROR(INDEX(FLData!$Z$2:$Z$13999, MATCH(0, IF( ISBLANK(FLData!$Z$2:$Z$13999),1, COUNTIF( $C$5:C108, FLData!$Z$2:$Z$13999)), 0)),\"\")","v":""}]
[null,null,{"$f":"IFERROR(INDEX(FLData!$Z$2:$Z$13999, MATCH(0, IF( ISBLANK(FLData!$Z$2:$Z$13999),1, COUNTIF( $C$5:C109, FLData!$Z$2:$Z$13999)), 0)),\"\")","v":""}]
[null,null,{"$f":"IFERROR(INDEX(FLData!$Z$2:$Z$13999, MATCH(0, IF( ISBLANK(FLData!$Z$2:$Z$13999),1, COUNTIF( $C$5:C110, FLData!$Z$2:$Z$13999)), 0)),\"\")","v":""}]
[null,null,{"$f":"IFERROR(INDEX(FLData!$Z$2:$Z$13999, MATCH(0, IF( ISBLANK(FLData!$Z$2:$Z$13999),1, COUNTIF( $C$5:C111, FLData!$Z$2:$Z$13999)), 0)),\"\")","v":""}]
[null,null,{"$f":"IFERROR(INDEX(FLData!$Z$2:$Z$13999, MATCH(0, IF( ISBLANK(FLData!$Z$2:$Z$13999),1, COUNTIF( $C$5:C112, FLData!$Z$2:$Z$13999)), 0)),\"\")","v":""}]
[null,null,{"$f":"IFERROR(INDEX(FLData!$Z$2:$Z$13999, MATCH(0, IF( ISBLANK(FLData!$Z$2:$Z$13999),1, COUNTIF( $C$5:C113, FLData!$Z$2:$Z$13999)), 0)),\"\")","v":""}]
[null,null,{"$f":"IFERROR(INDEX(FLData!$Z$2:$Z$13999, MATCH(0, IF( ISBLANK(FLData!$Z$2:$Z$13999),1, COUNTIF( $C$5:C114, FLData!$Z$2:$Z$13999)), 0)),\"\")","v":""}]
[null,null,{"$f":"IFERROR(INDEX(FLData!$Z$2:$Z$13999, MATCH(0, IF( ISBLANK(FLData!$Z$2:$Z$13999),1, COUNTIF( $C$5:C115, FLData!$Z$2:$Z$13999)), 0)),\"\")","v":""}]
[null,null,{"$f":"IFERROR(INDEX(FLData!$Z$2:$Z$13999, MATCH(0, IF( ISBLANK(FLData!$Z$2:$Z$13999),1, COUNTIF( $C$5:C116, FLData!$Z$2:$Z$13999)), 0)),\"\")","v":""}]
[null,null,{"$f":"IFERROR(INDEX(FLData!$Z$2:$Z$13999, MATCH(0, IF( ISBLANK(FLData!$Z$2:$Z$13999),1, COUNTIF( $C$5:C117, FLData!$Z$2:$Z$13999)), 0)),\"\")","v":""}]
[null,null,{"$f":"IFERROR(INDEX(FLData!$Z$2:$Z$13999, MATCH(0, IF( ISBLANK(FLData!$Z$2:$Z$13999),1, COUNTIF( $C$5:C118, FLData!$Z$2:$Z$13999)), 0)),\"\")","v":""}]
[null,null,{"$f":"IFERROR(INDEX(FLData!$Z$2:$Z$13999, MATCH(0, IF( ISBLANK(FLData!$Z$2:$Z$13999),1, COUNTIF( $C$5:C119, FLData!$Z$2:$Z$13999)), 0)),\"\")","v":""}]
[null,null,{"$f":"IFERROR(INDEX(FLData!$Z$2:$Z$13999, MATCH(0, IF( ISBLANK(FLData!$Z$2:$Z$13999),1, COUNTIF( $C$5:C120, FLData!$Z$2:$Z$13999)), 0)),\"\")","v":""}]
[null,null,{"$f":"IFERROR(INDEX(FLData!$Z$2:$Z$13999, MATCH(0, IF( ISBLANK(FLData!$Z$2:$Z$13999),1, COUNTIF( $C$5:C121, FLData!$Z$2:$Z$13999)), 0)),\"\")","v":""}]
[null,null,{"$f":"IFERROR(INDEX(FLData!$Z$2:$Z$13999, MATCH(0, IF( ISBLANK(FLData!$Z$2:$Z$13999),1, COUNTIF( $C$5:C122, FLData!$Z$2:$Z$13999)), 0)),\"\")","v":""}]
[null,null,{"$f":"IFERROR(INDEX(FLData!$Z$2:$Z$13999, MATCH(0, IF( ISBLANK(FLData!$Z$2:$Z$13999),1, COUNTIF( $C$5:C123, FLData!$Z$2:$Z$13999)), 0)),\"\")","v":""}]
[null,null,{"$f":"IFERROR(INDEX(FLData!$Z$2:$Z$13999, MATCH(0, IF( ISBLANK(FLData!$Z$2:$Z$13999),1, COUNTIF( $C$5:C124, FLData!$Z$2:$Z$13999)), 0)),\"\")","v":""}]
[null,null,{"$f":"IFERROR(INDEX(FLData!$Z$2:$Z$13999, MATCH(0, IF( ISBLANK(FLData!$Z$2:$Z$13999),1, COUNTIF( $C$5:C125, FLData!$Z$2:$Z$13999)), 0)),\"\")","v":""}]
[null,null,{"$f":"IFERROR(INDEX(FLData!$Z$2:$Z$13999, MATCH(0, IF( ISBLANK(FLData!$Z$2:$Z$13999),1, COUNTIF( $C$5:C126, FLData!$Z$2:$Z$13999)), 0)),\"\")","v":""}]
[null,null,{"$f":"IFERROR(INDEX(FLData!$Z$2:$Z$13999, MATCH(0, IF( ISBLANK(FLData!$Z$2:$Z$13999),1, COUNTIF( $C$5:C127, FLData!$Z$2:$Z$13999)), 0)),\"\")","v":""}]
[null,null,{"$f":"IFERROR(INDEX(FLData!$Z$2:$Z$13999, MATCH(0, IF( ISBLANK(FLData!$Z$2:$Z$13999),1, COUNTIF( $C$5:C128, FLData!$Z$2:$Z$13999)), 0)),\"\")","v":""}]
[null,null,{"$f":"IFERROR(INDEX(FLData!$Z$2:$Z$13999, MATCH(0, IF( ISBLANK(FLData!$Z$2:$Z$13999),1, COUNTIF( $C$5:C129, FLData!$Z$2:$Z$13999)), 0)),\"\")","v":""}]
[null,null,{"$f":"IFERROR(INDEX(FLData!$Z$2:$Z$13999, MATCH(0, IF( ISBLANK(FLData!$Z$2:$Z$13999),1, COUNTIF( $C$5:C130, FLData!$Z$2:$Z$13999)), 0)),\"\")","v":""}]
[null,null,{"$f":"IFERROR(INDEX(FLData!$Z$2:$Z$13999, MATCH(0, IF( ISBLANK(FLData!$Z$2:$Z$13999),1, COUNTIF( $C$5:C131, FLData!$Z$2:$Z$13999)), 0)),\"\")","v":""}]
[null,null,{"$f":"IFERROR(INDEX(FLData!$Z$2:$Z$13999, MATCH(0, IF( ISBLANK(FLData!$Z$2:$Z$13999),1, COUNTIF( $C$5:C132, FLData!$Z$2:$Z$13999)), 0)),\"\")","v":""}]
[null,null,{"$f":"IFERROR(INDEX(FLData!$Z$2:$Z$13999, MATCH(0, IF( ISBLANK(FLData!$Z$2:$Z$13999),1, COUNTIF( $C$5:C133, FLData!$Z$2:$Z$13999)), 0)),\"\")","v":""}]
[null,null,{"$f":"IFERROR(INDEX(FLData!$Z$2:$Z$13999, MATCH(0, IF( ISBLANK(FLData!$Z$2:$Z$13999),1, COUNTIF( $C$5:C134, FLData!$Z$2:$Z$13999)), 0)),\"\")","v":""}]
[null,null,{"$f":"IFERROR(INDEX(FLData!$Z$2:$Z$13999, MATCH(0, IF( ISBLANK(FLData!$Z$2:$Z$13999),1, COUNTIF( $C$5:C135, FLData!$Z$2:$Z$13999)), 0)),\"\")","v":""}]
[null,null,{"$f":"IFERROR(INDEX(FLData!$Z$2:$Z$13999, MATCH(0, IF( ISBLANK(FLData!$Z$2:$Z$13999),1, COUNTIF( $C$5:C136, FLData!$Z$2:$Z$13999)), 0)),\"\")","v":""}]
[null,null,{"$f":"IFERROR(INDEX(FLData!$Z$2:$Z$13999, MATCH(0, IF( ISBLANK(FLData!$Z$2:$Z$13999),1, COUNTIF( $C$5:C137, FLData!$Z$2:$Z$13999)), 0)),\"\")","v":""}]
[null,null,{"$f":"IFERROR(INDEX(FLData!$Z$2:$Z$13999, MATCH(0, IF( ISBLANK(FLData!$Z$2:$Z$13999),1, COUNTIF( $C$5:C138, FLData!$Z$2:$Z$13999)), 0)),\"\")","v":""}]
[null,null,{"$f":"IFERROR(INDEX(FLData!$Z$2:$Z$13999, MATCH(0, IF( ISBLANK(FLData!$Z$2:$Z$13999),1, COUNTIF( $C$5:C139, FLData!$Z$2:$Z$13999)), 0)),\"\")","v":""}]
[null,null,{"$f":"IFERROR(INDEX(FLData!$Z$2:$Z$13999, MATCH(0, IF( ISBLANK(FLData!$Z$2:$Z$13999),1, COUNTIF( $C$5:C140, FLData!$Z$2:$Z$13999)), 0)),\"\")","v":""}]
[null,null,{"$f":"IFERROR(INDEX(FLData!$Z$2:$Z$13999, MATCH(0, IF( ISBLANK(FLData!$Z$2:$Z$13999),1, COUNTIF( $C$5:C141, FLData!$Z$2:$Z$13999)), 0)),\"\")","v":""}]
[null,null,{"$f":"IFERROR(INDEX(FLData!$Z$2:$Z$13999, MATCH(0, IF( ISBLANK(FLData!$Z$2:$Z$13999),1, COUNTIF( $C$5:C142, FLData!$Z$2:$Z$13999)), 0)),\"\")","v":""}]
[null,null,{"$f":"IFERROR(INDEX(FLData!$Z$2:$Z$13999, MATCH(0, IF( ISBLANK(FLData!$Z$2:$Z$13999),1, COUNTIF( $C$5:C143, FLData!$Z$2:$Z$13999)), 0)),\"\")","v":""}]
[null,null,{"$f":"IFERROR(INDEX(FLData!$Z$2:$Z$13999, MATCH(0, IF( ISBLANK(FLData!$Z$2:$Z$13999),1, COUNTIF( $C$5:C144, FLData!$Z$2:$Z$13999)), 0)),\"\")","v":""}]
[null,null,{"$f":"IFERROR(INDEX(FLData!$Z$2:$Z$13999, MATCH(0, IF( ISBLANK(FLData!$Z$2:$Z$13999),1, COUNTIF( $C$5:C145, FLData!$Z$2:$Z$13999)), 0)),\"\")","v":""}]
[null,null,{"$f":"IFERROR(INDEX(FLData!$Z$2:$Z$13999, MATCH(0, IF( ISBLANK(FLData!$Z$2:$Z$13999),1, COUNTIF( $C$5:C146, FLData!$Z$2:$Z$13999)), 0)),\"\")","v":""}]
[null,null,{"$f":"IFERROR(INDEX(FLData!$Z$2:$Z$13999, MATCH(0, IF( ISBLANK(FLData!$Z$2:$Z$13999),1, COUNTIF( $C$5:C147, FLData!$Z$2:$Z$13999)), 0)),\"\")","v":""}]
[null,null,{"$f":"IFERROR(INDEX(FLData!$Z$2:$Z$13999, MATCH(0, IF( ISBLANK(FLData!$Z$2:$Z$13999),1, COUNTIF( $C$5:C148, FLData!$Z$2:$Z$13999)), 0)),\"\")","v":""}]
[null,null,{"$f":"IFERROR(INDEX(FLData!$Z$2:$Z$13999, MATCH(0, IF( ISBLANK(FLData!$Z$2:$Z$13999),1, COUNTIF( $C$5:C149, FLData!$Z$2:$Z$13999)), 0)),\"\")","v":""}]
[null,null,{"$f":"IFERROR(INDEX(FLData!$Z$2:$Z$13999, MATCH(0, IF( ISBLANK(FLData!$Z$2:$Z$13999),1, COUNTIF( $C$5:C150, FLData!$Z$2:$Z$13999)), 0)),\"\")","v":""}]
[null,null,{"$f":"IFERROR(INDEX(FLData!$Z$2:$Z$13999, MATCH(0, IF( ISBLANK(FLData!$Z$2:$Z$13999),1, COUNTIF( $C$5:C151, FLData!$Z$2:$Z$13999)), 0)),\"\")","v":""}]
[null,null,{"$f":"IFERROR(INDEX(FLData!$Z$2:$Z$13999, MATCH(0, IF( ISBLANK(FLData!$Z$2:$Z$13999),1, COUNTIF( $C$5:C152, FLData!$Z$2:$Z$13999)), 0)),\"\")","v":""}]
[null,null,{"$f":"IFERROR(INDEX(FLData!$Z$2:$Z$13999, MATCH(0, IF( ISBLANK(FLData!$Z$2:$Z$13999),1, COUNTIF( $C$5:C153, FLData!$Z$2:$Z$13999)), 0)),\"\")","v":""}]
[null,null,{"$f":"IFERROR(INDEX(FLData!$Z$2:$Z$13999, MATCH(0, IF( ISBLANK(FLData!$Z$2:$Z$13999),1, COUNTIF( $C$5:C154, FLData!$Z$2:$Z$13999)), 0)),\"\")","v":""}]
[null,null,{"$f":"IFERROR(INDEX(FLData!$Z$2:$Z$13999, MATCH(0, IF( ISBLANK(FLData!$Z$2:$Z$13999),1, COUNTIF( $C$5:C155, FLData!$Z$2:$Z$13999)), 0)),\"\")","v":""}]
[null,null,{"$f":"IFERROR(INDEX(FLData!$Z$2:$Z$13999, MATCH(0, IF( ISBLANK(FLData!$Z$2:$Z$13999),1, COUNTIF( $C$5:C156, FLData!$Z$2:$Z$13999)), 0)),\"\")","v":""}]
[null,null,{"$f":"IFERROR(INDEX(FLData!$Z$2:$Z$13999, MATCH(0, IF( ISBLANK(FLData!$Z$2:$Z$13999),1, COUNTIF( $C$5:C157, FLData!$Z$2:$Z$13999)), 0)),\"\")","v":""}]
[null,null,{"$f":"IFERROR(INDEX(FLData!$Z$2:$Z$13999, MATCH(0, IF( ISBLANK(FLData!$Z$2:$Z$13999),1, COUNTIF( $C$5:C158, FLData!$Z$2:$Z$13999)), 0)),\"\")","v":""}]
[null,null,{"$f":"IFERROR(INDEX(FLData!$Z$2:$Z$13999, MATCH(0, IF( ISBLANK(FLData!$Z$2:$Z$13999),1, COUNTIF( $C$5:C159, FLData!$Z$2:$Z$13999)), 0)),\"\")","v":""}]
[null,null,{"$f":"IFERROR(INDEX(FLData!$Z$2:$Z$13999, MATCH(0, IF( ISBLANK(FLData!$Z$2:$Z$13999),1, COUNTIF( $C$5:C160, FLData!$Z$2:$Z$13999)), 0)),\"\")","v":""}]
[null,null,{"$f":"IFERROR(INDEX(FLData!$Z$2:$Z$13999, MATCH(0, IF( ISBLANK(FLData!$Z$2:$Z$13999),1, COUNTIF( $C$5:C161, FLData!$Z$2:$Z$13999)), 0)),\"\")","v":""}]
[null,null,{"$f":"IFERROR(INDEX(FLData!$Z$2:$Z$13999, MATCH(0, IF( ISBLANK(FLData!$Z$2:$Z$13999),1, COUNTIF( $C$5:C162, FLData!$Z$2:$Z$13999)), 0)),\"\")","v":""}]
[null,null,{"$f":"IFERROR(INDEX(FLData!$Z$2:$Z$13999, MATCH(0, IF( ISBLANK(FLData!$Z$2:$Z$13999),1, COUNTIF( $C$5:C163, FLData!$Z$2:$Z$13999)), 0)),\"\")","v":""}]
[null,null,{"$f":"IFERROR(INDEX(FLData!$Z$2:$Z$13999, MATCH(0, IF( ISBLANK(FLData!$Z$2:$Z$13999),1, COUNTIF( $C$5:C164, FLData!$Z$2:$Z$13999)), 0)),\"\")","v":""}]
[null,null,{"$f":"IFERROR(INDEX(FLData!$Z$2:$Z$13999, MATCH(0, IF( ISBLANK(FLData!$Z$2:$Z$13999),1, COUNTIF( $C$5:C165, FLData!$Z$2:$Z$13999)), 0)),\"\")","v":""}]
[null,null,{"$f":"IFERROR(INDEX(FLData!$Z$2:$Z$13999, MATCH(0, IF( ISBLANK(FLData!$Z$2:$Z$13999),1, COUNTIF( $C$5:C166, FLData!$Z$2:$Z$13999)), 0)),\"\")","v":""}]
[null,null,{"$f":"IFERROR(INDEX(FLData!$Z$2:$Z$13999, MATCH(0, IF( ISBLANK(FLData!$Z$2:$Z$13999),1, COUNTIF( $C$5:C167, FLData!$Z$2:$Z$13999)), 0)),\"\")","v":""}]
[null,null,{"$f":"IFERROR(INDEX(FLData!$Z$2:$Z$13999, MATCH(0, IF( ISBLANK(FLData!$Z$2:$Z$13999),1, COUNTIF( $C$5:C168, FLData!$Z$2:$Z$13999)), 0)),\"\")","v":""}]
[null,null,{"$f":"IFERROR(INDEX(FLData!$Z$2:$Z$13999, MATCH(0, IF( ISBLANK(FLData!$Z$2:$Z$13999),1, COUNTIF( $C$5:C169, FLData!$Z$2:$Z$13999)), 0)),\"\")","v":""}]
[null,null,{"$f":"IFERROR(INDEX(FLData!$Z$2:$Z$13999, MATCH(0, IF( ISBLANK(FLData!$Z$2:$Z$13999),1, COUNTIF( $C$5:C170, FLData!$Z$2:$Z$13999)), 0)),\"\")","v":""}]
[null,null,{"$f":"IFERROR(INDEX(FLData!$Z$2:$Z$13999, MATCH(0, IF( ISBLANK(FLData!$Z$2:$Z$13999),1, COUNTIF( $C$5:C171, FLData!$Z$2:$Z$13999)), 0)),\"\")","v":""}]
[null,null,{"$f":"IFERROR(INDEX(FLData!$Z$2:$Z$13999, MATCH(0, IF( ISBLANK(FLData!$Z$2:$Z$13999),1, COUNTIF( $C$5:C172, FLData!$Z$2:$Z$13999)), 0)),\"\")","v":""}]
[null,null,{"$f":"IFERROR(INDEX(FLData!$Z$2:$Z$13999, MATCH(0, IF( ISBLANK(FLData!$Z$2:$Z$13999),1, COUNTIF( $C$5:C173, FLData!$Z$2:$Z$13999)), 0)),\"\")","v":""}]
[null,null,{"$f":"IFERROR(INDEX(FLData!$Z$2:$Z$13999, MATCH(0, IF( ISBLANK(FLData!$Z$2:$Z$13999),1, COUNTIF( $C$5:C174, FLData!$Z$2:$Z$13999)), 0)),\"\")","v":""}]
[null,null,{"$f":"IFERROR(INDEX(FLData!$Z$2:$Z$13999, MATCH(0, IF( ISBLANK(FLData!$Z$2:$Z$13999),1, COUNTIF( $C$5:C175, FLData!$Z$2:$Z$13999)), 0)),\"\")","v":""}]
[null,null,{"$f":"IFERROR(INDEX(FLData!$Z$2:$Z$13999, MATCH(0, IF( ISBLANK(FLData!$Z$2:$Z$13999),1, COUNTIF( $C$5:C176, FLData!$Z$2:$Z$13999)), 0)),\"\")","v":""}]
[null,null,{"$f":"IFERROR(INDEX(FLData!$Z$2:$Z$13999, MATCH(0, IF( ISBLANK(FLData!$Z$2:$Z$13999),1, COUNTIF( $C$5:C177, FLData!$Z$2:$Z$13999)), 0)),\"\")","v":""}]
[null,null,{"$f":"IFERROR(INDEX(FLData!$Z$2:$Z$13999, MATCH(0, IF( ISBLANK(FLData!$Z$2:$Z$13999),1, COUNTIF( $C$5:C178, FLData!$Z$2:$Z$13999)), 0)),\"\")","v":""}]
[null,null,{"$f":"IFERROR(INDEX(FLData!$Z$2:$Z$13999, MATCH(0, IF( ISBLANK(FLData!$Z$2:$Z$13999),1, COUNTIF( $C$5:C179, FLData!$Z$2:$Z$13999)), 0)),\"\")","v":""}]
[null,null,{"$f":"IFERROR(INDEX(FLData!$Z$2:$Z$13999, MATCH(0, IF( ISBLANK(FLData!$Z$2:$Z$13999),1, COUNTIF( $C$5:C180, FLData!$Z$2:$Z$13999)), 0)),\"\")","v":""}]
[null,null,{"$f":"IFERROR(INDEX(FLData!$Z$2:$Z$13999, MATCH(0, IF( ISBLANK(FLData!$Z$2:$Z$13999),1, COUNTIF( $C$5:C181, FLData!$Z$2:$Z$13999)), 0)),\"\")","v":""}]
[null,null,{"$f":"IFERROR(INDEX(FLData!$Z$2:$Z$13999, MATCH(0, IF( ISBLANK(FLData!$Z$2:$Z$13999),1, COUNTIF( $C$5:C182, FLData!$Z$2:$Z$13999)), 0)),\"\")","v":""}]
[null,null,{"$f":"IFERROR(INDEX(FLData!$Z$2:$Z$13999, MATCH(0, IF( ISBLANK(FLData!$Z$2:$Z$13999),1, COUNTIF( $C$5:C183, FLData!$Z$2:$Z$13999)), 0)),\"\")","v":""}]
[null,null,{"$f":"IFERROR(INDEX(FLData!$Z$2:$Z$13999, MATCH(0, IF( ISBLANK(FLData!$Z$2:$Z$13999),1, COUNTIF( $C$5:C184, FLData!$Z$2:$Z$13999)), 0)),\"\")","v":""}]
[null,null,{"$f":"IFERROR(INDEX(FLData!$Z$2:$Z$13999, MATCH(0, IF( ISBLANK(FLData!$Z$2:$Z$13999),1, COUNTIF( $C$5:C185, FLData!$Z$2:$Z$13999)), 0)),\"\")","v":""}]
[null,null,{"$f":"IFERROR(INDEX(FLData!$Z$2:$Z$13999, MATCH(0, IF( ISBLANK(FLData!$Z$2:$Z$13999),1, COUNTIF( $C$5:C186, FLData!$Z$2:$Z$13999)), 0)),\"\")","v":""}]
[null,null,{"$f":"IFERROR(INDEX(FLData!$Z$2:$Z$13999, MATCH(0, IF( ISBLANK(FLData!$Z$2:$Z$13999),1, COUNTIF( $C$5:C187, FLData!$Z$2:$Z$13999)), 0)),\"\")","v":""}]
[null,null,{"$f":"IFERROR(INDEX(FLData!$Z$2:$Z$13999, MATCH(0, IF( ISBLANK(FLData!$Z$2:$Z$13999),1, COUNTIF( $C$5:C188, FLData!$Z$2:$Z$13999)), 0)),\"\")","v":""}]
[null,null,{"$f":"IFERROR(INDEX(FLData!$Z$2:$Z$13999, MATCH(0, IF( ISBLANK(FLData!$Z$2:$Z$13999),1, COUNTIF( $C$5:C189, FLData!$Z$2:$Z$13999)), 0)),\"\")","v":""}]
[null,null,{"$f":"IFERROR(INDEX(FLData!$Z$2:$Z$13999, MATCH(0, IF( ISBLANK(FLData!$Z$2:$Z$13999),1, COUNTIF( $C$5:C190, FLData!$Z$2:$Z$13999)), 0)),\"\")","v":""}]
[null,null,{"$f":"IFERROR(INDEX(FLData!$Z$2:$Z$13999, MATCH(0, IF( ISBLANK(FLData!$Z$2:$Z$13999),1, COUNTIF( $C$5:C191, FLData!$Z$2:$Z$13999)), 0)),\"\")","v":""}]
[null,null,{"$f":"IFERROR(INDEX(FLData!$Z$2:$Z$13999, MATCH(0, IF( ISBLANK(FLData!$Z$2:$Z$13999),1, COUNTIF( $C$5:C192, FLData!$Z$2:$Z$13999)), 0)),\"\")","v":""}]
[null,null,{"$f":"IFERROR(INDEX(FLData!$Z$2:$Z$13999, MATCH(0, IF( ISBLANK(FLData!$Z$2:$Z$13999),1, COUNTIF( $C$5:C193, FLData!$Z$2:$Z$13999)), 0)),\"\")","v":""}]
[null,null,{"$f":"IFERROR(INDEX(FLData!$Z$2:$Z$13999, MATCH(0, IF( ISBLANK(FLData!$Z$2:$Z$13999),1, COUNTIF( $C$5:C194, FLData!$Z$2:$Z$13999)), 0)),\"\")","v":""}]
[null,null,{"$f":"IFERROR(INDEX(FLData!$Z$2:$Z$13999, MATCH(0, IF( ISBLANK(FLData!$Z$2:$Z$13999),1, COUNTIF( $C$5:C195, FLData!$Z$2:$Z$13999)), 0)),\"\")","v":""}]
[null,null,{"$f":"IFERROR(INDEX(FLData!$Z$2:$Z$13999, MATCH(0, IF( ISBLANK(FLData!$Z$2:$Z$13999),1, COUNTIF( $C$5:C196, FLData!$Z$2:$Z$13999)), 0)),\"\")","v":""}]
[null,null,{"$f":"IFERROR(INDEX(FLData!$Z$2:$Z$13999, MATCH(0, IF( ISBLANK(FLData!$Z$2:$Z$13999),1, COUNTIF( $C$5:C197, FLData!$Z$2:$Z$13999)), 0)),\"\")","v":""}]
[null,null,{"$f":"IFERROR(INDEX(FLData!$Z$2:$Z$13999, MATCH(0, IF( ISBLANK(FLData!$Z$2:$Z$13999),1, COUNTIF( $C$5:C198, FLData!$Z$2:$Z$13999)), 0)),\"\")","v":""}]
[null,null,{"$f":"IFERROR(INDEX(FLData!$Z$2:$Z$13999, MATCH(0, IF( ISBLANK(FLData!$Z$2:$Z$13999),1, COUNTIF( $C$5:C199, FLData!$Z$2:$Z$13999)), 0)),\"\")","v":""}]

{"sheet":"Activity - Arr Airports","index":9,"n_rows":200,"n_cols":4,"rows_kept":200,"cut":false,"hidden":false,"merged":[]}
[]
[]
[null,null,"Arrival Airports",{"$f":"FLVersion","v":"V009"}]
[]
[null,null,"Airport name","#Flights"]
[null,null,{"$f":"IFERROR(INDEX(FLData!$AA$2:$AA$13999, MATCH(0, IF( ISBLANK(FLData!$AA$2:$AA$13999),1, COUNTIF( $C$5:C5, FLData!$AA$2:$AA$13999)), 0)),\"\")","v":""},{"$f":"IF( LEN(C6)>0,COUNTIF( FLData!$AA$2:$AA$13999,C6),\"\")","v":""}]
[null,null,{"$f":"IFERROR(INDEX(FLData!$AA$2:$AA$13999, MATCH(0, IF( ISBLANK(FLData!$AA$2:$AA$13999),1, COUNTIF( $C$5:C6, FLData!$AA$2:$AA$13999)), 0)),\"\")","v":""},{"$f":"IF( LEN(C7)>0,COUNTIF( FLData!$AA$2:$AA$13999,C7),\"\")","v":""}]
[null,null,{"$f":"IFERROR(INDEX(FLData!$AA$2:$AA$13999, MATCH(0, IF( ISBLANK(FLData!$AA$2:$AA$13999),1, COUNTIF( $C$5:C7, FLData!$AA$2:$AA$13999)), 0)),\"\")","v":""},{"$f":"IF( LEN(C8)>0,COUNTIF( FLData!$AA$2:$AA$13999,C8),\"\")","v":""}]
[null,null,{"$f":"IFERROR(INDEX(FLData!$AA$2:$AA$13999, MATCH(0, IF( ISBLANK(FLData!$AA$2:$AA$13999),1, COUNTIF( $C$5:C8, FLData!$AA$2:$AA$13999)), 0)),\"\")","v":""},{"$f":"IF( LEN(C9)>0,COUNTIF( FLData!$AA$2:$AA$13999,C9),\"\")","v":""}]
[null,null,{"$f":"IFERROR(INDEX(FLData!$AA$2:$AA$13999, MATCH(0, IF( ISBLANK(FLData!$AA$2:$AA$13999),1, COUNTIF( $C$5:C9, FLData!$AA$2:$AA$13999)), 0)),\"\")","v":""},{"$f":"IF( LEN(C10)>0,COUNTIF( FLData!$AA$2:$AA$13999,C10),\"\")","v":""}]
[null,null,{"$f":"IFERROR(INDEX(FLData!$AA$2:$AA$13999, MATCH(0, IF( ISBLANK(FLData!$AA$2:$AA$13999),1, COUNTIF( $C$5:C10, FLData!$AA$2:$AA$13999)), 0)),\"\")","v":""},{"$f":"IF( LEN(C11)>0,COUNTIF( FLData!$AA$2:$AA$13999,C11),\"\")","v":""}]
[null,null,{"$f":"IFERROR(INDEX(FLData!$AA$2:$AA$13999, MATCH(0, IF( ISBLANK(FLData!$AA$2:$AA$13999),1, COUNTIF( $C$5:C11, FLData!$AA$2:$AA$13999)), 0)),\"\")","v":""},{"$f":"IF( LEN(C12)>0,COUNTIF( FLData!$AA$2:$AA$13999,C12),\"\")","v":""}]
[null,null,{"$f":"IFERROR(INDEX(FLData!$AA$2:$AA$13999, MATCH(0, IF( ISBLANK(FLData!$AA$2:$AA$13999),1, COUNTIF( $C$5:C12, FLData!$AA$2:$AA$13999)), 0)),\"\")","v":""},{"$f":"IF( LEN(C13)>0,COUNTIF( FLData!$AA$2:$AA$13999,C13),\"\")","v":""}]
[null,null,{"$f":"IFERROR(INDEX(FLData!$AA$2:$AA$13999, MATCH(0, IF( ISBLANK(FLData!$AA$2:$AA$13999),1, COUNTIF( $C$5:C13, FLData!$AA$2:$AA$13999)), 0)),\"\")","v":""},{"$f":"IF( LEN(C14)>0,COUNTIF( FLData!$AA$2:$AA$13999,C14),\"\")","v":""}]
[null,null,{"$f":"IFERROR(INDEX(FLData!$AA$2:$AA$13999, MATCH(0, IF( ISBLANK(FLData!$AA$2:$AA$13999),1, COUNTIF( $C$5:C14, FLData!$AA$2:$AA$13999)), 0)),\"\")","v":""},{"$f":"IF( LEN(C15)>0,COUNTIF( FLData!$AA$2:$AA$13999,C15),\"\")","v":""}]
[null,null,{"$f":"IFERROR(INDEX(FLData!$AA$2:$AA$13999, MATCH(0, IF( ISBLANK(FLData!$AA$2:$AA$13999),1, COUNTIF( $C$5:C15, FLData!$AA$2:$AA$13999)), 0)),\"\")","v":""},{"$f":"IF( LEN(C16)>0,COUNTIF( FLData!$AA$2:$AA$13999,C16),\"\")","v":""}]
[null,null,{"$f":"IFERROR(INDEX(FLData!$AA$2:$AA$13999, MATCH(0, IF( ISBLANK(FLData!$AA$2:$AA$13999),1, COUNTIF( $C$5:C16, FLData!$AA$2:$AA$13999)), 0)),\"\")","v":""},{"$f":"IF( LEN(C17)>0,COUNTIF( FLData!$AA$2:$AA$13999,C17),\"\")","v":""}]
[null,null,{"$f":"IFERROR(INDEX(FLData!$AA$2:$AA$13999, MATCH(0, IF( ISBLANK(FLData!$AA$2:$AA$13999),1, COUNTIF( $C$5:C17, FLData!$AA$2:$AA$13999)), 0)),\"\")","v":""},{"$f":"IF( LEN(C18)>0,COUNTIF( FLData!$AA$2:$AA$13999,C18),\"\")","v":""}]
[null,null,{"$f":"IFERROR(INDEX(FLData!$AA$2:$AA$13999, MATCH(0, IF( ISBLANK(FLData!$AA$2:$AA$13999),1, COUNTIF( $C$5:C18, FLData!$AA$2:$AA$13999)), 0)),\"\")","v":""},{"$f":"IF( LEN(C19)>0,COUNTIF( FLData!$AA$2:$AA$13999,C19),\"\")","v":""}]
[null,null,{"$f":"IFERROR(INDEX(FLData!$AA$2:$AA$13999, MATCH(0, IF( ISBLANK(FLData!$AA$2:$AA$13999),1, COUNTIF( $C$5:C19, FLData!$AA$2:$AA$13999)), 0)),\"\")","v":""},{"$f":"IF( LEN(C20)>0,COUNTIF( FLData!$AA$2:$AA$13999,C20),\"\")","v":""}]
[null,null,{"$f":"IFERROR(INDEX(FLData!$AA$2:$AA$13999, MATCH(0, IF( ISBLANK(FLData!$AA$2:$AA$13999),1, COUNTIF( $C$5:C20, FLData!$AA$2:$AA$13999)), 0)),\"\")","v":""},{"$f":"IF( LEN(C21)>0,COUNTIF( FLData!$AA$2:$AA$13999,C21),\"\")","v":""}]
[null,null,{"$f":"IFERROR(INDEX(FLData!$AA$2:$AA$13999, MATCH(0, IF( ISBLANK(FLData!$AA$2:$AA$13999),1, COUNTIF( $C$5:C21, FLData!$AA$2:$AA$13999)), 0)),\"\")","v":""},{"$f":"IF( LEN(C22)>0,COUNTIF( FLData!$AA$2:$AA$13999,C22),\"\")","v":""}]
[null,null,{"$f":"IFERROR(INDEX(FLData!$AA$2:$AA$13999, MATCH(0, IF( ISBLANK(FLData!$AA$2:$AA$13999),1, COUNTIF( $C$5:C22, FLData!$AA$2:$AA$13999)), 0)),\"\")","v":""},{"$f":"IF( LEN(C23)>0,COUNTIF( FLData!$AA$2:$AA$13999,C23),\"\")","v":""}]
[null,null,{"$f":"IFERROR(INDEX(FLData!$AA$2:$AA$13999, MATCH(0, IF( ISBLANK(FLData!$AA$2:$AA$13999),1, COUNTIF( $C$5:C23, FLData!$AA$2:$AA$13999)), 0)),\"\")","v":""},{"$f":"IF( LEN(C24)>0,COUNTIF( FLData!$AA$2:$AA$13999,C24),\"\")","v":""}]
[null,null,{"$f":"IFERROR(INDEX(FLData!$AA$2:$AA$13999, MATCH(0, IF( ISBLANK(FLData!$AA$2:$AA$13999),1, COUNTIF( $C$5:C24, FLData!$AA$2:$AA$13999)), 0)),\"\")","v":""},{"$f":"IF( LEN(C25)>0,COUNTIF( FLData!$AA$2:$AA$13999,C25),\"\")","v":""}]
[null,null,{"$f":"IFERROR(INDEX(FLData!$AA$2:$AA$13999, MATCH(0, IF( ISBLANK(FLData!$AA$2:$AA$13999),1, COUNTIF( $C$5:C25, FLData!$AA$2:$AA$13999)), 0)),\"\")","v":""},{"$f":"IF( LEN(C26)>0,COUNTIF( FLData!$AA$2:$AA$13999,C26),\"\")","v":""}]
[null,null,{"$f":"IFERROR(INDEX(FLData!$AA$2:$AA$13999, MATCH(0, IF( ISBLANK(FLData!$AA$2:$AA$13999),1, COUNTIF( $C$5:C26, FLData!$AA$2:$AA$13999)), 0)),\"\")","v":""},{"$f":"IF( LEN(C27)>0,COUNTIF( FLData!$AA$2:$AA$13999,C27),\"\")","v":""}]
[null,null,{"$f":"IFERROR(INDEX(FLData!$AA$2:$AA$13999, MATCH(0, IF( ISBLANK(FLData!$AA$2:$AA$13999),1, COUNTIF( $C$5:C27, FLData!$AA$2:$AA$13999)), 0)),\"\")","v":""},{"$f":"IF( LEN(C28)>0,COUNTIF( FLData!$AA$2:$AA$13999,C28),\"\")","v":""}]
[null,null,{"$f":"IFERROR(INDEX(FLData!$AA$2:$AA$13999, MATCH(0, IF( ISBLANK(FLData!$AA$2:$AA$13999),1, COUNTIF( $C$5:C28, FLData!$AA$2:$AA$13999)), 0)),\"\")","v":""},{"$f":"IF( LEN(C29)>0,COUNTIF( FLData!$AA$2:$AA$13999,C29),\"\")","v":""}]
[null,null,{"$f":"IFERROR(INDEX(FLData!$AA$2:$AA$13999, MATCH(0, IF( ISBLANK(FLData!$AA$2:$AA$13999),1, COUNTIF( $C$5:C29, FLData!$AA$2:$AA$13999)), 0)),\"\")","v":""},{"$f":"IF( LEN(C30)>0,COUNTIF( FLData!$AA$2:$AA$13999,C30),\"\")","v":""}]
[null,null,{"$f":"IFERROR(INDEX(FLData!$AA$2:$AA$13999, MATCH(0, IF( ISBLANK(FLData!$AA$2:$AA$13999),1, COUNTIF( $C$5:C30, FLData!$AA$2:$AA$13999)), 0)),\"\")","v":""},{"$f":"IF( LEN(C31)>0,COUNTIF( FLData!$AA$2:$AA$13999,C31),\"\")","v":""}]
[null,null,{"$f":"IFERROR(INDEX(FLData!$AA$2:$AA$13999, MATCH(0, IF( ISBLANK(FLData!$AA$2:$AA$13999),1, COUNTIF( $C$5:C31, FLData!$AA$2:$AA$13999)), 0)),\"\")","v":""},{"$f":"IF( LEN(C32)>0,COUNTIF( FLData!$AA$2:$AA$13999,C32),\"\")","v":""}]
[null,null,{"$f":"IFERROR(INDEX(FLData!$AA$2:$AA$13999, MATCH(0, IF( ISBLANK(FLData!$AA$2:$AA$13999),1, COUNTIF( $C$5:C32, FLData!$AA$2:$AA$13999)), 0)),\"\")","v":""},{"$f":"IF( LEN(C33)>0,COUNTIF( FLData!$AA$2:$AA$13999,C33),\"\")","v":""}]
[null,null,{"$f":"IFERROR(INDEX(FLData!$AA$2:$AA$13999, MATCH(0, IF( ISBLANK(FLData!$AA$2:$AA$13999),1, COUNTIF( $C$5:C33, FLData!$AA$2:$AA$13999)), 0)),\"\")","v":""},{"$f":"IF( LEN(C34)>0,COUNTIF( FLData!$AA$2:$AA$13999,C34),\"\")","v":""}]
[null,null,{"$f":"IFERROR(INDEX(FLData!$AA$2:$AA$13999, MATCH(0, IF( ISBLANK(FLData!$AA$2:$AA$13999),1, COUNTIF( $C$5:C34, FLData!$AA$2:$AA$13999)), 0)),\"\")","v":""},{"$f":"IF( LEN(C35)>0,COUNTIF( FLData!$AA$2:$AA$13999,C35),\"\")","v":""}]
[null,null,{"$f":"IFERROR(INDEX(FLData!$AA$2:$AA$13999, MATCH(0, IF( ISBLANK(FLData!$AA$2:$AA$13999),1, COUNTIF( $C$5:C35, FLData!$AA$2:$AA$13999)), 0)),\"\")","v":""},{"$f":"IF( LEN(C36)>0,COUNTIF( FLData!$AA$2:$AA$13999,C36),\"\")","v":""}]
[null,null,{"$f":"IFERROR(INDEX(FLData!$AA$2:$AA$13999, MATCH(0, IF( ISBLANK(FLData!$AA$2:$AA$13999),1, COUNTIF( $C$5:C36, FLData!$AA$2:$AA$13999)), 0)),\"\")","v":""},{"$f":"IF( LEN(C37)>0,COUNTIF( FLData!$AA$2:$AA$13999,C37),\"\")","v":""}]
[null,null,{"$f":"IFERROR(INDEX(FLData!$AA$2:$AA$13999, MATCH(0, IF( ISBLANK(FLData!$AA$2:$AA$13999),1, COUNTIF( $C$5:C37, FLData!$AA$2:$AA$13999)), 0)),\"\")","v":""},{"$f":"IF( LEN(C38)>0,COUNTIF( FLData!$AA$2:$AA$13999,C38),\"\")","v":""}]
[null,null,{"$f":"IFERROR(INDEX(FLData!$AA$2:$AA$13999, MATCH(0, IF( ISBLANK(FLData!$AA$2:$AA$13999),1, COUNTIF( $C$5:C38, FLData!$AA$2:$AA$13999)), 0)),\"\")","v":""},{"$f":"IF( LEN(C39)>0,COUNTIF( FLData!$AA$2:$AA$13999,C39),\"\")","v":""}]
[null,null,{"$f":"IFERROR(INDEX(FLData!$AA$2:$AA$13999, MATCH(0, IF( ISBLANK(FLData!$AA$2:$AA$13999),1, COUNTIF( $C$5:C39, FLData!$AA$2:$AA$13999)), 0)),\"\")","v":""},{"$f":"IF( LEN(C40)>0,COUNTIF( FLData!$AA$2:$AA$13999,C40),\"\")","v":""}]
[null,null,{"$f":"IFERROR(INDEX(FLData!$AA$2:$AA$13999, MATCH(0, IF( ISBLANK(FLData!$AA$2:$AA$13999),1, COUNTIF( $C$5:C40, FLData!$AA$2:$AA$13999)), 0)),\"\")","v":""},{"$f":"IF( LEN(C41)>0,COUNTIF( FLData!$AA$2:$AA$13999,C41),\"\")","v":""}]
[null,null,{"$f":"IFERROR(INDEX(FLData!$AA$2:$AA$13999, MATCH(0, IF( ISBLANK(FLData!$AA$2:$AA$13999),1, COUNTIF( $C$5:C41, FLData!$AA$2:$AA$13999)), 0)),\"\")","v":""},{"$f":"IF( LEN(C42)>0,COUNTIF( FLData!$AA$2:$AA$13999,C42),\"\")","v":""}]
[null,null,{"$f":"IFERROR(INDEX(FLData!$AA$2:$AA$13999, MATCH(0, IF( ISBLANK(FLData!$AA$2:$AA$13999),1, COUNTIF( $C$5:C42, FLData!$AA$2:$AA$13999)), 0)),\"\")","v":""},{"$f":"IF( LEN(C43)>0,COUNTIF( FLData!$AA$2:$AA$13999,C43),\"\")","v":""}]
[null,null,{"$f":"IFERROR(INDEX(FLData!$AA$2:$AA$13999, MATCH(0, IF( ISBLANK(FLData!$AA$2:$AA$13999),1, COUNTIF( $C$5:C43, FLData!$AA$2:$AA$13999)), 0)),\"\")","v":""},{"$f":"IF( LEN(C44)>0,COUNTIF( FLData!$AA$2:$AA$13999,C44),\"\")","v":""}]
[null,null,{"$f":"IFERROR(INDEX(FLData!$AA$2:$AA$13999, MATCH(0, IF( ISBLANK(FLData!$AA$2:$AA$13999),1, COUNTIF( $C$5:C44, FLData!$AA$2:$AA$13999)), 0)),\"\")","v":""},{"$f":"IF( LEN(C45)>0,COUNTIF( FLData!$AA$2:$AA$13999,C45),\"\")","v":""}]
[null,null,{"$f":"IFERROR(INDEX(FLData!$AA$2:$AA$13999, MATCH(0, IF( ISBLANK(FLData!$AA$2:$AA$13999),1, COUNTIF( $C$5:C45, FLData!$AA$2:$AA$13999)), 0)),\"\")","v":""},{"$f":"IF( LEN(C46)>0,COUNTIF( FLData!$AA$2:$AA$13999,C46),\"\")","v":""}]
[null,null,{"$f":"IFERROR(INDEX(FLData!$AA$2:$AA$13999, MATCH(0, IF( ISBLANK(FLData!$AA$2:$AA$13999),1, COUNTIF( $C$5:C46, FLData!$AA$2:$AA$13999)), 0)),\"\")","v":""},{"$f":"IF( LEN(C47)>0,COUNTIF( FLData!$AA$2:$AA$13999,C47),\"\")","v":""}]
[null,null,{"$f":"IFERROR(INDEX(FLData!$AA$2:$AA$13999, MATCH(0, IF( ISBLANK(FLData!$AA$2:$AA$13999),1, COUNTIF( $C$5:C47, FLData!$AA$2:$AA$13999)), 0)),\"\")","v":""},{"$f":"IF( LEN(C48)>0,COUNTIF( FLData!$AA$2:$AA$13999,C48),\"\")","v":""}]
[null,null,{"$f":"IFERROR(INDEX(FLData!$AA$2:$AA$13999, MATCH(0, IF( ISBLANK(FLData!$AA$2:$AA$13999),1, COUNTIF( $C$5:C48, FLData!$AA$2:$AA$13999)), 0)),\"\")","v":""},{"$f":"IF( LEN(C49)>0,COUNTIF( FLData!$AA$2:$AA$13999,C49),\"\")","v":""}]
[null,null,{"$f":"IFERROR(INDEX(FLData!$AA$2:$AA$13999, MATCH(0, IF( ISBLANK(FLData!$AA$2:$AA$13999),1, COUNTIF( $C$5:C49, FLData!$AA$2:$AA$13999)), 0)),\"\")","v":""},{"$f":"IF( LEN(C50)>0,COUNTIF( FLData!$AA$2:$AA$13999,C50),\"\")","v":""}]
[null,null,{"$f":"IFERROR(INDEX(FLData!$AA$2:$AA$13999, MATCH(0, IF( ISBLANK(FLData!$AA$2:$AA$13999),1, COUNTIF( $C$5:C50, FLData!$AA$2:$AA$13999)), 0)),\"\")","v":""},{"$f":"IF( LEN(C51)>0,COUNTIF( FLData!$AA$2:$AA$13999,C51),\"\")","v":""}]
[null,null,{"$f":"IFERROR(INDEX(FLData!$AA$2:$AA$13999, MATCH(0, IF( ISBLANK(FLData!$AA$2:$AA$13999),1, COUNTIF( $C$5:C51, FLData!$AA$2:$AA$13999)), 0)),\"\")","v":""},{"$f":"IF( LEN(C52)>0,COUNTIF( FLData!$AA$2:$AA$13999,C52),\"\")","v":""}]
[null,null,{"$f":"IFERROR(INDEX(FLData!$AA$2:$AA$13999, MATCH(0, IF( ISBLANK(FLData!$AA$2:$AA$13999),1, COUNTIF( $C$5:C52, FLData!$AA$2:$AA$13999)), 0)),\"\")","v":""},{"$f":"IF( LEN(C53)>0,COUNTIF( FLData!$AA$2:$AA$13999,C53),\"\")","v":""}]
[null,null,{"$f":"IFERROR(INDEX(FLData!$AA$2:$AA$13999, MATCH(0, IF( ISBLANK(FLData!$AA$2:$AA$13999),1, COUNTIF( $C$5:C53, FLData!$AA$2:$AA$13999)), 0)),\"\")","v":""},{"$f":"IF( LEN(C54)>0,COUNTIF( FLData!$AA$2:$AA$13999,C54),\"\")","v":""}]
[null,null,{"$f":"IFERROR(INDEX(FLData!$AA$2:$AA$13999, MATCH(0, IF( ISBLANK(FLData!$AA$2:$AA$13999),1, COUNTIF( $C$5:C54, FLData!$AA$2:$AA$13999)), 0)),\"\")","v":""},{"$f":"IF( LEN(C55)>0,COUNTIF( FLData!$AA$2:$AA$13999,C55),\"\")","v":""}]
[null,null,{"$f":"IFERROR(INDEX(FLData!$AA$2:$AA$13999, MATCH(0, IF( ISBLANK(FLData!$AA$2:$AA$13999),1, COUNTIF( $C$5:C55, FLData!$AA$2:$AA$13999)), 0)),\"\")","v":""},{"$f":"IF( LEN(C56)>0,COUNTIF( FLData!$AA$2:$AA$13999,C56),\"\")","v":""}]
[null,null,{"$f":"IFERROR(INDEX(FLData!$AA$2:$AA$13999, MATCH(0, IF( ISBLANK(FLData!$AA$2:$AA$13999),1, COUNTIF( $C$5:C56, FLData!$AA$2:$AA$13999)), 0)),\"\")","v":""},{"$f":"IF( LEN(C57)>0,COUNTIF( FLData!$AA$2:$AA$13999,C57),\"\")","v":""}]
[null,null,{"$f":"IFERROR(INDEX(FLData!$AA$2:$AA$13999, MATCH(0, IF( ISBLANK(FLData!$AA$2:$AA$13999),1, COUNTIF( $C$5:C57, FLData!$AA$2:$AA$13999)), 0)),\"\")","v":""}]
[null,null,{"$f":"IFERROR(INDEX(FLData!$AA$2:$AA$13999, MATCH(0, IF( ISBLANK(FLData!$AA$2:$AA$13999),1, COUNTIF( $C$5:C58, FLData!$AA$2:$AA$13999)), 0)),\"\")","v":""}]
[null,null,{"$f":"IFERROR(INDEX(FLData!$AA$2:$AA$13999, MATCH(0, IF( ISBLANK(FLData!$AA$2:$AA$13999),1, COUNTIF( $C$5:C59, FLData!$AA$2:$AA$13999)), 0)),\"\")","v":""}]
[null,null,{"$f":"IFERROR(INDEX(FLData!$AA$2:$AA$13999, MATCH(0, IF( ISBLANK(FLData!$AA$2:$AA$13999),1, COUNTIF( $C$5:C60, FLData!$AA$2:$AA$13999)), 0)),\"\")","v":""}]
[null,null,{"$f":"IFERROR(INDEX(FLData!$AA$2:$AA$13999, MATCH(0, IF( ISBLANK(FLData!$AA$2:$AA$13999),1, COUNTIF( $C$5:C61, FLData!$AA$2:$AA$13999)), 0)),\"\")","v":""}]
[null,null,{"$f":"IFERROR(INDEX(FLData!$AA$2:$AA$13999, MATCH(0, IF( ISBLANK(FLData!$AA$2:$AA$13999),1, COUNTIF( $C$5:C62, FLData!$AA$2:$AA$13999)), 0)),\"\")","v":""}]
[null,null,{"$f":"IFERROR(INDEX(FLData!$AA$2:$AA$13999, MATCH(0, IF( ISBLANK(FLData!$AA$2:$AA$13999),1, COUNTIF( $C$5:C63, FLData!$AA$2:$AA$13999)), 0)),\"\")","v":""}]
[null,null,{"$f":"IFERROR(INDEX(FLData!$AA$2:$AA$13999, MATCH(0, IF( ISBLANK(FLData!$AA$2:$AA$13999),1, COUNTIF( $C$5:C64, FLData!$AA$2:$AA$13999)), 0)),\"\")","v":""}]
[null,null,{"$f":"IFERROR(INDEX(FLData!$AA$2:$AA$13999, MATCH(0, IF( ISBLANK(FLData!$AA$2:$AA$13999),1, COUNTIF( $C$5:C65, FLData!$AA$2:$AA$13999)), 0)),\"\")","v":""}]
[null,null,{"$f":"IFERROR(INDEX(FLData!$AA$2:$AA$13999, MATCH(0, IF( ISBLANK(FLData!$AA$2:$AA$13999),1, COUNTIF( $C$5:C66, FLData!$AA$2:$AA$13999)), 0)),\"\")","v":""}]
[null,null,{"$f":"IFERROR(INDEX(FLData!$AA$2:$AA$13999, MATCH(0, IF( ISBLANK(FLData!$AA$2:$AA$13999),1, COUNTIF( $C$5:C67, FLData!$AA$2:$AA$13999)), 0)),\"\")","v":""}]
[null,null,{"$f":"IFERROR(INDEX(FLData!$AA$2:$AA$13999, MATCH(0, IF( ISBLANK(FLData!$AA$2:$AA$13999),1, COUNTIF( $C$5:C68, FLData!$AA$2:$AA$13999)), 0)),\"\")","v":""}]
[null,null,{"$f":"IFERROR(INDEX(FLData!$AA$2:$AA$13999, MATCH(0, IF( ISBLANK(FLData!$AA$2:$AA$13999),1, COUNTIF( $C$5:C69, FLData!$AA$2:$AA$13999)), 0)),\"\")","v":""}]
[null,null,{"$f":"IFERROR(INDEX(FLData!$AA$2:$AA$13999, MATCH(0, IF( ISBLANK(FLData!$AA$2:$AA$13999),1, COUNTIF( $C$5:C70, FLData!$AA$2:$AA$13999)), 0)),\"\")","v":""}]
[null,null,{"$f":"IFERROR(INDEX(FLData!$AA$2:$AA$13999, MATCH(0, IF( ISBLANK(FLData!$AA$2:$AA$13999),1, COUNTIF( $C$5:C71, FLData!$AA$2:$AA$13999)), 0)),\"\")","v":""}]
[null,null,{"$f":"IFERROR(INDEX(FLData!$AA$2:$AA$13999, MATCH(0, IF( ISBLANK(FLData!$AA$2:$AA$13999),1, COUNTIF( $C$5:C72, FLData!$AA$2:$AA$13999)), 0)),\"\")","v":""}]
[null,null,{"$f":"IFERROR(INDEX(FLData!$AA$2:$AA$13999, MATCH(0, IF( ISBLANK(FLData!$AA$2:$AA$13999),1, COUNTIF( $C$5:C73, FLData!$AA$2:$AA$13999)), 0)),\"\")","v":""}]
[null,null,{"$f":"IFERROR(INDEX(FLData!$AA$2:$AA$13999, MATCH(0, IF( ISBLANK(FLData!$AA$2:$AA$13999),1, COUNTIF( $C$5:C74, FLData!$AA$2:$AA$13999)), 0)),\"\")","v":""}]
[null,null,{"$f":"IFERROR(INDEX(FLData!$AA$2:$AA$13999, MATCH(0, IF( ISBLANK(FLData!$AA$2:$AA$13999),1, COUNTIF( $C$5:C75, FLData!$AA$2:$AA$13999)), 0)),\"\")","v":""}]
[null,null,{"$f":"IFERROR(INDEX(FLData!$AA$2:$AA$13999, MATCH(0, IF( ISBLANK(FLData!$AA$2:$AA$13999),1, COUNTIF( $C$5:C76, FLData!$AA$2:$AA$13999)), 0)),\"\")","v":""}]
[null,null,{"$f":"IFERROR(INDEX(FLData!$AA$2:$AA$13999, MATCH(0, IF( ISBLANK(FLData!$AA$2:$AA$13999),1, COUNTIF( $C$5:C77, FLData!$AA$2:$AA$13999)), 0)),\"\")","v":""}]
[null,null,{"$f":"IFERROR(INDEX(FLData!$AA$2:$AA$13999, MATCH(0, IF( ISBLANK(FLData!$AA$2:$AA$13999),1, COUNTIF( $C$5:C78, FLData!$AA$2:$AA$13999)), 0)),\"\")","v":""}]
[null,null,{"$f":"IFERROR(INDEX(FLData!$AA$2:$AA$13999, MATCH(0, IF( ISBLANK(FLData!$AA$2:$AA$13999),1, COUNTIF( $C$5:C79, FLData!$AA$2:$AA$13999)), 0)),\"\")","v":""}]
[null,null,{"$f":"IFERROR(INDEX(FLData!$AA$2:$AA$13999, MATCH(0, IF( ISBLANK(FLData!$AA$2:$AA$13999),1, COUNTIF( $C$5:C80, FLData!$AA$2:$AA$13999)), 0)),\"\")","v":""}]
[null,null,{"$f":"IFERROR(INDEX(FLData!$AA$2:$AA$13999, MATCH(0, IF( ISBLANK(FLData!$AA$2:$AA$13999),1, COUNTIF( $C$5:C81, FLData!$AA$2:$AA$13999)), 0)),\"\")","v":""}]
[null,null,{"$f":"IFERROR(INDEX(FLData!$AA$2:$AA$13999, MATCH(0, IF( ISBLANK(FLData!$AA$2:$AA$13999),1, COUNTIF( $C$5:C82, FLData!$AA$2:$AA$13999)), 0)),\"\")","v":""}]
[null,null,{"$f":"IFERROR(INDEX(FLData!$AA$2:$AA$13999, MATCH(0, IF( ISBLANK(FLData!$AA$2:$AA$13999),1, COUNTIF( $C$5:C83, FLData!$AA$2:$AA$13999)), 0)),\"\")","v":""}]
[null,null,{"$f":"IFERROR(INDEX(FLData!$AA$2:$AA$13999, MATCH(0, IF( ISBLANK(FLData!$AA$2:$AA$13999),1, COUNTIF( $C$5:C84, FLData!$AA$2:$AA$13999)), 0)),\"\")","v":""}]
[null,null,{"$f":"IFERROR(INDEX(FLData!$AA$2:$AA$13999, MATCH(0, IF( ISBLANK(FLData!$AA$2:$AA$13999),1, COUNTIF( $C$5:C85, FLData!$AA$2:$AA$13999)), 0)),\"\")","v":""}]
[null,null,{"$f":"IFERROR(INDEX(FLData!$AA$2:$AA$13999, MATCH(0, IF( ISBLANK(FLData!$AA$2:$AA$13999),1, COUNTIF( $C$5:C86, FLData!$AA$2:$AA$13999)), 0)),\"\")","v":""}]
[null,null,{"$f":"IFERROR(INDEX(FLData!$AA$2:$AA$13999, MATCH(0, IF( ISBLANK(FLData!$AA$2:$AA$13999),1, COUNTIF( $C$5:C87, FLData!$AA$2:$AA$13999)), 0)),\"\")","v":""}]
[null,null,{"$f":"IFERROR(INDEX(FLData!$AA$2:$AA$13999, MATCH(0, IF( ISBLANK(FLData!$AA$2:$AA$13999),1, COUNTIF( $C$5:C88, FLData!$AA$2:$AA$13999)), 0)),\"\")","v":""}]
[null,null,{"$f":"IFERROR(INDEX(FLData!$AA$2:$AA$13999, MATCH(0, IF( ISBLANK(FLData!$AA$2:$AA$13999),1, COUNTIF( $C$5:C89, FLData!$AA$2:$AA$13999)), 0)),\"\")","v":""}]
[null,null,{"$f":"IFERROR(INDEX(FLData!$AA$2:$AA$13999, MATCH(0, IF( ISBLANK(FLData!$AA$2:$AA$13999),1, COUNTIF( $C$5:C90, FLData!$AA$2:$AA$13999)), 0)),\"\")","v":""}]
[null,null,{"$f":"IFERROR(INDEX(FLData!$AA$2:$AA$13999, MATCH(0, IF( ISBLANK(FLData!$AA$2:$AA$13999),1, COUNTIF( $C$5:C91, FLData!$AA$2:$AA$13999)), 0)),\"\")","v":""}]
[null,null,{"$f":"IFERROR(INDEX(FLData!$AA$2:$AA$13999, MATCH(0, IF( ISBLANK(FLData!$AA$2:$AA$13999),1, COUNTIF( $C$5:C92, FLData!$AA$2:$AA$13999)), 0)),\"\")","v":""}]
[null,null,{"$f":"IFERROR(INDEX(FLData!$AA$2:$AA$13999, MATCH(0, IF( ISBLANK(FLData!$AA$2:$AA$13999),1, COUNTIF( $C$5:C93, FLData!$AA$2:$AA$13999)), 0)),\"\")","v":""}]
[null,null,{"$f":"IFERROR(INDEX(FLData!$AA$2:$AA$13999, MATCH(0, IF( ISBLANK(FLData!$AA$2:$AA$13999),1, COUNTIF( $C$5:C94, FLData!$AA$2:$AA$13999)), 0)),\"\")","v":""}]
[null,null,{"$f":"IFERROR(INDEX(FLData!$AA$2:$AA$13999, MATCH(0, IF( ISBLANK(FLData!$AA$2:$AA$13999),1, COUNTIF( $C$5:C95, FLData!$AA$2:$AA$13999)), 0)),\"\")","v":""}]
[null,null,{"$f":"IFERROR(INDEX(FLData!$AA$2:$AA$13999, MATCH(0, IF( ISBLANK(FLData!$AA$2:$AA$13999),1, COUNTIF( $C$5:C96, FLData!$AA$2:$AA$13999)), 0)),\"\")","v":""}]
[null,null,{"$f":"IFERROR(INDEX(FLData!$AA$2:$AA$13999, MATCH(0, IF( ISBLANK(FLData!$AA$2:$AA$13999),1, COUNTIF( $C$5:C97, FLData!$AA$2:$AA$13999)), 0)),\"\")","v":""}]
[null,null,{"$f":"IFERROR(INDEX(FLData!$AA$2:$AA$13999, MATCH(0, IF( ISBLANK(FLData!$AA$2:$AA$13999),1, COUNTIF( $C$5:C98, FLData!$AA$2:$AA$13999)), 0)),\"\")","v":""}]
[null,null,{"$f":"IFERROR(INDEX(FLData!$AA$2:$AA$13999, MATCH(0, IF( ISBLANK(FLData!$AA$2:$AA$13999),1, COUNTIF( $C$5:C99, FLData!$AA$2:$AA$13999)), 0)),\"\")","v":""}]
[null,null,{"$f":"IFERROR(INDEX(FLData!$AA$2:$AA$13999, MATCH(0, IF( ISBLANK(FLData!$AA$2:$AA$13999),1, COUNTIF( $C$5:C100, FLData!$AA$2:$AA$13999)), 0)),\"\")","v":""}]
[null,null,{"$f":"IFERROR(INDEX(FLData!$AA$2:$AA$13999, MATCH(0, IF( ISBLANK(FLData!$AA$2:$AA$13999),1, COUNTIF( $C$5:C101, FLData!$AA$2:$AA$13999)), 0)),\"\")","v":""}]
[null,null,{"$f":"IFERROR(INDEX(FLData!$AA$2:$AA$13999, MATCH(0, IF( ISBLANK(FLData!$AA$2:$AA$13999),1, COUNTIF( $C$5:C102, FLData!$AA$2:$AA$13999)), 0)),\"\")","v":""}]
[null,null,{"$f":"IFERROR(INDEX(FLData!$AA$2:$AA$13999, MATCH(0, IF( ISBLANK(FLData!$AA$2:$AA$13999),1, COUNTIF( $C$5:C103, FLData!$AA$2:$AA$13999)), 0)),\"\")","v":""}]
[null,null,{"$f":"IFERROR(INDEX(FLData!$AA$2:$AA$13999, MATCH(0, IF( ISBLANK(FLData!$AA$2:$AA$13999),1, COUNTIF( $C$5:C104, FLData!$AA$2:$AA$13999)), 0)),\"\")","v":""}]
[null,null,{"$f":"IFERROR(INDEX(FLData!$AA$2:$AA$13999, MATCH(0, IF( ISBLANK(FLData!$AA$2:$AA$13999),1, COUNTIF( $C$5:C105, FLData!$AA$2:$AA$13999)), 0)),\"\")","v":""}]
[null,null,{"$f":"IFERROR(INDEX(FLData!$AA$2:$AA$13999, MATCH(0, IF( ISBLANK(FLData!$AA$2:$AA$13999),1, COUNTIF( $C$5:C106, FLData!$AA$2:$AA$13999)), 0)),\"\")","v":""}]
[null,null,{"$f":"IFERROR(INDEX(FLData!$AA$2:$AA$13999, MATCH(0, IF( ISBLANK(FLData!$AA$2:$AA$13999),1, COUNTIF( $C$5:C107, FLData!$AA$2:$AA$13999)), 0)),\"\")","v":""}]
[null,null,{"$f":"IFERROR(INDEX(FLData!$AA$2:$AA$13999, MATCH(0, IF( ISBLANK(FLData!$AA$2:$AA$13999),1, COUNTIF( $C$5:C108, FLData!$AA$2:$AA$13999)), 0)),\"\")","v":""}]
[null,null,{"$f":"IFERROR(INDEX(FLData!$AA$2:$AA$13999, MATCH(0, IF( ISBLANK(FLData!$AA$2:$AA$13999),1, COUNTIF( $C$5:C109, FLData!$AA$2:$AA$13999)), 0)),\"\")","v":""}]
[null,null,{"$f":"IFERROR(INDEX(FLData!$AA$2:$AA$13999, MATCH(0, IF( ISBLANK(FLData!$AA$2:$AA$13999),1, COUNTIF( $C$5:C110, FLData!$AA$2:$AA$13999)), 0)),\"\")","v":""}]
[null,null,{"$f":"IFERROR(INDEX(FLData!$AA$2:$AA$13999, MATCH(0, IF( ISBLANK(FLData!$AA$2:$AA$13999),1, COUNTIF( $C$5:C111, FLData!$AA$2:$AA$13999)), 0)),\"\")","v":""}]
[null,null,{"$f":"IFERROR(INDEX(FLData!$AA$2:$AA$13999, MATCH(0, IF( ISBLANK(FLData!$AA$2:$AA$13999),1, COUNTIF( $C$5:C112, FLData!$AA$2:$AA$13999)), 0)),\"\")","v":""}]
[null,null,{"$f":"IFERROR(INDEX(FLData!$AA$2:$AA$13999, MATCH(0, IF( ISBLANK(FLData!$AA$2:$AA$13999),1, COUNTIF( $C$5:C113, FLData!$AA$2:$AA$13999)), 0)),\"\")","v":""}]
[null,null,{"$f":"IFERROR(INDEX(FLData!$AA$2:$AA$13999, MATCH(0, IF( ISBLANK(FLData!$AA$2:$AA$13999),1, COUNTIF( $C$5:C114, FLData!$AA$2:$AA$13999)), 0)),\"\")","v":""}]
[null,null,{"$f":"IFERROR(INDEX(FLData!$AA$2:$AA$13999, MATCH(0, IF( ISBLANK(FLData!$AA$2:$AA$13999),1, COUNTIF( $C$5:C115, FLData!$AA$2:$AA$13999)), 0)),\"\")","v":""}]
[null,null,{"$f":"IFERROR(INDEX(FLData!$AA$2:$AA$13999, MATCH(0, IF( ISBLANK(FLData!$AA$2:$AA$13999),1, COUNTIF( $C$5:C116, FLData!$AA$2:$AA$13999)), 0)),\"\")","v":""}]
[null,null,{"$f":"IFERROR(INDEX(FLData!$AA$2:$AA$13999, MATCH(0, IF( ISBLANK(FLData!$AA$2:$AA$13999),1, COUNTIF( $C$5:C117, FLData!$AA$2:$AA$13999)), 0)),\"\")","v":""}]
[null,null,{"$f":"IFERROR(INDEX(FLData!$AA$2:$AA$13999, MATCH(0, IF( ISBLANK(FLData!$AA$2:$AA$13999),1, COUNTIF( $C$5:C118, FLData!$AA$2:$AA$13999)), 0)),\"\")","v":""}]
[null,null,{"$f":"IFERROR(INDEX(FLData!$AA$2:$AA$13999, MATCH(0, IF( ISBLANK(FLData!$AA$2:$AA$13999),1, COUNTIF( $C$5:C119, FLData!$AA$2:$AA$13999)), 0)),\"\")","v":""}]
[null,null,{"$f":"IFERROR(INDEX(FLData!$AA$2:$AA$13999, MATCH(0, IF( ISBLANK(FLData!$AA$2:$AA$13999),1, COUNTIF( $C$5:C120, FLData!$AA$2:$AA$13999)), 0)),\"\")","v":""}]
[null,null,{"$f":"IFERROR(INDEX(FLData!$AA$2:$AA$13999, MATCH(0, IF( ISBLANK(FLData!$AA$2:$AA$13999),1, COUNTIF( $C$5:C121, FLData!$AA$2:$AA$13999)), 0)),\"\")","v":""}]
[null,null,{"$f":"IFERROR(INDEX(FLData!$AA$2:$AA$13999, MATCH(0, IF( ISBLANK(FLData!$AA$2:$AA$13999),1, COUNTIF( $C$5:C122, FLData!$AA$2:$AA$13999)), 0)),\"\")","v":""}]
[null,null,{"$f":"IFERROR(INDEX(FLData!$AA$2:$AA$13999, MATCH(0, IF( ISBLANK(FLData!$AA$2:$AA$13999),1, COUNTIF( $C$5:C123, FLData!$AA$2:$AA$13999)), 0)),\"\")","v":""}]
[null,null,{"$f":"IFERROR(INDEX(FLData!$AA$2:$AA$13999, MATCH(0, IF( ISBLANK(FLData!$AA$2:$AA$13999),1, COUNTIF( $C$5:C124, FLData!$AA$2:$AA$13999)), 0)),\"\")","v":""}]
[null,null,{"$f":"IFERROR(INDEX(FLData!$AA$2:$AA$13999, MATCH(0, IF( ISBLANK(FLData!$AA$2:$AA$13999),1, COUNTIF( $C$5:C125, FLData!$AA$2:$AA$13999)), 0)),\"\")","v":""}]
[null,null,{"$f":"IFERROR(INDEX(FLData!$AA$2:$AA$13999, MATCH(0, IF( ISBLANK(FLData!$AA$2:$AA$13999),1, COUNTIF( $C$5:C126, FLData!$AA$2:$AA$13999)), 0)),\"\")","v":""}]
[null,null,{"$f":"IFERROR(INDEX(FLData!$AA$2:$AA$13999, MATCH(0, IF( ISBLANK(FLData!$AA$2:$AA$13999),1, COUNTIF( $C$5:C127, FLData!$AA$2:$AA$13999)), 0)),\"\")","v":""}]
[null,null,{"$f":"IFERROR(INDEX(FLData!$AA$2:$AA$13999, MATCH(0, IF( ISBLANK(FLData!$AA$2:$AA$13999),1, COUNTIF( $C$5:C128, FLData!$AA$2:$AA$13999)), 0)),\"\")","v":""}]
[null,null,{"$f":"IFERROR(INDEX(FLData!$AA$2:$AA$13999, MATCH(0, IF( ISBLANK(FLData!$AA$2:$AA$13999),1, COUNTIF( $C$5:C129, FLData!$AA$2:$AA$13999)), 0)),\"\")","v":""}]
[null,null,{"$f":"IFERROR(INDEX(FLData!$AA$2:$AA$13999, MATCH(0, IF( ISBLANK(FLData!$AA$2:$AA$13999),1, COUNTIF( $C$5:C130, FLData!$AA$2:$AA$13999)), 0)),\"\")","v":""}]
[null,null,{"$f":"IFERROR(INDEX(FLData!$AA$2:$AA$13999, MATCH(0, IF( ISBLANK(FLData!$AA$2:$AA$13999),1, COUNTIF( $C$5:C131, FLData!$AA$2:$AA$13999)), 0)),\"\")","v":""}]
[null,null,{"$f":"IFERROR(INDEX(FLData!$AA$2:$AA$13999, MATCH(0, IF( ISBLANK(FLData!$AA$2:$AA$13999),1, COUNTIF( $C$5:C132, FLData!$AA$2:$AA$13999)), 0)),\"\")","v":""}]
[null,null,{"$f":"IFERROR(INDEX(FLData!$AA$2:$AA$13999, MATCH(0, IF( ISBLANK(FLData!$AA$2:$AA$13999),1, COUNTIF( $C$5:C133, FLData!$AA$2:$AA$13999)), 0)),\"\")","v":""}]
[null,null,{"$f":"IFERROR(INDEX(FLData!$AA$2:$AA$13999, MATCH(0, IF( ISBLANK(FLData!$AA$2:$AA$13999),1, COUNTIF( $C$5:C134, FLData!$AA$2:$AA$13999)), 0)),\"\")","v":""}]
[null,null,{"$f":"IFERROR(INDEX(FLData!$AA$2:$AA$13999, MATCH(0, IF( ISBLANK(FLData!$AA$2:$AA$13999),1, COUNTIF( $C$5:C135, FLData!$AA$2:$AA$13999)), 0)),\"\")","v":""}]
[null,null,{"$f":"IFERROR(INDEX(FLData!$AA$2:$AA$13999, MATCH(0, IF( ISBLANK(FLData!$AA$2:$AA$13999),1, COUNTIF( $C$5:C136, FLData!$AA$2:$AA$13999)), 0)),\"\")","v":""}]
[null,null,{"$f":"IFERROR(INDEX(FLData!$AA$2:$AA$13999, MATCH(0, IF( ISBLANK(FLData!$AA$2:$AA$13999),1, COUNTIF( $C$5:C137, FLData!$AA$2:$AA$13999)), 0)),\"\")","v":""}]
[null,null,{"$f":"IFERROR(INDEX(FLData!$AA$2:$AA$13999, MATCH(0, IF( ISBLANK(FLData!$AA$2:$AA$13999),1, COUNTIF( $C$5:C138, FLData!$AA$2:$AA$13999)), 0)),\"\")","v":""}]
[null,null,{"$f":"IFERROR(INDEX(FLData!$AA$2:$AA$13999, MATCH(0, IF( ISBLANK(FLData!$AA$2:$AA$13999),1, COUNTIF( $C$5:C139, FLData!$AA$2:$AA$13999)), 0)),\"\")","v":""}]
[null,null,{"$f":"IFERROR(INDEX(FLData!$AA$2:$AA$13999, MATCH(0, IF( ISBLANK(FLData!$AA$2:$AA$13999),1, COUNTIF( $C$5:C140, FLData!$AA$2:$AA$13999)), 0)),\"\")","v":""}]
[null,null,{"$f":"IFERROR(INDEX(FLData!$AA$2:$AA$13999, MATCH(0, IF( ISBLANK(FLData!$AA$2:$AA$13999),1, COUNTIF( $C$5:C141, FLData!$AA$2:$AA$13999)), 0)),\"\")","v":""}]
[null,null,{"$f":"IFERROR(INDEX(FLData!$AA$2:$AA$13999, MATCH(0, IF( ISBLANK(FLData!$AA$2:$AA$13999),1, COUNTIF( $C$5:C142, FLData!$AA$2:$AA$13999)), 0)),\"\")","v":""}]
[null,null,{"$f":"IFERROR(INDEX(FLData!$AA$2:$AA$13999, MATCH(0, IF( ISBLANK(FLData!$AA$2:$AA$13999),1, COUNTIF( $C$5:C143, FLData!$AA$2:$AA$13999)), 0)),\"\")","v":""}]
[null,null,{"$f":"IFERROR(INDEX(FLData!$AA$2:$AA$13999, MATCH(0, IF( ISBLANK(FLData!$AA$2:$AA$13999),1, COUNTIF( $C$5:C144, FLData!$AA$2:$AA$13999)), 0)),\"\")","v":""}]
[null,null,{"$f":"IFERROR(INDEX(FLData!$AA$2:$AA$13999, MATCH(0, IF( ISBLANK(FLData!$AA$2:$AA$13999),1, COUNTIF( $C$5:C145, FLData!$AA$2:$AA$13999)), 0)),\"\")","v":""}]
[null,null,{"$f":"IFERROR(INDEX(FLData!$AA$2:$AA$13999, MATCH(0, IF( ISBLANK(FLData!$AA$2:$AA$13999),1, COUNTIF( $C$5:C146, FLData!$AA$2:$AA$13999)), 0)),\"\")","v":""}]
[null,null,{"$f":"IFERROR(INDEX(FLData!$AA$2:$AA$13999, MATCH(0, IF( ISBLANK(FLData!$AA$2:$AA$13999),1, COUNTIF( $C$5:C147, FLData!$AA$2:$AA$13999)), 0)),\"\")","v":""}]
[null,null,{"$f":"IFERROR(INDEX(FLData!$AA$2:$AA$13999, MATCH(0, IF( ISBLANK(FLData!$AA$2:$AA$13999),1, COUNTIF( $C$5:C148, FLData!$AA$2:$AA$13999)), 0)),\"\")","v":""}]
[null,null,{"$f":"IFERROR(INDEX(FLData!$AA$2:$AA$13999, MATCH(0, IF( ISBLANK(FLData!$AA$2:$AA$13999),1, COUNTIF( $C$5:C149, FLData!$AA$2:$AA$13999)), 0)),\"\")","v":""}]
[null,null,{"$f":"IFERROR(INDEX(FLData!$AA$2:$AA$13999, MATCH(0, IF( ISBLANK(FLData!$AA$2:$AA$13999),1, COUNTIF( $C$5:C150, FLData!$AA$2:$AA$13999)), 0)),\"\")","v":""}]
[null,null,{"$f":"IFERROR(INDEX(FLData!$AA$2:$AA$13999, MATCH(0, IF( ISBLANK(FLData!$AA$2:$AA$13999),1, COUNTIF( $C$5:C151, FLData!$AA$2:$AA$13999)), 0)),\"\")","v":""}]
[null,null,{"$f":"IFERROR(INDEX(FLData!$AA$2:$AA$13999, MATCH(0, IF( ISBLANK(FLData!$AA$2:$AA$13999),1, COUNTIF( $C$5:C152, FLData!$AA$2:$AA$13999)), 0)),\"\")","v":""}]
[null,null,{"$f":"IFERROR(INDEX(FLData!$AA$2:$AA$13999, MATCH(0, IF( ISBLANK(FLData!$AA$2:$AA$13999),1, COUNTIF( $C$5:C153, FLData!$AA$2:$AA$13999)), 0)),\"\")","v":""}]
[null,null,{"$f":"IFERROR(INDEX(FLData!$AA$2:$AA$13999, MATCH(0, IF( ISBLANK(FLData!$AA$2:$AA$13999),1, COUNTIF( $C$5:C154, FLData!$AA$2:$AA$13999)), 0)),\"\")","v":""}]
[null,null,{"$f":"IFERROR(INDEX(FLData!$AA$2:$AA$13999, MATCH(0, IF( ISBLANK(FLData!$AA$2:$AA$13999),1, COUNTIF( $C$5:C155, FLData!$AA$2:$AA$13999)), 0)),\"\")","v":""}]
[null,null,{"$f":"IFERROR(INDEX(FLData!$AA$2:$AA$13999, MATCH(0, IF( ISBLANK(FLData!$AA$2:$AA$13999),1, COUNTIF( $C$5:C156, FLData!$AA$2:$AA$13999)), 0)),\"\")","v":""}]
[null,null,{"$f":"IFERROR(INDEX(FLData!$AA$2:$AA$13999, MATCH(0, IF( ISBLANK(FLData!$AA$2:$AA$13999),1, COUNTIF( $C$5:C157, FLData!$AA$2:$AA$13999)), 0)),\"\")","v":""}]
[null,null,{"$f":"IFERROR(INDEX(FLData!$AA$2:$AA$13999, MATCH(0, IF( ISBLANK(FLData!$AA$2:$AA$13999),1, COUNTIF( $C$5:C158, FLData!$AA$2:$AA$13999)), 0)),\"\")","v":""}]
[null,null,{"$f":"IFERROR(INDEX(FLData!$AA$2:$AA$13999, MATCH(0, IF( ISBLANK(FLData!$AA$2:$AA$13999),1, COUNTIF( $C$5:C159, FLData!$AA$2:$AA$13999)), 0)),\"\")","v":""}]
[null,null,{"$f":"IFERROR(INDEX(FLData!$AA$2:$AA$13999, MATCH(0, IF( ISBLANK(FLData!$AA$2:$AA$13999),1, COUNTIF( $C$5:C160, FLData!$AA$2:$AA$13999)), 0)),\"\")","v":""}]
[null,null,{"$f":"IFERROR(INDEX(FLData!$AA$2:$AA$13999, MATCH(0, IF( ISBLANK(FLData!$AA$2:$AA$13999),1, COUNTIF( $C$5:C161, FLData!$AA$2:$AA$13999)), 0)),\"\")","v":""}]
[null,null,{"$f":"IFERROR(INDEX(FLData!$AA$2:$AA$13999, MATCH(0, IF( ISBLANK(FLData!$AA$2:$AA$13999),1, COUNTIF( $C$5:C162, FLData!$AA$2:$AA$13999)), 0)),\"\")","v":""}]
[null,null,{"$f":"IFERROR(INDEX(FLData!$AA$2:$AA$13999, MATCH(0, IF( ISBLANK(FLData!$AA$2:$AA$13999),1, COUNTIF( $C$5:C163, FLData!$AA$2:$AA$13999)), 0)),\"\")","v":""}]
[null,null,{"$f":"IFERROR(INDEX(FLData!$AA$2:$AA$13999, MATCH(0, IF( ISBLANK(FLData!$AA$2:$AA$13999),1, COUNTIF( $C$5:C164, FLData!$AA$2:$AA$13999)), 0)),\"\")","v":""}]
[null,null,{"$f":"IFERROR(INDEX(FLData!$AA$2:$AA$13999, MATCH(0, IF( ISBLANK(FLData!$AA$2:$AA$13999),1, COUNTIF( $C$5:C165, FLData!$AA$2:$AA$13999)), 0)),\"\")","v":""}]
[null,null,{"$f":"IFERROR(INDEX(FLData!$AA$2:$AA$13999, MATCH(0, IF( ISBLANK(FLData!$AA$2:$AA$13999),1, COUNTIF( $C$5:C166, FLData!$AA$2:$AA$13999)), 0)),\"\")","v":""}]
[null,null,{"$f":"IFERROR(INDEX(FLData!$AA$2:$AA$13999, MATCH(0, IF( ISBLANK(FLData!$AA$2:$AA$13999),1, COUNTIF( $C$5:C167, FLData!$AA$2:$AA$13999)), 0)),\"\")","v":""}]
[null,null,{"$f":"IFERROR(INDEX(FLData!$AA$2:$AA$13999, MATCH(0, IF( ISBLANK(FLData!$AA$2:$AA$13999),1, COUNTIF( $C$5:C168, FLData!$AA$2:$AA$13999)), 0)),\"\")","v":""}]
[null,null,{"$f":"IFERROR(INDEX(FLData!$AA$2:$AA$13999, MATCH(0, IF( ISBLANK(FLData!$AA$2:$AA$13999),1, COUNTIF( $C$5:C169, FLData!$AA$2:$AA$13999)), 0)),\"\")","v":""}]
[null,null,{"$f":"IFERROR(INDEX(FLData!$AA$2:$AA$13999, MATCH(0, IF( ISBLANK(FLData!$AA$2:$AA$13999),1, COUNTIF( $C$5:C170, FLData!$AA$2:$AA$13999)), 0)),\"\")","v":""}]
[null,null,{"$f":"IFERROR(INDEX(FLData!$AA$2:$AA$13999, MATCH(0, IF( ISBLANK(FLData!$AA$2:$AA$13999),1, COUNTIF( $C$5:C171, FLData!$AA$2:$AA$13999)), 0)),\"\")","v":""}]
[null,null,{"$f":"IFERROR(INDEX(FLData!$AA$2:$AA$13999, MATCH(0, IF( ISBLANK(FLData!$AA$2:$AA$13999),1, COUNTIF( $C$5:C172, FLData!$AA$2:$AA$13999)), 0)),\"\")","v":""}]
[null,null,{"$f":"IFERROR(INDEX(FLData!$AA$2:$AA$13999, MATCH(0, IF( ISBLANK(FLData!$AA$2:$AA$13999),1, COUNTIF( $C$5:C173, FLData!$AA$2:$AA$13999)), 0)),\"\")","v":""}]
[null,null,{"$f":"IFERROR(INDEX(FLData!$AA$2:$AA$13999, MATCH(0, IF( ISBLANK(FLData!$AA$2:$AA$13999),1, COUNTIF( $C$5:C174, FLData!$AA$2:$AA$13999)), 0)),\"\")","v":""}]
[null,null,{"$f":"IFERROR(INDEX(FLData!$AA$2:$AA$13999, MATCH(0, IF( ISBLANK(FLData!$AA$2:$AA$13999),1, COUNTIF( $C$5:C175, FLData!$AA$2:$AA$13999)), 0)),\"\")","v":""}]
[null,null,{"$f":"IFERROR(INDEX(FLData!$AA$2:$AA$13999, MATCH(0, IF( ISBLANK(FLData!$AA$2:$AA$13999),1, COUNTIF( $C$5:C176, FLData!$AA$2:$AA$13999)), 0)),\"\")","v":""}]
[null,null,{"$f":"IFERROR(INDEX(FLData!$AA$2:$AA$13999, MATCH(0, IF( ISBLANK(FLData!$AA$2:$AA$13999),1, COUNTIF( $C$5:C177, FLData!$AA$2:$AA$13999)), 0)),\"\")","v":""}]
[null,null,{"$f":"IFERROR(INDEX(FLData!$AA$2:$AA$13999, MATCH(0, IF( ISBLANK(FLData!$AA$2:$AA$13999),1, COUNTIF( $C$5:C178, FLData!$AA$2:$AA$13999)), 0)),\"\")","v":""}]
[null,null,{"$f":"IFERROR(INDEX(FLData!$AA$2:$AA$13999, MATCH(0, IF( ISBLANK(FLData!$AA$2:$AA$13999),1, COUNTIF( $C$5:C179, FLData!$AA$2:$AA$13999)), 0)),\"\")","v":""}]
[null,null,{"$f":"IFERROR(INDEX(FLData!$AA$2:$AA$13999, MATCH(0, IF( ISBLANK(FLData!$AA$2:$AA$13999),1, COUNTIF( $C$5:C180, FLData!$AA$2:$AA$13999)), 0)),\"\")","v":""}]
[null,null,{"$f":"IFERROR(INDEX(FLData!$AA$2:$AA$13999, MATCH(0, IF( ISBLANK(FLData!$AA$2:$AA$13999),1, COUNTIF( $C$5:C181, FLData!$AA$2:$AA$13999)), 0)),\"\")","v":""}]
[null,null,{"$f":"IFERROR(INDEX(FLData!$AA$2:$AA$13999, MATCH(0, IF( ISBLANK(FLData!$AA$2:$AA$13999),1, COUNTIF( $C$5:C182, FLData!$AA$2:$AA$13999)), 0)),\"\")","v":""}]
[null,null,{"$f":"IFERROR(INDEX(FLData!$AA$2:$AA$13999, MATCH(0, IF( ISBLANK(FLData!$AA$2:$AA$13999),1, COUNTIF( $C$5:C183, FLData!$AA$2:$AA$13999)), 0)),\"\")","v":""}]
[null,null,{"$f":"IFERROR(INDEX(FLData!$AA$2:$AA$13999, MATCH(0, IF( ISBLANK(FLData!$AA$2:$AA$13999),1, COUNTIF( $C$5:C184, FLData!$AA$2:$AA$13999)), 0)),\"\")","v":""}]
[null,null,{"$f":"IFERROR(INDEX(FLData!$AA$2:$AA$13999, MATCH(0, IF( ISBLANK(FLData!$AA$2:$AA$13999),1, COUNTIF( $C$5:C185, FLData!$AA$2:$AA$13999)), 0)),\"\")","v":""}]
[null,null,{"$f":"IFERROR(INDEX(FLData!$AA$2:$AA$13999, MATCH(0, IF( ISBLANK(FLData!$AA$2:$AA$13999),1, COUNTIF( $C$5:C186, FLData!$AA$2:$AA$13999)), 0)),\"\")","v":""}]
[null,null,{"$f":"IFERROR(INDEX(FLData!$AA$2:$AA$13999, MATCH(0, IF( ISBLANK(FLData!$AA$2:$AA$13999),1, COUNTIF( $C$5:C187, FLData!$AA$2:$AA$13999)), 0)),\"\")","v":""}]
[null,null,{"$f":"IFERROR(INDEX(FLData!$AA$2:$AA$13999, MATCH(0, IF( ISBLANK(FLData!$AA$2:$AA$13999),1, COUNTIF( $C$5:C188, FLData!$AA$2:$AA$13999)), 0)),\"\")","v":""}]
[null,null,{"$f":"IFERROR(INDEX(FLData!$AA$2:$AA$13999, MATCH(0, IF( ISBLANK(FLData!$AA$2:$AA$13999),1, COUNTIF( $C$5:C189, FLData!$AA$2:$AA$13999)), 0)),\"\")","v":""}]
[null,null,{"$f":"IFERROR(INDEX(FLData!$AA$2:$AA$13999, MATCH(0, IF( ISBLANK(FLData!$AA$2:$AA$13999),1, COUNTIF( $C$5:C190, FLData!$AA$2:$AA$13999)), 0)),\"\")","v":""}]
[null,null,{"$f":"IFERROR(INDEX(FLData!$AA$2:$AA$13999, MATCH(0, IF( ISBLANK(FLData!$AA$2:$AA$13999),1, COUNTIF( $C$5:C191, FLData!$AA$2:$AA$13999)), 0)),\"\")","v":""}]
[null,null,{"$f":"IFERROR(INDEX(FLData!$AA$2:$AA$13999, MATCH(0, IF( ISBLANK(FLData!$AA$2:$AA$13999),1, COUNTIF( $C$5:C192, FLData!$AA$2:$AA$13999)), 0)),\"\")","v":""}]
[null,null,{"$f":"IFERROR(INDEX(FLData!$AA$2:$AA$13999, MATCH(0, IF( ISBLANK(FLData!$AA$2:$AA$13999),1, COUNTIF( $C$5:C193, FLData!$AA$2:$AA$13999)), 0)),\"\")","v":""}]
[null,null,{"$f":"IFERROR(INDEX(FLData!$AA$2:$AA$13999, MATCH(0, IF( ISBLANK(FLData!$AA$2:$AA$13999),1, COUNTIF( $C$5:C194, FLData!$AA$2:$AA$13999)), 0)),\"\")","v":""}]
[null,null,{"$f":"IFERROR(INDEX(FLData!$AA$2:$AA$13999, MATCH(0, IF( ISBLANK(FLData!$AA$2:$AA$13999),1, COUNTIF( $C$5:C195, FLData!$AA$2:$AA$13999)), 0)),\"\")","v":""}]
[null,null,{"$f":"IFERROR(INDEX(FLData!$AA$2:$AA$13999, MATCH(0, IF( ISBLANK(FLData!$AA$2:$AA$13999),1, COUNTIF( $C$5:C196, FLData!$AA$2:$AA$13999)), 0)),\"\")","v":""}]
[null,null,{"$f":"IFERROR(INDEX(FLData!$AA$2:$AA$13999, MATCH(0, IF( ISBLANK(FLData!$AA$2:$AA$13999),1, COUNTIF( $C$5:C197, FLData!$AA$2:$AA$13999)), 0)),\"\")","v":""}]
[null,null,{"$f":"IFERROR(INDEX(FLData!$AA$2:$AA$13999, MATCH(0, IF( ISBLANK(FLData!$AA$2:$AA$13999),1, COUNTIF( $C$5:C198, FLData!$AA$2:$AA$13999)), 0)),\"\")","v":""}]
[null,null,{"$f":"IFERROR(INDEX(FLData!$AA$2:$AA$13999, MATCH(0, IF( ISBLANK(FLData!$AA$2:$AA$13999),1, COUNTIF( $C$5:C199, FLData!$AA$2:$AA$13999)), 0)),\"\")","v":""}]

{"sheet":"Activity - Aircraft Types","index":10,"n_rows":58,"n_cols":5,"rows_kept":58,"cut":false,"hidden":false,"merged":[]}
[]
[]
[null,null,"Active for aircraft types",null,{"$f":"FLVersion","v":"V009"}]
[]
[null,null,"Aircraft types","#Flights"]
[null,null,{"$f":" IFERROR(INDEX(FLData!$E$2:$E$13999, MATCH(0, IF( ISBLANK(FLData!$E$2:$E$13999),1, COUNTIF( $C$5:C5, FLData!$E$2:$E$13999)), 0)),\"\")","v":""},{"$f":"IF( LEN(C6)>0,COUNTIF( FLData!$E$2:$E$13999,C6),\"\")","v":""}]
[null,null,{"$f":" IFERROR(INDEX(FLData!$E$2:$E$13999, MATCH(0, IF( ISBLANK(FLData!$E$2:$E$13999),1, COUNTIF( $C$5:C6, FLData!$E$2:$E$13999)), 0)),\"\")","v":""},{"$f":"IF( LEN(C7)>0,COUNTIF( FLData!$E$2:$E$13999,C7),\"\")","v":""}]
[null,null,{"$f":" IFERROR(INDEX(FLData!$E$2:$E$13999, MATCH(0, IF( ISBLANK(FLData!$E$2:$E$13999),1, COUNTIF( $C$5:C7, FLData!$E$2:$E$13999)), 0)),\"\")","v":""},{"$f":"IF( LEN(C8)>0,COUNTIF( FLData!$E$2:$E$13999,C8),\"\")","v":""}]
[null,null,{"$f":" IFERROR(INDEX(FLData!$E$2:$E$13999, MATCH(0, IF( ISBLANK(FLData!$E$2:$E$13999),1, COUNTIF( $C$5:C8, FLData!$E$2:$E$13999)), 0)),\"\")","v":""},{"$f":"IF( LEN(C9)>0,COUNTIF( FLData!$E$2:$E$13999,C9),\"\")","v":""}]
[null,null,{"$f":" IFERROR(INDEX(FLData!$E$2:$E$13999, MATCH(0, IF( ISBLANK(FLData!$E$2:$E$13999),1, COUNTIF( $C$5:C9, FLData!$E$2:$E$13999)), 0)),\"\")","v":""},{"$f":"IF( LEN(C10)>0,COUNTIF( FLData!$E$2:$E$13999,C10),\"\")","v":""}]
[null,null,{"$f":" IFERROR(INDEX(FLData!$E$2:$E$13999, MATCH(0, IF( ISBLANK(FLData!$E$2:$E$13999),1, COUNTIF( $C$5:C10, FLData!$E$2:$E$13999)), 0)),\"\")","v":""},{"$f":"IF( LEN(C11)>0,COUNTIF( FLData!$E$2:$E$13999,C11),\"\")","v":""}]
[null,null,{"$f":" IFERROR(INDEX(FLData!$E$2:$E$13999, MATCH(0, IF( ISBLANK(FLData!$E$2:$E$13999),1, COUNTIF( $C$5:C11, FLData!$E$2:$E$13999)), 0)),\"\")","v":""},{"$f":"IF( LEN(C12)>0,COUNTIF( FLData!$E$2:$E$13999,C12),\"\")","v":""}]
[null,null,{"$f":" IFERROR(INDEX(FLData!$E$2:$E$13999, MATCH(0, IF( ISBLANK(FLData!$E$2:$E$13999),1, COUNTIF( $C$5:C12, FLData!$E$2:$E$13999)), 0)),\"\")","v":""},{"$f":"IF( LEN(C13)>0,COUNTIF( FLData!$E$2:$E$13999,C13),\"\")","v":""}]
[null,null,{"$f":" IFERROR(INDEX(FLData!$E$2:$E$13999, MATCH(0, IF( ISBLANK(FLData!$E$2:$E$13999),1, COUNTIF( $C$5:C13, FLData!$E$2:$E$13999)), 0)),\"\")","v":""},{"$f":"IF( LEN(C14)>0,COUNTIF( FLData!$E$2:$E$13999,C14),\"\")","v":""}]
[null,null,{"$f":" IFERROR(INDEX(FLData!$E$2:$E$13999, MATCH(0, IF( ISBLANK(FLData!$E$2:$E$13999),1, COUNTIF( $C$5:C14, FLData!$E$2:$E$13999)), 0)),\"\")","v":""},{"$f":"IF( LEN(C15)>0,COUNTIF( FLData!$E$2:$E$13999,C15),\"\")","v":""}]
[null,null,{"$f":" IFERROR(INDEX(FLData!$E$2:$E$13999, MATCH(0, IF( ISBLANK(FLData!$E$2:$E$13999),1, COUNTIF( $C$5:C15, FLData!$E$2:$E$13999)), 0)),\"\")","v":""},{"$f":"IF( LEN(C16)>0,COUNTIF( FLData!$E$2:$E$13999,C16),\"\")","v":""}]
[null,null,{"$f":" IFERROR(INDEX(FLData!$E$2:$E$13999, MATCH(0, IF( ISBLANK(FLData!$E$2:$E$13999),1, COUNTIF( $C$5:C16, FLData!$E$2:$E$13999)), 0)),\"\")","v":""},{"$f":"IF( LEN(C17)>0,COUNTIF( FLData!$E$2:$E$13999,C17),\"\")","v":""}]
[null,null,{"$f":" IFERROR(INDEX(FLData!$E$2:$E$13999, MATCH(0, IF( ISBLANK(FLData!$E$2:$E$13999),1, COUNTIF( $C$5:C17, FLData!$E$2:$E$13999)), 0)),\"\")","v":""},{"$f":"IF( LEN(C18)>0,COUNTIF( FLData!$E$2:$E$13999,C18),\"\")","v":""}]
[null,null,{"$f":" IFERROR(INDEX(FLData!$E$2:$E$13999, MATCH(0, IF( ISBLANK(FLData!$E$2:$E$13999),1, COUNTIF( $C$5:C18, FLData!$E$2:$E$13999)), 0)),\"\")","v":""},{"$f":"IF( LEN(C19)>0,COUNTIF( FLData!$E$2:$E$13999,C19),\"\")","v":""}]
[null,null,{"$f":" IFERROR(INDEX(FLData!$E$2:$E$13999, MATCH(0, IF( ISBLANK(FLData!$E$2:$E$13999),1, COUNTIF( $C$5:C19, FLData!$E$2:$E$13999)), 0)),\"\")","v":""},{"$f":"IF( LEN(C20)>0,COUNTIF( FLData!$E$2:$E$13999,C20),\"\")","v":""}]
[null,null,{"$f":" IFERROR(INDEX(FLData!$E$2:$E$13999, MATCH(0, IF( ISBLANK(FLData!$E$2:$E$13999),1, COUNTIF( $C$5:C20, FLData!$E$2:$E$13999)), 0)),\"\")","v":""},{"$f":"IF( LEN(C21)>0,COUNTIF( FLData!$E$2:$E$13999,C21),\"\")","v":""}]
[null,null,{"$f":" IFERROR(INDEX(FLData!$E$2:$E$13999, MATCH(0, IF( ISBLANK(FLData!$E$2:$E$13999),1, COUNTIF( $C$5:C21, FLData!$E$2:$E$13999)), 0)),\"\")","v":""},{"$f":"IF( LEN(C22)>0,COUNTIF( FLData!$E$2:$E$13999,C22),\"\")","v":""}]
[null,null,{"$f":" IFERROR(INDEX(FLData!$E$2:$E$13999, MATCH(0, IF( ISBLANK(FLData!$E$2:$E$13999),1, COUNTIF( $C$5:C22, FLData!$E$2:$E$13999)), 0)),\"\")","v":""},{"$f":"IF( LEN(C23)>0,COUNTIF( FLData!$E$2:$E$13999,C23),\"\")","v":""}]
[null,null,{"$f":" IFERROR(INDEX(FLData!$E$2:$E$13999, MATCH(0, IF( ISBLANK(FLData!$E$2:$E$13999),1, COUNTIF( $C$5:C23, FLData!$E$2:$E$13999)), 0)),\"\")","v":""},{"$f":"IF( LEN(C24)>0,COUNTIF( FLData!$E$2:$E$13999,C24),\"\")","v":""}]
[null,null,{"$f":" IFERROR(INDEX(FLData!$E$2:$E$13999, MATCH(0, IF( ISBLANK(FLData!$E$2:$E$13999),1, COUNTIF( $C$5:C24, FLData!$E$2:$E$13999)), 0)),\"\")","v":""},{"$f":"IF( LEN(C25)>0,COUNTIF( FLData!$E$2:$E$13999,C25),\"\")","v":""}]
[null,null,{"$f":" IFERROR(INDEX(FLData!$E$2:$E$13999, MATCH(0, IF( ISBLANK(FLData!$E$2:$E$13999),1, COUNTIF( $C$5:C25, FLData!$E$2:$E$13999)), 0)),\"\")","v":""},{"$f":"IF( LEN(C26)>0,COUNTIF( FLData!$E$2:$E$13999,C26),\"\")","v":""}]
[null,null,{"$f":" IFERROR(INDEX(FLData!$E$2:$E$13999, MATCH(0, IF( ISBLANK(FLData!$E$2:$E$13999),1, COUNTIF( $C$5:C26, FLData!$E$2:$E$13999)), 0)),\"\")","v":""},{"$f":"IF( LEN(C27)>0,COUNTIF( FLData!$E$2:$E$13999,C27),\"\")","v":""}]
[null,null,{"$f":" IFERROR(INDEX(FLData!$E$2:$E$13999, MATCH(0, IF( ISBLANK(FLData!$E$2:$E$13999),1, COUNTIF( $C$5:C27, FLData!$E$2:$E$13999)), 0)),\"\")","v":""},{"$f":"IF( LEN(C28)>0,COUNTIF( FLData!$E$2:$E$13999,C28),\"\")","v":""}]
[null,null,{"$f":" IFERROR(INDEX(FLData!$E$2:$E$13999, MATCH(0, IF( ISBLANK(FLData!$E$2:$E$13999),1, COUNTIF( $C$5:C28, FLData!$E$2:$E$13999)), 0)),\"\")","v":""},{"$f":"IF( LEN(C29)>0,COUNTIF( FLData!$E$2:$E$13999,C29),\"\")","v":""}]
[null,null,{"$f":" IFERROR(INDEX(FLData!$E$2:$E$13999, MATCH(0, IF( ISBLANK(FLData!$E$2:$E$13999),1, COUNTIF( $C$5:C29, FLData!$E$2:$E$13999)), 0)),\"\")","v":""},{"$f":"IF( LEN(C30)>0,COUNTIF( FLData!$E$2:$E$13999,C30),\"\")","v":""}]
[null,null,{"$f":" IFERROR(INDEX(FLData!$E$2:$E$13999, MATCH(0, IF( ISBLANK(FLData!$E$2:$E$13999),1, COUNTIF( $C$5:C30, FLData!$E$2:$E$13999)), 0)),\"\")","v":""},{"$f":"IF( LEN(C31)>0,COUNTIF( FLData!$E$2:$E$13999,C31),\"\")","v":""}]
[null,null,{"$f":" IFERROR(INDEX(FLData!$E$2:$E$13999, MATCH(0, IF( ISBLANK(FLData!$E$2:$E$13999),1, COUNTIF( $C$5:C31, FLData!$E$2:$E$13999)), 0)),\"\")","v":""},{"$f":"IF( LEN(C32)>0,COUNTIF( FLData!$E$2:$E$13999,C32),\"\")","v":""}]
[null,null,{"$f":" IFERROR(INDEX(FLData!$E$2:$E$13999, MATCH(0, IF( ISBLANK(FLData!$E$2:$E$13999),1, COUNTIF( $C$5:C32, FLData!$E$2:$E$13999)), 0)),\"\")","v":""},{"$f":"IF( LEN(C33)>0,COUNTIF( FLData!$E$2:$E$13999,C33),\"\")","v":""}]
[null,null,{"$f":" IFERROR(INDEX(FLData!$E$2:$E$13999, MATCH(0, IF( ISBLANK(FLData!$E$2:$E$13999),1, COUNTIF( $C$5:C33, FLData!$E$2:$E$13999)), 0)),\"\")","v":""},{"$f":"IF( LEN(C34)>0,COUNTIF( FLData!$E$2:$E$13999,C34),\"\")","v":""}]
[null,null,{"$f":" IFERROR(INDEX(FLData!$E$2:$E$13999, MATCH(0, IF( ISBLANK(FLData!$E$2:$E$13999),1, COUNTIF( $C$5:C34, FLData!$E$2:$E$13999)), 0)),\"\")","v":""},{"$f":"IF( LEN(C35)>0,COUNTIF( FLData!$E$2:$E$13999,C35),\"\")","v":""}]
[null,null,{"$f":" IFERROR(INDEX(FLData!$E$2:$E$13999, MATCH(0, IF( ISBLANK(FLData!$E$2:$E$13999),1, COUNTIF( $C$5:C35, FLData!$E$2:$E$13999)), 0)),\"\")","v":""},{"$f":"IF( LEN(C36)>0,COUNTIF( FLData!$E$2:$E$13999,C36),\"\")","v":""}]
[null,null,{"$f":" IFERROR(INDEX(FLData!$E$2:$E$13999, MATCH(0, IF( ISBLANK(FLData!$E$2:$E$13999),1, COUNTIF( $C$5:C36, FLData!$E$2:$E$13999)), 0)),\"\")","v":""},{"$f":"IF( LEN(C37)>0,COUNTIF( FLData!$E$2:$E$13999,C37),\"\")","v":""}]
[null,null,{"$f":" IFERROR(INDEX(FLData!$E$2:$E$13999, MATCH(0, IF( ISBLANK(FLData!$E$2:$E$13999),1, COUNTIF( $C$5:C37, FLData!$E$2:$E$13999)), 0)),\"\")","v":""},{"$f":"IF( LEN(C38)>0,COUNTIF( FLData!$E$2:$E$13999,C38),\"\")","v":""}]
[null,null,{"$f":" IFERROR(INDEX(FLData!$E$2:$E$13999, MATCH(0, IF( ISBLANK(FLData!$E$2:$E$13999),1, COUNTIF( $C$5:C38, FLData!$E$2:$E$13999)), 0)),\"\")","v":""},{"$f":"IF( LEN(C39)>0,COUNTIF( FLData!$E$2:$E$13999,C39),\"\")","v":""}]
[null,null,{"$f":" IFERROR(INDEX(FLData!$E$2:$E$13999, MATCH(0, IF( ISBLANK(FLData!$E$2:$E$13999),1, COUNTIF( $C$5:C39, FLData!$E$2:$E$13999)), 0)),\"\")","v":""},{"$f":"IF( LEN(C40)>0,COUNTIF( FLData!$E$2:$E$13999,C40),\"\")","v":""}]
[null,null,{"$f":" IFERROR(INDEX(FLData!$E$2:$E$13999, MATCH(0, IF( ISBLANK(FLData!$E$2:$E$13999),1, COUNTIF( $C$5:C40, FLData!$E$2:$E$13999)), 0)),\"\")","v":""},{"$f":"IF( LEN(C41)>0,COUNTIF( FLData!$E$2:$E$13999,C41),\"\")","v":""}]
[null,null,{"$f":" IFERROR(INDEX(FLData!$E$2:$E$13999, MATCH(0, IF( ISBLANK(FLData!$E$2:$E$13999),1, COUNTIF( $C$5:C41, FLData!$E$2:$E$13999)), 0)),\"\")","v":""},{"$f":"IF( LEN(C42)>0,COUNTIF( FLData!$E$2:$E$13999,C42),\"\")","v":""}]
[null,null,{"$f":" IFERROR(INDEX(FLData!$E$2:$E$13999, MATCH(0, IF( ISBLANK(FLData!$E$2:$E$13999),1, COUNTIF( $C$5:C42, FLData!$E$2:$E$13999)), 0)),\"\")","v":""},{"$f":"IF( LEN(C43)>0,COUNTIF( FLData!$E$2:$E$13999,C43),\"\")","v":""}]
[null,null,{"$f":" IFERROR(INDEX(FLData!$E$2:$E$13999, MATCH(0, IF( ISBLANK(FLData!$E$2:$E$13999),1, COUNTIF( $C$5:C43, FLData!$E$2:$E$13999)), 0)),\"\")","v":""},{"$f":"IF( LEN(C44)>0,COUNTIF( FLData!$E$2:$E$13999,C44),\"\")","v":""}]
[null,null,{"$f":" IFERROR(INDEX(FLData!$E$2:$E$13999, MATCH(0, IF( ISBLANK(FLData!$E$2:$E$13999),1, COUNTIF( $C$5:C44, FLData!$E$2:$E$13999)), 0)),\"\")","v":""},{"$f":"IF( LEN(C45)>0,COUNTIF( FLData!$E$2:$E$13999,C45),\"\")","v":""}]
[null,null,{"$f":" IFERROR(INDEX(FLData!$E$2:$E$13999, MATCH(0, IF( ISBLANK(FLData!$E$2:$E$13999),1, COUNTIF( $C$5:C45, FLData!$E$2:$E$13999)), 0)),\"\")","v":""},{"$f":"IF( LEN(C46)>0,COUNTIF( FLData!$E$2:$E$13999,C46),\"\")","v":""}]
[null,null,{"$f":" IFERROR(INDEX(FLData!$E$2:$E$13999, MATCH(0, IF( ISBLANK(FLData!$E$2:$E$13999),1, COUNTIF( $C$5:C46, FLData!$E$2:$E$13999)), 0)),\"\")","v":""},{"$f":"IF( LEN(C47)>0,COUNTIF( FLData!$E$2:$E$13999,C47),\"\")","v":""}]
[null,null,{"$f":" IFERROR(INDEX(FLData!$E$2:$E$13999, MATCH(0, IF( ISBLANK(FLData!$E$2:$E$13999),1, COUNTIF( $C$5:C47, FLData!$E$2:$E$13999)), 0)),\"\")","v":""},{"$f":"IF( LEN(C48)>0,COUNTIF( FLData!$E$2:$E$13999,C48),\"\")","v":""}]
[null,null,{"$f":" IFERROR(INDEX(FLData!$E$2:$E$13999, MATCH(0, IF( ISBLANK(FLData!$E$2:$E$13999),1, COUNTIF( $C$5:C48, FLData!$E$2:$E$13999)), 0)),\"\")","v":""},{"$f":"IF( LEN(C49)>0,COUNTIF( FLData!$E$2:$E$13999,C49),\"\")","v":""}]
[null,null,{"$f":" IFERROR(INDEX(FLData!$E$2:$E$13999, MATCH(0, IF( ISBLANK(FLData!$E$2:$E$13999),1, COUNTIF( $C$5:C49, FLData!$E$2:$E$13999)), 0)),\"\")","v":""},{"$f":"IF( LEN(C50)>0,COUNTIF( FLData!$E$2:$E$13999,C50),\"\")","v":""}]
[null,null,{"$f":" IFERROR(INDEX(FLData!$E$2:$E$13999, MATCH(0, IF( ISBLANK(FLData!$E$2:$E$13999),1, COUNTIF( $C$5:C50, FLData!$E$2:$E$13999)), 0)),\"\")","v":""},{"$f":"IF( LEN(C51)>0,COUNTIF( FLData!$E$2:$E$13999,C51),\"\")","v":""}]
[null,null,{"$f":" IFERROR(INDEX(FLData!$E$2:$E$13999, MATCH(0, IF( ISBLANK(FLData!$E$2:$E$13999),1, COUNTIF( $C$5:C51, FLData!$E$2:$E$13999)), 0)),\"\")","v":""},{"$f":"IF( LEN(C52)>0,COUNTIF( FLData!$E$2:$E$13999,C52),\"\")","v":""}]
[null,null,{"$f":" IFERROR(INDEX(FLData!$E$2:$E$13999, MATCH(0, IF( ISBLANK(FLData!$E$2:$E$13999),1, COUNTIF( $C$5:C52, FLData!$E$2:$E$13999)), 0)),\"\")","v":""},{"$f":"IF( LEN(C53)>0,COUNTIF( FLData!$E$2:$E$13999,C53),\"\")","v":""}]
[null,null,{"$f":" IFERROR(INDEX(FLData!$E$2:$E$13999, MATCH(0, IF( ISBLANK(FLData!$E$2:$E$13999),1, COUNTIF( $C$5:C53, FLData!$E$2:$E$13999)), 0)),\"\")","v":""},{"$f":"IF( LEN(C54)>0,COUNTIF( FLData!$E$2:$E$13999,C54),\"\")","v":""}]
[null,null,{"$f":" IFERROR(INDEX(FLData!$E$2:$E$13999, MATCH(0, IF( ISBLANK(FLData!$E$2:$E$13999),1, COUNTIF( $C$5:C54, FLData!$E$2:$E$13999)), 0)),\"\")","v":""},{"$f":"IF( LEN(C55)>0,COUNTIF( FLData!$E$2:$E$13999,C55),\"\")","v":""}]
[null,null,{"$f":" IFERROR(INDEX(FLData!$E$2:$E$13999, MATCH(0, IF( ISBLANK(FLData!$E$2:$E$13999),1, COUNTIF( $C$5:C55, FLData!$E$2:$E$13999)), 0)),\"\")","v":""},{"$f":"IF( LEN(C56)>0,COUNTIF( FLData!$E$2:$E$13999,C56),\"\")","v":""}]
[null,null,{"$f":" IFERROR(INDEX(FLData!$E$2:$E$13999, MATCH(0, IF( ISBLANK(FLData!$E$2:$E$13999),1, COUNTIF( $C$5:C56, FLData!$E$2:$E$13999)), 0)),\"\")","v":""},{"$f":"IF( LEN(C57)>0,COUNTIF( FLData!$E$2:$E$13999,C57),\"\")","v":""}]
[null,null,{"$f":" IFERROR(INDEX(FLData!$E$2:$E$13999, MATCH(0, IF( ISBLANK(FLData!$E$2:$E$13999),1, COUNTIF( $C$5:C57, FLData!$E$2:$E$13999)), 0)),\"\")","v":""}]

{"sheet":"Activity - Programs","index":11,"n_rows":70,"n_cols":4,"rows_kept":70,"cut":false,"hidden":false,"merged":[]}
[]
[]
[null,null,"Activity for programs",{"$f":"FLVersion","v":"V009"}]
[]
[null,null,"Programs in FLData","#Flights"]
[null,null,{"$f":"IFERROR(INDEX(FLData!$H$2:$H$13999, MATCH(0, IF( ISBLANK(FLData!$H$2:$H$13999),1, COUNTIF( $C$5:C5, FLData!$H$2:$H$13999)), 0)),\"\")","v":""},{"$f":"IF( LEN(C6)>0,COUNTIF( FLData!$H$2:$H$13999,C6),\"\")","v":""}]
[null,null,{"$f":"IFERROR(INDEX(FLData!$H$2:$H$13999, MATCH(0, IF( ISBLANK(FLData!$H$2:$H$13999),1, COUNTIF( $C$5:C6, FLData!$H$2:$H$13999)), 0)),\"\")","v":""},{"$f":"IF( LEN(C7)>0,COUNTIF( FLData!$H$2:$H$13999,C7),\"\")","v":""}]
[null,null,{"$f":"IFERROR(INDEX(FLData!$H$2:$H$13999, MATCH(0, IF( ISBLANK(FLData!$H$2:$H$13999),1, COUNTIF( $C$5:C7, FLData!$H$2:$H$13999)), 0)),\"\")","v":""},{"$f":"IF( LEN(C8)>0,COUNTIF( FLData!$H$2:$H$13999,C8),\"\")","v":""}]
[null,null,{"$f":"IFERROR(INDEX(FLData!$H$2:$H$13999, MATCH(0, IF( ISBLANK(FLData!$H$2:$H$13999),1, COUNTIF( $C$5:C8, FLData!$H$2:$H$13999)), 0)),\"\")","v":""},{"$f":"IF( LEN(C9)>0,COUNTIF( FLData!$H$2:$H$13999,C9),\"\")","v":""}]
[null,null,{"$f":"IFERROR(INDEX(FLData!$H$2:$H$13999, MATCH(0, IF( ISBLANK(FLData!$H$2:$H$13999),1, COUNTIF( $C$5:C9, FLData!$H$2:$H$13999)), 0)),\"\")","v":""},{"$f":"IF( LEN(C10)>0,COUNTIF( FLData!$H$2:$H$13999,C10),\"\")","v":""}]
[null,null,{"$f":"IFERROR(INDEX(FLData!$H$2:$H$13999, MATCH(0, IF( ISBLANK(FLData!$H$2:$H$13999),1, COUNTIF( $C$5:C10, FLData!$H$2:$H$13999)), 0)),\"\")","v":""},{"$f":"IF( LEN(C11)>0,COUNTIF( FLData!$H$2:$H$13999,C11),\"\")","v":""}]
[null,null,{"$f":"IFERROR(INDEX(FLData!$H$2:$H$13999, MATCH(0, IF( ISBLANK(FLData!$H$2:$H$13999),1, COUNTIF( $C$5:C11, FLData!$H$2:$H$13999)), 0)),\"\")","v":""},{"$f":"IF( LEN(C12)>0,COUNTIF( FLData!$H$2:$H$13999,C12),\"\")","v":""}]
[null,null,{"$f":"IFERROR(INDEX(FLData!$H$2:$H$13999, MATCH(0, IF( ISBLANK(FLData!$H$2:$H$13999),1, COUNTIF( $C$5:C12, FLData!$H$2:$H$13999)), 0)),\"\")","v":""},{"$f":"IF( LEN(C13)>0,COUNTIF( FLData!$H$2:$H$13999,C13),\"\")","v":""}]
[null,null,{"$f":"IFERROR(INDEX(FLData!$H$2:$H$13999, MATCH(0, IF( ISBLANK(FLData!$H$2:$H$13999),1, COUNTIF( $C$5:C13, FLData!$H$2:$H$13999)), 0)),\"\")","v":""},{"$f":"IF( LEN(C14)>0,COUNTIF( FLData!$H$2:$H$13999,C14),\"\")","v":""}]
[null,null,{"$f":"IFERROR(INDEX(FLData!$H$2:$H$13999, MATCH(0, IF( ISBLANK(FLData!$H$2:$H$13999),1, COUNTIF( $C$5:C14, FLData!$H$2:$H$13999)), 0)),\"\")","v":""},{"$f":"IF( LEN(C15)>0,COUNTIF( FLData!$H$2:$H$13999,C15),\"\")","v":""}]
[null,null,{"$f":"IFERROR(INDEX(FLData!$H$2:$H$13999, MATCH(0, IF( ISBLANK(FLData!$H$2:$H$13999),1, COUNTIF( $C$5:C15, FLData!$H$2:$H$13999)), 0)),\"\")","v":""},{"$f":"IF( LEN(C16)>0,COUNTIF( FLData!$H$2:$H$13999,C16),\"\")","v":""}]
[null,null,{"$f":"IFERROR(INDEX(FLData!$H$2:$H$13999, MATCH(0, IF( ISBLANK(FLData!$H$2:$H$13999),1, COUNTIF( $C$5:C16, FLData!$H$2:$H$13999)), 0)),\"\")","v":""},{"$f":"IF( LEN(C17)>0,COUNTIF( FLData!$H$2:$H$13999,C17),\"\")","v":""}]
[null,null,{"$f":"IFERROR(INDEX(FLData!$H$2:$H$13999, MATCH(0, IF( ISBLANK(FLData!$H$2:$H$13999),1, COUNTIF( $C$5:C17, FLData!$H$2:$H$13999)), 0)),\"\")","v":""},{"$f":"IF( LEN(C18)>0,COUNTIF( FLData!$H$2:$H$13999,C18),\"\")","v":""}]
[null,null,{"$f":"IFERROR(INDEX(FLData!$H$2:$H$13999, MATCH(0, IF( ISBLANK(FLData!$H$2:$H$13999),1, COUNTIF( $C$5:C18, FLData!$H$2:$H$13999)), 0)),\"\")","v":""},{"$f":"IF( LEN(C19)>0,COUNTIF( FLData!$H$2:$H$13999,C19),\"\")","v":""}]
[null,null,{"$f":"IFERROR(INDEX(FLData!$H$2:$H$13999, MATCH(0, IF( ISBLANK(FLData!$H$2:$H$13999),1, COUNTIF( $C$5:C19, FLData!$H$2:$H$13999)), 0)),\"\")","v":""},{"$f":"IF( LEN(C20)>0,COUNTIF( FLData!$H$2:$H$13999,C20),\"\")","v":""}]
[null,null,{"$f":"IFERROR(INDEX(FLData!$H$2:$H$13999, MATCH(0, IF( ISBLANK(FLData!$H$2:$H$13999),1, COUNTIF( $C$5:C20, FLData!$H$2:$H$13999)), 0)),\"\")","v":""},{"$f":"IF( LEN(C21)>0,COUNTIF( FLData!$H$2:$H$13999,C21),\"\")","v":""}]
[null,null,{"$f":"IFERROR(INDEX(FLData!$H$2:$H$13999, MATCH(0, IF( ISBLANK(FLData!$H$2:$H$13999),1, COUNTIF( $C$5:C21, FLData!$H$2:$H$13999)), 0)),\"\")","v":""},{"$f":"IF( LEN(C22)>0,COUNTIF( FLData!$H$2:$H$13999,C22),\"\")","v":""}]
[null,null,{"$f":"IFERROR(INDEX(FLData!$H$2:$H$13999, MATCH(0, IF( ISBLANK(FLData!$H$2:$H$13999),1, COUNTIF( $C$5:C22, FLData!$H$2:$H$13999)), 0)),\"\")","v":""},{"$f":"IF( LEN(C23)>0,COUNTIF( FLData!$H$2:$H$13999,C23),\"\")","v":""}]
[null,null,{"$f":"IFERROR(INDEX(FLData!$H$2:$H$13999, MATCH(0, IF( ISBLANK(FLData!$H$2:$H$13999),1, COUNTIF( $C$5:C23, FLData!$H$2:$H$13999)), 0)),\"\")","v":""},{"$f":"IF( LEN(C24)>0,COUNTIF( FLData!$H$2:$H$13999,C24),\"\")","v":""}]
[null,null,{"$f":"IFERROR(INDEX(FLData!$H$2:$H$13999, MATCH(0, IF( ISBLANK(FLData!$H$2:$H$13999),1, COUNTIF( $C$5:C24, FLData!$H$2:$H$13999)), 0)),\"\")","v":""},{"$f":"IF( LEN(C25)>0,COUNTIF( FLData!$H$2:$H$13999,C25),\"\")","v":""}]
[null,null,{"$f":"IFERROR(INDEX(FLData!$H$2:$H$13999, MATCH(0, IF( ISBLANK(FLData!$H$2:$H$13999),1, COUNTIF( $C$5:C25, FLData!$H$2:$H$13999)), 0)),\"\")","v":""},{"$f":"IF( LEN(C26)>0,COUNTIF( FLData!$H$2:$H$13999,C26),\"\")","v":""}]
[null,null,{"$f":"IFERROR(INDEX(FLData!$H$2:$H$13999, MATCH(0, IF( ISBLANK(FLData!$H$2:$H$13999),1, COUNTIF( $C$5:C26, FLData!$H$2:$H$13999)), 0)),\"\")","v":""},{"$f":"IF( LEN(C27)>0,COUNTIF( FLData!$H$2:$H$13999,C27),\"\")","v":""}]
[null,null,{"$f":"IFERROR(INDEX(FLData!$H$2:$H$13999, MATCH(0, IF( ISBLANK(FLData!$H$2:$H$13999),1, COUNTIF( $C$5:C27, FLData!$H$2:$H$13999)), 0)),\"\")","v":""},{"$f":"IF( LEN(C28)>0,COUNTIF( FLData!$H$2:$H$13999,C28),\"\")","v":""}]
[null,null,{"$f":"IFERROR(INDEX(FLData!$H$2:$H$13999, MATCH(0, IF( ISBLANK(FLData!$H$2:$H$13999),1, COUNTIF( $C$5:C28, FLData!$H$2:$H$13999)), 0)),\"\")","v":""},{"$f":"IF( LEN(C29)>0,COUNTIF( FLData!$H$2:$H$13999,C29),\"\")","v":""}]
[null,null,{"$f":"IFERROR(INDEX(FLData!$H$2:$H$13999, MATCH(0, IF( ISBLANK(FLData!$H$2:$H$13999),1, COUNTIF( $C$5:C29, FLData!$H$2:$H$13999)), 0)),\"\")","v":""},{"$f":"IF( LEN(C30)>0,COUNTIF( FLData!$H$2:$H$13999,C30),\"\")","v":""}]
[null,null,{"$f":"IFERROR(INDEX(FLData!$H$2:$H$13999, MATCH(0, IF( ISBLANK(FLData!$H$2:$H$13999),1, COUNTIF( $C$5:C30, FLData!$H$2:$H$13999)), 0)),\"\")","v":""},{"$f":"IF( LEN(C31)>0,COUNTIF( FLData!$H$2:$H$13999,C31),\"\")","v":""}]
[null,null,{"$f":"IFERROR(INDEX(FLData!$H$2:$H$13999, MATCH(0, IF( ISBLANK(FLData!$H$2:$H$13999),1, COUNTIF( $C$5:C31, FLData!$H$2:$H$13999)), 0)),\"\")","v":""},{"$f":"IF( LEN(C32)>0,COUNTIF( FLData!$H$2:$H$13999,C32),\"\")","v":""}]
[null,null,{"$f":"IFERROR(INDEX(FLData!$H$2:$H$13999, MATCH(0, IF( ISBLANK(FLData!$H$2:$H$13999),1, COUNTIF( $C$5:C32, FLData!$H$2:$H$13999)), 0)),\"\")","v":""},{"$f":"IF( LEN(C33)>0,COUNTIF( FLData!$H$2:$H$13999,C33),\"\")","v":""}]
[null,null,{"$f":"IFERROR(INDEX(FLData!$H$2:$H$13999, MATCH(0, IF( ISBLANK(FLData!$H$2:$H$13999),1, COUNTIF( $C$5:C33, FLData!$H$2:$H$13999)), 0)),\"\")","v":""},{"$f":"IF( LEN(C34)>0,COUNTIF( FLData!$H$2:$H$13999,C34),\"\")","v":""}]
[null,null,{"$f":"IFERROR(INDEX(FLData!$H$2:$H$13999, MATCH(0, IF( ISBLANK(FLData!$H$2:$H$13999),1, COUNTIF( $C$5:C34, FLData!$H$2:$H$13999)), 0)),\"\")","v":""},{"$f":"IF( LEN(C35)>0,COUNTIF( FLData!$H$2:$H$13999,C35),\"\")","v":""}]
[null,null,{"$f":"IFERROR(INDEX(FLData!$H$2:$H$13999, MATCH(0, IF( ISBLANK(FLData!$H$2:$H$13999),1, COUNTIF( $C$5:C35, FLData!$H$2:$H$13999)), 0)),\"\")","v":""},{"$f":"IF( LEN(C36)>0,COUNTIF( FLData!$H$2:$H$13999,C36),\"\")","v":""}]
[null,null,{"$f":"IFERROR(INDEX(FLData!$H$2:$H$13999, MATCH(0, IF( ISBLANK(FLData!$H$2:$H$13999),1, COUNTIF( $C$5:C36, FLData!$H$2:$H$13999)), 0)),\"\")","v":""},{"$f":"IF( LEN(C37)>0,COUNTIF( FLData!$H$2:$H$13999,C37),\"\")","v":""}]
[null,null,{"$f":"IFERROR(INDEX(FLData!$H$2:$H$13999, MATCH(0, IF( ISBLANK(FLData!$H$2:$H$13999),1, COUNTIF( $C$5:C37, FLData!$H$2:$H$13999)), 0)),\"\")","v":""},{"$f":"IF( LEN(C38)>0,COUNTIF( FLData!$H$2:$H$13999,C38),\"\")","v":""}]
[null,null,{"$f":"IFERROR(INDEX(FLData!$H$2:$H$13999, MATCH(0, IF( ISBLANK(FLData!$H$2:$H$13999),1, COUNTIF( $C$5:C38, FLData!$H$2:$H$13999)), 0)),\"\")","v":""},{"$f":"IF( LEN(C39)>0,COUNTIF( FLData!$H$2:$H$13999,C39),\"\")","v":""}]
[null,null,{"$f":"IFERROR(INDEX(FLData!$H$2:$H$13999, MATCH(0, IF( ISBLANK(FLData!$H$2:$H$13999),1, COUNTIF( $C$5:C39, FLData!$H$2:$H$13999)), 0)),\"\")","v":""},{"$f":"IF( LEN(C40)>0,COUNTIF( FLData!$H$2:$H$13999,C40),\"\")","v":""}]
[null,null,{"$f":"IFERROR(INDEX(FLData!$H$2:$H$13999, MATCH(0, IF( ISBLANK(FLData!$H$2:$H$13999),1, COUNTIF( $C$5:C40, FLData!$H$2:$H$13999)), 0)),\"\")","v":""},{"$f":"IF( LEN(C41)>0,COUNTIF( FLData!$H$2:$H$13999,C41),\"\")","v":""}]
[null,null,{"$f":"IFERROR(INDEX(FLData!$H$2:$H$13999, MATCH(0, IF( ISBLANK(FLData!$H$2:$H$13999),1, COUNTIF( $C$5:C41, FLData!$H$2:$H$13999)), 0)),\"\")","v":""},{"$f":"IF( LEN(C42)>0,COUNTIF( FLData!$H$2:$H$13999,C42),\"\")","v":""}]
[null,null,{"$f":"IFERROR(INDEX(FLData!$H$2:$H$13999, MATCH(0, IF( ISBLANK(FLData!$H$2:$H$13999),1, COUNTIF( $C$5:C42, FLData!$H$2:$H$13999)), 0)),\"\")","v":""},{"$f":"IF( LEN(C43)>0,COUNTIF( FLData!$H$2:$H$13999,C43),\"\")","v":""}]
[null,null,{"$f":"IFERROR(INDEX(FLData!$H$2:$H$13999, MATCH(0, IF( ISBLANK(FLData!$H$2:$H$13999),1, COUNTIF( $C$5:C43, FLData!$H$2:$H$13999)), 0)),\"\")","v":""},{"$f":"IF( LEN(C44)>0,COUNTIF( FLData!$H$2:$H$13999,C44),\"\")","v":""}]
[null,null,{"$f":"IFERROR(INDEX(FLData!$H$2:$H$13999, MATCH(0, IF( ISBLANK(FLData!$H$2:$H$13999),1, COUNTIF( $C$5:C44, FLData!$H$2:$H$13999)), 0)),\"\")","v":""},{"$f":"IF( LEN(C45)>0,COUNTIF( FLData!$H$2:$H$13999,C45),\"\")","v":""}]
[null,null,{"$f":"IFERROR(INDEX(FLData!$H$2:$H$13999, MATCH(0, IF( ISBLANK(FLData!$H$2:$H$13999),1, COUNTIF( $C$5:C45, FLData!$H$2:$H$13999)), 0)),\"\")","v":""},{"$f":"IF( LEN(C46)>0,COUNTIF( FLData!$H$2:$H$13999,C46),\"\")","v":""}]
[null,null,{"$f":"IFERROR(INDEX(FLData!$H$2:$H$13999, MATCH(0, IF( ISBLANK(FLData!$H$2:$H$13999),1, COUNTIF( $C$5:C46, FLData!$H$2:$H$13999)), 0)),\"\")","v":""},{"$f":"IF( LEN(C47)>0,COUNTIF( FLData!$H$2:$H$13999,C47),\"\")","v":""}]
[null,null,{"$f":"IFERROR(INDEX(FLData!$H$2:$H$13999, MATCH(0, IF( ISBLANK(FLData!$H$2:$H$13999),1, COUNTIF( $C$5:C47, FLData!$H$2:$H$13999)), 0)),\"\")","v":""},{"$f":"IF( LEN(C48)>0,COUNTIF( FLData!$H$2:$H$13999,C48),\"\")","v":""}]
[null,null,{"$f":"IFERROR(INDEX(FLData!$H$2:$H$13999, MATCH(0, IF( ISBLANK(FLData!$H$2:$H$13999),1, COUNTIF( $C$5:C48, FLData!$H$2:$H$13999)), 0)),\"\")","v":""},{"$f":"IF( LEN(C49)>0,COUNTIF( FLData!$H$2:$H$13999,C49),\"\")","v":""}]
[null,null,{"$f":"IFERROR(INDEX(FLData!$H$2:$H$13999, MATCH(0, IF( ISBLANK(FLData!$H$2:$H$13999),1, COUNTIF( $C$5:C49, FLData!$H$2:$H$13999)), 0)),\"\")","v":""},{"$f":"IF( LEN(C50)>0,COUNTIF( FLData!$H$2:$H$13999,C50),\"\")","v":""}]
[null,null,{"$f":"IFERROR(INDEX(FLData!$H$2:$H$13999, MATCH(0, IF( ISBLANK(FLData!$H$2:$H$13999),1, COUNTIF( $C$5:C50, FLData!$H$2:$H$13999)), 0)),\"\")","v":""},{"$f":"IF( LEN(C51)>0,COUNTIF( FLData!$H$2:$H$13999,C51),\"\")","v":""}]
[null,null,{"$f":"IFERROR(INDEX(FLData!$H$2:$H$13999, MATCH(0, IF( ISBLANK(FLData!$H$2:$H$13999),1, COUNTIF( $C$5:C51, FLData!$H$2:$H$13999)), 0)),\"\")","v":""},{"$f":"IF( LEN(C52)>0,COUNTIF( FLData!$H$2:$H$13999,C52),\"\")","v":""}]
[null,null,{"$f":"IFERROR(INDEX(FLData!$H$2:$H$13999, MATCH(0, IF( ISBLANK(FLData!$H$2:$H$13999),1, COUNTIF( $C$5:C52, FLData!$H$2:$H$13999)), 0)),\"\")","v":""},{"$f":"IF( LEN(C53)>0,COUNTIF( FLData!$H$2:$H$13999,C53),\"\")","v":""}]
[null,null,{"$f":"IFERROR(INDEX(FLData!$H$2:$H$13999, MATCH(0, IF( ISBLANK(FLData!$H$2:$H$13999),1, COUNTIF( $C$5:C53, FLData!$H$2:$H$13999)), 0)),\"\")","v":""},{"$f":"IF( LEN(C54)>0,COUNTIF( FLData!$H$2:$H$13999,C54),\"\")","v":""}]
[null,null,{"$f":"IFERROR(INDEX(FLData!$H$2:$H$13999, MATCH(0, IF( ISBLANK(FLData!$H$2:$H$13999),1, COUNTIF( $C$5:C54, FLData!$H$2:$H$13999)), 0)),\"\")","v":""},{"$f":"IF( LEN(C55)>0,COUNTIF( FLData!$H$2:$H$13999,C55),\"\")","v":""}]
[null,null,{"$f":"IFERROR(INDEX(FLData!$H$2:$H$13999, MATCH(0, IF( ISBLANK(FLData!$H$2:$H$13999),1, COUNTIF( $C$5:C55, FLData!$H$2:$H$13999)), 0)),\"\")","v":""},{"$f":"IF( LEN(C56)>0,COUNTIF( FLData!$H$2:$H$13999,C56),\"\")","v":""}]
[null,null,{"$f":"IFERROR(INDEX(FLData!$H$2:$H$13999, MATCH(0, IF( ISBLANK(FLData!$H$2:$H$13999),1, COUNTIF( $C$5:C56, FLData!$H$2:$H$13999)), 0)),\"\")","v":""},{"$f":"IF( LEN(C57)>0,COUNTIF( FLData!$H$2:$H$13999,C57),\"\")","v":""}]
[null,null,{"$f":"IFERROR(INDEX(FLData!$H$2:$H$13999, MATCH(0, IF( ISBLANK(FLData!$H$2:$H$13999),1, COUNTIF( $C$5:C57, FLData!$H$2:$H$13999)), 0)),\"\")","v":""},{"$f":"IF( LEN(C58)>0,COUNTIF( FLData!$H$2:$H$13999,C58),\"\")","v":""}]
[null,null,{"$f":"IFERROR(INDEX(FLData!$H$2:$H$13999, MATCH(0, IF( ISBLANK(FLData!$H$2:$H$13999),1, COUNTIF( $C$5:C58, FLData!$H$2:$H$13999)), 0)),\"\")","v":""},{"$f":"IF( LEN(C59)>0,COUNTIF( FLData!$H$2:$H$13999,C59),\"\")","v":""}]
[null,null,{"$f":"IFERROR(INDEX(FLData!$H$2:$H$13999, MATCH(0, IF( ISBLANK(FLData!$H$2:$H$13999),1, COUNTIF( $C$5:C59, FLData!$H$2:$H$13999)), 0)),\"\")","v":""},{"$f":"IF( LEN(C60)>0,COUNTIF( FLData!$H$2:$H$13999,C60),\"\")","v":""}]
[null,null,{"$f":"IFERROR(INDEX(FLData!$H$2:$H$13999, MATCH(0, IF( ISBLANK(FLData!$H$2:$H$13999),1, COUNTIF( $C$5:C60, FLData!$H$2:$H$13999)), 0)),\"\")","v":""},{"$f":"IF( LEN(C61)>0,COUNTIF( FLData!$H$2:$H$13999,C61),\"\")","v":""}]
[null,null,{"$f":"IFERROR(INDEX(FLData!$H$2:$H$13999, MATCH(0, IF( ISBLANK(FLData!$H$2:$H$13999),1, COUNTIF( $C$5:C61, FLData!$H$2:$H$13999)), 0)),\"\")","v":""}]
[null,null,{"$f":"IFERROR(INDEX(FLData!$H$2:$H$13999, MATCH(0, IF( ISBLANK(FLData!$H$2:$H$13999),1, COUNTIF( $C$5:C62, FLData!$H$2:$H$13999)), 0)),\"\")","v":""}]
[null,null,{"$f":"IFERROR(INDEX(FLData!$H$2:$H$13999, MATCH(0, IF( ISBLANK(FLData!$H$2:$H$13999),1, COUNTIF( $C$5:C63, FLData!$H$2:$H$13999)), 0)),\"\")","v":""}]
[null,null,{"$f":"IFERROR(INDEX(FLData!$H$2:$H$13999, MATCH(0, IF( ISBLANK(FLData!$H$2:$H$13999),1, COUNTIF( $C$5:C64, FLData!$H$2:$H$13999)), 0)),\"\")","v":""}]
[null,null,{"$f":"IFERROR(INDEX(FLData!$H$2:$H$13999, MATCH(0, IF( ISBLANK(FLData!$H$2:$H$13999),1, COUNTIF( $C$5:C65, FLData!$H$2:$H$13999)), 0)),\"\")","v":""}]
[null,null,{"$f":"IFERROR(INDEX(FLData!$H$2:$H$13999, MATCH(0, IF( ISBLANK(FLData!$H$2:$H$13999),1, COUNTIF( $C$5:C66, FLData!$H$2:$H$13999)), 0)),\"\")","v":""}]
[null,null,{"$f":"IFERROR(INDEX(FLData!$H$2:$H$13999, MATCH(0, IF( ISBLANK(FLData!$H$2:$H$13999),1, COUNTIF( $C$5:C67, FLData!$H$2:$H$13999)), 0)),\"\")","v":""}]
[null,null,{"$f":"IFERROR(INDEX(FLData!$H$2:$H$13999, MATCH(0, IF( ISBLANK(FLData!$H$2:$H$13999),1, COUNTIF( $C$5:C68, FLData!$H$2:$H$13999)), 0)),\"\")","v":""}]
[null,null,{"$f":"IFERROR(INDEX(FLData!$H$2:$H$13999, MATCH(0, IF( ISBLANK(FLData!$H$2:$H$13999),1, COUNTIF( $C$5:C69, FLData!$H$2:$H$13999)), 0)),\"\")","v":""}]